{"text_format":"1","workbook":"xlsx","n_sheets":10,"sheets":["Category Definitions","Main","Results-simple","Results-advanced","mf1","mf2","mf3","temp","temp2","common"],"not_rendered":{"charts":0,"images":0,"macros":1,"external_links":0,"defined_names":122,"comments":0,"pivot_tables":0},"unopened":[],"bounds":{"document_bytes":16777216,"sheet_cells":100000,"rows_first":2000,"rows_last":500,"rows_between":2000,"halvings":0,"cell_chars":16384,"cell_head_chars":4096},"cells_cut":0,"cells_raw":0,"read":"whole","date_system":"1900"}

{"sheet":"Category Definitions","index":0,"n_rows":92,"n_cols":1,"rows_kept":92,"cut":false,"hidden":false,"merged":[]}
["Large Cap"]
["Equity funds that invest > 75% in CRISIL-defined Large Cap Stocks for a minimum of six out of nine months in each period over the past 3 years."]
[]
["Small & Mid Cap"]
["Funds that invest < 45% in CRISIL-defined Large Cap Stocks for a minimum of six out of nine months in each period over the past 3 years."]
[]
["Diversified Equity"]
["Equity funds which are not specifically Large Cap or Small & Midcap oriented funds and will not include sector funds."]
[]
["Thematic - Infrastructure"]
["Funds having an investment objective of investing in CRISIL-defined infrastructure sectors."]
[]
["ELSS"]
["Funds aimed at enabling investors to avail tax rebates under Section 80-C of the Income Tax Act."]
[]
["Sector - Pharma & Healthcare"]
["Funds with an investment objective to invest in pharmaceutical, healthcare and related sectors."]
[]
["Sector - Banking & Finance"]
["Funds with an investment objective to invest in banking and financial services sectors."]
[]
["Sector - FMCG"]
["Funds with an investment objective to invest in fast moving consumer goods (FMCG) and related sectors."]
[]
["Sector - Technology"]
["Funds with an investment objective to invest in technology and related sectors."]
[]
["Sector - Others"]
["Funds with an investment objective to invest in sectors other than pharma & healthcare, banking & finance, FMCG and technology, would form part of this category."]
[]
["Index"]
["Funds with an objective to generate returns that are commensurate with the performance of a benchmark index. Only funds benchmarked to CNX Nifty Index and S&P BSE Sensex will be considered."]
[]
["RGESS"]
["Funds which are eligible for 50% deduction on investment amount under section 80CCG of the Income Tax Act."]
[]
["Arbitrage & Arbitrage Plus"]
["Schemes that aim to take advantage of arbitrage opportunities between cash and the futures market are included in this category. Schemes that can take naked equity exposures besides pure arbitrage will also be included in this category (Arbitrage Plus)."]
[]
["Balanced"]
["Funds investing 65% - 80% in equity securities and the remaining in debt securities."]
[]
["Debt Long Term"]
["Funds investing in long-term corporate debt papers and government securities (G-Secs)."]
[]
["Debt Short Term"]
["Funds investing in short term corporate debt papers, CDs, money market and G-Secs."]
[]
["Credit Opportunities Funds"]
["These will typically invest in corporate bonds and hold them till maturity"]
[]
["Floating Rate Debt - Short Term"]
["Funds with an investment objective to predominantly invest in short term floating rate instruments will form part of this category."]
[]
["Floating Rate Debt - Long Term"]
["Funds with an investment objective to predominantly invest in long term floating rate instruments will form part of this category."]
[]
["Gilt Short Term"]
["Funds which predominantly invest in short-term securities issued by the central and the state governments."]
[]
["Gilt Long Term"]
["Funds investing in long-term securities issued by the central and the state governments."]
[]
["MIP Aggressive"]
["MIP funds investing 16% - 30% in equity securities and the remaining in debt securities."]
[]
["MIP Conservative"]
["MIP funds investing 0 - 15% in equity securities and the remaining in debt securities."]
[]
["Liquid"]
["Funds investing in money market and debt instruments with a residual maturity of up to 91 days."]
[]
["International / Global Commodities"]
["Schemes with a mandate to invest the majority of their assets in overseas markets/ global commodities will form part of this category. Fund of funds dedicated to overseas markets will also form part of this category."]
[]
["Gold ETF"]
["Exchange Traded Funds with an investment objective to track the domestic price of gold will form part of this category"]
[]
["Fund of Funds - Equity oriented"]
["Fund of funds with a predominantly investment-bias towards equity and equity-related securities will form part of this category"]
[]
["Fund of Funds - Hybrid oriented"]
["Fund of funds with a flexibility to invest in both equity and debt securities will form part of this category."]
[]
["Capital Protection Funds"]
["Funds with an objective to seek capital protection by investing in fixed income securities maturing in line with the tenure of the scheme and seeking capital appreciation by investing in equity & equity-related instruments will form part of this category."]
[]
["Debt Oriented Hybrid Speciality Funds"]
["Speciality funds such as children plans, education plans, etc. investing predominantly in debt oriented securities will form part of this category."]
[]
["Equity Oriented Hybrid Speciality Funds"]
["Speciality funds such as children plans, education plans, etc. investing predominantly in equity oriented securities will form part of this category."]

{"sheet":"Main","index":1,"n_rows":1905,"n_cols":38,"rows_kept":1905,"cut":false,"hidden":false,"merged":[[12,1,12,4],[12,5,12,10],[24,1,24,4],[4,7,4,10],[7,1,7,4],[7,5,7,10],[6,1,6,10],[11,1,11,10],[34,4,34,5],[32,2,32,3],[33,2,33,3],[34,2,34,3],[30,2,30,3],[31,2,31,3],[0,1,2,11],[31,4,31,5],[32,4,32,5],[33,4,33,5],[20,11,22,11],[3,1,3,11],[10,11,12,11],[5,11,7,11],[15,1,15,6],[15,7,15,10],[15,11,17,11],[5,1,5,6],[5,7,5,10],[10,1,10,6],[10,7,10,10],[17,5,17,10]]}
[null,"Mutual Fund Portfolio Comparison Tool- moneycontrol edition",null,null,null,null,null,null,null,null,null,null,null,"MF3","MF2","MF1",null,null,null,{"$f":"CONCATENATE(\"http://www.moneycontrol.com/india/mutualfunds/mfinfo/portfolio_holdings/\",INDEX(Q2:R1905,MATCH(F8,Q2:Q1905,0),2))","v":"http://www.moneycontrol.com/india/mutualfunds/mfinfo/portfolio_holdings/MZU009"},"mf1","wrt cat avg",{"$f":"IF(VALUE(C12)>C16,1,0)","v":0},{"$f":"IF(VALUE(D12)>D16,1,0)","v":0},{"$f":"IF(VALUE(E12)>E16,1,0)","v":0},{"$f":"IF(VALUE(F12)>F16,1,0)","v":0},{"$f":"IF(VALUE(G12)>G16,1,0)","v":0},null,{"$f":"SUM(W1:AA1)","v":0},null,"mf1",{"$f":"COUNTIF(AE2:AE749,\"?*\")","v":1},null,"No",null,"mf2",null,"mf3"]
[null,null,null,null,null,null,null,null,null,null,null,null,null,{"$f":"IF(ISNUMBER(SEARCH($H$16,Q2)),MAX($N$1,N1)+1,0)","v":0},{"$f":"IF(ISNUMBER(SEARCH($H$11,Q2)),MAX($O$1,O1)+1,0)","v":0},{"$f":"IF(ISNUMBER(SEARCH($H$6,Q2)),MAX($P$1,P1)+1,0)","v":0},"baroda pioneer growth","MBO010","Large Cap",{"$f":"CONCATENATE(\"http://www.moneycontrol.com/india/mutualfunds/mfinfo/portfolio_holdings/\",INDEX(Q2:R1905,MATCH(F13,Q2:Q1905,0),2))","v":"http://www.moneycontrol.com/india/mutualfunds/mfinfo/portfolio_holdings/MZU001"},"mf2","wrt sensex",{"$f":"IF(VALUE(C12)>C18,1,0)","v":0},{"$f":"IF(VALUE(D12)>D18,1,0)","v":0},{"$f":"IF(VALUE(E12)>E18,1,0)","v":0},{"$f":"IF(VALUE(F12)>F18,1,0)","v":0},{"$f":"IF(VALUE(G12)>G18,1,0)","v":0},null,{"$f":"SUM(W2:AA2)","v":0},null,{"$f":"IFERROR(VLOOKUP(ROWS($AE$2:AE2),P2:Q1905,2,0),\"\")","v":"hdfc top 200 fund"},{"$f":"OFFSET(AE2,,,COUNTIF($AE$2:$AE$1905,\"?*\"),)","v":"hdfc top 200 fund"},null,"Yes",null,{"$f":"IFERROR(VLOOKUP(ROWS($AJ$2:AJ2),O2:Q1905,3,0),\"\")","v":"hdfc equity fund"},null,{"$f":"IFERROR(VLOOKUP(ROWS(AL$2:$AL2),N2:Q1905,4,0),\"\")","v":"hdfc prudence fund"}]
[null,null,null,null,null,null,null,null,null,null,null,null,null,{"$f":"IF(ISNUMBER(SEARCH($H$16,Q3)),MAX($N$1,N2)+1,0)","v":0},{"$f":"IF(ISNUMBER(SEARCH($H$11,Q3)),MAX($O$1,O2)+1,0)","v":0},0,"birla sl frontline equity","MAC031","Large Cap",{"$f":"CONCATENATE(\"http://www.moneycontrol.com/india/mutualfunds/mfinfo/portfolio_holdings/\",INDEX(Q2:R1905,MATCH(F18,Q2:Q1905,0),2))","v":"http://www.moneycontrol.com/india/mutualfunds/mfinfo/portfolio_holdings/MZU003"},"mf3","wrt Nifty",{"$f":"IF(VALUE(C12)>C22,1,0)","v":0},{"$f":"IF(VALUE(D12)>D22,1,0)","v":0},{"$f":"IF(VALUE(E12)>E22,1,0)","v":0},{"$f":"IF(VALUE(F12)>F22,1,0)","v":0},{"$f":"IF(VALUE(G12)>G22,1,0)","v":0},null,{"$f":"SUM(W3:AA3)","v":0},null,{"$f":"IFERROR(VLOOKUP(ROWS($AE$2:AE3),P3:Q1906,2,0),\"\")","v":""},null,{"$f":"F8","v":"hdfc top 200 fund"},null,null,{"$f":"IFERROR(VLOOKUP(ROWS($AJ$2:AJ3),O3:Q1906,3,0),\"\")","v":""},null,{"$f":"IFERROR(VLOOKUP(ROWS(AL$2:$AL3),N3:Q1906,4,0),\"\")","v":""}]
[null,null,null,null,null,null,null,null,null,null,null,null,null,0,0,0,"birla sun life top 100","MBS089","Large Cap",null,null,null,{"$f":"SUM(W1:W3)","v":0},{"$f":"SUM(X1:X3)","v":0},{"$f":"SUM(Y1:Y3)","v":0},{"$f":"SUM(Z1:Z3)","v":0},{"$f":"SUM(AA1:AA3)","v":0},null,null,null,{"$f":"IFERROR(VLOOKUP(ROWS($AE$2:AE4),P4:Q1907,2,0),\"\")","v":""},null,null,null,null,{"$f":"IFERROR(VLOOKUP(ROWS($AJ$2:AJ4),O4:Q1907,3,0),\"\")","v":""},null,{"$f":"IFERROR(VLOOKUP(ROWS(AL$2:$AL4),N4:Q1907,4,0),\"\")","v":""}]
[null,null,null,null,null,null,null,null,null,null,null,null,null,null,null,null,"boi axa equity fund eco","MBA028","Large Cap",null,null,null,null,null,null,null,null,null,null,null,{"$f":"IFERROR(VLOOKUP(ROWS($AE$2:AE5),P5:Q1908,2,0),\"\")","v":""},null,null,null,null,{"$f":"IFERROR(VLOOKUP(ROWS($AJ$2:AJ5),O5:Q1908,3,0),\"\")","v":""},null,{"$f":"IFERROR(VLOOKUP(ROWS(AL$2:$AL5),N5:Q1908,4,0),\"\")","v":""}]
[null,"Type only the first word of the fund name",null,null,null,null,null,"hdfc top ",null,null,null,"MF1",null,0,0,0,"boi axa equity fund ip","MBA031","Large Cap",{"$f":"MATCH(\"%\",temp2!E1:E1068,0)","v":175},"Related Searches",null,null,null,null,null,null,null,null,null,{"$f":"IFERROR(VLOOKUP(ROWS($AE$2:AE6),P6:Q1909,2,0),\"\")","v":""},null,null,null,null,{"$f":"IFERROR(VLOOKUP(ROWS($AJ$2:AJ6),O6:Q1909,3,0),\"\")","v":""},null,{"$f":"IFERROR(VLOOKUP(ROWS(AL$2:$AL6),N6:Q1909,4,0),\"\")","v":""}]
[null,null,null,null,null,null,null,null,null,null,null,null,null,0,0,0,"boi axa equity fund rp","MBA025","Large Cap",{"$f":"MATCH(\"Related Searches\",temp2!A1:A1068,0)","v":295},null,null,null,null,null,null,null,null,null,null,{"$f":"IFERROR(VLOOKUP(ROWS($AE$2:AE7),P7:Q1910,2,0),\"\")","v":""},null,null,null,null,{"$f":"IFERROR(VLOOKUP(ROWS($AJ$2:AJ7),O7:Q1910,3,0),\"\")","v":""},null,{"$f":"IFERROR(VLOOKUP(ROWS(AL$2:$AL7),N7:Q1910,4,0),\"\")","v":""}]
[null,"Then select the scheme you need from the drop-down list",null,null,null,"hdfc top 200 fund",null,null,null,null,null,null,null,0,0,0,"canara robeco large cap+","MCA174","Large Cap",null,null,null,null,null,null,null,null,null,null,null,{"$f":"IFERROR(VLOOKUP(ROWS($AE$2:AE8),P8:Q1911,2,0),\"\")","v":""},null,null,null,null,{"$f":"IFERROR(VLOOKUP(ROWS($AJ$2:AJ8),O8:Q1911,3,0),\"\")","v":""},null,{"$f":"IFERROR(VLOOKUP(ROWS(AL$2:$AL8),N8:Q1911,4,0),\"\")","v":""}]
[null,null,null,null,null,null,null,"Approx Investment Value (optional)",null,null,null,100000,null,0,0,0,"dsp br top 100 equity ip","MDS068","Large Cap",null,null,null,null,null,null,null,null,null,null,null,{"$f":"IFERROR(VLOOKUP(ROWS($AE$2:AE9),P9:Q1912,2,0),\"\")","v":""},null,null,null,null,{"$f":"IFERROR(VLOOKUP(ROWS($AJ$2:AJ9),O9:Q1912,3,0),\"\")","v":""},null,{"$f":"IFERROR(VLOOKUP(ROWS(AL$2:$AL9),N9:Q1912,4,0),\"\")","v":""}]
[null,null,null,null,null,null,null,null,null,null,null,null,null,0,0,0,"dsp br top 100 equity rp","MDS018","Large Cap",null,null,null,null,null,null,null,null,null,null,null,{"$f":"IFERROR(VLOOKUP(ROWS($AE$2:AE10),P10:Q1913,2,0),\"\")","v":""},null,null,null,null,{"$f":"IFERROR(VLOOKUP(ROWS($AJ$2:AJ10),O10:Q1913,3,0),\"\")","v":""},null,{"$f":"IFERROR(VLOOKUP(ROWS(AL$2:$AL10),N10:Q1913,4,0),\"\")","v":""}]
[null,"Type only the first word of the fund name",null,null,null,null,null,"hdfc equity",null,null,null,"MF2",null,0,0,0,"dws alpha equity fund rp","MDE001","Large Cap",null,null,null,null,null,null,null,null,null,null,null,{"$f":"IFERROR(VLOOKUP(ROWS($AE$2:AE11),P11:Q1914,2,0),\"\")","v":""},null,null,null,null,{"$f":"IFERROR(VLOOKUP(ROWS($AJ$2:AJ11),O11:Q1914,3,0),\"\")","v":""},null,{"$f":"IFERROR(VLOOKUP(ROWS(AL$2:$AL11),N11:Q1914,4,0),\"\")","v":""}]
[null,null,null,null,null,null,null,null,null,null,null,null,null,0,0,0,"dws alpha equity fund wp","MDE260","Large Cap",null,null,null,null,null,null,null,null,null,null,null,{"$f":"IFERROR(VLOOKUP(ROWS($AE$2:AE12),P12:Q1915,2,0),\"\")","v":""},null,null,null,null,{"$f":"IFERROR(VLOOKUP(ROWS($AJ$2:AJ12),O12:Q1915,3,0),\"\")","v":""},null,{"$f":"IFERROR(VLOOKUP(ROWS(AL$2:$AL12),N12:Q1915,4,0),\"\")","v":""}]
[null,"Then select the scheme you need from the drop-down list",null,null,null,"hdfc equity fund",null,null,null,null,null,null,null,0,0,0,"edelweiss e d g e top 100 a","MEW041","Large Cap",null,null,null,null,null,null,null,null,null,null,null,{"$f":"IFERROR(VLOOKUP(ROWS($AE$2:AE13),P13:Q1916,2,0),\"\")","v":""},null,null,null,null,{"$f":"IFERROR(VLOOKUP(ROWS($AJ$2:AJ13),O13:Q1916,3,0),\"\")","v":""},null,{"$f":"IFERROR(VLOOKUP(ROWS(AL$2:$AL13),N13:Q1916,4,0),\"\")","v":""}]
[null,null,null,null,null,null,null,"Approx Investment Value (optional)",null,null,null,200000,null,0,0,0,"edelweiss e d g e top 100 b","MEW043","Large Cap",null,null,null,null,null,null,null,null,null,null,null,{"$f":"IFERROR(VLOOKUP(ROWS($AE$2:AE14),P14:Q1917,2,0),\"\")","v":""},null,null,null,null,{"$f":"IFERROR(VLOOKUP(ROWS($AJ$2:AJ14),O14:Q1917,3,0),\"\")","v":""},null,{"$f":"IFERROR(VLOOKUP(ROWS(AL$2:$AL14),N14:Q1917,4,0),\"\")","v":""}]
[null,null,null,null,null,null,null,null,null,null,null,null,null,0,0,0,"edelweiss e d g e top 100 c","MEW045","Large Cap",null,null,null,null,null,null,null,null,null,null,null,{"$f":"IFERROR(VLOOKUP(ROWS($AE$2:AE15),P15:Q1918,2,0),\"\")","v":""},null,null,null,null,{"$f":"IFERROR(VLOOKUP(ROWS($AJ$2:AJ15),O15:Q1918,3,0),\"\")","v":""},null,{"$f":"IFERROR(VLOOKUP(ROWS(AL$2:$AL15),N15:Q1918,4,0),\"\")","v":""}]
[null,"Type only the first word of the fund name",null,null,null,null,null,"hdfc prudence",null,null,null,"MF3",null,0,0,0,"edelweiss equity enhancer c","MEW055","Large Cap",null,null,null,null,null,null,null,null,null,null,null,{"$f":"IFERROR(VLOOKUP(ROWS($AE$2:AE16),P16:Q1919,2,0),\"\")","v":""},null,null,null,null,{"$f":"IFERROR(VLOOKUP(ROWS($AJ$2:AJ16),O16:Q1919,3,0),\"\")","v":""},null,{"$f":"IFERROR(VLOOKUP(ROWS(AL$2:$AL16),N16:Q1919,4,0),\"\")","v":""}]
[null,null,null,null,null,null,null,null,null,null,null,null,null,0,0,0,"edelweiss equity enhancer plan b","MEW047","Large Cap",null,null,null,null,null,null,null,null,null,null,null,{"$f":"IFERROR(VLOOKUP(ROWS($AE$2:AE17),P17:Q1920,2,0),\"\")","v":""},null,null,null,null,{"$f":"IFERROR(VLOOKUP(ROWS($AJ$2:AJ17),O17:Q1920,3,0),\"\")","v":""},null,{"$f":"IFERROR(VLOOKUP(ROWS(AL$2:$AL17),N17:Q1920,4,0),\"\")","v":""}]
[null,"Then select the scheme you need from the drop-down list",null,null,null,"hdfc prudence fund",null,null,null,null,null,null,null,0,0,0,"edelweiss value opportunities fund","MEW053","Large Cap",null,null,null,null,null,null,null,null,null,null,null,{"$f":"IFERROR(VLOOKUP(ROWS($AE$2:AE18),P18:Q1921,2,0),\"\")","v":""},null,null,null,null,{"$f":"IFERROR(VLOOKUP(ROWS($AJ$2:AJ18),O18:Q1921,3,0),\"\")","v":""},null,{"$f":"IFERROR(VLOOKUP(ROWS(AL$2:$AL18),N18:Q1921,4,0),\"\")","v":""}]
[null,null,null,null,null,null,null,"Approx Investment Value (optional)",null,null,null,300000,null,0,0,0,"escorts growth plan","MES005","Large Cap",null,null,null,null,null,null,null,null,null,null,null,{"$f":"IFERROR(VLOOKUP(ROWS($AE$2:AE19),P19:Q1922,2,0),\"\")","v":""},null,null,null,null,{"$f":"IFERROR(VLOOKUP(ROWS($AJ$2:AJ19),O19:Q1922,3,0),\"\")","v":""},null,{"$f":"IFERROR(VLOOKUP(ROWS(AL$2:$AL19),N19:Q1922,4,0),\"\")","v":""}]
[null,null,null,null,null,null,null,null,null,null,null,null,null,0,0,0,"escorts leading sectors","MES031","Large Cap",null,null,null,null,null,null,null,null,null,null,null,{"$f":"IFERROR(VLOOKUP(ROWS($AE$2:AE20),P20:Q1923,2,0),\"\")","v":""},null,null,null,null,{"$f":"IFERROR(VLOOKUP(ROWS($AJ$2:AJ20),O20:Q1923,3,0),\"\")","v":""},null,{"$f":"IFERROR(VLOOKUP(ROWS(AL$2:$AL20),N20:Q1923,4,0),\"\")","v":""}]
[null,"If you like this tool, do consider supporting freefincal activities by making a contribution",null,null,null,null,null,null,null,null,null,null,null,0,0,0,"franklin india bluechip","MKP001","Large Cap",null,null,null,null,null,null,null,null,null,null,null,{"$f":"IFERROR(VLOOKUP(ROWS($AE$2:AE21),P21:Q1924,2,0),\"\")","v":""},null,null,null,null,{"$f":"IFERROR(VLOOKUP(ROWS($AJ$2:AJ21),O21:Q1924,3,0),\"\")","v":""},null,{"$f":"IFERROR(VLOOKUP(ROWS(AL$2:$AL21),N21:Q1924,4,0),\"\")","v":""}]
[null,null,null,null,null,null,null,null,null,null,null,null,null,0,0,0,"franklin india oppor ","MKP028","Large Cap",null,null,null,null,null,null,null,null,null,null,null,{"$f":"IFERROR(VLOOKUP(ROWS($AE$2:AE22),P22:Q1925,2,0),\"\")","v":""},null,null,null,null,{"$f":"IFERROR(VLOOKUP(ROWS($AJ$2:AJ22),O22:Q1925,3,0),\"\")","v":""},null,{"$f":"IFERROR(VLOOKUP(ROWS(AL$2:$AL22),N22:Q1925,4,0),\"\")","v":""}]
[null,null,null,null,null,null,null,null,null,null,null,null,null,0,0,0,"hdfc index sensex plus plan","MHD021","Large Cap",null,null,null,null,null,null,null,null,null,null,null,{"$f":"IFERROR(VLOOKUP(ROWS($AE$2:AE23),P23:Q1926,2,0),\"\")","v":""},null,null,null,null,{"$f":"IFERROR(VLOOKUP(ROWS($AJ$2:AJ23),O23:Q1926,3,0),\"\")","v":""},null,{"$f":"IFERROR(VLOOKUP(ROWS(AL$2:$AL23),N23:Q1926,4,0),\"\")","v":""}]
[null,null,null,null,null,null,null,null,null,null,null,null,null,0,0,1,"hdfc top 200 fund","MZU009","Large Cap",null,null,null,null,null,null,null,null,null,null,null,{"$f":"IFERROR(VLOOKUP(ROWS($AE$2:AE24),P24:Q1927,2,0),\"\")","v":""},null,null,null,null,{"$f":"IFERROR(VLOOKUP(ROWS($AJ$2:AJ24),O24:Q1927,3,0),\"\")","v":""},null,{"$f":"IFERROR(VLOOKUP(ROWS(AL$2:$AL24),N24:Q1927,4,0),\"\")","v":""}]
[null,null,null,null,null,null,null,null,null,null,null,null,null,0,0,0,"hsbc dynamic fund","MHS139","Large Cap",null,null,null,null,null,null,null,null,null,null,null,{"$f":"IFERROR(VLOOKUP(ROWS($AE$2:AE25),P25:Q1928,2,0),\"\")","v":""},null,null,null,null,{"$f":"IFERROR(VLOOKUP(ROWS($AJ$2:AJ25),O25:Q1928,3,0),\"\")","v":""},null,{"$f":"IFERROR(VLOOKUP(ROWS(AL$2:$AL25),N25:Q1928,4,0),\"\")","v":""}]
[null,null,null,null,null,null,null,null,null,null,null,null,null,0,0,0,"hsbc equity fund","MHS001","Large Cap",null,null,null,null,null,null,null,null,null,null,null,{"$f":"IFERROR(VLOOKUP(ROWS($AE$2:AE26),P26:Q1929,2,0),\"\")","v":""},null,null,null,null,{"$f":"IFERROR(VLOOKUP(ROWS($AJ$2:AJ26),O26:Q1929,3,0),\"\")","v":""},null,{"$f":"IFERROR(VLOOKUP(ROWS(AL$2:$AL26),N26:Q1929,4,0),\"\")","v":""}]
[null,null,null,null,null,null,null,null,null,null,null,null,null,0,0,0,"icici pru focused bluechip eqty","MPI392","Large Cap",null,null,null,null,null,null,null,null,null,null,null,{"$f":"IFERROR(VLOOKUP(ROWS($AE$2:AE27),P27:Q1930,2,0),\"\")","v":""},null,null,null,null,{"$f":"IFERROR(VLOOKUP(ROWS($AJ$2:AJ27),O27:Q1930,3,0),\"\")","v":""},null,{"$f":"IFERROR(VLOOKUP(ROWS(AL$2:$AL27),N27:Q1930,4,0),\"\")","v":""}]
[null,null,null,null,null,null,null,null,null,null,null,null,null,0,0,0,"icici pru focused bluechip eqty io","MPI394","Large Cap",null,null,null,null,null,null,null,null,null,null,null,{"$f":"IFERROR(VLOOKUP(ROWS($AE$2:AE28),P28:Q1931,2,0),\"\")","v":""},null,null,null,null,{"$f":"IFERROR(VLOOKUP(ROWS($AJ$2:AJ28),O28:Q1931,3,0),\"\")","v":""},null,{"$f":"IFERROR(VLOOKUP(ROWS(AL$2:$AL28),N28:Q1931,4,0),\"\")","v":""}]
[null,null,null,null,null,null,null,null,null,null,null,null,null,0,0,0,"icici pru select large cap fund dp","MPI1124","Large Cap",null,null,null,null,null,null,null,null,null,null,null,{"$f":"IFERROR(VLOOKUP(ROWS($AE$2:AE29),P29:Q1932,2,0),\"\")","v":""},null,null,null,null,{"$f":"IFERROR(VLOOKUP(ROWS($AJ$2:AJ29),O29:Q1932,3,0),\"\")","v":""},null,{"$f":"IFERROR(VLOOKUP(ROWS(AL$2:$AL29),N29:Q1932,4,0),\"\")","v":""}]
[null,null,null,null,null,null,null,null,null,null,null,null,null,0,0,0,"icici pru select large cap fund rp","MPI643","Large Cap",null,null,null,null,null,null,null,null,null,null,null,{"$f":"IFERROR(VLOOKUP(ROWS($AE$2:AE30),P30:Q1933,2,0),\"\")","v":""},null,null,null,null,{"$f":"IFERROR(VLOOKUP(ROWS($AJ$2:AJ30),O30:Q1933,3,0),\"\")","v":""},null,{"$f":"IFERROR(VLOOKUP(ROWS(AL$2:$AL30),N30:Q1933,4,0),\"\")","v":""}]
[null,null,null,null,null,null,null,null,null,null,null,null,null,0,0,0,"icici pru top 100 fund","MPI003","Large Cap",null,null,null,null,null,null,null,null,null,null,null,{"$f":"IFERROR(VLOOKUP(ROWS($AE$2:AE31),P31:Q1934,2,0),\"\")","v":""},null,null,null,null,{"$f":"IFERROR(VLOOKUP(ROWS($AJ$2:AJ31),O31:Q1934,3,0),\"\")","v":""},null,{"$f":"IFERROR(VLOOKUP(ROWS(AL$2:$AL31),N31:Q1934,4,0),\"\")","v":""}]
[null,null,null,null,null,null,null,null,null,null,null,null,null,0,0,0,"icici pru top 100 fund inst i","MPI135","Large Cap",null,null,null,null,null,null,null,null,null,null,null,{"$f":"IFERROR(VLOOKUP(ROWS($AE$2:AE32),P32:Q1935,2,0),\"\")","v":""},null,null,null,null,{"$f":"IFERROR(VLOOKUP(ROWS($AJ$2:AJ32),O32:Q1935,3,0),\"\")","v":""},null,{"$f":"IFERROR(VLOOKUP(ROWS(AL$2:$AL32),N32:Q1935,4,0),\"\")","v":""}]
[null,null,null,null,null,null,null,null,null,null,null,null,null,0,0,0,"idbi india top 100 equity fund","MIB062","Large Cap",null,null,null,null,null,null,null,null,null,null,null,{"$f":"IFERROR(VLOOKUP(ROWS($AE$2:AE33),P33:Q1936,2,0),\"\")","v":""},null,null,null,null,{"$f":"IFERROR(VLOOKUP(ROWS($AJ$2:AJ33),O33:Q1936,3,0),\"\")","v":""},null,{"$f":"IFERROR(VLOOKUP(ROWS(AL$2:$AL33),N33:Q1936,4,0),\"\")","v":""}]
[null,null,null,null,null,null,null,null,null,null,null,null,null,0,0,0,"idfc equity fund plan b","MAG343","Large Cap",null,null,null,null,null,null,null,null,null,null,null,{"$f":"IFERROR(VLOOKUP(ROWS($AE$2:AE34),P34:Q1937,2,0),\"\")","v":""},null,null,null,null,{"$f":"IFERROR(VLOOKUP(ROWS($AJ$2:AJ34),O34:Q1937,3,0),\"\")","v":""},null,{"$f":"IFERROR(VLOOKUP(ROWS(AL$2:$AL34),N34:Q1937,4,0),\"\")","v":""}]
[null,null,null,null,null,null,null,null,null,null,null,null,null,0,0,0,"idfc equity fund regular plan","MAG106","Large Cap",null,null,null,null,null,null,null,null,null,null,null,{"$f":"IFERROR(VLOOKUP(ROWS($AE$2:AE35),P35:Q1938,2,0),\"\")","v":""},null,null,null,null,{"$f":"IFERROR(VLOOKUP(ROWS($AJ$2:AJ35),O35:Q1938,3,0),\"\")","v":""},null,{"$f":"IFERROR(VLOOKUP(ROWS(AL$2:$AL35),N35:Q1938,4,0),\"\")","v":""}]
[null,null,null,null,null,null,null,null,null,null,null,null,null,0,0,0,"idfc imperial equity plan b","MAG340","Large Cap",null,null,null,null,null,null,null,null,null,null,null,{"$f":"IFERROR(VLOOKUP(ROWS($AE$2:AE36),P36:Q1939,2,0),\"\")","v":""},null,null,null,null,{"$f":"IFERROR(VLOOKUP(ROWS($AJ$2:AJ36),O36:Q1939,3,0),\"\")","v":""},null,{"$f":"IFERROR(VLOOKUP(ROWS(AL$2:$AL36),N36:Q1939,4,0),\"\")","v":""}]
[null,null,null,null,null,null,null,null,null,null,null,null,null,0,0,0,"idfc imperial equity regular","MAG096","Large Cap",null,null,null,null,null,null,null,null,null,null,null,{"$f":"IFERROR(VLOOKUP(ROWS($AE$2:AE37),P37:Q1940,2,0),\"\")","v":""},null,null,null,null,{"$f":"IFERROR(VLOOKUP(ROWS($AJ$2:AJ37),O37:Q1940,3,0),\"\")","v":""},null,{"$f":"IFERROR(VLOOKUP(ROWS(AL$2:$AL37),N37:Q1940,4,0),\"\")","v":""}]
[null,null,null,null,null,null,null,null,null,null,null,null,null,0,0,0,"indiabulls blue chip fund","MIM010","Large Cap",null,null,null,null,null,null,null,null,null,null,null,{"$f":"IFERROR(VLOOKUP(ROWS($AE$2:AE38),P38:Q1941,2,0),\"\")","v":""},null,null,null,null,{"$f":"IFERROR(VLOOKUP(ROWS($AJ$2:AJ38),O38:Q1941,3,0),\"\")","v":""},null,{"$f":"IFERROR(VLOOKUP(ROWS(AL$2:$AL38),N38:Q1941,4,0),\"\")","v":""}]
[null,null,null,null,null,null,null,null,null,null,null,null,null,0,0,0,"indiabulls blue chip fund dir","MIM031","Large Cap",null,null,null,null,null,null,null,null,null,null,null,{"$f":"IFERROR(VLOOKUP(ROWS($AE$2:AE39),P39:Q1942,2,0),\"\")","v":""},null,null,null,null,{"$f":"IFERROR(VLOOKUP(ROWS($AJ$2:AJ39),O39:Q1942,3,0),\"\")","v":""},null,{"$f":"IFERROR(VLOOKUP(ROWS(AL$2:$AL39),N39:Q1942,4,0),\"\")","v":""}]
[null,null,null,null,null,null,null,null,null,null,null,null,null,0,0,0,"jm core 11 fund","MJM171","Large Cap",null,null,null,null,null,null,null,null,null,null,null,{"$f":"IFERROR(VLOOKUP(ROWS($AE$2:AE40),P40:Q1943,2,0),\"\")","v":""},null,null,null,null,{"$f":"IFERROR(VLOOKUP(ROWS($AJ$2:AJ40),O40:Q1943,3,0),\"\")","v":""},null,{"$f":"IFERROR(VLOOKUP(ROWS(AL$2:$AL40),N40:Q1943,4,0),\"\")","v":""}]
[null,null,null,null,null,null,null,null,null,null,null,null,null,0,0,0,"jm multi strategy fund","MJM238","Large Cap",null,null,null,null,null,null,null,null,null,null,null,{"$f":"IFERROR(VLOOKUP(ROWS($AE$2:AE41),P41:Q1944,2,0),\"\")","v":""},null,null,null,null,{"$f":"IFERROR(VLOOKUP(ROWS($AJ$2:AJ41),O41:Q1944,3,0),\"\")","v":""},null,{"$f":"IFERROR(VLOOKUP(ROWS(AL$2:$AL41),N41:Q1944,4,0),\"\")","v":""}]
[null,null,null,null,null,null,null,null,null,null,null,null,null,0,0,0,"jpmorgan india equity fund","MJP001","Large Cap",null,null,null,null,null,null,null,null,null,null,null,{"$f":"IFERROR(VLOOKUP(ROWS($AE$2:AE42),P42:Q1945,2,0),\"\")","v":""},null,null,null,null,{"$f":"IFERROR(VLOOKUP(ROWS($AJ$2:AJ42),O42:Q1945,3,0),\"\")","v":""},null,{"$f":"IFERROR(VLOOKUP(ROWS(AL$2:$AL42),N42:Q1945,4,0),\"\")","v":""}]
[null,null,null,null,null,null,null,null,null,null,null,null,null,0,0,0,"jpmorgan india top 100 fund dp","MJP279","Large Cap",null,null,null,null,null,null,null,null,null,null,null,{"$f":"IFERROR(VLOOKUP(ROWS($AE$2:AE43),P43:Q1946,2,0),\"\")","v":""},null,null,null,null,{"$f":"IFERROR(VLOOKUP(ROWS($AJ$2:AJ43),O43:Q1946,3,0),\"\")","v":""},null,{"$f":"IFERROR(VLOOKUP(ROWS(AL$2:$AL43),N43:Q1946,4,0),\"\")","v":""}]
[null,null,null,null,null,null,null,null,null,null,null,null,null,0,0,0,"jpmorgan india top 100 fund rp","MJP277","Large Cap",null,null,null,null,null,null,null,null,null,null,null,{"$f":"IFERROR(VLOOKUP(ROWS($AE$2:AE44),P44:Q1947,2,0),\"\")","v":""},null,null,null,null,{"$f":"IFERROR(VLOOKUP(ROWS($AJ$2:AJ44),O44:Q1947,3,0),\"\")","v":""},null,{"$f":"IFERROR(VLOOKUP(ROWS(AL$2:$AL44),N44:Q1947,4,0),\"\")","v":""}]
[null,null,null,null,null,null,null,null,null,null,null,null,null,0,0,0,"kotak 50 regular plan","MKM003","Large Cap",null,null,null,null,null,null,null,null,null,null,null,{"$f":"IFERROR(VLOOKUP(ROWS($AE$2:AE45),P45:Q1948,2,0),\"\")","v":""},null,null,null,null,{"$f":"IFERROR(VLOOKUP(ROWS($AJ$2:AJ45),O45:Q1948,3,0),\"\")","v":""},null,{"$f":"IFERROR(VLOOKUP(ROWS(AL$2:$AL45),N45:Q1948,4,0),\"\")","v":""}]
[null,null,null,null,null,null,null,null,null,null,null,null,null,0,0,0,"kotak classic equity regular","MKM077","Large Cap",null,null,null,null,null,null,null,null,null,null,null,{"$f":"IFERROR(VLOOKUP(ROWS($AE$2:AE46),P46:Q1949,2,0),\"\")","v":""},null,null,null,null,{"$f":"IFERROR(VLOOKUP(ROWS($AJ$2:AJ46),O46:Q1949,3,0),\"\")","v":""},null,{"$f":"IFERROR(VLOOKUP(ROWS(AL$2:$AL46),N46:Q1949,4,0),\"\")","v":""}]
[null,null,null,null,null,null,null,null,null,null,null,null,null,0,0,0,"lic nomura growth fund","MJB009","Large Cap",null,null,null,null,null,null,null,null,null,null,null,{"$f":"IFERROR(VLOOKUP(ROWS($AE$2:AE47),P47:Q1950,2,0),\"\")","v":""},null,null,null,null,{"$f":"IFERROR(VLOOKUP(ROWS($AJ$2:AJ47),O47:Q1950,3,0),\"\")","v":""},null,{"$f":"IFERROR(VLOOKUP(ROWS(AL$2:$AL47),N47:Q1950,4,0),\"\")","v":""}]
[null,null,null,null,null,null,null,null,null,null,null,null,null,0,0,0,"lic nomura index sensex adv","MJB019","Large Cap",null,null,null,null,null,null,null,null,null,null,null,{"$f":"IFERROR(VLOOKUP(ROWS($AE$2:AE48),P48:Q1951,2,0),\"\")","v":""},null,null,null,null,{"$f":"IFERROR(VLOOKUP(ROWS($AJ$2:AJ48),O48:Q1951,3,0),\"\")","v":""},null,{"$f":"IFERROR(VLOOKUP(ROWS(AL$2:$AL48),N48:Q1951,4,0),\"\")","v":""}]
[null,null,null,null,null,null,null,null,null,null,null,null,null,0,0,0,"l t india large cap fund","MFF027","Large Cap",null,null,null,null,null,null,null,null,null,null,null,{"$f":"IFERROR(VLOOKUP(ROWS($AE$2:AE49),P49:Q1952,2,0),\"\")","v":""},null,null,null,null,{"$f":"IFERROR(VLOOKUP(ROWS($AJ$2:AJ49),O49:Q1952,3,0),\"\")","v":""},null,{"$f":"IFERROR(VLOOKUP(ROWS(AL$2:$AL49),N49:Q1952,4,0),\"\")","v":""}]
[null,null,null,null,null,null,null,null,null,null,null,null,null,0,0,0,"motilal most shares m50 etf","MMO001","Large Cap",null,null,null,null,null,null,null,null,null,null,null,{"$f":"IFERROR(VLOOKUP(ROWS($AE$2:AE50),P50:Q1953,2,0),\"\")","v":""},null,null,null,null,{"$f":"IFERROR(VLOOKUP(ROWS($AJ$2:AJ50),O50:Q1953,3,0),\"\")","v":""},null,{"$f":"IFERROR(VLOOKUP(ROWS(AL$2:$AL50),N50:Q1953,4,0),\"\")","v":""}]
[null,null,null,null,null,null,null,null,null,null,null,null,null,0,0,0,"pramerica large cap equity","MPA011","Large Cap",null,null,null,null,null,null,null,null,null,null,null,{"$f":"IFERROR(VLOOKUP(ROWS($AE$2:AE51),P51:Q1954,2,0),\"\")","v":""},null,null,null,null,{"$f":"IFERROR(VLOOKUP(ROWS($AJ$2:AJ51),O51:Q1954,3,0),\"\")","v":""},null,{"$f":"IFERROR(VLOOKUP(ROWS(AL$2:$AL51),N51:Q1954,4,0),\"\")","v":""}]
[null,null,null,null,null,null,null,null,null,null,null,null,null,0,0,0,"pramerica large cap equity dir","MPA041","Large Cap",null,null,null,null,null,null,null,null,null,null,null,{"$f":"IFERROR(VLOOKUP(ROWS($AE$2:AE52),P52:Q1955,2,0),\"\")","v":""},null,null,null,null,{"$f":"IFERROR(VLOOKUP(ROWS($AJ$2:AJ52),O52:Q1955,3,0),\"\")","v":""},null,{"$f":"IFERROR(VLOOKUP(ROWS(AL$2:$AL52),N52:Q1955,4,0),\"\")","v":""}]
[null,null,null,null,null,null,null,null,null,null,null,null,null,0,0,0,"principal large cap fund","MID094","Large Cap",null,null,null,null,null,null,null,null,null,null,null,{"$f":"IFERROR(VLOOKUP(ROWS($AE$2:AE53),P53:Q1956,2,0),\"\")","v":""},null,null,null,null,{"$f":"IFERROR(VLOOKUP(ROWS($AJ$2:AJ53),O53:Q1956,3,0),\"\")","v":""},null,{"$f":"IFERROR(VLOOKUP(ROWS(AL$2:$AL53),N53:Q1956,4,0),\"\")","v":""}]
[null,null,null,null,null,null,null,null,null,null,null,null,null,0,0,0,"reliance focused large cap dir","MRC911","Large Cap",null,null,null,null,null,null,null,null,null,null,null,{"$f":"IFERROR(VLOOKUP(ROWS($AE$2:AE54),P54:Q1957,2,0),\"\")","v":""},null,null,null,null,{"$f":"IFERROR(VLOOKUP(ROWS($AJ$2:AJ54),O54:Q1957,3,0),\"\")","v":""},null,{"$f":"IFERROR(VLOOKUP(ROWS(AL$2:$AL54),N54:Q1957,4,0),\"\")","v":""}]
[null,null,null,null,null,null,null,null,null,null,null,null,null,0,0,0,"reliance focused large cap rp","MRC103","Large Cap",null,null,null,null,null,null,null,null,null,null,null,{"$f":"IFERROR(VLOOKUP(ROWS($AE$2:AE55),P55:Q1958,2,0),\"\")","v":""},null,null,null,null,{"$f":"IFERROR(VLOOKUP(ROWS($AJ$2:AJ55),O55:Q1958,3,0),\"\")","v":""},null,{"$f":"IFERROR(VLOOKUP(ROWS(AL$2:$AL55),N55:Q1958,4,0),\"\")","v":""}]
[null,null,null,null,null,null,null,null,null,null,null,null,null,0,0,0,"reliance quant plus rp","MRC346","Large Cap",null,null,null,null,null,null,null,null,null,null,null,{"$f":"IFERROR(VLOOKUP(ROWS($AE$2:AE56),P56:Q1959,2,0),\"\")","v":""},null,null,null,null,{"$f":"IFERROR(VLOOKUP(ROWS($AJ$2:AJ56),O56:Q1959,3,0),\"\")","v":""},null,{"$f":"IFERROR(VLOOKUP(ROWS(AL$2:$AL56),N56:Q1959,4,0),\"\")","v":""}]
[null,null,null,null,null,null,null,null,null,null,null,null,null,0,0,0,"religare invesco agile dir","MLI574","Large Cap",null,null,null,null,null,null,null,null,null,null,null,{"$f":"IFERROR(VLOOKUP(ROWS($AE$2:AE57),P57:Q1960,2,0),\"\")","v":""},null,null,null,null,{"$f":"IFERROR(VLOOKUP(ROWS($AJ$2:AJ57),O57:Q1960,3,0),\"\")","v":""},null,{"$f":"IFERROR(VLOOKUP(ROWS(AL$2:$AL57),N57:Q1960,4,0),\"\")","v":""}]
[null,null,null,null,null,null,null,null,null,null,null,null,null,0,0,0,"religare invesco agile fund","MLI147","Large Cap",null,null,null,null,null,null,null,null,null,null,null,{"$f":"IFERROR(VLOOKUP(ROWS($AE$2:AE58),P58:Q1961,2,0),\"\")","v":""},null,null,null,null,{"$f":"IFERROR(VLOOKUP(ROWS($AJ$2:AJ58),O58:Q1961,3,0),\"\")","v":""},null,{"$f":"IFERROR(VLOOKUP(ROWS(AL$2:$AL58),N58:Q1961,4,0),\"\")","v":""}]
[null,null,null,null,null,null,null,null,null,null,null,null,null,0,0,0,"religare invesco bus leaders","MLI339","Large Cap",null,null,null,null,null,null,null,null,null,null,null,{"$f":"IFERROR(VLOOKUP(ROWS($AE$2:AE59),P59:Q1962,2,0),\"\")","v":""},null,null,null,null,{"$f":"IFERROR(VLOOKUP(ROWS($AJ$2:AJ59),O59:Q1962,3,0),\"\")","v":""},null,{"$f":"IFERROR(VLOOKUP(ROWS(AL$2:$AL59),N59:Q1962,4,0),\"\")","v":""}]
[null,null,null,null,null,null,null,null,null,null,null,null,null,0,0,0,"religare invesco bus leaders dp","MLI568","Large Cap",null,null,null,null,null,null,null,null,null,null,null,{"$f":"IFERROR(VLOOKUP(ROWS($AE$2:AE60),P60:Q1963,2,0),\"\")","v":""},null,null,null,null,{"$f":"IFERROR(VLOOKUP(ROWS($AJ$2:AJ60),O60:Q1963,3,0),\"\")","v":""},null,{"$f":"IFERROR(VLOOKUP(ROWS(AL$2:$AL60),N60:Q1963,4,0),\"\")","v":""}]
[null,null,null,null,null,null,null,null,null,null,null,null,null,0,0,0,"sahara growth fund","MFI007","Large Cap",null,null,null,null,null,null,null,null,null,null,null,{"$f":"IFERROR(VLOOKUP(ROWS($AE$2:AE61),P61:Q1964,2,0),\"\")","v":""},null,null,null,null,{"$f":"IFERROR(VLOOKUP(ROWS($AJ$2:AJ61),O61:Q1964,3,0),\"\")","v":""},null,{"$f":"IFERROR(VLOOKUP(ROWS(AL$2:$AL61),N61:Q1964,4,0),\"\")","v":""}]
[null,null,null,null,null,null,null,null,null,null,null,null,null,0,0,0,"sahara super 20 fund","MFI059","Large Cap",null,null,null,null,null,null,null,null,null,null,null,{"$f":"IFERROR(VLOOKUP(ROWS($AE$2:AE62),P62:Q1965,2,0),\"\")","v":""},null,null,null,null,{"$f":"IFERROR(VLOOKUP(ROWS($AJ$2:AJ62),O62:Q1965,3,0),\"\")","v":""},null,{"$f":"IFERROR(VLOOKUP(ROWS(AL$2:$AL62),N62:Q1965,4,0),\"\")","v":""}]
[null,null,null,null,null,null,null,null,null,null,null,null,null,0,0,0,"sbi blue chip fund","MSB079","Large Cap",null,null,null,null,null,null,null,null,null,null,null,{"$f":"IFERROR(VLOOKUP(ROWS($AE$2:AE63),P63:Q1966,2,0),\"\")","v":""},null,null,null,null,{"$f":"IFERROR(VLOOKUP(ROWS($AJ$2:AJ63),O63:Q1966,3,0),\"\")","v":""},null,{"$f":"IFERROR(VLOOKUP(ROWS(AL$2:$AL63),N63:Q1966,4,0),\"\")","v":""}]
[null,null,null,null,null,null,null,null,null,null,null,null,null,0,0,0,"sbi magnum equity fund","MSB085","Large Cap",null,null,null,null,null,null,null,null,null,null,null,{"$f":"IFERROR(VLOOKUP(ROWS($AE$2:AE64),P64:Q1967,2,0),\"\")","v":""},null,null,null,null,{"$f":"IFERROR(VLOOKUP(ROWS($AJ$2:AJ64),O64:Q1967,3,0),\"\")","v":""},null,{"$f":"IFERROR(VLOOKUP(ROWS(AL$2:$AL64),N64:Q1967,4,0),\"\")","v":""}]
[null,null,null,null,null,null,null,null,null,null,null,null,null,0,0,0,"sundaram equity plus","MSN431","Large Cap",null,null,null,null,null,null,null,null,null,null,null,{"$f":"IFERROR(VLOOKUP(ROWS($AE$2:AE65),P65:Q1968,2,0),\"\")","v":""},null,null,null,null,{"$f":"IFERROR(VLOOKUP(ROWS($AJ$2:AJ65),O65:Q1968,3,0),\"\")","v":""},null,{"$f":"IFERROR(VLOOKUP(ROWS(AL$2:$AL65),N65:Q1968,4,0),\"\")","v":""}]
[null,null,null,null,null,null,null,null,null,null,null,null,null,0,0,{"$f":"IF(ISNUMBER(SEARCH($H$6,Q66)),MAX($P$1,P65)+1,0)","v":0},"sundaram growth fund ip","MSN337","Large Cap",null,null,null,null,null,null,null,null,null,null,null,{"$f":"IFERROR(VLOOKUP(ROWS($AE$2:AE66),P66:Q1969,2,0),\"\")","v":""},null,null,null,null,{"$f":"IFERROR(VLOOKUP(ROWS($AJ$2:AJ66),O66:Q1969,3,0),\"\")","v":""},null,{"$f":"IFERROR(VLOOKUP(ROWS(AL$2:$AL66),N66:Q1969,4,0),\"\")","v":""}]
[null,null,null,null,null,null,null,null,null,null,null,null,null,{"$f":"IF(ISNUMBER(SEARCH($H$16,Q67)),MAX($N$1,N66)+1,0)","v":0},{"$f":"IF(ISNUMBER(SEARCH($H$11,Q67)),MAX($O$1,O66)+1,0)","v":0},0,"sundaram growth fund rp","MSN003","Large Cap",null,null,null,null,null,null,null,null,null,null,null,{"$f":"IFERROR(VLOOKUP(ROWS($AE$2:AE67),P67:Q1970,2,0),\"\")","v":""},null,null,null,null,{"$f":"IFERROR(VLOOKUP(ROWS($AJ$2:AJ67),O67:Q1970,3,0),\"\")","v":""},null,{"$f":"IFERROR(VLOOKUP(ROWS(AL$2:$AL67),N67:Q1970,4,0),\"\")","v":""}]
[null,null,null,null,null,null,null,null,null,null,null,null,null,0,0,0,"sundaram leadership rp","MSN058","Large Cap",null,null,null,null,null,null,null,null,null,null,null,{"$f":"IFERROR(VLOOKUP(ROWS($AE$2:AE68),P68:Q1971,2,0),\"\")","v":""},null,null,null,null,{"$f":"IFERROR(VLOOKUP(ROWS($AJ$2:AJ68),O68:Q1971,3,0),\"\")","v":""},null,{"$f":"IFERROR(VLOOKUP(ROWS(AL$2:$AL68),N68:Q1971,4,0),\"\")","v":""}]
[null,null,null,null,null,null,null,null,null,null,null,null,null,0,0,0,"sundaram select focus ip","MSN243","Large Cap",null,null,null,null,null,null,null,null,null,null,null,{"$f":"IFERROR(VLOOKUP(ROWS($AE$2:AE69),P69:Q1972,2,0),\"\")","v":""},null,null,null,null,{"$f":"IFERROR(VLOOKUP(ROWS($AJ$2:AJ69),O69:Q1972,3,0),\"\")","v":""},null,{"$f":"IFERROR(VLOOKUP(ROWS(AL$2:$AL69),N69:Q1972,4,0),\"\")","v":""}]
[null,null,null,null,null,null,null,null,null,null,null,null,null,0,0,0,"sundaram select focus rp","MSN011","Large Cap",null,null,null,null,null,null,null,null,null,null,null,{"$f":"IFERROR(VLOOKUP(ROWS($AE$2:AE70),P70:Q1973,2,0),\"\")","v":""},null,null,null,null,{"$f":"IFERROR(VLOOKUP(ROWS($AJ$2:AJ70),O70:Q1973,3,0),\"\")","v":""},null,{"$f":"IFERROR(VLOOKUP(ROWS(AL$2:$AL70),N70:Q1973,4,0),\"\")","v":""}]
[null,null,null,null,null,null,null,null,null,null,null,null,null,0,0,0,"tata pure equity fund regular plan","MTA006","Large Cap",null,null,null,null,null,null,null,null,null,null,null,{"$f":"IFERROR(VLOOKUP(ROWS($AE$2:AE71),P71:Q1974,2,0),\"\")","v":""},null,null,null,null,{"$f":"IFERROR(VLOOKUP(ROWS($AJ$2:AJ71),O71:Q1974,3,0),\"\")","v":""},null,{"$f":"IFERROR(VLOOKUP(ROWS(AL$2:$AL71),N71:Q1974,4,0),\"\")","v":""}]
[null,null,null,null,null,null,null,null,null,null,null,null,null,0,0,0,"taurus bonanza fund","MCM015","Large Cap",null,null,null,null,null,null,null,null,null,null,null,{"$f":"IFERROR(VLOOKUP(ROWS($AE$2:AE72),P72:Q1975,2,0),\"\")","v":""},null,null,null,null,{"$f":"IFERROR(VLOOKUP(ROWS($AJ$2:AJ72),O72:Q1975,3,0),\"\")","v":""},null,{"$f":"IFERROR(VLOOKUP(ROWS(AL$2:$AL72),N72:Q1975,4,0),\"\")","v":""}]
[null,null,null,null,null,null,null,null,null,null,null,null,null,0,0,0,"union kbc trigger fund sr1 dp","MUK072","Large Cap",null,null,null,null,null,null,null,null,null,null,null,{"$f":"IFERROR(VLOOKUP(ROWS($AE$2:AE73),P73:Q1976,2,0),\"\")","v":""},null,null,null,null,{"$f":"IFERROR(VLOOKUP(ROWS($AJ$2:AJ73),O73:Q1976,3,0),\"\")","v":""},null,{"$f":"IFERROR(VLOOKUP(ROWS(AL$2:$AL73),N73:Q1976,4,0),\"\")","v":""}]
[null,null,null,null,null,null,null,null,null,null,null,null,null,0,0,0,"union kbc trigger fund sr1 rp","MUK071","Large Cap",null,null,null,null,null,null,null,null,null,null,null,{"$f":"IFERROR(VLOOKUP(ROWS($AE$2:AE74),P74:Q1977,2,0),\"\")","v":""},null,null,null,null,{"$f":"IFERROR(VLOOKUP(ROWS($AJ$2:AJ74),O74:Q1977,3,0),\"\")","v":""},null,{"$f":"IFERROR(VLOOKUP(ROWS(AL$2:$AL74),N74:Q1977,4,0),\"\")","v":""}]
[null,null,null,null,null,null,null,null,null,null,null,null,null,0,0,0,"union kbc trigger fund sr2 dp","MUK094","Large Cap",null,null,null,null,null,null,null,null,null,null,null,{"$f":"IFERROR(VLOOKUP(ROWS($AE$2:AE75),P75:Q1978,2,0),\"\")","v":""},null,null,null,null,{"$f":"IFERROR(VLOOKUP(ROWS($AJ$2:AJ75),O75:Q1978,3,0),\"\")","v":""},null,{"$f":"IFERROR(VLOOKUP(ROWS(AL$2:$AL75),N75:Q1978,4,0),\"\")","v":""}]
[null,null,null,null,null,null,null,null,null,null,null,null,null,0,0,0,"union kbc trigger fund sr2 rp","MUK093","Large Cap",null,null,null,null,null,null,null,null,null,null,null,{"$f":"IFERROR(VLOOKUP(ROWS($AE$2:AE76),P76:Q1979,2,0),\"\")","v":""},null,null,null,null,{"$f":"IFERROR(VLOOKUP(ROWS($AJ$2:AJ76),O76:Q1979,3,0),\"\")","v":""},null,{"$f":"IFERROR(VLOOKUP(ROWS(AL$2:$AL76),N76:Q1979,4,0),\"\")","v":""}]
[null,null,null,null,null,null,null,null,null,null,null,null,null,0,0,0,"uti equity fund","MUT009","Large Cap",null,null,null,null,null,null,null,null,null,null,null,{"$f":"IFERROR(VLOOKUP(ROWS($AE$2:AE77),P77:Q1980,2,0),\"\")","v":""},null,null,null,null,{"$f":"IFERROR(VLOOKUP(ROWS($AJ$2:AJ77),O77:Q1980,3,0),\"\")","v":""},null,{"$f":"IFERROR(VLOOKUP(ROWS(AL$2:$AL77),N77:Q1980,4,0),\"\")","v":""}]
[null,null,null,null,null,null,null,null,null,null,null,null,null,0,0,0,"uti india lifestyle fund","MUT129","Large Cap",null,null,null,null,null,null,null,null,null,null,null,{"$f":"IFERROR(VLOOKUP(ROWS($AE$2:AE78),P78:Q1981,2,0),\"\")","v":""},null,null,null,null,{"$f":"IFERROR(VLOOKUP(ROWS($AJ$2:AJ78),O78:Q1981,3,0),\"\")","v":""},null,{"$f":"IFERROR(VLOOKUP(ROWS(AL$2:$AL78),N78:Q1981,4,0),\"\")","v":""}]
[null,null,null,null,null,null,null,null,null,null,null,null,null,0,0,0,"uti leadership equity fund","MUT096","Large Cap",null,null,null,null,null,null,null,null,null,null,null,{"$f":"IFERROR(VLOOKUP(ROWS($AE$2:AE79),P79:Q1982,2,0),\"\")","v":""},null,null,null,null,{"$f":"IFERROR(VLOOKUP(ROWS($AJ$2:AJ79),O79:Q1982,3,0),\"\")","v":""},null,{"$f":"IFERROR(VLOOKUP(ROWS(AL$2:$AL79),N79:Q1982,4,0),\"\")","v":""}]
[null,null,null,null,null,null,null,null,null,null,null,null,null,0,0,0,"uti master plus us","MUT008","Large Cap",null,null,null,null,null,null,null,null,null,null,null,{"$f":"IFERROR(VLOOKUP(ROWS($AE$2:AE80),P80:Q1983,2,0),\"\")","v":""},null,null,null,null,{"$f":"IFERROR(VLOOKUP(ROWS($AJ$2:AJ80),O80:Q1983,3,0),\"\")","v":""},null,{"$f":"IFERROR(VLOOKUP(ROWS(AL$2:$AL80),N80:Q1983,4,0),\"\")","v":""}]
[null,null,null,null,null,null,null,null,null,null,null,null,null,0,0,0,"uti mastershare","MUT051","Large Cap",null,null,null,null,null,null,null,null,null,null,null,{"$f":"IFERROR(VLOOKUP(ROWS($AE$2:AE81),P81:Q1984,2,0),\"\")","v":""},null,null,null,null,{"$f":"IFERROR(VLOOKUP(ROWS($AJ$2:AJ81),O81:Q1984,3,0),\"\")","v":""},null,{"$f":"IFERROR(VLOOKUP(ROWS(AL$2:$AL81),N81:Q1984,4,0),\"\")","v":""}]
[null,null,null,null,null,null,null,null,null,null,null,null,null,0,0,0,"uti opportunities fund","MUT072","Large Cap",null,null,null,null,null,null,null,null,null,null,null,{"$f":"IFERROR(VLOOKUP(ROWS($AE$2:AE82),P82:Q1985,2,0),\"\")","v":""},null,null,null,null,{"$f":"IFERROR(VLOOKUP(ROWS($AJ$2:AJ82),O82:Q1985,3,0),\"\")","v":""},null,{"$f":"IFERROR(VLOOKUP(ROWS(AL$2:$AL82),N82:Q1985,4,0),\"\")","v":""}]
[null,null,null,null,null,null,null,null,null,null,null,null,null,0,0,0,"uti top 100 fund","MUT010","Large Cap",null,null,null,null,null,null,null,null,null,null,null,{"$f":"IFERROR(VLOOKUP(ROWS($AE$2:AE83),P83:Q1986,2,0),\"\")","v":""},null,null,null,null,{"$f":"IFERROR(VLOOKUP(ROWS($AJ$2:AJ83),O83:Q1986,3,0),\"\")","v":""},null,{"$f":"IFERROR(VLOOKUP(ROWS(AL$2:$AL83),N83:Q1986,4,0),\"\")","v":""}]
[null,null,null,null,null,null,null,null,null,null,null,null,null,0,0,0,"axis mid cap fund","MAA099","Mid and Small-Cap",null,null,null,null,null,null,null,null,null,null,null,{"$f":"IFERROR(VLOOKUP(ROWS($AE$2:AE84),P84:Q1987,2,0),\"\")","v":""},null,null,null,null,{"$f":"IFERROR(VLOOKUP(ROWS($AJ$2:AJ84),O84:Q1987,3,0),\"\")","v":""},null,{"$f":"IFERROR(VLOOKUP(ROWS(AL$2:$AL84),N84:Q1987,4,0),\"\")","v":""}]
[null,null,null,null,null,null,null,null,null,null,null,null,null,0,0,0,"axis small cap fund regular","MAA314","Mid and Small-Cap",null,null,null,null,null,null,null,null,null,null,null,{"$f":"IFERROR(VLOOKUP(ROWS($AE$2:AE85),P85:Q1988,2,0),\"\")","v":""},null,null,null,null,{"$f":"IFERROR(VLOOKUP(ROWS($AJ$2:AJ85),O85:Q1988,3,0),\"\")","v":""},null,{"$f":"IFERROR(VLOOKUP(ROWS(AL$2:$AL85),N85:Q1988,4,0),\"\")","v":""}]
[null,null,null,null,null,null,null,null,null,null,null,null,null,0,0,0,"birla sl emer leaders sr 1 dp","MBS1821","Mid and Small-Cap",null,null,null,null,null,null,null,null,null,null,null,{"$f":"IFERROR(VLOOKUP(ROWS($AE$2:AE86),P86:Q1989,2,0),\"\")","v":""},null,null,null,null,{"$f":"IFERROR(VLOOKUP(ROWS($AJ$2:AJ86),O86:Q1989,3,0),\"\")","v":""},null,{"$f":"IFERROR(VLOOKUP(ROWS(AL$2:$AL86),N86:Q1989,4,0),\"\")","v":""}]
[null,null,null,null,null,null,null,null,null,null,null,null,null,0,0,0,"birla sl emer leaders sr 1 rp","MBS1819","Mid and Small-Cap",null,null,null,null,null,null,null,null,null,null,null,{"$f":"IFERROR(VLOOKUP(ROWS($AE$2:AE87),P87:Q1990,2,0),\"\")","v":""},null,null,null,null,{"$f":"IFERROR(VLOOKUP(ROWS($AJ$2:AJ87),O87:Q1990,3,0),\"\")","v":""},null,{"$f":"IFERROR(VLOOKUP(ROWS(AL$2:$AL87),N87:Q1990,4,0),\"\")","v":""}]
[null,null,null,null,null,null,null,null,null,null,null,null,null,0,0,0,"birla sl emer leaders sr 2 dp","MBS1867","Mid and Small-Cap",null,null,null,null,null,null,null,null,null,null,null,{"$f":"IFERROR(VLOOKUP(ROWS($AE$2:AE88),P88:Q1991,2,0),\"\")","v":""},null,null,null,null,{"$f":"IFERROR(VLOOKUP(ROWS($AJ$2:AJ88),O88:Q1991,3,0),\"\")","v":""},null,{"$f":"IFERROR(VLOOKUP(ROWS(AL$2:$AL88),N88:Q1991,4,0),\"\")","v":""}]
[null,null,null,null,null,null,null,null,null,null,null,null,null,0,0,0,"birla sl emer leaders sr 2 rp","MBS1865","Mid and Small-Cap",null,null,null,null,null,null,null,null,null,null,null,{"$f":"IFERROR(VLOOKUP(ROWS($AE$2:AE89),P89:Q1992,2,0),\"\")","v":""},null,null,null,null,{"$f":"IFERROR(VLOOKUP(ROWS($AJ$2:AJ89),O89:Q1992,3,0),\"\")","v":""},null,{"$f":"IFERROR(VLOOKUP(ROWS(AL$2:$AL89),N89:Q1992,4,0),\"\")","v":""}]
[null,null,null,null,null,null,null,null,null,null,null,null,null,0,0,0,"birla sl emer leaders sr 3 dp","MBS1873","Mid and Small-Cap",null,null,null,null,null,null,null,null,null,null,null,{"$f":"IFERROR(VLOOKUP(ROWS($AE$2:AE90),P90:Q1993,2,0),\"\")","v":""},null,null,null,null,{"$f":"IFERROR(VLOOKUP(ROWS($AJ$2:AJ90),O90:Q1993,3,0),\"\")","v":""},null,{"$f":"IFERROR(VLOOKUP(ROWS(AL$2:$AL90),N90:Q1993,4,0),\"\")","v":""}]
[null,null,null,null,null,null,null,null,null,null,null,null,null,0,0,0,"birla sl emer leaders sr 3 rp","MBS1871","Mid and Small-Cap",null,null,null,null,null,null,null,null,null,null,null,{"$f":"IFERROR(VLOOKUP(ROWS($AE$2:AE91),P91:Q1994,2,0),\"\")","v":""},null,null,null,null,{"$f":"IFERROR(VLOOKUP(ROWS($AJ$2:AJ91),O91:Q1994,3,0),\"\")","v":""},null,{"$f":"IFERROR(VLOOKUP(ROWS(AL$2:$AL91),N91:Q1994,4,0),\"\")","v":""}]
[null,null,null,null,null,null,null,null,null,null,null,null,null,0,0,0,"birla sl emer leaders sr 4 dp","MBS1877","Mid and Small-Cap",null,null,null,null,null,null,null,null,null,null,null,{"$f":"IFERROR(VLOOKUP(ROWS($AE$2:AE92),P92:Q1995,2,0),\"\")","v":""},null,null,null,null,{"$f":"IFERROR(VLOOKUP(ROWS($AJ$2:AJ92),O92:Q1995,3,0),\"\")","v":""},null,{"$f":"IFERROR(VLOOKUP(ROWS(AL$2:$AL92),N92:Q1995,4,0),\"\")","v":""}]
[null,null,null,null,null,null,null,null,null,null,null,null,null,0,0,0,"birla sl emer leaders sr 4 rp","MBS1875","Mid and Small-Cap",null,null,null,null,null,null,null,null,null,null,null,{"$f":"IFERROR(VLOOKUP(ROWS($AE$2:AE93),P93:Q1996,2,0),\"\")","v":""},null,null,null,null,{"$f":"IFERROR(VLOOKUP(ROWS($AJ$2:AJ93),O93:Q1996,3,0),\"\")","v":""},null,{"$f":"IFERROR(VLOOKUP(ROWS(AL$2:$AL93),N93:Q1996,4,0),\"\")","v":""}]
[null,null,null,null,null,null,null,null,null,null,null,null,null,0,0,0,"birla sl emer leaders sr 5 dp","MBS1997","Mid and Small-Cap",null,null,null,null,null,null,null,null,null,null,null,{"$f":"IFERROR(VLOOKUP(ROWS($AE$2:AE94),P94:Q1997,2,0),\"\")","v":""},null,null,null,null,{"$f":"IFERROR(VLOOKUP(ROWS($AJ$2:AJ94),O94:Q1997,3,0),\"\")","v":""},null,{"$f":"IFERROR(VLOOKUP(ROWS(AL$2:$AL94),N94:Q1997,4,0),\"\")","v":""}]
[null,null,null,null,null,null,null,null,null,null,null,null,null,0,0,0,"birla sl emer leaders sr 5 rp","MBS1995","Mid and Small-Cap",null,null,null,null,null,null,null,null,null,null,null,{"$f":"IFERROR(VLOOKUP(ROWS($AE$2:AE95),P95:Q1998,2,0),\"\")","v":""},null,null,null,null,{"$f":"IFERROR(VLOOKUP(ROWS($AJ$2:AJ95),O95:Q1998,3,0),\"\")","v":""},null,{"$f":"IFERROR(VLOOKUP(ROWS(AL$2:$AL95),N95:Q1998,4,0),\"\")","v":""}]
[null,null,null,null,null,null,null,null,null,null,null,null,null,0,0,0,"birla sl emer leaders sr 6 dp","MBS2057","Mid and Small-Cap",null,null,null,null,null,null,null,null,null,null,null,{"$f":"IFERROR(VLOOKUP(ROWS($AE$2:AE96),P96:Q1999,2,0),\"\")","v":""},null,null,null,null,{"$f":"IFERROR(VLOOKUP(ROWS($AJ$2:AJ96),O96:Q1999,3,0),\"\")","v":""},null,{"$f":"IFERROR(VLOOKUP(ROWS(AL$2:$AL96),N96:Q1999,4,0),\"\")","v":""}]
[null,null,null,null,null,null,null,null,null,null,null,null,null,0,0,0,"birla sl emer leaders sr 6 rp","MBS2055","Mid and Small-Cap",null,null,null,null,null,null,null,null,null,null,null,{"$f":"IFERROR(VLOOKUP(ROWS($AE$2:AE97),P97:Q2000,2,0),\"\")","v":""},null,null,null,null,{"$f":"IFERROR(VLOOKUP(ROWS($AJ$2:AJ97),O97:Q2000,3,0),\"\")","v":""},null,{"$f":"IFERROR(VLOOKUP(ROWS(AL$2:$AL97),N97:Q2000,4,0),\"\")","v":""}]
[null,null,null,null,null,null,null,null,null,null,null,null,null,0,0,0,"birla sl pure value fund","MBS267","Mid and Small-Cap",null,null,null,null,null,null,null,null,null,null,null,{"$f":"IFERROR(VLOOKUP(ROWS($AE$2:AE98),P98:Q2001,2,0),\"\")","v":""},null,null,null,null,{"$f":"IFERROR(VLOOKUP(ROWS($AJ$2:AJ98),O98:Q2001,3,0),\"\")","v":""},null,{"$f":"IFERROR(VLOOKUP(ROWS(AL$2:$AL98),N98:Q2001,4,0),\"\")","v":""}]
[null,null,null,null,null,null,null,null,null,null,null,null,null,0,0,0,"birla sl small and midcap fund","MBS104","Mid and Small-Cap",null,null,null,null,null,null,null,null,null,null,null,{"$f":"IFERROR(VLOOKUP(ROWS($AE$2:AE99),P99:Q2002,2,0),\"\")","v":""},null,null,null,null,{"$f":"IFERROR(VLOOKUP(ROWS($AJ$2:AJ99),O99:Q2002,3,0),\"\")","v":""},null,{"$f":"IFERROR(VLOOKUP(ROWS(AL$2:$AL99),N99:Q2002,4,0),\"\")","v":""}]
[null,null,null,null,null,null,null,null,null,null,null,null,null,0,0,0,"birla sun life buy india","MAC023","Mid and Small-Cap",null,null,null,null,null,null,null,null,null,null,null,{"$f":"IFERROR(VLOOKUP(ROWS($AE$2:AE100),P100:Q2003,2,0),\"\")","v":""},null,null,null,null,{"$f":"IFERROR(VLOOKUP(ROWS($AJ$2:AJ100),O100:Q2003,3,0),\"\")","v":""},null,{"$f":"IFERROR(VLOOKUP(ROWS(AL$2:$AL100),N100:Q2003,4,0),\"\")","v":""}]
[null,null,null,null,null,null,null,null,null,null,null,null,null,0,0,0,"birla sun life midcap fund","MBS027","Mid and Small-Cap",null,null,null,null,null,null,null,null,null,null,null,{"$f":"IFERROR(VLOOKUP(ROWS($AE$2:AE101),P101:Q2004,2,0),\"\")","v":""},null,null,null,null,{"$f":"IFERROR(VLOOKUP(ROWS($AJ$2:AJ101),O101:Q2004,3,0),\"\")","v":""},null,{"$f":"IFERROR(VLOOKUP(ROWS(AL$2:$AL101),N101:Q2004,4,0),\"\")","v":""}]
[null,null,null,null,null,null,null,null,null,null,null,null,null,0,0,0,"birla sun life mnc fund","MBS017","Mid and Small-Cap",null,null,null,null,null,null,null,null,null,null,null,{"$f":"IFERROR(VLOOKUP(ROWS($AE$2:AE102),P102:Q2005,2,0),\"\")","v":""},null,null,null,null,{"$f":"IFERROR(VLOOKUP(ROWS($AJ$2:AJ102),O102:Q2005,3,0),\"\")","v":""},null,{"$f":"IFERROR(VLOOKUP(ROWS(AL$2:$AL102),N102:Q2005,4,0),\"\")","v":""}]
[null,null,null,null,null,null,null,null,null,null,null,null,null,0,0,0,"bnp paribas mid cap fund","MAB045","Mid and Small-Cap",null,null,null,null,null,null,null,null,null,null,null,{"$f":"IFERROR(VLOOKUP(ROWS($AE$2:AE103),P103:Q2006,2,0),\"\")","v":""},null,null,null,null,{"$f":"IFERROR(VLOOKUP(ROWS($AJ$2:AJ103),O103:Q2006,3,0),\"\")","v":""},null,{"$f":"IFERROR(VLOOKUP(ROWS(AL$2:$AL103),N103:Q2006,4,0),\"\")","v":""}]
[null,null,null,null,null,null,null,null,null,null,null,null,null,0,0,0,"bnp paribas mid cap fund dir","MAB726","Mid and Small-Cap",null,null,null,null,null,null,null,null,null,null,null,{"$f":"IFERROR(VLOOKUP(ROWS($AE$2:AE104),P104:Q2007,2,0),\"\")","v":""},null,null,null,null,{"$f":"IFERROR(VLOOKUP(ROWS($AJ$2:AJ104),O104:Q2007,3,0),\"\")","v":""},null,{"$f":"IFERROR(VLOOKUP(ROWS(AL$2:$AL104),N104:Q2007,4,0),\"\")","v":""}]
[null,null,null,null,null,null,null,null,null,null,null,null,null,0,0,0,"can robeco emerg equities","MCA033","Mid and Small-Cap",null,null,null,null,null,null,null,null,null,null,null,{"$f":"IFERROR(VLOOKUP(ROWS($AE$2:AE105),P105:Q2008,2,0),\"\")","v":""},null,null,null,null,{"$f":"IFERROR(VLOOKUP(ROWS($AJ$2:AJ105),O105:Q2008,3,0),\"\")","v":""},null,{"$f":"IFERROR(VLOOKUP(ROWS(AL$2:$AL105),N105:Q2008,4,0),\"\")","v":""}]
[null,null,null,null,null,null,null,null,null,null,null,null,null,0,0,0,"can robeco india opport dp ","MCA270","Mid and Small-Cap",null,null,null,null,null,null,null,null,null,null,null,{"$f":"IFERROR(VLOOKUP(ROWS($AE$2:AE106),P106:Q2009,2,0),\"\")","v":""},null,null,null,null,{"$f":"IFERROR(VLOOKUP(ROWS($AJ$2:AJ106),O106:Q2009,3,0),\"\")","v":""},null,{"$f":"IFERROR(VLOOKUP(ROWS(AL$2:$AL106),N106:Q2009,4,0),\"\")","v":""}]
[null,null,null,null,null,null,null,null,null,null,null,null,null,0,0,0,"can robeco india opport rp ","MCA268","Mid and Small-Cap",null,null,null,null,null,null,null,null,null,null,null,{"$f":"IFERROR(VLOOKUP(ROWS($AE$2:AE107),P107:Q2010,2,0),\"\")","v":""},null,null,null,null,{"$f":"IFERROR(VLOOKUP(ROWS($AJ$2:AJ107),O107:Q2010,3,0),\"\")","v":""},null,{"$f":"IFERROR(VLOOKUP(ROWS(AL$2:$AL107),N107:Q2010,4,0),\"\")","v":""}]
[null,null,null,null,null,null,null,null,null,null,null,null,null,0,0,0,"can robeco india opport sr 2 dp ","MCA278","Mid and Small-Cap",null,null,null,null,null,null,null,null,null,null,null,{"$f":"IFERROR(VLOOKUP(ROWS($AE$2:AE108),P108:Q2011,2,0),\"\")","v":""},null,null,null,null,{"$f":"IFERROR(VLOOKUP(ROWS($AJ$2:AJ108),O108:Q2011,3,0),\"\")","v":""},null,{"$f":"IFERROR(VLOOKUP(ROWS(AL$2:$AL108),N108:Q2011,4,0),\"\")","v":""}]
[null,null,null,null,null,null,null,null,null,null,null,null,null,0,0,0,"can robeco india opport sr 2 rp ","MCA276","Mid and Small-Cap",null,null,null,null,null,null,null,null,null,null,null,{"$f":"IFERROR(VLOOKUP(ROWS($AE$2:AE109),P109:Q2012,2,0),\"\")","v":""},null,null,null,null,{"$f":"IFERROR(VLOOKUP(ROWS($AJ$2:AJ109),O109:Q2012,3,0),\"\")","v":""},null,{"$f":"IFERROR(VLOOKUP(ROWS(AL$2:$AL109),N109:Q2012,4,0),\"\")","v":""}]
[null,null,null,null,null,null,null,null,null,null,null,null,null,0,0,0,"dsp br micro cap fund rp","MDS076","Mid and Small-Cap",null,null,null,null,null,null,null,null,null,null,null,{"$f":"IFERROR(VLOOKUP(ROWS($AE$2:AE110),P110:Q2013,2,0),\"\")","v":""},null,null,null,null,{"$f":"IFERROR(VLOOKUP(ROWS($AJ$2:AJ110),O110:Q2013,3,0),\"\")","v":""},null,{"$f":"IFERROR(VLOOKUP(ROWS(AL$2:$AL110),N110:Q2013,4,0),\"\")","v":""}]
[null,null,null,null,null,null,null,null,null,null,null,null,null,0,0,0,"dsp br small mid cap rp","MDS056","Mid and Small-Cap",null,null,null,null,null,null,null,null,null,null,null,{"$f":"IFERROR(VLOOKUP(ROWS($AE$2:AE111),P111:Q2014,2,0),\"\")","v":""},null,null,null,null,{"$f":"IFERROR(VLOOKUP(ROWS($AJ$2:AJ111),O111:Q2014,3,0),\"\")","v":""},null,{"$f":"IFERROR(VLOOKUP(ROWS(AL$2:$AL111),N111:Q2014,4,0),\"\")","v":""}]
[null,null,null,null,null,null,null,null,null,null,null,null,null,0,0,0,"edelweiss select midcap fund","MEW063","Mid and Small-Cap",null,null,null,null,null,null,null,null,null,null,null,{"$f":"IFERROR(VLOOKUP(ROWS($AE$2:AE112),P112:Q2015,2,0),\"\")","v":""},null,null,null,null,{"$f":"IFERROR(VLOOKUP(ROWS($AJ$2:AJ112),O112:Q2015,3,0),\"\")","v":""},null,{"$f":"IFERROR(VLOOKUP(ROWS(AL$2:$AL112),N112:Q2015,4,0),\"\")","v":""}]
[null,null,null,null,null,null,null,null,null,null,null,null,null,0,0,0,"franklin india prima fund","MKP002","Mid and Small-Cap",null,null,null,null,null,null,null,null,null,null,null,{"$f":"IFERROR(VLOOKUP(ROWS($AE$2:AE113),P113:Q2016,2,0),\"\")","v":""},null,null,null,null,{"$f":"IFERROR(VLOOKUP(ROWS($AJ$2:AJ113),O113:Q2016,3,0),\"\")","v":""},null,{"$f":"IFERROR(VLOOKUP(ROWS(AL$2:$AL113),N113:Q2016,4,0),\"\")","v":""}]
[null,null,null,null,null,null,null,null,null,null,null,null,null,0,0,0,"franklin i smaller cos","MTE090","Mid and Small-Cap",null,null,null,null,null,null,null,null,null,null,null,{"$f":"IFERROR(VLOOKUP(ROWS($AE$2:AE114),P114:Q2017,2,0),\"\")","v":""},null,null,null,null,{"$f":"IFERROR(VLOOKUP(ROWS($AJ$2:AJ114),O114:Q2017,3,0),\"\")","v":""},null,{"$f":"IFERROR(VLOOKUP(ROWS(AL$2:$AL114),N114:Q2017,4,0),\"\")","v":""}]
[null,null,null,null,null,null,null,null,null,null,null,null,null,0,0,0,"hdfc midcap opportunities","MHD068","Mid and Small-Cap",null,null,null,null,null,null,null,null,null,null,null,{"$f":"IFERROR(VLOOKUP(ROWS($AE$2:AE115),P115:Q2018,2,0),\"\")","v":""},null,null,null,null,{"$f":"IFERROR(VLOOKUP(ROWS($AJ$2:AJ115),O115:Q2018,3,0),\"\")","v":""},null,{"$f":"IFERROR(VLOOKUP(ROWS(AL$2:$AL115),N115:Q2018,4,0),\"\")","v":""}]
[null,null,null,null,null,null,null,null,null,null,null,null,null,0,0,0,"hsbc midcap equity fund","MHS048","Mid and Small-Cap",null,null,null,null,null,null,null,null,null,null,null,{"$f":"IFERROR(VLOOKUP(ROWS($AE$2:AE116),P116:Q2019,2,0),\"\")","v":""},null,null,null,null,{"$f":"IFERROR(VLOOKUP(ROWS($AJ$2:AJ116),O116:Q2019,3,0),\"\")","v":""},null,{"$f":"IFERROR(VLOOKUP(ROWS(AL$2:$AL116),N116:Q2019,4,0),\"\")","v":""}]
[null,null,null,null,null,null,null,null,null,null,null,null,null,0,0,0,"icici pru midcap fund","MPI089","Mid and Small-Cap",null,null,null,null,null,null,null,null,null,null,null,{"$f":"IFERROR(VLOOKUP(ROWS($AE$2:AE117),P117:Q2020,2,0),\"\")","v":""},null,null,null,null,{"$f":"IFERROR(VLOOKUP(ROWS($AJ$2:AJ117),O117:Q2020,3,0),\"\")","v":""},null,{"$f":"IFERROR(VLOOKUP(ROWS(AL$2:$AL117),N117:Q2020,4,0),\"\")","v":""}]
[null,null,null,null,null,null,null,null,null,null,null,null,null,0,0,0,"icici pru midcap fund inst i","MPI139","Mid and Small-Cap",null,null,null,null,null,null,null,null,null,null,null,{"$f":"IFERROR(VLOOKUP(ROWS($AE$2:AE118),P118:Q2021,2,0),\"\")","v":""},null,null,null,null,{"$f":"IFERROR(VLOOKUP(ROWS($AJ$2:AJ118),O118:Q2021,3,0),\"\")","v":""},null,{"$f":"IFERROR(VLOOKUP(ROWS(AL$2:$AL118),N118:Q2021,4,0),\"\")","v":""}]
[null,null,null,null,null,null,null,null,null,null,null,null,null,0,0,0,"idfc premier equity b","MAG338","Mid and Small-Cap",null,null,null,null,null,null,null,null,null,null,null,{"$f":"IFERROR(VLOOKUP(ROWS($AE$2:AE119),P119:Q2022,2,0),\"\")","v":""},null,null,null,null,{"$f":"IFERROR(VLOOKUP(ROWS($AJ$2:AJ119),O119:Q2022,3,0),\"\")","v":""},null,{"$f":"IFERROR(VLOOKUP(ROWS(AL$2:$AL119),N119:Q2022,4,0),\"\")","v":""}]
[null,null,null,null,null,null,null,null,null,null,null,null,null,0,0,0,"idfc premier equity regular","MAG094","Mid and Small-Cap",null,null,null,null,null,null,null,null,null,null,null,{"$f":"IFERROR(VLOOKUP(ROWS($AE$2:AE120),P120:Q2023,2,0),\"\")","v":""},null,null,null,null,{"$f":"IFERROR(VLOOKUP(ROWS($AJ$2:AJ120),O120:Q2023,3,0),\"\")","v":""},null,{"$f":"IFERROR(VLOOKUP(ROWS(AL$2:$AL120),N120:Q2023,4,0),\"\")","v":""}]
[null,null,null,null,null,null,null,null,null,null,null,null,null,0,0,0,"idfc sterling equity fund g","MAG162","Mid and Small-Cap",null,null,null,null,null,null,null,null,null,null,null,{"$f":"IFERROR(VLOOKUP(ROWS($AE$2:AE121),P121:Q2024,2,0),\"\")","v":""},null,null,null,null,{"$f":"IFERROR(VLOOKUP(ROWS($AJ$2:AJ121),O121:Q2024,3,0),\"\")","v":""},null,{"$f":"IFERROR(VLOOKUP(ROWS(AL$2:$AL121),N121:Q2024,4,0),\"\")","v":""}]
[null,null,null,null,null,null,null,null,null,null,null,null,null,0,0,0,"jpmorgan i mid and small cap","MJP007","Mid and Small-Cap",null,null,null,null,null,null,null,null,null,null,null,{"$f":"IFERROR(VLOOKUP(ROWS($AE$2:AE122),P122:Q2025,2,0),\"\")","v":""},null,null,null,null,{"$f":"IFERROR(VLOOKUP(ROWS($AJ$2:AJ122),O122:Q2025,3,0),\"\")","v":""},null,{"$f":"IFERROR(VLOOKUP(ROWS(AL$2:$AL122),N122:Q2025,4,0),\"\")","v":""}]
[null,null,null,null,null,null,null,null,null,null,null,null,null,0,0,0,"jpmorgan i mid and small cap dp","MJP117","Mid and Small-Cap",null,null,null,null,null,null,null,null,null,null,null,{"$f":"IFERROR(VLOOKUP(ROWS($AE$2:AE123),P123:Q2026,2,0),\"\")","v":""},null,null,null,null,{"$f":"IFERROR(VLOOKUP(ROWS($AJ$2:AJ123),O123:Q2026,3,0),\"\")","v":""},null,{"$f":"IFERROR(VLOOKUP(ROWS(AL$2:$AL123),N123:Q2026,4,0),\"\")","v":""}]
[null,null,null,null,null,null,null,null,null,null,null,null,null,0,0,0,"kotak emerging equity regular","MKM099","Mid and Small-Cap",null,null,null,null,null,null,null,null,null,null,null,{"$f":"IFERROR(VLOOKUP(ROWS($AE$2:AE124),P124:Q2027,2,0),\"\")","v":""},null,null,null,null,{"$f":"IFERROR(VLOOKUP(ROWS($AJ$2:AJ124),O124:Q2027,3,0),\"\")","v":""},null,{"$f":"IFERROR(VLOOKUP(ROWS(AL$2:$AL124),N124:Q2027,4,0),\"\")","v":""}]
[null,null,null,null,null,null,null,null,null,null,null,null,null,0,0,0,"kotak mid cap fund regular","MKM073","Mid and Small-Cap",null,null,null,null,null,null,null,null,null,null,null,{"$f":"IFERROR(VLOOKUP(ROWS($AE$2:AE125),P125:Q2028,2,0),\"\")","v":""},null,null,null,null,{"$f":"IFERROR(VLOOKUP(ROWS($AJ$2:AJ125),O125:Q2028,3,0),\"\")","v":""},null,{"$f":"IFERROR(VLOOKUP(ROWS(AL$2:$AL125),N125:Q2028,4,0),\"\")","v":""}]
[null,null,null,null,null,null,null,null,null,null,null,null,null,0,0,0,"l t emerging businesses fund dp","MCC492","Mid and Small-Cap",null,null,null,null,null,null,null,null,null,null,null,{"$f":"IFERROR(VLOOKUP(ROWS($AE$2:AE126),P126:Q2029,2,0),\"\")","v":""},null,null,null,null,{"$f":"IFERROR(VLOOKUP(ROWS($AJ$2:AJ126),O126:Q2029,3,0),\"\")","v":""},null,{"$f":"IFERROR(VLOOKUP(ROWS(AL$2:$AL126),N126:Q2029,4,0),\"\")","v":""}]
[null,null,null,null,null,null,null,null,null,null,null,null,null,0,0,0,"l t emerging businesses fund rp","MCC490","Mid and Small-Cap",null,null,null,null,null,null,null,null,null,null,null,{"$f":"IFERROR(VLOOKUP(ROWS($AE$2:AE127),P127:Q2030,2,0),\"\")","v":""},null,null,null,null,{"$f":"IFERROR(VLOOKUP(ROWS($AJ$2:AJ127),O127:Q2030,3,0),\"\")","v":""},null,{"$f":"IFERROR(VLOOKUP(ROWS(AL$2:$AL127),N127:Q2030,4,0),\"\")","v":""}]
[null,null,null,null,null,null,null,null,null,null,null,null,null,0,0,0,"l t midcap fund","MCC037","Mid and Small-Cap",null,null,null,null,null,null,null,null,null,null,null,{"$f":"IFERROR(VLOOKUP(ROWS($AE$2:AE128),P128:Q2031,2,0),\"\")","v":""},null,null,null,null,{"$f":"IFERROR(VLOOKUP(ROWS($AJ$2:AJ128),O128:Q2031,3,0),\"\")","v":""},null,{"$f":"IFERROR(VLOOKUP(ROWS(AL$2:$AL128),N128:Q2031,4,0),\"\")","v":""}]
[null,null,null,null,null,null,null,null,null,null,null,null,null,0,0,0,"mirae emerging bluechip fund","MMA088","Mid and Small-Cap",null,null,null,null,null,null,null,null,null,null,null,{"$f":"IFERROR(VLOOKUP(ROWS($AE$2:AE129),P129:Q2032,2,0),\"\")","v":""},null,null,null,null,{"$f":"IFERROR(VLOOKUP(ROWS($AJ$2:AJ129),O129:Q2032,3,0),\"\")","v":""},null,{"$f":"IFERROR(VLOOKUP(ROWS(AL$2:$AL129),N129:Q2032,4,0),\"\")","v":""}]
[null,null,null,null,null,null,null,null,null,null,null,null,null,0,0,{"$f":"IF(ISNUMBER(SEARCH($H$6,Q130)),MAX($P$1,P129)+1,0)","v":0},"motilal focused midcap 30 dp","MMO027","Mid and Small-Cap",null,null,null,null,null,null,null,null,null,null,null,{"$f":"IFERROR(VLOOKUP(ROWS($AE$2:AE130),P130:Q2033,2,0),\"\")","v":""},null,null,null,null,{"$f":"IFERROR(VLOOKUP(ROWS($AJ$2:AJ130),O130:Q2033,3,0),\"\")","v":""},null,{"$f":"IFERROR(VLOOKUP(ROWS(AL$2:$AL130),N130:Q2033,4,0),\"\")","v":""}]
[null,null,null,null,null,null,null,null,null,null,null,null,null,{"$f":"IF(ISNUMBER(SEARCH($H$16,Q131)),MAX($N$1,N130)+1,0)","v":0},{"$f":"IF(ISNUMBER(SEARCH($H$11,Q131)),MAX($O$1,O130)+1,0)","v":0},0,"motilal focused midcap 30 rp","MMO025","Mid and Small-Cap",null,null,null,null,null,null,null,null,null,null,null,{"$f":"IFERROR(VLOOKUP(ROWS($AE$2:AE131),P131:Q2034,2,0),\"\")","v":""},null,null,null,null,{"$f":"IFERROR(VLOOKUP(ROWS($AJ$2:AJ131),O131:Q2034,3,0),\"\")","v":""},null,{"$f":"IFERROR(VLOOKUP(ROWS(AL$2:$AL131),N131:Q2034,4,0),\"\")","v":""}]
[null,null,null,null,null,null,null,null,null,null,null,null,null,0,0,0,"motilal most shares midcap 100 etf","MMO002","Mid and Small-Cap",null,null,null,null,null,null,null,null,null,null,null,{"$f":"IFERROR(VLOOKUP(ROWS($AE$2:AE132),P132:Q2035,2,0),\"\")","v":""},null,null,null,null,{"$f":"IFERROR(VLOOKUP(ROWS($AJ$2:AJ132),O132:Q2035,3,0),\"\")","v":""},null,{"$f":"IFERROR(VLOOKUP(ROWS(AL$2:$AL132),N132:Q2035,4,0),\"\")","v":""}]
[null,null,null,null,null,null,null,null,null,null,null,null,null,0,0,0,"pramerica midcap opp fund dir","MPA139","Mid and Small-Cap",null,null,null,null,null,null,null,null,null,null,null,{"$f":"IFERROR(VLOOKUP(ROWS($AE$2:AE133),P133:Q2036,2,0),\"\")","v":""},null,null,null,null,{"$f":"IFERROR(VLOOKUP(ROWS($AJ$2:AJ133),O133:Q2036,3,0),\"\")","v":""},null,{"$f":"IFERROR(VLOOKUP(ROWS(AL$2:$AL133),N133:Q2036,4,0),\"\")","v":""}]
[null,null,null,null,null,null,null,null,null,null,null,null,null,0,0,0,"pramerica midcap opp fund reg","MPA137","Mid and Small-Cap",null,null,null,null,null,null,null,null,null,null,null,{"$f":"IFERROR(VLOOKUP(ROWS($AE$2:AE134),P134:Q2037,2,0),\"\")","v":""},null,null,null,null,{"$f":"IFERROR(VLOOKUP(ROWS($AJ$2:AJ134),O134:Q2037,3,0),\"\")","v":""},null,{"$f":"IFERROR(VLOOKUP(ROWS(AL$2:$AL134),N134:Q2037,4,0),\"\")","v":""}]
[null,null,null,null,null,null,null,null,null,null,null,null,null,0,0,0,"principal emerging bluechip","MID221","Mid and Small-Cap",null,null,null,null,null,null,null,null,null,null,null,{"$f":"IFERROR(VLOOKUP(ROWS($AE$2:AE135),P135:Q2038,2,0),\"\")","v":""},null,null,null,null,{"$f":"IFERROR(VLOOKUP(ROWS($AJ$2:AJ135),O135:Q2038,3,0),\"\")","v":""},null,{"$f":"IFERROR(VLOOKUP(ROWS(AL$2:$AL135),N135:Q2038,4,0),\"\")","v":""}]
[null,null,null,null,null,null,null,null,null,null,null,null,null,0,0,0,"reliance mid small cap fund","MRC110","Mid and Small-Cap",null,null,null,null,null,null,null,null,null,null,null,{"$f":"IFERROR(VLOOKUP(ROWS($AE$2:AE136),P136:Q2039,2,0),\"\")","v":""},null,null,null,null,{"$f":"IFERROR(VLOOKUP(ROWS($AJ$2:AJ136),O136:Q2039,3,0),\"\")","v":""},null,{"$f":"IFERROR(VLOOKUP(ROWS(AL$2:$AL136),N136:Q2039,4,0),\"\")","v":""}]
[null,null,null,null,null,null,null,null,null,null,null,null,null,0,0,0,"reliance small cap fund","MRC587","Mid and Small-Cap",null,null,null,null,null,null,null,null,null,null,null,{"$f":"IFERROR(VLOOKUP(ROWS($AE$2:AE137),P137:Q2040,2,0),\"\")","v":""},null,null,null,null,{"$f":"IFERROR(VLOOKUP(ROWS($AJ$2:AJ137),O137:Q2040,3,0),\"\")","v":""},null,{"$f":"IFERROR(VLOOKUP(ROWS(AL$2:$AL137),N137:Q2040,4,0),\"\")","v":""}]
[null,null,null,null,null,null,null,null,null,null,null,null,null,0,0,0,"religare invesco mid cap","MLI021","Mid and Small-Cap",null,null,null,null,null,null,null,null,null,null,null,{"$f":"IFERROR(VLOOKUP(ROWS($AE$2:AE138),P138:Q2041,2,0),\"\")","v":""},null,null,null,null,{"$f":"IFERROR(VLOOKUP(ROWS($AJ$2:AJ138),O138:Q2041,3,0),\"\")","v":""},null,{"$f":"IFERROR(VLOOKUP(ROWS(AL$2:$AL138),N138:Q2041,4,0),\"\")","v":""}]
[null,null,null,null,null,null,null,null,null,null,null,null,null,0,0,0,"religare invesco mid n smallcap","MLI183","Mid and Small-Cap",null,null,null,null,null,null,null,null,null,null,null,{"$f":"IFERROR(VLOOKUP(ROWS($AE$2:AE139),P139:Q2042,2,0),\"\")","v":""},null,null,null,null,{"$f":"IFERROR(VLOOKUP(ROWS($AJ$2:AJ139),O139:Q2042,3,0),\"\")","v":""},null,{"$f":"IFERROR(VLOOKUP(ROWS(AL$2:$AL139),N139:Q2042,4,0),\"\")","v":""}]
[null,null,null,null,null,null,null,null,null,null,null,null,null,0,0,0,"religare invesco mid n small dp","MLI554","Mid and Small-Cap",null,null,null,null,null,null,null,null,null,null,null,{"$f":"IFERROR(VLOOKUP(ROWS($AE$2:AE140),P140:Q2043,2,0),\"\")","v":""},null,null,null,null,{"$f":"IFERROR(VLOOKUP(ROWS($AJ$2:AJ140),O140:Q2043,3,0),\"\")","v":""},null,{"$f":"IFERROR(VLOOKUP(ROWS(AL$2:$AL140),N140:Q2043,4,0),\"\")","v":""}]
[null,null,null,null,null,null,null,null,null,null,null,null,null,0,0,0,"sahara midcap fund","MFI013","Mid and Small-Cap",null,null,null,null,null,null,null,null,null,null,null,{"$f":"IFERROR(VLOOKUP(ROWS($AE$2:AE141),P141:Q2044,2,0),\"\")","v":""},null,null,null,null,{"$f":"IFERROR(VLOOKUP(ROWS($AJ$2:AJ141),O141:Q2044,3,0),\"\")","v":""},null,{"$f":"IFERROR(VLOOKUP(ROWS(AL$2:$AL141),N141:Q2044,4,0),\"\")","v":""}]
[null,null,null,null,null,null,null,null,null,null,null,null,null,0,0,0,"sahara star value fund","MFI061","Mid and Small-Cap",null,null,null,null,null,null,null,null,null,null,null,{"$f":"IFERROR(VLOOKUP(ROWS($AE$2:AE142),P142:Q2045,2,0),\"\")","v":""},null,null,null,null,{"$f":"IFERROR(VLOOKUP(ROWS($AJ$2:AJ142),O142:Q2045,3,0),\"\")","v":""},null,{"$f":"IFERROR(VLOOKUP(ROWS(AL$2:$AL142),N142:Q2045,4,0),\"\")","v":""}]
[null,null,null,null,null,null,null,null,null,null,null,null,null,0,0,0,"sahara wealth plus fpo","MFI017","Mid and Small-Cap",null,null,null,null,null,null,null,null,null,null,null,{"$f":"IFERROR(VLOOKUP(ROWS($AE$2:AE143),P143:Q2046,2,0),\"\")","v":""},null,null,null,null,{"$f":"IFERROR(VLOOKUP(ROWS($AJ$2:AJ143),O143:Q2046,3,0),\"\")","v":""},null,{"$f":"IFERROR(VLOOKUP(ROWS(AL$2:$AL143),N143:Q2046,4,0),\"\")","v":""}]
[null,null,null,null,null,null,null,null,null,null,null,null,null,0,0,0,"sahara wealth plus vpo","MFI019","Mid and Small-Cap",null,null,null,null,null,null,null,null,null,null,null,{"$f":"IFERROR(VLOOKUP(ROWS($AE$2:AE144),P144:Q2047,2,0),\"\")","v":""},null,null,null,null,{"$f":"IFERROR(VLOOKUP(ROWS($AJ$2:AJ144),O144:Q2047,3,0),\"\")","v":""},null,{"$f":"IFERROR(VLOOKUP(ROWS(AL$2:$AL144),N144:Q2047,4,0),\"\")","v":""}]
[null,null,null,null,null,null,null,null,null,null,null,null,null,0,0,0,"sbi emerging busi","MSB059","Mid and Small-Cap",null,null,null,null,null,null,null,null,null,null,null,{"$f":"IFERROR(VLOOKUP(ROWS($AE$2:AE145),P145:Q2048,2,0),\"\")","v":""},null,null,null,null,{"$f":"IFERROR(VLOOKUP(ROWS($AJ$2:AJ145),O145:Q2048,3,0),\"\")","v":""},null,{"$f":"IFERROR(VLOOKUP(ROWS(AL$2:$AL145),N145:Q2048,4,0),\"\")","v":""}]
[null,null,null,null,null,null,null,null,null,null,null,null,null,0,0,0,"sbi magnum global fund","MSB011","Mid and Small-Cap",null,null,null,null,null,null,null,null,null,null,null,{"$f":"IFERROR(VLOOKUP(ROWS($AE$2:AE146),P146:Q2049,2,0),\"\")","v":""},null,null,null,null,{"$f":"IFERROR(VLOOKUP(ROWS($AJ$2:AJ146),O146:Q2049,3,0),\"\")","v":""},null,{"$f":"IFERROR(VLOOKUP(ROWS(AL$2:$AL146),N146:Q2049,4,0),\"\")","v":""}]
[null,null,null,null,null,null,null,null,null,null,null,null,null,0,0,0,"sbi magnum midcap fund","MSB065","Mid and Small-Cap",null,null,null,null,null,null,null,null,null,null,null,{"$f":"IFERROR(VLOOKUP(ROWS($AE$2:AE147),P147:Q2050,2,0),\"\")","v":""},null,null,null,null,{"$f":"IFERROR(VLOOKUP(ROWS($AJ$2:AJ147),O147:Q2050,3,0),\"\")","v":""},null,{"$f":"IFERROR(VLOOKUP(ROWS(AL$2:$AL147),N147:Q2050,4,0),\"\")","v":""}]
[null,null,null,null,null,null,null,null,null,null,null,null,null,0,0,0,"sbi small midcap fund","MSA012","Mid and Small-Cap",null,null,null,null,null,null,null,null,null,null,null,{"$f":"IFERROR(VLOOKUP(ROWS($AE$2:AE148),P148:Q2051,2,0),\"\")","v":""},null,null,null,null,{"$f":"IFERROR(VLOOKUP(ROWS($AJ$2:AJ148),O148:Q2051,3,0),\"\")","v":""},null,{"$f":"IFERROR(VLOOKUP(ROWS(AL$2:$AL148),N148:Q2051,4,0),\"\")","v":""}]
[null,null,null,null,null,null,null,null,null,null,null,null,null,0,0,0,"sundaram select micro cap sr 1 dp g","MSN797","Mid and Small-Cap",null,null,null,null,null,null,null,null,null,null,null,{"$f":"IFERROR(VLOOKUP(ROWS($AE$2:AE149),P149:Q2052,2,0),\"\")","v":""},null,null,null,null,{"$f":"IFERROR(VLOOKUP(ROWS($AJ$2:AJ149),O149:Q2052,3,0),\"\")","v":""},null,{"$f":"IFERROR(VLOOKUP(ROWS(AL$2:$AL149),N149:Q2052,4,0),\"\")","v":""}]
[null,null,null,null,null,null,null,null,null,null,null,null,null,0,0,0,"sundaram select micro cap sr 1 rp g","MSN795","Mid and Small-Cap",null,null,null,null,null,null,null,null,null,null,null,{"$f":"IFERROR(VLOOKUP(ROWS($AE$2:AE150),P150:Q2053,2,0),\"\")","v":""},null,null,null,null,{"$f":"IFERROR(VLOOKUP(ROWS($AJ$2:AJ150),O150:Q2053,3,0),\"\")","v":""},null,{"$f":"IFERROR(VLOOKUP(ROWS(AL$2:$AL150),N150:Q2053,4,0),\"\")","v":""}]
[null,null,null,null,null,null,null,null,null,null,null,null,null,0,0,0,"sundaram select micro cap sr 2 dp g","MSN839","Mid and Small-Cap",null,null,null,null,null,null,null,null,null,null,null,{"$f":"IFERROR(VLOOKUP(ROWS($AE$2:AE151),P151:Q2054,2,0),\"\")","v":""},null,null,null,null,{"$f":"IFERROR(VLOOKUP(ROWS($AJ$2:AJ151),O151:Q2054,3,0),\"\")","v":""},null,{"$f":"IFERROR(VLOOKUP(ROWS(AL$2:$AL151),N151:Q2054,4,0),\"\")","v":""}]
[null,null,null,null,null,null,null,null,null,null,null,null,null,0,0,0,"sundaram select micro cap sr 2 rp g","MSN837","Mid and Small-Cap",null,null,null,null,null,null,null,null,null,null,null,{"$f":"IFERROR(VLOOKUP(ROWS($AE$2:AE152),P152:Q2055,2,0),\"\")","v":""},null,null,null,null,{"$f":"IFERROR(VLOOKUP(ROWS($AJ$2:AJ152),O152:Q2055,3,0),\"\")","v":""},null,{"$f":"IFERROR(VLOOKUP(ROWS(AL$2:$AL152),N152:Q2055,4,0),\"\")","v":""}]
[null,null,null,null,null,null,null,null,null,null,null,null,null,0,0,0,"sundaram select micro cap sr 3 dp g","MSN843","Mid and Small-Cap",null,null,null,null,null,null,null,null,null,null,null,{"$f":"IFERROR(VLOOKUP(ROWS($AE$2:AE153),P153:Q2056,2,0),\"\")","v":""},null,null,null,null,{"$f":"IFERROR(VLOOKUP(ROWS($AJ$2:AJ153),O153:Q2056,3,0),\"\")","v":""},null,{"$f":"IFERROR(VLOOKUP(ROWS(AL$2:$AL153),N153:Q2056,4,0),\"\")","v":""}]
[null,null,null,null,null,null,null,null,null,null,null,null,null,0,0,0,"sundaram select micro cap sr 3 rp g","MSN841","Mid and Small-Cap",null,null,null,null,null,null,null,null,null,null,null,{"$f":"IFERROR(VLOOKUP(ROWS($AE$2:AE154),P154:Q2057,2,0),\"\")","v":""},null,null,null,null,{"$f":"IFERROR(VLOOKUP(ROWS($AJ$2:AJ154),O154:Q2057,3,0),\"\")","v":""},null,{"$f":"IFERROR(VLOOKUP(ROWS(AL$2:$AL154),N154:Q2057,4,0),\"\")","v":""}]
[null,null,null,null,null,null,null,null,null,null,null,null,null,0,0,0,"sundaram select micro cap sr 4 dp g","MSN869","Mid and Small-Cap",null,null,null,null,null,null,null,null,null,null,null,{"$f":"IFERROR(VLOOKUP(ROWS($AE$2:AE155),P155:Q2058,2,0),\"\")","v":""},null,null,null,null,{"$f":"IFERROR(VLOOKUP(ROWS($AJ$2:AJ155),O155:Q2058,3,0),\"\")","v":""},null,{"$f":"IFERROR(VLOOKUP(ROWS(AL$2:$AL155),N155:Q2058,4,0),\"\")","v":""}]
[null,null,null,null,null,null,null,null,null,null,null,null,null,0,0,0,"sundaram select micro cap sr 4 rp g","MSN867","Mid and Small-Cap",null,null,null,null,null,null,null,null,null,null,null,{"$f":"IFERROR(VLOOKUP(ROWS($AE$2:AE156),P156:Q2059,2,0),\"\")","v":""},null,null,null,null,{"$f":"IFERROR(VLOOKUP(ROWS($AJ$2:AJ156),O156:Q2059,3,0),\"\")","v":""},null,{"$f":"IFERROR(VLOOKUP(ROWS(AL$2:$AL156),N156:Q2059,4,0),\"\")","v":""}]
[null,null,null,null,null,null,null,null,null,null,null,null,null,0,0,0,"sundaram select micro cap sr 5 dp g","MSN1037","Mid and Small-Cap",null,null,null,null,null,null,null,null,null,null,null,{"$f":"IFERROR(VLOOKUP(ROWS($AE$2:AE157),P157:Q2060,2,0),\"\")","v":""},null,null,null,null,{"$f":"IFERROR(VLOOKUP(ROWS($AJ$2:AJ157),O157:Q2060,3,0),\"\")","v":""},null,{"$f":"IFERROR(VLOOKUP(ROWS(AL$2:$AL157),N157:Q2060,4,0),\"\")","v":""}]
[null,null,null,null,null,null,null,null,null,null,null,null,null,0,0,0,"sundaram select micro cap sr 5 rp g","MSN1035","Mid and Small-Cap",null,null,null,null,null,null,null,null,null,null,null,{"$f":"IFERROR(VLOOKUP(ROWS($AE$2:AE158),P158:Q2061,2,0),\"\")","v":""},null,null,null,null,{"$f":"IFERROR(VLOOKUP(ROWS($AJ$2:AJ158),O158:Q2061,3,0),\"\")","v":""},null,{"$f":"IFERROR(VLOOKUP(ROWS(AL$2:$AL158),N158:Q2061,4,0),\"\")","v":""}]
[null,null,null,null,null,null,null,null,null,null,null,null,null,0,0,0,"sundaram select midcap ip","MSN335","Mid and Small-Cap",null,null,null,null,null,null,null,null,null,null,null,{"$f":"IFERROR(VLOOKUP(ROWS($AE$2:AE159),P159:Q2062,2,0),\"\")","v":""},null,null,null,null,{"$f":"IFERROR(VLOOKUP(ROWS($AJ$2:AJ159),O159:Q2062,3,0),\"\")","v":""},null,{"$f":"IFERROR(VLOOKUP(ROWS(AL$2:$AL159),N159:Q2062,4,0),\"\")","v":""}]
[null,null,null,null,null,null,null,null,null,null,null,null,null,0,0,0,"sundaram select midcap rp","MSN012","Mid and Small-Cap",null,null,null,null,null,null,null,null,null,null,null,{"$f":"IFERROR(VLOOKUP(ROWS($AE$2:AE160),P160:Q2063,2,0),\"\")","v":""},null,null,null,null,{"$f":"IFERROR(VLOOKUP(ROWS($AJ$2:AJ160),O160:Q2063,3,0),\"\")","v":""},null,{"$f":"IFERROR(VLOOKUP(ROWS(AL$2:$AL160),N160:Q2063,4,0),\"\")","v":""}]
[null,null,null,null,null,null,null,null,null,null,null,null,null,0,0,0,"sundaram smile fund","MSN066","Mid and Small-Cap",null,null,null,null,null,null,null,null,null,null,null,{"$f":"IFERROR(VLOOKUP(ROWS($AE$2:AE161),P161:Q2064,2,0),\"\")","v":""},null,null,null,null,{"$f":"IFERROR(VLOOKUP(ROWS($AJ$2:AJ161),O161:Q2064,3,0),\"\")","v":""},null,{"$f":"IFERROR(VLOOKUP(ROWS(AL$2:$AL161),N161:Q2064,4,0),\"\")","v":""}]
[null,null,null,null,null,null,null,null,null,null,null,null,null,0,0,0,"sundaram smile fund ip","MSN339","Mid and Small-Cap",null,null,null,null,null,null,null,null,null,null,null,{"$f":"IFERROR(VLOOKUP(ROWS($AE$2:AE162),P162:Q2065,2,0),\"\")","v":""},null,null,null,null,{"$f":"IFERROR(VLOOKUP(ROWS($AJ$2:AJ162),O162:Q2065,3,0),\"\")","v":""},null,{"$f":"IFERROR(VLOOKUP(ROWS(AL$2:$AL162),N162:Q2065,4,0),\"\")","v":""}]
[null,null,null,null,null,null,null,null,null,null,null,null,null,0,0,0,"tata mid cap growth fund","MTA122","Mid and Small-Cap",null,null,null,null,null,null,null,null,null,null,null,{"$f":"IFERROR(VLOOKUP(ROWS($AE$2:AE163),P163:Q2066,2,0),\"\")","v":""},null,null,null,null,{"$f":"IFERROR(VLOOKUP(ROWS($AJ$2:AJ163),O163:Q2066,3,0),\"\")","v":""},null,{"$f":"IFERROR(VLOOKUP(ROWS(AL$2:$AL163),N163:Q2066,4,0),\"\")","v":""}]
[null,null,null,null,null,null,null,null,null,null,null,null,null,0,0,0,"taurus discovery fund","MCM041","Mid and Small-Cap",null,null,null,null,null,null,null,null,null,null,null,{"$f":"IFERROR(VLOOKUP(ROWS($AE$2:AE164),P164:Q2067,2,0),\"\")","v":""},null,null,null,null,{"$f":"IFERROR(VLOOKUP(ROWS($AJ$2:AJ164),O164:Q2067,3,0),\"\")","v":""},null,{"$f":"IFERROR(VLOOKUP(ROWS(AL$2:$AL164),N164:Q2067,4,0),\"\")","v":""}]
[null,null,null,null,null,null,null,null,null,null,null,null,null,0,0,0,"templeton i equity income","MTE092","Mid and Small-Cap",null,null,null,null,null,null,null,null,null,null,null,{"$f":"IFERROR(VLOOKUP(ROWS($AE$2:AE165),P165:Q2068,2,0),\"\")","v":""},null,null,null,null,{"$f":"IFERROR(VLOOKUP(ROWS($AJ$2:AJ165),O165:Q2068,3,0),\"\")","v":""},null,{"$f":"IFERROR(VLOOKUP(ROWS(AL$2:$AL165),N165:Q2068,4,0),\"\")","v":""}]
[null,null,null,null,null,null,null,null,null,null,null,null,null,0,0,0,"templeton i equity income dir","MTE297","Mid and Small-Cap",null,null,null,null,null,null,null,null,null,null,null,{"$f":"IFERROR(VLOOKUP(ROWS($AE$2:AE166),P166:Q2069,2,0),\"\")","v":""},null,null,null,null,{"$f":"IFERROR(VLOOKUP(ROWS($AJ$2:AJ166),O166:Q2069,3,0),\"\")","v":""},null,{"$f":"IFERROR(VLOOKUP(ROWS(AL$2:$AL166),N166:Q2069,4,0),\"\")","v":""}]
[null,null,null,null,null,null,null,null,null,null,null,null,null,0,0,0,"ukbc small and mid cap fund rp","MUK089","Mid and Small-Cap",null,null,null,null,null,null,null,null,null,null,null,{"$f":"IFERROR(VLOOKUP(ROWS($AE$2:AE167),P167:Q2070,2,0),\"\")","v":""},null,null,null,null,{"$f":"IFERROR(VLOOKUP(ROWS($AJ$2:AJ167),O167:Q2070,3,0),\"\")","v":""},null,{"$f":"IFERROR(VLOOKUP(ROWS(AL$2:$AL167),N167:Q2070,4,0),\"\")","v":""}]
[null,null,null,null,null,null,null,null,null,null,null,null,null,0,0,0,"union kbc small mid cap dp","MUK091","Mid and Small-Cap",null,null,null,null,null,null,null,null,null,null,null,{"$f":"IFERROR(VLOOKUP(ROWS($AE$2:AE168),P168:Q2071,2,0),\"\")","v":""},null,null,null,null,{"$f":"IFERROR(VLOOKUP(ROWS($AJ$2:AJ168),O168:Q2071,3,0),\"\")","v":""},null,{"$f":"IFERROR(VLOOKUP(ROWS(AL$2:$AL168),N168:Q2071,4,0),\"\")","v":""}]
[null,null,null,null,null,null,null,null,null,null,null,null,null,0,0,0,"uti mid cap","MUT063","Mid and Small-Cap",null,null,null,null,null,null,null,null,null,null,null,{"$f":"IFERROR(VLOOKUP(ROWS($AE$2:AE169),P169:Q2072,2,0),\"\")","v":""},null,null,null,null,{"$f":"IFERROR(VLOOKUP(ROWS($AJ$2:AJ169),O169:Q2072,3,0),\"\")","v":""},null,{"$f":"IFERROR(VLOOKUP(ROWS(AL$2:$AL169),N169:Q2072,4,0),\"\")","v":""}]
[null,null,null,null,null,null,null,null,null,null,null,null,null,0,0,0,"axis equity fund","MAA009","Diversified equity",null,null,null,null,null,null,null,null,null,null,null,{"$f":"IFERROR(VLOOKUP(ROWS($AE$2:AE170),P170:Q2073,2,0),\"\")","v":""},null,null,null,null,{"$f":"IFERROR(VLOOKUP(ROWS($AJ$2:AJ170),O170:Q2073,3,0),\"\")","v":""},null,{"$f":"IFERROR(VLOOKUP(ROWS(AL$2:$AL170),N170:Q2073,4,0),\"\")","v":""}]
[null,null,null,null,null,null,null,null,null,null,null,null,null,0,0,0,"axis focused 25 fund","MAA169","Diversified equity",null,null,null,null,null,null,null,null,null,null,null,{"$f":"IFERROR(VLOOKUP(ROWS($AE$2:AE171),P171:Q2074,2,0),\"\")","v":""},null,null,null,null,{"$f":"IFERROR(VLOOKUP(ROWS($AJ$2:AJ171),O171:Q2074,3,0),\"\")","v":""},null,{"$f":"IFERROR(VLOOKUP(ROWS(AL$2:$AL171),N171:Q2074,4,0),\"\")","v":""}]
[null,null,null,null,null,null,null,null,null,null,null,null,null,0,0,0,"birla sl advantage fund","MBS022","Diversified equity",null,null,null,null,null,null,null,null,null,null,null,{"$f":"IFERROR(VLOOKUP(ROWS($AE$2:AE172),P172:Q2075,2,0),\"\")","v":""},null,null,null,null,{"$f":"IFERROR(VLOOKUP(ROWS($AJ$2:AJ172),O172:Q2075,3,0),\"\")","v":""},null,{"$f":"IFERROR(VLOOKUP(ROWS(AL$2:$AL172),N172:Q2075,4,0),\"\")","v":""}]
[null,null,null,null,null,null,null,null,null,null,null,null,null,0,0,0,"birla sl dividend yield","MBS030","Diversified equity",null,null,null,null,null,null,null,null,null,null,null,{"$f":"IFERROR(VLOOKUP(ROWS($AE$2:AE173),P173:Q2076,2,0),\"\")","v":""},null,null,null,null,{"$f":"IFERROR(VLOOKUP(ROWS($AJ$2:AJ173),O173:Q2076,3,0),\"\")","v":""},null,{"$f":"IFERROR(VLOOKUP(ROWS(AL$2:$AL173),N173:Q2076,4,0),\"\")","v":""}]
[null,null,null,null,null,null,null,null,null,null,null,null,null,0,0,0,"birla sl equity savings fund dp","MBS1975","Diversified equity",null,null,null,null,null,null,null,null,null,null,null,{"$f":"IFERROR(VLOOKUP(ROWS($AE$2:AE174),P174:Q2077,2,0),\"\")","v":""},null,null,null,null,{"$f":"IFERROR(VLOOKUP(ROWS($AJ$2:AJ174),O174:Q2077,3,0),\"\")","v":""},null,{"$f":"IFERROR(VLOOKUP(ROWS(AL$2:$AL174),N174:Q2077,4,0),\"\")","v":""}]
[null,null,null,null,null,null,null,null,null,null,null,null,null,0,0,0,"birla sl equity savings fund rp","MBS1973","Diversified equity",null,null,null,null,null,null,null,null,null,null,null,{"$f":"IFERROR(VLOOKUP(ROWS($AE$2:AE175),P175:Q2078,2,0),\"\")","v":""},null,null,null,null,{"$f":"IFERROR(VLOOKUP(ROWS($AJ$2:AJ175),O175:Q2078,3,0),\"\")","v":""},null,{"$f":"IFERROR(VLOOKUP(ROWS(AL$2:$AL175),N175:Q2078,4,0),\"\")","v":""}]
[null,null,null,null,null,null,null,null,null,null,null,null,null,0,0,0,"birla sl india gennext","MBS087","Diversified equity",null,null,null,null,null,null,null,null,null,null,null,{"$f":"IFERROR(VLOOKUP(ROWS($AE$2:AE176),P176:Q2079,2,0),\"\")","v":""},null,null,null,null,{"$f":"IFERROR(VLOOKUP(ROWS($AJ$2:AJ176),O176:Q2079,3,0),\"\")","v":""},null,{"$f":"IFERROR(VLOOKUP(ROWS(AL$2:$AL176),N176:Q2079,4,0),\"\")","v":""}]
[null,null,null,null,null,null,null,null,null,null,null,null,null,0,0,0,"birla sl intl equity b","MBS205","Diversified equity",null,null,null,null,null,null,null,null,null,null,null,{"$f":"IFERROR(VLOOKUP(ROWS($AE$2:AE177),P177:Q2080,2,0),\"\")","v":""},null,null,null,null,{"$f":"IFERROR(VLOOKUP(ROWS($AJ$2:AJ177),O177:Q2080,3,0),\"\")","v":""},null,{"$f":"IFERROR(VLOOKUP(ROWS(AL$2:$AL177),N177:Q2080,4,0),\"\")","v":""}]
[null,null,null,null,null,null,null,null,null,null,null,null,null,0,0,0,"birla sl i opportunities","MBS050","Diversified equity",null,null,null,null,null,null,null,null,null,null,null,{"$f":"IFERROR(VLOOKUP(ROWS($AE$2:AE178),P178:Q2081,2,0),\"\")","v":""},null,null,null,null,{"$f":"IFERROR(VLOOKUP(ROWS($AJ$2:AJ178),O178:Q2081,3,0),\"\")","v":""},null,{"$f":"IFERROR(VLOOKUP(ROWS(AL$2:$AL178),N178:Q2081,4,0),\"\")","v":""}]
[null,null,null,null,null,null,null,null,null,null,null,null,null,0,0,0,"birla sl long term advan ","MBS097","Diversified equity",null,null,null,null,null,null,null,null,null,null,null,{"$f":"IFERROR(VLOOKUP(ROWS($AE$2:AE179),P179:Q2082,2,0),\"\")","v":""},null,null,null,null,{"$f":"IFERROR(VLOOKUP(ROWS($AJ$2:AJ179),O179:Q2082,3,0),\"\")","v":""},null,{"$f":"IFERROR(VLOOKUP(ROWS(AL$2:$AL179),N179:Q2082,4,0),\"\")","v":""}]
[null,null,null,null,null,null,null,null,null,null,null,null,null,0,0,0,"birla sl manufacturing equity dp","MBS2001","Diversified equity",null,null,null,null,null,null,null,null,null,null,null,{"$f":"IFERROR(VLOOKUP(ROWS($AE$2:AE180),P180:Q2083,2,0),\"\")","v":""},null,null,null,null,{"$f":"IFERROR(VLOOKUP(ROWS($AJ$2:AJ180),O180:Q2083,3,0),\"\")","v":""},null,{"$f":"IFERROR(VLOOKUP(ROWS(AL$2:$AL180),N180:Q2083,4,0),\"\")","v":""}]
[null,null,null,null,null,null,null,null,null,null,null,null,null,0,0,0,"birla sl manufacturing equity rp","MBS1999","Diversified equity",null,null,null,null,null,null,null,null,null,null,null,{"$f":"IFERROR(VLOOKUP(ROWS($AE$2:AE181),P181:Q2084,2,0),\"\")","v":""},null,null,null,null,{"$f":"IFERROR(VLOOKUP(ROWS($AJ$2:AJ181),O181:Q2084,3,0),\"\")","v":""},null,{"$f":"IFERROR(VLOOKUP(ROWS(AL$2:$AL181),N181:Q2084,4,0),\"\")","v":""}]
[null,null,null,null,null,null,null,null,null,null,null,null,null,0,0,0,"birla sl special situations","MBS251","Diversified equity",null,null,null,null,null,null,null,null,null,null,null,{"$f":"IFERROR(VLOOKUP(ROWS($AE$2:AE182),P182:Q2085,2,0),\"\")","v":""},null,null,null,null,{"$f":"IFERROR(VLOOKUP(ROWS($AJ$2:AJ182),O182:Q2085,3,0),\"\")","v":""},null,{"$f":"IFERROR(VLOOKUP(ROWS(AL$2:$AL182),N182:Q2085,4,0),\"\")","v":""}]
[null,null,null,null,null,null,null,null,null,null,null,null,null,0,0,0,"birla sun life equity fund","MAC006","Diversified equity",null,null,null,null,null,null,null,null,null,null,null,{"$f":"IFERROR(VLOOKUP(ROWS($AE$2:AE183),P183:Q2086,2,0),\"\")","v":""},null,null,null,null,{"$f":"IFERROR(VLOOKUP(ROWS($AJ$2:AJ183),O183:Q2086,3,0),\"\")","v":""},null,{"$f":"IFERROR(VLOOKUP(ROWS(AL$2:$AL183),N183:Q2086,4,0),\"\")","v":""}]
[null,null,null,null,null,null,null,null,null,null,null,null,null,0,0,0,"bnp paribas dividend yield","MAB024","Diversified equity",null,null,null,null,null,null,null,null,null,null,null,{"$f":"IFERROR(VLOOKUP(ROWS($AE$2:AE184),P184:Q2087,2,0),\"\")","v":""},null,null,null,null,{"$f":"IFERROR(VLOOKUP(ROWS($AJ$2:AJ184),O184:Q2087,3,0),\"\")","v":""},null,{"$f":"IFERROR(VLOOKUP(ROWS(AL$2:$AL184),N184:Q2087,4,0),\"\")","v":""}]
[null,null,null,null,null,null,null,null,null,null,null,null,null,0,0,0,"bnp paribas dividend yield dir","MAB722","Diversified equity",null,null,null,null,null,null,null,null,null,null,null,{"$f":"IFERROR(VLOOKUP(ROWS($AE$2:AE185),P185:Q2088,2,0),\"\")","v":""},null,null,null,null,{"$f":"IFERROR(VLOOKUP(ROWS($AJ$2:AJ185),O185:Q2088,3,0),\"\")","v":""},null,{"$f":"IFERROR(VLOOKUP(ROWS(AL$2:$AL185),N185:Q2088,4,0),\"\")","v":""}]
[null,null,null,null,null,null,null,null,null,null,null,null,null,0,0,0,"bnp paribas equity fund","MAB001","Diversified equity",null,null,null,null,null,null,null,null,null,null,null,{"$f":"IFERROR(VLOOKUP(ROWS($AE$2:AE186),P186:Q2089,2,0),\"\")","v":""},null,null,null,null,{"$f":"IFERROR(VLOOKUP(ROWS($AJ$2:AJ186),O186:Q2089,3,0),\"\")","v":""},null,{"$f":"IFERROR(VLOOKUP(ROWS(AL$2:$AL186),N186:Q2089,4,0),\"\")","v":""}]
[null,null,null,null,null,null,null,null,null,null,null,null,null,0,0,0,"bnp paribas equity fund dir","MAB720","Diversified equity",null,null,null,null,null,null,null,null,null,null,null,{"$f":"IFERROR(VLOOKUP(ROWS($AE$2:AE187),P187:Q2090,2,0),\"\")","v":""},null,null,null,null,{"$f":"IFERROR(VLOOKUP(ROWS($AJ$2:AJ187),O187:Q2090,3,0),\"\")","v":""},null,{"$f":"IFERROR(VLOOKUP(ROWS(AL$2:$AL187),N187:Q2090,4,0),\"\")","v":""}]
[null,null,null,null,null,null,null,null,null,null,null,null,null,0,0,0,"can robeco equity divers","MCA022","Diversified equity",null,null,null,null,null,null,null,null,null,null,null,{"$f":"IFERROR(VLOOKUP(ROWS($AE$2:AE188),P188:Q2091,2,0),\"\")","v":""},null,null,null,null,{"$f":"IFERROR(VLOOKUP(ROWS($AJ$2:AJ188),O188:Q2091,3,0),\"\")","v":""},null,{"$f":"IFERROR(VLOOKUP(ROWS(AL$2:$AL188),N188:Q2091,4,0),\"\")","v":""}]
[null,null,null,null,null,null,null,null,null,null,null,null,null,0,0,0,"dsp br 3yrs close ended eqty dp","MDS1125","Diversified equity",null,null,null,null,null,null,null,null,null,null,null,{"$f":"IFERROR(VLOOKUP(ROWS($AE$2:AE189),P189:Q2092,2,0),\"\")","v":""},null,null,null,null,{"$f":"IFERROR(VLOOKUP(ROWS($AJ$2:AJ189),O189:Q2092,3,0),\"\")","v":""},null,{"$f":"IFERROR(VLOOKUP(ROWS(AL$2:$AL189),N189:Q2092,4,0),\"\")","v":""}]
[null,null,null,null,null,null,null,null,null,null,null,null,null,0,0,0,"dsp br 3yrs close ended eqty rp","MDS1123","Diversified equity",null,null,null,null,null,null,null,null,null,null,null,{"$f":"IFERROR(VLOOKUP(ROWS($AE$2:AE190),P190:Q2093,2,0),\"\")","v":""},null,null,null,null,{"$f":"IFERROR(VLOOKUP(ROWS($AJ$2:AJ190),O190:Q2093,3,0),\"\")","v":""},null,{"$f":"IFERROR(VLOOKUP(ROWS(AL$2:$AL190),N190:Q2093,4,0),\"\")","v":""}]
[null,null,null,null,null,null,null,null,null,null,null,null,null,0,0,0,"dsp br equity fund inst","MDS062","Diversified equity",null,null,null,null,null,null,null,null,null,null,null,{"$f":"IFERROR(VLOOKUP(ROWS($AE$2:AE191),P191:Q2094,2,0),\"\")","v":""},null,null,null,null,{"$f":"IFERROR(VLOOKUP(ROWS($AJ$2:AJ191),O191:Q2094,3,0),\"\")","v":""},null,{"$f":"IFERROR(VLOOKUP(ROWS(AL$2:$AL191),N191:Q2094,4,0),\"\")","v":""}]
[null,null,null,null,null,null,null,null,null,null,null,null,null,0,0,0,"dsp br equity fund rp","MDS078","Diversified equity",null,null,null,null,null,null,null,null,null,null,null,{"$f":"IFERROR(VLOOKUP(ROWS($AE$2:AE192),P192:Q2095,2,0),\"\")","v":""},null,null,null,null,{"$f":"IFERROR(VLOOKUP(ROWS($AJ$2:AJ192),O192:Q2095,3,0),\"\")","v":""},null,{"$f":"IFERROR(VLOOKUP(ROWS(AL$2:$AL192),N192:Q2095,4,0),\"\")","v":""}]
[null,null,null,null,null,null,null,null,null,null,null,null,null,0,0,0,"dsp br focus 25 fund","MDS281","Diversified equity",null,null,null,null,null,null,null,null,null,null,null,{"$f":"IFERROR(VLOOKUP(ROWS($AE$2:AE193),P193:Q2096,2,0),\"\")","v":""},null,null,null,null,{"$f":"IFERROR(VLOOKUP(ROWS($AJ$2:AJ193),O193:Q2096,3,0),\"\")","v":""},null,{"$f":"IFERROR(VLOOKUP(ROWS(AL$2:$AL193),N193:Q2096,4,0),\"\")","v":""}]
[null,null,null,null,null,null,null,null,null,null,null,null,null,0,0,{"$f":"IF(ISNUMBER(SEARCH($H$6,Q194)),MAX($P$1,P193)+1,0)","v":0},"dsp br opportunities ip","MDS066","Diversified equity",null,null,null,null,null,null,null,null,null,null,null,{"$f":"IFERROR(VLOOKUP(ROWS($AE$2:AE194),P194:Q2097,2,0),\"\")","v":""},null,null,null,null,{"$f":"IFERROR(VLOOKUP(ROWS($AJ$2:AJ194),O194:Q2097,3,0),\"\")","v":""},null,{"$f":"IFERROR(VLOOKUP(ROWS(AL$2:$AL194),N194:Q2097,4,0),\"\")","v":""}]
[null,null,null,null,null,null,null,null,null,null,null,null,null,{"$f":"IF(ISNUMBER(SEARCH($H$16,Q195)),MAX($N$1,N194)+1,0)","v":0},{"$f":"IF(ISNUMBER(SEARCH($H$11,Q195)),MAX($O$1,O194)+1,0)","v":0},0,"dsp br opportunities rp","MDS011","Diversified equity",null,null,null,null,null,null,null,null,null,null,null,{"$f":"IFERROR(VLOOKUP(ROWS($AE$2:AE195),P195:Q2098,2,0),\"\")","v":""},null,null,null,null,{"$f":"IFERROR(VLOOKUP(ROWS($AJ$2:AJ195),O195:Q2098,3,0),\"\")","v":""},null,{"$f":"IFERROR(VLOOKUP(ROWS(AL$2:$AL195),N195:Q2098,4,0),\"\")","v":""}]
[null,null,null,null,null,null,null,null,null,null,null,null,null,0,0,0,"dws invest opportunity rp","MDE029","Diversified equity",null,null,null,null,null,null,null,null,null,null,null,{"$f":"IFERROR(VLOOKUP(ROWS($AE$2:AE196),P196:Q2099,2,0),\"\")","v":""},null,null,null,null,{"$f":"IFERROR(VLOOKUP(ROWS($AJ$2:AJ196),O196:Q2099,3,0),\"\")","v":""},null,{"$f":"IFERROR(VLOOKUP(ROWS(AL$2:$AL196),N196:Q2099,4,0),\"\")","v":""}]
[null,null,null,null,null,null,null,null,null,null,null,null,null,0,0,0,"dws invest opportunity wp","MDE262","Diversified equity",null,null,null,null,null,null,null,null,null,null,null,{"$f":"IFERROR(VLOOKUP(ROWS($AE$2:AE197),P197:Q2100,2,0),\"\")","v":""},null,null,null,null,{"$f":"IFERROR(VLOOKUP(ROWS($AJ$2:AJ197),O197:Q2100,3,0),\"\")","v":""},null,{"$f":"IFERROR(VLOOKUP(ROWS(AL$2:$AL197),N197:Q2100,4,0),\"\")","v":""}]
[null,null,null,null,null,null,null,null,null,null,null,null,null,0,0,0,"escorts high yield equity","MES022","Diversified equity",null,null,null,null,null,null,null,null,null,null,null,{"$f":"IFERROR(VLOOKUP(ROWS($AE$2:AE198),P198:Q2101,2,0),\"\")","v":""},null,null,null,null,{"$f":"IFERROR(VLOOKUP(ROWS($AJ$2:AJ198),O198:Q2101,3,0),\"\")","v":""},null,{"$f":"IFERROR(VLOOKUP(ROWS(AL$2:$AL198),N198:Q2101,4,0),\"\")","v":""}]
[null,null,null,null,null,null,null,null,null,null,null,null,null,0,0,0,"escorts opportunities fund","MES013","Diversified equity",null,null,null,null,null,null,null,null,null,null,null,{"$f":"IFERROR(VLOOKUP(ROWS($AE$2:AE199),P199:Q2102,2,0),\"\")","v":""},null,null,null,null,{"$f":"IFERROR(VLOOKUP(ROWS($AJ$2:AJ199),O199:Q2102,3,0),\"\")","v":""},null,{"$f":"IFERROR(VLOOKUP(ROWS(AL$2:$AL199),N199:Q2102,4,0),\"\")","v":""}]
[null,null,null,null,null,null,null,null,null,null,null,null,null,0,0,0,"franklin high growth cos","MTE117","Diversified equity",null,null,null,null,null,null,null,null,null,null,null,{"$f":"IFERROR(VLOOKUP(ROWS($AE$2:AE200),P200:Q2103,2,0),\"\")","v":""},null,null,null,null,{"$f":"IFERROR(VLOOKUP(ROWS($AJ$2:AJ200),O200:Q2103,3,0),\"\")","v":""},null,{"$f":"IFERROR(VLOOKUP(ROWS(AL$2:$AL200),N200:Q2103,4,0),\"\")","v":""}]
[null,null,null,null,null,null,null,null,null,null,null,null,null,0,0,0,"franklin i flexi cap","MTE078","Diversified equity",null,null,null,null,null,null,null,null,null,null,null,{"$f":"IFERROR(VLOOKUP(ROWS($AE$2:AE201),P201:Q2104,2,0),\"\")","v":""},null,null,null,null,{"$f":"IFERROR(VLOOKUP(ROWS($AJ$2:AJ201),O201:Q2104,3,0),\"\")","v":""},null,{"$f":"IFERROR(VLOOKUP(ROWS(AL$2:$AL201),N201:Q2104,4,0),\"\")","v":""}]
[null,null,null,null,null,null,null,null,null,null,null,null,null,0,0,0,"franklin india prima plus","MKP003","Diversified equity",null,null,null,null,null,null,null,null,null,null,null,{"$f":"IFERROR(VLOOKUP(ROWS($AE$2:AE202),P202:Q2105,2,0),\"\")","v":""},null,null,null,null,{"$f":"IFERROR(VLOOKUP(ROWS($AJ$2:AJ202),O202:Q2105,3,0),\"\")","v":""},null,{"$f":"IFERROR(VLOOKUP(ROWS(AL$2:$AL202),N202:Q2105,4,0),\"\")","v":""}]
[null,null,null,null,null,null,null,null,null,null,null,null,null,0,0,0,"gs india equity fund","MBM031","Diversified equity",null,null,null,null,null,null,null,null,null,null,null,{"$f":"IFERROR(VLOOKUP(ROWS($AE$2:AE203),P203:Q2106,2,0),\"\")","v":""},null,null,null,null,{"$f":"IFERROR(VLOOKUP(ROWS($AJ$2:AJ203),O203:Q2106,3,0),\"\")","v":""},null,{"$f":"IFERROR(VLOOKUP(ROWS(AL$2:$AL203),N203:Q2106,4,0),\"\")","v":""}]
[null,null,null,null,null,null,null,null,null,null,null,null,null,0,0,0,"gs shariah bees","MBM025","Diversified equity",null,null,null,null,null,null,null,null,null,null,null,{"$f":"IFERROR(VLOOKUP(ROWS($AE$2:AE204),P204:Q2107,2,0),\"\")","v":""},null,null,null,null,{"$f":"IFERROR(VLOOKUP(ROWS($AJ$2:AJ204),O204:Q2107,3,0),\"\")","v":""},null,{"$f":"IFERROR(VLOOKUP(ROWS(AL$2:$AL204),N204:Q2107,4,0),\"\")","v":""}]
[null,null,null,null,null,null,null,null,null,null,null,null,null,0,0,0,"hdfc capital builder fund","MZU016","Diversified equity",null,null,null,null,null,null,null,null,null,null,null,{"$f":"IFERROR(VLOOKUP(ROWS($AE$2:AE205),P205:Q2108,2,0),\"\")","v":""},null,null,null,null,{"$f":"IFERROR(VLOOKUP(ROWS($AJ$2:AJ205),O205:Q2108,3,0),\"\")","v":""},null,{"$f":"IFERROR(VLOOKUP(ROWS(AL$2:$AL205),N205:Q2108,4,0),\"\")","v":""}]
[null,null,null,null,null,null,null,null,null,null,null,null,null,0,0,0,"hdfc core satellite fund","MHD044","Diversified equity",null,null,null,null,null,null,null,null,null,null,null,{"$f":"IFERROR(VLOOKUP(ROWS($AE$2:AE206),P206:Q2109,2,0),\"\")","v":""},null,null,null,null,{"$f":"IFERROR(VLOOKUP(ROWS($AJ$2:AJ206),O206:Q2109,3,0),\"\")","v":""},null,{"$f":"IFERROR(VLOOKUP(ROWS(AL$2:$AL206),N206:Q2109,4,0),\"\")","v":""}]
[null,null,null,null,null,null,null,null,null,null,null,null,null,0,1,0,"hdfc equity fund","MZU001","Diversified equity",null,null,null,null,null,null,null,null,null,null,null,{"$f":"IFERROR(VLOOKUP(ROWS($AE$2:AE207),P207:Q2110,2,0),\"\")","v":""},null,null,null,null,{"$f":"IFERROR(VLOOKUP(ROWS($AJ$2:AJ207),O207:Q2110,3,0),\"\")","v":""},null,{"$f":"IFERROR(VLOOKUP(ROWS(AL$2:$AL207),N207:Q2110,4,0),\"\")","v":""}]
[null,null,null,null,null,null,null,null,null,null,null,null,null,0,0,0,"hdfc growth fund","MHD001","Diversified equity",null,null,null,null,null,null,null,null,null,null,null,{"$f":"IFERROR(VLOOKUP(ROWS($AE$2:AE208),P208:Q2111,2,0),\"\")","v":""},null,null,null,null,{"$f":"IFERROR(VLOOKUP(ROWS($AJ$2:AJ208),O208:Q2111,3,0),\"\")","v":""},null,{"$f":"IFERROR(VLOOKUP(ROWS(AL$2:$AL208),N208:Q2111,4,0),\"\")","v":""}]
[null,null,null,null,null,null,null,null,null,null,null,null,null,0,0,0,"hdfc large cap fund","MMS001","Diversified equity",null,null,null,null,null,null,null,null,null,null,null,{"$f":"IFERROR(VLOOKUP(ROWS($AE$2:AE209),P209:Q2112,2,0),\"\")","v":""},null,null,null,null,{"$f":"IFERROR(VLOOKUP(ROWS($AJ$2:AJ209),O209:Q2112,3,0),\"\")","v":""},null,{"$f":"IFERROR(VLOOKUP(ROWS(AL$2:$AL209),N209:Q2112,4,0),\"\")","v":""}]
[null,null,null,null,null,null,null,null,null,null,null,null,null,0,0,0,"hdfc premier multicap","MHD048","Diversified equity",null,null,null,null,null,null,null,null,null,null,null,{"$f":"IFERROR(VLOOKUP(ROWS($AE$2:AE210),P210:Q2113,2,0),\"\")","v":""},null,null,null,null,{"$f":"IFERROR(VLOOKUP(ROWS($AJ$2:AJ210),O210:Q2113,3,0),\"\")","v":""},null,{"$f":"IFERROR(VLOOKUP(ROWS(AL$2:$AL210),N210:Q2113,4,0),\"\")","v":""}]
[null,null,null,null,null,null,null,null,null,null,null,null,null,0,0,0,"hdfc small and mid cap fund","MMS002","Diversified equity",null,null,null,null,null,null,null,null,null,null,null,{"$f":"IFERROR(VLOOKUP(ROWS($AE$2:AE211),P211:Q2114,2,0),\"\")","v":""},null,null,null,null,{"$f":"IFERROR(VLOOKUP(ROWS($AJ$2:AJ211),O211:Q2114,3,0),\"\")","v":""},null,{"$f":"IFERROR(VLOOKUP(ROWS(AL$2:$AL211),N211:Q2114,4,0),\"\")","v":""}]
[null,null,null,null,null,null,null,null,null,null,null,null,null,0,0,0,"hsbc dividend yield equity dir","MHS313","Diversified equity",null,null,null,null,null,null,null,null,null,null,null,{"$f":"IFERROR(VLOOKUP(ROWS($AE$2:AE212),P212:Q2115,2,0),\"\")","v":""},null,null,null,null,{"$f":"IFERROR(VLOOKUP(ROWS($AJ$2:AJ212),O212:Q2115,3,0),\"\")","v":""},null,{"$f":"IFERROR(VLOOKUP(ROWS(AL$2:$AL212),N212:Q2115,4,0),\"\")","v":""}]
[null,null,null,null,null,null,null,null,null,null,null,null,null,0,0,0,"hsbc dividend yield equity fund","MHS071","Diversified equity",null,null,null,null,null,null,null,null,null,null,null,{"$f":"IFERROR(VLOOKUP(ROWS($AE$2:AE213),P213:Q2116,2,0),\"\")","v":""},null,null,null,null,{"$f":"IFERROR(VLOOKUP(ROWS($AJ$2:AJ213),O213:Q2116,3,0),\"\")","v":""},null,{"$f":"IFERROR(VLOOKUP(ROWS(AL$2:$AL213),N213:Q2116,4,0),\"\")","v":""}]
[null,null,null,null,null,null,null,null,null,null,null,null,null,0,0,0,"hsbc india opportunities","MHS025","Diversified equity",null,null,null,null,null,null,null,null,null,null,null,{"$f":"IFERROR(VLOOKUP(ROWS($AE$2:AE214),P214:Q2117,2,0),\"\")","v":""},null,null,null,null,{"$f":"IFERROR(VLOOKUP(ROWS($AJ$2:AJ214),O214:Q2117,3,0),\"\")","v":""},null,{"$f":"IFERROR(VLOOKUP(ROWS(AL$2:$AL214),N214:Q2117,4,0),\"\")","v":""}]
[null,null,null,null,null,null,null,null,null,null,null,null,null,0,0,0,"icici pru dividend yield dp","MPI2058","Diversified equity",null,null,null,null,null,null,null,null,null,null,null,{"$f":"IFERROR(VLOOKUP(ROWS($AE$2:AE215),P215:Q2118,2,0),\"\")","v":""},null,null,null,null,{"$f":"IFERROR(VLOOKUP(ROWS($AJ$2:AJ215),O215:Q2118,3,0),\"\")","v":""},null,{"$f":"IFERROR(VLOOKUP(ROWS(AL$2:$AL215),N215:Q2118,4,0),\"\")","v":""}]
[null,null,null,null,null,null,null,null,null,null,null,null,null,0,0,0,"icici pru dividend yield rp","MPI2056","Diversified equity",null,null,null,null,null,null,null,null,null,null,null,{"$f":"IFERROR(VLOOKUP(ROWS($AE$2:AE216),P216:Q2119,2,0),\"\")","v":""},null,null,null,null,{"$f":"IFERROR(VLOOKUP(ROWS($AJ$2:AJ216),O216:Q2119,3,0),\"\")","v":""},null,{"$f":"IFERROR(VLOOKUP(ROWS(AL$2:$AL216),N216:Q2119,4,0),\"\")","v":""}]
[null,null,null,null,null,null,null,null,null,null,null,null,null,0,0,0,"icici pru dynamic plan","MPI038","Diversified equity",null,null,null,null,null,null,null,null,null,null,null,{"$f":"IFERROR(VLOOKUP(ROWS($AE$2:AE217),P217:Q2120,2,0),\"\")","v":""},null,null,null,null,{"$f":"IFERROR(VLOOKUP(ROWS($AJ$2:AJ217),O217:Q2120,3,0),\"\")","v":""},null,{"$f":"IFERROR(VLOOKUP(ROWS(AL$2:$AL217),N217:Q2120,4,0),\"\")","v":""}]
[null,null,null,null,null,null,null,null,null,null,null,null,null,0,0,0,"icici pru dynamic plan inst ","MPI147","Diversified equity",null,null,null,null,null,null,null,null,null,null,null,{"$f":"IFERROR(VLOOKUP(ROWS($AE$2:AE218),P218:Q2121,2,0),\"\")","v":""},null,null,null,null,{"$f":"IFERROR(VLOOKUP(ROWS($AJ$2:AJ218),O218:Q2121,3,0),\"\")","v":""},null,{"$f":"IFERROR(VLOOKUP(ROWS(AL$2:$AL218),N218:Q2121,4,0),\"\")","v":""}]
[null,null,null,null,null,null,null,null,null,null,null,null,null,0,0,0,"icici pru dynamic plan ip","MPI891","Diversified equity",null,null,null,null,null,null,null,null,null,null,null,{"$f":"IFERROR(VLOOKUP(ROWS($AE$2:AE219),P219:Q2122,2,0),\"\")","v":""},null,null,null,null,{"$f":"IFERROR(VLOOKUP(ROWS($AJ$2:AJ219),O219:Q2122,3,0),\"\")","v":""},null,{"$f":"IFERROR(VLOOKUP(ROWS(AL$2:$AL219),N219:Q2122,4,0),\"\")","v":""}]
[null,null,null,null,null,null,null,null,null,null,null,null,null,0,0,0,"icici pru equity income fund dp","MPI2420","Diversified equity",null,null,null,null,null,null,null,null,null,null,null,{"$f":"IFERROR(VLOOKUP(ROWS($AE$2:AE220),P220:Q2123,2,0),\"\")","v":""},null,null,null,null,{"$f":"IFERROR(VLOOKUP(ROWS($AJ$2:AJ220),O220:Q2123,3,0),\"\")","v":""},null,{"$f":"IFERROR(VLOOKUP(ROWS(AL$2:$AL220),N220:Q2123,4,0),\"\")","v":""}]
[null,null,null,null,null,null,null,null,null,null,null,null,null,0,0,0,"icici pru equity income fund rp","MPI2418","Diversified equity",null,null,null,null,null,null,null,null,null,null,null,{"$f":"IFERROR(VLOOKUP(ROWS($AE$2:AE221),P221:Q2124,2,0),\"\")","v":""},null,null,null,null,{"$f":"IFERROR(VLOOKUP(ROWS($AJ$2:AJ221),O221:Q2124,3,0),\"\")","v":""},null,{"$f":"IFERROR(VLOOKUP(ROWS(AL$2:$AL221),N221:Q2124,4,0),\"\")","v":""}]
[null,null,null,null,null,null,null,null,null,null,null,null,null,0,0,0,"icici pru exp other services dp","MPI1122","Diversified equity",null,null,null,null,null,null,null,null,null,null,null,{"$f":"IFERROR(VLOOKUP(ROWS($AE$2:AE222),P222:Q2125,2,0),\"\")","v":""},null,null,null,null,{"$f":"IFERROR(VLOOKUP(ROWS($AJ$2:AJ222),O222:Q2125,3,0),\"\")","v":""},null,{"$f":"IFERROR(VLOOKUP(ROWS(AL$2:$AL222),N222:Q2125,4,0),\"\")","v":""}]
[null,null,null,null,null,null,null,null,null,null,null,null,null,0,0,0,"icici pru exp other services rp","MPI110","Diversified equity",null,null,null,null,null,null,null,null,null,null,null,{"$f":"IFERROR(VLOOKUP(ROWS($AE$2:AE223),P223:Q2126,2,0),\"\")","v":""},null,null,null,null,{"$f":"IFERROR(VLOOKUP(ROWS($AJ$2:AJ223),O223:Q2126,3,0),\"\")","v":""},null,{"$f":"IFERROR(VLOOKUP(ROWS(AL$2:$AL223),N223:Q2126,4,0),\"\")","v":""}]
[null,null,null,null,null,null,null,null,null,null,null,null,null,0,0,0,"icici pru growth fund sr1 dp","MPI2112","Diversified equity",null,null,null,null,null,null,null,null,null,null,null,{"$f":"IFERROR(VLOOKUP(ROWS($AE$2:AE224),P224:Q2127,2,0),\"\")","v":""},null,null,null,null,{"$f":"IFERROR(VLOOKUP(ROWS($AJ$2:AJ224),O224:Q2127,3,0),\"\")","v":""},null,{"$f":"IFERROR(VLOOKUP(ROWS(AL$2:$AL224),N224:Q2127,4,0),\"\")","v":""}]
[null,null,null,null,null,null,null,null,null,null,null,null,null,0,0,0,"icici pru growth fund sr1 rp","MPI2110","Diversified equity",null,null,null,null,null,null,null,null,null,null,null,{"$f":"IFERROR(VLOOKUP(ROWS($AE$2:AE225),P225:Q2128,2,0),\"\")","v":""},null,null,null,null,{"$f":"IFERROR(VLOOKUP(ROWS($AJ$2:AJ225),O225:Q2128,3,0),\"\")","v":""},null,{"$f":"IFERROR(VLOOKUP(ROWS(AL$2:$AL225),N225:Q2128,4,0),\"\")","v":""}]
[null,null,null,null,null,null,null,null,null,null,null,null,null,0,0,0,"icici pru growth fund sr2 dp","MPI2168","Diversified equity",null,null,null,null,null,null,null,null,null,null,null,{"$f":"IFERROR(VLOOKUP(ROWS($AE$2:AE226),P226:Q2129,2,0),\"\")","v":""},null,null,null,null,{"$f":"IFERROR(VLOOKUP(ROWS($AJ$2:AJ226),O226:Q2129,3,0),\"\")","v":""},null,{"$f":"IFERROR(VLOOKUP(ROWS(AL$2:$AL226),N226:Q2129,4,0),\"\")","v":""}]
[null,null,null,null,null,null,null,null,null,null,null,null,null,0,0,0,"icici pru growth fund sr2 rp","MPI2166","Diversified equity",null,null,null,null,null,null,null,null,null,null,null,{"$f":"IFERROR(VLOOKUP(ROWS($AE$2:AE227),P227:Q2130,2,0),\"\")","v":""},null,null,null,null,{"$f":"IFERROR(VLOOKUP(ROWS($AJ$2:AJ227),O227:Q2130,3,0),\"\")","v":""},null,{"$f":"IFERROR(VLOOKUP(ROWS(AL$2:$AL227),N227:Q2130,4,0),\"\")","v":""}]
[null,null,null,null,null,null,null,null,null,null,null,null,null,0,0,0,"icici pru growth fund sr3 dp","MPI2255","Diversified equity",null,null,null,null,null,null,null,null,null,null,null,{"$f":"IFERROR(VLOOKUP(ROWS($AE$2:AE228),P228:Q2131,2,0),\"\")","v":""},null,null,null,null,{"$f":"IFERROR(VLOOKUP(ROWS($AJ$2:AJ228),O228:Q2131,3,0),\"\")","v":""},null,{"$f":"IFERROR(VLOOKUP(ROWS(AL$2:$AL228),N228:Q2131,4,0),\"\")","v":""}]
[null,null,null,null,null,null,null,null,null,null,null,null,null,0,0,0,"icici pru growth fund sr3 rp","MPI2253","Diversified equity",null,null,null,null,null,null,null,null,null,null,null,{"$f":"IFERROR(VLOOKUP(ROWS($AE$2:AE229),P229:Q2132,2,0),\"\")","v":""},null,null,null,null,{"$f":"IFERROR(VLOOKUP(ROWS($AJ$2:AJ229),O229:Q2132,3,0),\"\")","v":""},null,{"$f":"IFERROR(VLOOKUP(ROWS(AL$2:$AL229),N229:Q2132,4,0),\"\")","v":""}]
[null,null,null,null,null,null,null,null,null,null,null,null,null,0,0,0,"icici pru growth fund sr4 dp","MPI2339","Diversified equity",null,null,null,null,null,null,null,null,null,null,null,{"$f":"IFERROR(VLOOKUP(ROWS($AE$2:AE230),P230:Q2133,2,0),\"\")","v":""},null,null,null,null,{"$f":"IFERROR(VLOOKUP(ROWS($AJ$2:AJ230),O230:Q2133,3,0),\"\")","v":""},null,{"$f":"IFERROR(VLOOKUP(ROWS(AL$2:$AL230),N230:Q2133,4,0),\"\")","v":""}]
[null,null,null,null,null,null,null,null,null,null,null,null,null,0,0,0,"icici pru growth fund sr4 rp","MPI2337","Diversified equity",null,null,null,null,null,null,null,null,null,null,null,{"$f":"IFERROR(VLOOKUP(ROWS($AE$2:AE231),P231:Q2134,2,0),\"\")","v":""},null,null,null,null,{"$f":"IFERROR(VLOOKUP(ROWS($AJ$2:AJ231),O231:Q2134,3,0),\"\")","v":""},null,{"$f":"IFERROR(VLOOKUP(ROWS(AL$2:$AL231),N231:Q2134,4,0),\"\")","v":""}]
[null,null,null,null,null,null,null,null,null,null,null,null,null,0,0,0,"icici pru growth fund sr5 dp","MPI2424","Diversified equity",null,null,null,null,null,null,null,null,null,null,null,{"$f":"IFERROR(VLOOKUP(ROWS($AE$2:AE232),P232:Q2135,2,0),\"\")","v":""},null,null,null,null,{"$f":"IFERROR(VLOOKUP(ROWS($AJ$2:AJ232),O232:Q2135,3,0),\"\")","v":""},null,{"$f":"IFERROR(VLOOKUP(ROWS(AL$2:$AL232),N232:Q2135,4,0),\"\")","v":""}]
[null,null,null,null,null,null,null,null,null,null,null,null,null,0,0,0,"icici pru growth fund sr5 rp","MPI2422","Diversified equity",null,null,null,null,null,null,null,null,null,null,null,{"$f":"IFERROR(VLOOKUP(ROWS($AE$2:AE233),P233:Q2136,2,0),\"\")","v":""},null,null,null,null,{"$f":"IFERROR(VLOOKUP(ROWS($AJ$2:AJ233),O233:Q2136,3,0),\"\")","v":""},null,{"$f":"IFERROR(VLOOKUP(ROWS(AL$2:$AL233),N233:Q2136,4,0),\"\")","v":""}]
[null,null,null,null,null,null,null,null,null,null,null,null,null,0,0,0,"icici pru growth fund sr6 dp","MPI2428","Diversified equity",null,null,null,null,null,null,null,null,null,null,null,{"$f":"IFERROR(VLOOKUP(ROWS($AE$2:AE234),P234:Q2137,2,0),\"\")","v":""},null,null,null,null,{"$f":"IFERROR(VLOOKUP(ROWS($AJ$2:AJ234),O234:Q2137,3,0),\"\")","v":""},null,{"$f":"IFERROR(VLOOKUP(ROWS(AL$2:$AL234),N234:Q2137,4,0),\"\")","v":""}]
[null,null,null,null,null,null,null,null,null,null,null,null,null,0,0,0,"icici pru growth fund sr6 rp","MPI2426","Diversified equity",null,null,null,null,null,null,null,null,null,null,null,{"$f":"IFERROR(VLOOKUP(ROWS($AE$2:AE235),P235:Q2138,2,0),\"\")","v":""},null,null,null,null,{"$f":"IFERROR(VLOOKUP(ROWS($AJ$2:AJ235),O235:Q2138,3,0),\"\")","v":""},null,{"$f":"IFERROR(VLOOKUP(ROWS(AL$2:$AL235),N235:Q2138,4,0),\"\")","v":""}]
[null,null,null,null,null,null,null,null,null,null,null,null,null,0,0,0,"icici pru growth fund sr7 dp","MPI2470","Diversified equity",null,null,null,null,null,null,null,null,null,null,null,{"$f":"IFERROR(VLOOKUP(ROWS($AE$2:AE236),P236:Q2139,2,0),\"\")","v":""},null,null,null,null,{"$f":"IFERROR(VLOOKUP(ROWS($AJ$2:AJ236),O236:Q2139,3,0),\"\")","v":""},null,{"$f":"IFERROR(VLOOKUP(ROWS(AL$2:$AL236),N236:Q2139,4,0),\"\")","v":""}]
[null,null,null,null,null,null,null,null,null,null,null,null,null,0,0,0,"icici pru growth fund sr7 rp","MPI2468","Diversified equity",null,null,null,null,null,null,null,null,null,null,null,{"$f":"IFERROR(VLOOKUP(ROWS($AE$2:AE237),P237:Q2140,2,0),\"\")","v":""},null,null,null,null,{"$f":"IFERROR(VLOOKUP(ROWS($AJ$2:AJ237),O237:Q2140,3,0),\"\")","v":""},null,{"$f":"IFERROR(VLOOKUP(ROWS(AL$2:$AL237),N237:Q2140,4,0),\"\")","v":""}]
[null,null,null,null,null,null,null,null,null,null,null,null,null,0,0,0,"icici pru growth fund sr8 dp","MPI2474","Diversified equity",null,null,null,null,null,null,null,null,null,null,null,{"$f":"IFERROR(VLOOKUP(ROWS($AE$2:AE238),P238:Q2141,2,0),\"\")","v":""},null,null,null,null,{"$f":"IFERROR(VLOOKUP(ROWS($AJ$2:AJ238),O238:Q2141,3,0),\"\")","v":""},null,{"$f":"IFERROR(VLOOKUP(ROWS(AL$2:$AL238),N238:Q2141,4,0),\"\")","v":""}]
[null,null,null,null,null,null,null,null,null,null,null,null,null,0,0,0,"icici pru growth fund sr8 rp","MPI2472","Diversified equity",null,null,null,null,null,null,null,null,null,null,null,{"$f":"IFERROR(VLOOKUP(ROWS($AE$2:AE239),P239:Q2142,2,0),\"\")","v":""},null,null,null,null,{"$f":"IFERROR(VLOOKUP(ROWS($AJ$2:AJ239),O239:Q2142,3,0),\"\")","v":""},null,{"$f":"IFERROR(VLOOKUP(ROWS(AL$2:$AL239),N239:Q2142,4,0),\"\")","v":""}]
[null,null,null,null,null,null,null,null,null,null,null,null,null,0,0,0,"icici pru indo asia eqty ip","MPI245","Diversified equity",null,null,null,null,null,null,null,null,null,null,null,{"$f":"IFERROR(VLOOKUP(ROWS($AE$2:AE240),P240:Q2143,2,0),\"\")","v":""},null,null,null,null,{"$f":"IFERROR(VLOOKUP(ROWS($AJ$2:AJ240),O240:Q2143,3,0),\"\")","v":""},null,{"$f":"IFERROR(VLOOKUP(ROWS(AL$2:$AL240),N240:Q2143,4,0),\"\")","v":""}]
[null,null,null,null,null,null,null,null,null,null,null,null,null,0,0,0,"icici pru indo asia eqty rp","MPI243","Diversified equity",null,null,null,null,null,null,null,null,null,null,null,{"$f":"IFERROR(VLOOKUP(ROWS($AE$2:AE241),P241:Q2144,2,0),\"\")","v":""},null,null,null,null,{"$f":"IFERROR(VLOOKUP(ROWS($AJ$2:AJ241),O241:Q2144,3,0),\"\")","v":""},null,{"$f":"IFERROR(VLOOKUP(ROWS(AL$2:$AL241),N241:Q2144,4,0),\"\")","v":""}]
[null,null,null,null,null,null,null,null,null,null,null,null,null,0,0,0,"icici pru recovery fund sr 1 dp","MPI2553","Diversified equity",null,null,null,null,null,null,null,null,null,null,null,{"$f":"IFERROR(VLOOKUP(ROWS($AE$2:AE242),P242:Q2145,2,0),\"\")","v":""},null,null,null,null,{"$f":"IFERROR(VLOOKUP(ROWS($AJ$2:AJ242),O242:Q2145,3,0),\"\")","v":""},null,{"$f":"IFERROR(VLOOKUP(ROWS(AL$2:$AL242),N242:Q2145,4,0),\"\")","v":""}]
[null,null,null,null,null,null,null,null,null,null,null,null,null,0,0,0,"icici pru recovery fund sr 1 rp","MPI2552","Diversified equity",null,null,null,null,null,null,null,null,null,null,null,{"$f":"IFERROR(VLOOKUP(ROWS($AE$2:AE243),P243:Q2146,2,0),\"\")","v":""},null,null,null,null,{"$f":"IFERROR(VLOOKUP(ROWS($AJ$2:AJ243),O243:Q2146,3,0),\"\")","v":""},null,{"$f":"IFERROR(VLOOKUP(ROWS(AL$2:$AL243),N243:Q2146,4,0),\"\")","v":""}]
[null,null,null,null,null,null,null,null,null,null,null,null,null,0,0,0,"icici pru recovery fund sr 2 dp","MPI2555","Diversified equity",null,null,null,null,null,null,null,null,null,null,null,{"$f":"IFERROR(VLOOKUP(ROWS($AE$2:AE244),P244:Q2147,2,0),\"\")","v":""},null,null,null,null,{"$f":"IFERROR(VLOOKUP(ROWS($AJ$2:AJ244),O244:Q2147,3,0),\"\")","v":""},null,{"$f":"IFERROR(VLOOKUP(ROWS(AL$2:$AL244),N244:Q2147,4,0),\"\")","v":""}]
[null,null,null,null,null,null,null,null,null,null,null,null,null,0,0,0,"icici pru recovery fund sr 2 rp","MPI2554","Diversified equity",null,null,null,null,null,null,null,null,null,null,null,{"$f":"IFERROR(VLOOKUP(ROWS($AE$2:AE245),P245:Q2148,2,0),\"\")","v":""},null,null,null,null,{"$f":"IFERROR(VLOOKUP(ROWS($AJ$2:AJ245),O245:Q2148,3,0),\"\")","v":""},null,{"$f":"IFERROR(VLOOKUP(ROWS(AL$2:$AL245),N245:Q2148,4,0),\"\")","v":""}]
[null,null,null,null,null,null,null,null,null,null,null,null,null,0,0,0,"icici pru recovery fund sr 3 dp","MPI2711","Diversified equity",null,null,null,null,null,null,null,null,null,null,null,{"$f":"IFERROR(VLOOKUP(ROWS($AE$2:AE246),P246:Q2149,2,0),\"\")","v":""},null,null,null,null,{"$f":"IFERROR(VLOOKUP(ROWS($AJ$2:AJ246),O246:Q2149,3,0),\"\")","v":""},null,{"$f":"IFERROR(VLOOKUP(ROWS(AL$2:$AL246),N246:Q2149,4,0),\"\")","v":""}]
[null,null,null,null,null,null,null,null,null,null,null,null,null,0,0,0,"icici pru recovery fund sr 3 rp","MPI2710","Diversified equity",null,null,null,null,null,null,null,null,null,null,null,{"$f":"IFERROR(VLOOKUP(ROWS($AE$2:AE247),P247:Q2150,2,0),\"\")","v":""},null,null,null,null,{"$f":"IFERROR(VLOOKUP(ROWS($AJ$2:AJ247),O247:Q2150,3,0),\"\")","v":""},null,{"$f":"IFERROR(VLOOKUP(ROWS(AL$2:$AL247),N247:Q2150,4,0),\"\")","v":""}]
[null,null,null,null,null,null,null,null,null,null,null,null,null,0,0,0,"icici pru top 200 fund","MPI028","Diversified equity",null,null,null,null,null,null,null,null,null,null,null,{"$f":"IFERROR(VLOOKUP(ROWS($AE$2:AE248),P248:Q2151,2,0),\"\")","v":""},null,null,null,null,{"$f":"IFERROR(VLOOKUP(ROWS($AJ$2:AJ248),O248:Q2151,3,0),\"\")","v":""},null,{"$f":"IFERROR(VLOOKUP(ROWS(AL$2:$AL248),N248:Q2151,4,0),\"\")","v":""}]
[null,null,null,null,null,null,null,null,null,null,null,null,null,0,0,0,"icici pru top 200 fund inst i","MPI136","Diversified equity",null,null,null,null,null,null,null,null,null,null,null,{"$f":"IFERROR(VLOOKUP(ROWS($AE$2:AE249),P249:Q2152,2,0),\"\")","v":""},null,null,null,null,{"$f":"IFERROR(VLOOKUP(ROWS($AJ$2:AJ249),O249:Q2152,3,0),\"\")","v":""},null,{"$f":"IFERROR(VLOOKUP(ROWS(AL$2:$AL249),N249:Q2152,4,0),\"\")","v":""}]
[null,null,null,null,null,null,null,null,null,null,null,null,null,0,0,0,"icici pru value discovery dp","MPI1116","Diversified equity",null,null,null,null,null,null,null,null,null,null,null,{"$f":"IFERROR(VLOOKUP(ROWS($AE$2:AE250),P250:Q2153,2,0),\"\")","v":""},null,null,null,null,{"$f":"IFERROR(VLOOKUP(ROWS($AJ$2:AJ250),O250:Q2153,3,0),\"\")","v":""},null,{"$f":"IFERROR(VLOOKUP(ROWS(AL$2:$AL250),N250:Q2153,4,0),\"\")","v":""}]
[null,null,null,null,null,null,null,null,null,null,null,null,null,0,0,0,"icici pru value discovery fund","MPI087","Diversified equity",null,null,null,null,null,null,null,null,null,null,null,{"$f":"IFERROR(VLOOKUP(ROWS($AE$2:AE251),P251:Q2154,2,0),\"\")","v":""},null,null,null,null,{"$f":"IFERROR(VLOOKUP(ROWS($AJ$2:AJ251),O251:Q2154,3,0),\"\")","v":""},null,{"$f":"IFERROR(VLOOKUP(ROWS(AL$2:$AL251),N251:Q2154,4,0),\"\")","v":""}]
[null,null,null,null,null,null,null,null,null,null,null,null,null,0,0,0,"icici pru value discovery inst i","MPI138","Diversified equity",null,null,null,null,null,null,null,null,null,null,null,{"$f":"IFERROR(VLOOKUP(ROWS($AE$2:AE252),P252:Q2155,2,0),\"\")","v":""},null,null,null,null,{"$f":"IFERROR(VLOOKUP(ROWS($AJ$2:AJ252),O252:Q2155,3,0),\"\")","v":""},null,{"$f":"IFERROR(VLOOKUP(ROWS(AL$2:$AL252),N252:Q2155,4,0),\"\")","v":""}]
[null,null,null,null,null,null,null,null,null,null,null,null,null,0,0,0,"icici pru value fund sr 1 dp","MPI1679","Diversified equity",null,null,null,null,null,null,null,null,null,null,null,{"$f":"IFERROR(VLOOKUP(ROWS($AE$2:AE253),P253:Q2156,2,0),\"\")","v":""},null,null,null,null,{"$f":"IFERROR(VLOOKUP(ROWS($AJ$2:AJ253),O253:Q2156,3,0),\"\")","v":""},null,{"$f":"IFERROR(VLOOKUP(ROWS(AL$2:$AL253),N253:Q2156,4,0),\"\")","v":""}]
[null,null,null,null,null,null,null,null,null,null,null,null,null,0,0,0,"icici pru value fund sr 1 rp","MPI1678","Diversified equity",null,null,null,null,null,null,null,null,null,null,null,{"$f":"IFERROR(VLOOKUP(ROWS($AE$2:AE254),P254:Q2157,2,0),\"\")","v":""},null,null,null,null,{"$f":"IFERROR(VLOOKUP(ROWS($AJ$2:AJ254),O254:Q2157,3,0),\"\")","v":""},null,{"$f":"IFERROR(VLOOKUP(ROWS(AL$2:$AL254),N254:Q2157,4,0),\"\")","v":""}]
[null,null,null,null,null,null,null,null,null,null,null,null,null,0,0,0,"icici pru value fund sr 2 dp","MPI1705","Diversified equity",null,null,null,null,null,null,null,null,null,null,null,{"$f":"IFERROR(VLOOKUP(ROWS($AE$2:AE255),P255:Q2158,2,0),\"\")","v":""},null,null,null,null,{"$f":"IFERROR(VLOOKUP(ROWS($AJ$2:AJ255),O255:Q2158,3,0),\"\")","v":""},null,{"$f":"IFERROR(VLOOKUP(ROWS(AL$2:$AL255),N255:Q2158,4,0),\"\")","v":""}]
[null,null,null,null,null,null,null,null,null,null,null,null,null,0,0,0,"icici pru value fund sr 2 rp","MPI1704","Diversified equity",null,null,null,null,null,null,null,null,null,null,null,{"$f":"IFERROR(VLOOKUP(ROWS($AE$2:AE256),P256:Q2159,2,0),\"\")","v":""},null,null,null,null,{"$f":"IFERROR(VLOOKUP(ROWS($AJ$2:AJ256),O256:Q2159,3,0),\"\")","v":""},null,{"$f":"IFERROR(VLOOKUP(ROWS(AL$2:$AL256),N256:Q2159,4,0),\"\")","v":""}]
[null,null,null,null,null,null,null,null,null,null,null,null,null,0,0,0,"icici pru value fund sr 3 dp","MPI1875","Diversified equity",null,null,null,null,null,null,null,null,null,null,null,{"$f":"IFERROR(VLOOKUP(ROWS($AE$2:AE257),P257:Q2160,2,0),\"\")","v":""},null,null,null,null,{"$f":"IFERROR(VLOOKUP(ROWS($AJ$2:AJ257),O257:Q2160,3,0),\"\")","v":""},null,{"$f":"IFERROR(VLOOKUP(ROWS(AL$2:$AL257),N257:Q2160,4,0),\"\")","v":""}]
[null,null,null,null,null,null,null,null,null,null,null,null,null,0,0,{"$f":"IF(ISNUMBER(SEARCH($H$6,Q258)),MAX($P$1,P257)+1,0)","v":0},"icici pru value fund sr 3 rp","MPI1874","Diversified equity",null,null,null,null,null,null,null,null,null,null,null,{"$f":"IFERROR(VLOOKUP(ROWS($AE$2:AE258),P258:Q2161,2,0),\"\")","v":""},null,null,null,null,{"$f":"IFERROR(VLOOKUP(ROWS($AJ$2:AJ258),O258:Q2161,3,0),\"\")","v":""},null,{"$f":"IFERROR(VLOOKUP(ROWS(AL$2:$AL258),N258:Q2161,4,0),\"\")","v":""}]
[null,null,null,null,null,null,null,null,null,null,null,null,null,{"$f":"IF(ISNUMBER(SEARCH($H$16,Q259)),MAX($N$1,N258)+1,0)","v":0},{"$f":"IF(ISNUMBER(SEARCH($H$11,Q259)),MAX($O$1,O258)+1,0)","v":0},0,"icici pru value fund sr 4 dp","MPI2069","Diversified equity",null,null,null,null,null,null,null,null,null,null,null,{"$f":"IFERROR(VLOOKUP(ROWS($AE$2:AE259),P259:Q2162,2,0),\"\")","v":""},null,null,null,null,{"$f":"IFERROR(VLOOKUP(ROWS($AJ$2:AJ259),O259:Q2162,3,0),\"\")","v":""},null,{"$f":"IFERROR(VLOOKUP(ROWS(AL$2:$AL259),N259:Q2162,4,0),\"\")","v":""}]
[null,null,null,null,null,null,null,null,null,null,null,null,null,0,0,0,"icici pru value fund sr 4 rp","MPI2068","Diversified equity",null,null,null,null,null,null,null,null,null,null,null,{"$f":"IFERROR(VLOOKUP(ROWS($AE$2:AE260),P260:Q2163,2,0),\"\")","v":""},null,null,null,null,{"$f":"IFERROR(VLOOKUP(ROWS($AJ$2:AJ260),O260:Q2163,3,0),\"\")","v":""},null,{"$f":"IFERROR(VLOOKUP(ROWS(AL$2:$AL260),N260:Q2163,4,0),\"\")","v":""}]
[null,null,null,null,null,null,null,null,null,null,null,null,null,0,0,0,"icici pru value fund sr 5 dp","MPI2204","Diversified equity",null,null,null,null,null,null,null,null,null,null,null,{"$f":"IFERROR(VLOOKUP(ROWS($AE$2:AE261),P261:Q2164,2,0),\"\")","v":""},null,null,null,null,{"$f":"IFERROR(VLOOKUP(ROWS($AJ$2:AJ261),O261:Q2164,3,0),\"\")","v":""},null,{"$f":"IFERROR(VLOOKUP(ROWS(AL$2:$AL261),N261:Q2164,4,0),\"\")","v":""}]
[null,null,null,null,null,null,null,null,null,null,null,null,null,0,0,0,"icici pru value fund sr 5 rp","MPI2202","Diversified equity",null,null,null,null,null,null,null,null,null,null,null,{"$f":"IFERROR(VLOOKUP(ROWS($AE$2:AE262),P262:Q2165,2,0),\"\")","v":""},null,null,null,null,{"$f":"IFERROR(VLOOKUP(ROWS($AJ$2:AJ262),O262:Q2165,3,0),\"\")","v":""},null,{"$f":"IFERROR(VLOOKUP(ROWS(AL$2:$AL262),N262:Q2165,4,0),\"\")","v":""}]
[null,null,null,null,null,null,null,null,null,null,null,null,null,0,0,0,"icici pru value fund sr 6 dp","MPI2566","Diversified equity",null,null,null,null,null,null,null,null,null,null,null,{"$f":"IFERROR(VLOOKUP(ROWS($AE$2:AE263),P263:Q2166,2,0),\"\")","v":""},null,null,null,null,{"$f":"IFERROR(VLOOKUP(ROWS($AJ$2:AJ263),O263:Q2166,3,0),\"\")","v":""},null,{"$f":"IFERROR(VLOOKUP(ROWS(AL$2:$AL263),N263:Q2166,4,0),\"\")","v":""}]
[null,null,null,null,null,null,null,null,null,null,null,null,null,0,0,0,"icici pru value fund sr 6 rp","MPI2564","Diversified equity",null,null,null,null,null,null,null,null,null,null,null,{"$f":"IFERROR(VLOOKUP(ROWS($AE$2:AE264),P264:Q2167,2,0),\"\")","v":""},null,null,null,null,{"$f":"IFERROR(VLOOKUP(ROWS($AJ$2:AJ264),O264:Q2167,3,0),\"\")","v":""},null,{"$f":"IFERROR(VLOOKUP(ROWS(AL$2:$AL264),N264:Q2167,4,0),\"\")","v":""}]
[null,null,null,null,null,null,null,null,null,null,null,null,null,0,0,0,"idbi diversified equity fund dp","MIB216","Diversified equity",null,null,null,null,null,null,null,null,null,null,null,{"$f":"IFERROR(VLOOKUP(ROWS($AE$2:AE265),P265:Q2168,2,0),\"\")","v":""},null,null,null,null,{"$f":"IFERROR(VLOOKUP(ROWS($AJ$2:AJ265),O265:Q2168,3,0),\"\")","v":""},null,{"$f":"IFERROR(VLOOKUP(ROWS(AL$2:$AL265),N265:Q2168,4,0),\"\")","v":""}]
[null,null,null,null,null,null,null,null,null,null,null,null,null,0,0,0,"idbi diversified equity fund rp","MIB214","Diversified equity",null,null,null,null,null,null,null,null,null,null,null,{"$f":"IFERROR(VLOOKUP(ROWS($AE$2:AE266),P266:Q2169,2,0),\"\")","v":""},null,null,null,null,{"$f":"IFERROR(VLOOKUP(ROWS($AJ$2:AJ266),O266:Q2169,3,0),\"\")","v":""},null,{"$f":"IFERROR(VLOOKUP(ROWS(AL$2:$AL266),N266:Q2169,4,0),\"\")","v":""}]
[null,null,null,null,null,null,null,null,null,null,null,null,null,0,0,0,"idfc classic equity plan b","MAG336","Diversified equity",null,null,null,null,null,null,null,null,null,null,null,{"$f":"IFERROR(VLOOKUP(ROWS($AE$2:AE267),P267:Q2170,2,0),\"\")","v":""},null,null,null,null,{"$f":"IFERROR(VLOOKUP(ROWS($AJ$2:AJ267),O267:Q2170,3,0),\"\")","v":""},null,{"$f":"IFERROR(VLOOKUP(ROWS(AL$2:$AL267),N267:Q2170,4,0),\"\")","v":""}]
[null,null,null,null,null,null,null,null,null,null,null,null,null,0,0,0,"idfc classic equity regular","MAG091","Diversified equity",null,null,null,null,null,null,null,null,null,null,null,{"$f":"IFERROR(VLOOKUP(ROWS($AE$2:AE268),P268:Q2171,2,0),\"\")","v":""},null,null,null,null,{"$f":"IFERROR(VLOOKUP(ROWS($AJ$2:AJ268),O268:Q2171,3,0),\"\")","v":""},null,{"$f":"IFERROR(VLOOKUP(ROWS(AL$2:$AL268),N268:Q2171,4,0),\"\")","v":""}]
[null,null,null,null,null,null,null,null,null,null,null,null,null,0,0,0,"idfc equity opport sr 1 dir dp ","MAG914","Diversified equity",null,null,null,null,null,null,null,null,null,null,null,{"$f":"IFERROR(VLOOKUP(ROWS($AE$2:AE269),P269:Q2172,2,0),\"\")","v":""},null,null,null,null,{"$f":"IFERROR(VLOOKUP(ROWS($AJ$2:AJ269),O269:Q2172,3,0),\"\")","v":""},null,{"$f":"IFERROR(VLOOKUP(ROWS(AL$2:$AL269),N269:Q2172,4,0),\"\")","v":""}]
[null,null,null,null,null,null,null,null,null,null,null,null,null,0,0,0,"idfc equity opport sr 1 reg dp ","MAG912","Diversified equity",null,null,null,null,null,null,null,null,null,null,null,{"$f":"IFERROR(VLOOKUP(ROWS($AE$2:AE270),P270:Q2173,2,0),\"\")","v":""},null,null,null,null,{"$f":"IFERROR(VLOOKUP(ROWS($AJ$2:AJ270),O270:Q2173,3,0),\"\")","v":""},null,{"$f":"IFERROR(VLOOKUP(ROWS(AL$2:$AL270),N270:Q2173,4,0),\"\")","v":""}]
[null,null,null,null,null,null,null,null,null,null,null,null,null,0,0,0,"idfc equity opport sr 2 dir dp ","MAG1323","Diversified equity",null,null,null,null,null,null,null,null,null,null,null,{"$f":"IFERROR(VLOOKUP(ROWS($AE$2:AE271),P271:Q2174,2,0),\"\")","v":""},null,null,null,null,{"$f":"IFERROR(VLOOKUP(ROWS($AJ$2:AJ271),O271:Q2174,3,0),\"\")","v":""},null,{"$f":"IFERROR(VLOOKUP(ROWS(AL$2:$AL271),N271:Q2174,4,0),\"\")","v":""}]
[null,null,null,null,null,null,null,null,null,null,null,null,null,0,0,0,"idfc equity opport sr 2 reg dp ","MAG1321","Diversified equity",null,null,null,null,null,null,null,null,null,null,null,{"$f":"IFERROR(VLOOKUP(ROWS($AE$2:AE272),P272:Q2175,2,0),\"\")","v":""},null,null,null,null,{"$f":"IFERROR(VLOOKUP(ROWS($AJ$2:AJ272),O272:Q2175,3,0),\"\")","v":""},null,{"$f":"IFERROR(VLOOKUP(ROWS(AL$2:$AL272),N272:Q2175,4,0),\"\")","v":""}]
[null,null,null,null,null,null,null,null,null,null,null,null,null,0,0,0,"idfc equity opport sr 3 dir dp ","MAG1327","Diversified equity",null,null,null,null,null,null,null,null,null,null,null,{"$f":"IFERROR(VLOOKUP(ROWS($AE$2:AE273),P273:Q2176,2,0),\"\")","v":""},null,null,null,null,{"$f":"IFERROR(VLOOKUP(ROWS($AJ$2:AJ273),O273:Q2176,3,0),\"\")","v":""},null,{"$f":"IFERROR(VLOOKUP(ROWS(AL$2:$AL273),N273:Q2176,4,0),\"\")","v":""}]
[null,null,null,null,null,null,null,null,null,null,null,null,null,0,0,0,"idfc equity opport sr 3 reg dp ","MAG1325","Diversified equity",null,null,null,null,null,null,null,null,null,null,null,{"$f":"IFERROR(VLOOKUP(ROWS($AE$2:AE274),P274:Q2177,2,0),\"\")","v":""},null,null,null,null,{"$f":"IFERROR(VLOOKUP(ROWS($AJ$2:AJ274),O274:Q2177,3,0),\"\")","v":""},null,{"$f":"IFERROR(VLOOKUP(ROWS(AL$2:$AL274),N274:Q2177,4,0),\"\")","v":""}]
[null,null,null,null,null,null,null,null,null,null,null,null,null,0,0,0,"idfc india gdp growth regular g ","MAG324","Diversified equity",null,null,null,null,null,null,null,null,null,null,null,{"$f":"IFERROR(VLOOKUP(ROWS($AE$2:AE275),P275:Q2178,2,0),\"\")","v":""},null,null,null,null,{"$f":"IFERROR(VLOOKUP(ROWS($AJ$2:AJ275),O275:Q2178,3,0),\"\")","v":""},null,{"$f":"IFERROR(VLOOKUP(ROWS(AL$2:$AL275),N275:Q2178,4,0),\"\")","v":""}]
[null,null,null,null,null,null,null,null,null,null,null,null,null,0,0,0,"jm equity fund","MJM002","Diversified equity",null,null,null,null,null,null,null,null,null,null,null,{"$f":"IFERROR(VLOOKUP(ROWS($AE$2:AE276),P276:Q2179,2,0),\"\")","v":""},null,null,null,null,{"$f":"IFERROR(VLOOKUP(ROWS($AJ$2:AJ276),O276:Q2179,3,0),\"\")","v":""},null,{"$f":"IFERROR(VLOOKUP(ROWS(AL$2:$AL276),N276:Q2179,4,0),\"\")","v":""}]
[null,null,null,null,null,null,null,null,null,null,null,null,null,0,0,0,"kotak equity savings fund regular","MKM887","Diversified equity",null,null,null,null,null,null,null,null,null,null,null,{"$f":"IFERROR(VLOOKUP(ROWS($AE$2:AE277),P277:Q2180,2,0),\"\")","v":""},null,null,null,null,{"$f":"IFERROR(VLOOKUP(ROWS($AJ$2:AJ277),O277:Q2180,3,0),\"\")","v":""},null,{"$f":"IFERROR(VLOOKUP(ROWS(AL$2:$AL277),N277:Q2180,4,0),\"\")","v":""}]
[null,null,null,null,null,null,null,null,null,null,null,null,null,0,0,0,"kotak india growth fund sr i regular","MKM916","Diversified equity",null,null,null,null,null,null,null,null,null,null,null,{"$f":"IFERROR(VLOOKUP(ROWS($AE$2:AE278),P278:Q2181,2,0),\"\")","v":""},null,null,null,null,{"$f":"IFERROR(VLOOKUP(ROWS($AJ$2:AJ278),O278:Q2181,3,0),\"\")","v":""},null,{"$f":"IFERROR(VLOOKUP(ROWS(AL$2:$AL278),N278:Q2181,4,0),\"\")","v":""}]
[null,null,null,null,null,null,null,null,null,null,null,null,null,0,0,0,"kotak opportunities fund regular","MKM067","Diversified equity",null,null,null,null,null,null,null,null,null,null,null,{"$f":"IFERROR(VLOOKUP(ROWS($AE$2:AE279),P279:Q2182,2,0),\"\")","v":""},null,null,null,null,{"$f":"IFERROR(VLOOKUP(ROWS($AJ$2:AJ279),O279:Q2182,3,0),\"\")","v":""},null,{"$f":"IFERROR(VLOOKUP(ROWS(AL$2:$AL279),N279:Q2182,4,0),\"\")","v":""}]
[null,null,null,null,null,null,null,null,null,null,null,null,null,0,0,0,"kotak select focus fund regular","MKM311","Diversified equity",null,null,null,null,null,null,null,null,null,null,null,{"$f":"IFERROR(VLOOKUP(ROWS($AE$2:AE280),P280:Q2183,2,0),\"\")","v":""},null,null,null,null,{"$f":"IFERROR(VLOOKUP(ROWS($AJ$2:AJ280),O280:Q2183,3,0),\"\")","v":""},null,{"$f":"IFERROR(VLOOKUP(ROWS(AL$2:$AL280),N280:Q2183,4,0),\"\")","v":""}]
[null,null,null,null,null,null,null,null,null,null,null,null,null,0,0,0,"lic nomura diver eqty sr 1 dp","MJB358","Diversified equity",null,null,null,null,null,null,null,null,null,null,null,{"$f":"IFERROR(VLOOKUP(ROWS($AE$2:AE281),P281:Q2184,2,0),\"\")","v":""},null,null,null,null,{"$f":"IFERROR(VLOOKUP(ROWS($AJ$2:AJ281),O281:Q2184,3,0),\"\")","v":""},null,{"$f":"IFERROR(VLOOKUP(ROWS(AL$2:$AL281),N281:Q2184,4,0),\"\")","v":""}]
[null,null,null,null,null,null,null,null,null,null,null,null,null,0,0,0,"lic nomura diver eqty sr 1 rp","MJB356","Diversified equity",null,null,null,null,null,null,null,null,null,null,null,{"$f":"IFERROR(VLOOKUP(ROWS($AE$2:AE282),P282:Q2185,2,0),\"\")","v":""},null,null,null,null,{"$f":"IFERROR(VLOOKUP(ROWS($AJ$2:AJ282),O282:Q2185,3,0),\"\")","v":""},null,{"$f":"IFERROR(VLOOKUP(ROWS(AL$2:$AL282),N282:Q2185,4,0),\"\")","v":""}]
[null,null,null,null,null,null,null,null,null,null,null,null,null,0,0,0,"lic nomura equity fund","MJB001","Diversified equity",null,null,null,null,null,null,null,null,null,null,null,{"$f":"IFERROR(VLOOKUP(ROWS($AE$2:AE283),P283:Q2186,2,0),\"\")","v":""},null,null,null,null,{"$f":"IFERROR(VLOOKUP(ROWS($AJ$2:AJ283),O283:Q2186,3,0),\"\")","v":""},null,{"$f":"IFERROR(VLOOKUP(ROWS(AL$2:$AL283),N283:Q2186,4,0),\"\")","v":""}]
[null,null,null,null,null,null,null,null,null,null,null,null,null,0,0,0,"l t business cycles regular","MCC516","Diversified equity",null,null,null,null,null,null,null,null,null,null,null,{"$f":"IFERROR(VLOOKUP(ROWS($AE$2:AE284),P284:Q2187,2,0),\"\")","v":""},null,null,null,null,{"$f":"IFERROR(VLOOKUP(ROWS($AJ$2:AJ284),O284:Q2187,3,0),\"\")","v":""},null,{"$f":"IFERROR(VLOOKUP(ROWS(AL$2:$AL284),N284:Q2187,4,0),\"\")","v":""}]
[null,null,null,null,null,null,null,null,null,null,null,null,null,0,0,0,"l t equity fund","MFF001","Diversified equity",null,null,null,null,null,null,null,null,null,null,null,{"$f":"IFERROR(VLOOKUP(ROWS($AE$2:AE285),P285:Q2188,2,0),\"\")","v":""},null,null,null,null,{"$f":"IFERROR(VLOOKUP(ROWS($AJ$2:AJ285),O285:Q2188,3,0),\"\")","v":""},null,{"$f":"IFERROR(VLOOKUP(ROWS(AL$2:$AL285),N285:Q2188,4,0),\"\")","v":""}]
[null,null,null,null,null,null,null,null,null,null,null,null,null,0,0,0,"l t india special situations","MFF007","Diversified equity",null,null,null,null,null,null,null,null,null,null,null,{"$f":"IFERROR(VLOOKUP(ROWS($AE$2:AE286),P286:Q2189,2,0),\"\")","v":""},null,null,null,null,{"$f":"IFERROR(VLOOKUP(ROWS($AJ$2:AJ286),O286:Q2189,3,0),\"\")","v":""},null,{"$f":"IFERROR(VLOOKUP(ROWS(AL$2:$AL286),N286:Q2189,4,0),\"\")","v":""}]
[null,null,null,null,null,null,null,null,null,null,null,null,null,0,0,0,"l t india value fund","MFF061","Diversified equity",null,null,null,null,null,null,null,null,null,null,null,{"$f":"IFERROR(VLOOKUP(ROWS($AE$2:AE287),P287:Q2190,2,0),\"\")","v":""},null,null,null,null,{"$f":"IFERROR(VLOOKUP(ROWS($AJ$2:AJ287),O287:Q2190,3,0),\"\")","v":""},null,{"$f":"IFERROR(VLOOKUP(ROWS(AL$2:$AL287),N287:Q2190,4,0),\"\")","v":""}]
[null,null,null,null,null,null,null,null,null,null,null,null,null,0,0,0,"l t indo asia fund","MFF025","Diversified equity",null,null,null,null,null,null,null,null,null,null,null,{"$f":"IFERROR(VLOOKUP(ROWS($AE$2:AE288),P288:Q2191,2,0),\"\")","v":""},null,null,null,null,{"$f":"IFERROR(VLOOKUP(ROWS($AJ$2:AJ288),O288:Q2191,3,0),\"\")","v":""},null,{"$f":"IFERROR(VLOOKUP(ROWS(AL$2:$AL288),N288:Q2191,4,0),\"\")","v":""}]
[null,null,null,null,null,null,null,null,null,null,null,null,null,0,0,0,"mirae india china consumption","MMA090","Diversified equity",null,null,null,null,null,null,null,null,null,null,null,{"$f":"IFERROR(VLOOKUP(ROWS($AE$2:AE289),P289:Q2192,2,0),\"\")","v":""},null,null,null,null,{"$f":"IFERROR(VLOOKUP(ROWS($AJ$2:AJ289),O289:Q2192,3,0),\"\")","v":""},null,{"$f":"IFERROR(VLOOKUP(ROWS(AL$2:$AL289),N289:Q2192,4,0),\"\")","v":""}]
[null,null,null,null,null,null,null,null,null,null,null,null,null,0,0,0,"mirae i opportunities rp","MMA001","Diversified equity",null,null,null,null,null,null,null,null,null,null,null,{"$f":"IFERROR(VLOOKUP(ROWS($AE$2:AE290),P290:Q2193,2,0),\"\")","v":""},null,null,null,null,{"$f":"IFERROR(VLOOKUP(ROWS($AJ$2:AJ290),O290:Q2193,3,0),\"\")","v":""},null,{"$f":"IFERROR(VLOOKUP(ROWS(AL$2:$AL290),N290:Q2193,4,0),\"\")","v":""}]
[null,null,null,null,null,null,null,null,null,null,null,null,null,0,0,0,"motilal focused multicap 35 dp","MMO031","Diversified equity",null,null,null,null,null,null,null,null,null,null,null,{"$f":"IFERROR(VLOOKUP(ROWS($AE$2:AE291),P291:Q2194,2,0),\"\")","v":""},null,null,null,null,{"$f":"IFERROR(VLOOKUP(ROWS($AJ$2:AJ291),O291:Q2194,3,0),\"\")","v":""},null,{"$f":"IFERROR(VLOOKUP(ROWS(AL$2:$AL291),N291:Q2194,4,0),\"\")","v":""}]
[null,null,null,null,null,null,null,null,null,null,null,null,null,0,0,0,"motilal focused multicap 35 rp","MMO029","Diversified equity",null,null,null,null,null,null,null,null,null,null,null,{"$f":"IFERROR(VLOOKUP(ROWS($AE$2:AE292),P292:Q2195,2,0),\"\")","v":""},null,null,null,null,{"$f":"IFERROR(VLOOKUP(ROWS($AJ$2:AJ292),O292:Q2195,3,0),\"\")","v":""},null,{"$f":"IFERROR(VLOOKUP(ROWS(AL$2:$AL292),N292:Q2195,4,0),\"\")","v":""}]
[null,null,null,null,null,null,null,null,null,null,null,null,null,0,0,0,"motilal most focused 25 dp","MMO011","Diversified equity",null,null,null,null,null,null,null,null,null,null,null,{"$f":"IFERROR(VLOOKUP(ROWS($AE$2:AE293),P293:Q2196,2,0),\"\")","v":""},null,null,null,null,{"$f":"IFERROR(VLOOKUP(ROWS($AJ$2:AJ293),O293:Q2196,3,0),\"\")","v":""},null,{"$f":"IFERROR(VLOOKUP(ROWS(AL$2:$AL293),N293:Q2196,4,0),\"\")","v":""}]
[null,null,null,null,null,null,null,null,null,null,null,null,null,0,0,0,"motilal most focused 25 rp","MMO009","Diversified equity",null,null,null,null,null,null,null,null,null,null,null,{"$f":"IFERROR(VLOOKUP(ROWS($AE$2:AE294),P294:Q2197,2,0),\"\")","v":""},null,null,null,null,{"$f":"IFERROR(VLOOKUP(ROWS($AJ$2:AJ294),O294:Q2197,3,0),\"\")","v":""},null,{"$f":"IFERROR(VLOOKUP(ROWS(AL$2:$AL294),N294:Q2197,4,0),\"\")","v":""}]
[null,null,null,null,null,null,null,null,null,null,null,null,null,0,0,0,"peerless equity fund","MPM034","Diversified equity",null,null,null,null,null,null,null,null,null,null,null,{"$f":"IFERROR(VLOOKUP(ROWS($AE$2:AE295),P295:Q2198,2,0),\"\")","v":""},null,null,null,null,{"$f":"IFERROR(VLOOKUP(ROWS($AJ$2:AJ295),O295:Q2198,3,0),\"\")","v":""},null,{"$f":"IFERROR(VLOOKUP(ROWS(AL$2:$AL295),N295:Q2198,4,0),\"\")","v":""}]
[null,null,null,null,null,null,null,null,null,null,null,null,null,0,0,0,"ppfas long term value fund dp","MPP002","Diversified equity",null,null,null,null,null,null,null,null,null,null,null,{"$f":"IFERROR(VLOOKUP(ROWS($AE$2:AE296),P296:Q2199,2,0),\"\")","v":""},null,null,null,null,{"$f":"IFERROR(VLOOKUP(ROWS($AJ$2:AJ296),O296:Q2199,3,0),\"\")","v":""},null,{"$f":"IFERROR(VLOOKUP(ROWS(AL$2:$AL296),N296:Q2199,4,0),\"\")","v":""}]
[null,null,null,null,null,null,null,null,null,null,null,null,null,0,0,0,"ppfas long term value fund rp","MPP001","Diversified equity",null,null,null,null,null,null,null,null,null,null,null,{"$f":"IFERROR(VLOOKUP(ROWS($AE$2:AE297),P297:Q2200,2,0),\"\")","v":""},null,null,null,null,{"$f":"IFERROR(VLOOKUP(ROWS($AJ$2:AJ297),O297:Q2200,3,0),\"\")","v":""},null,{"$f":"IFERROR(VLOOKUP(ROWS(AL$2:$AL297),N297:Q2200,4,0),\"\")","v":""}]
[null,null,null,null,null,null,null,null,null,null,null,null,null,0,0,0,"principal dividend yield","MID072","Diversified equity",null,null,null,null,null,null,null,null,null,null,null,{"$f":"IFERROR(VLOOKUP(ROWS($AE$2:AE298),P298:Q2201,2,0),\"\")","v":""},null,null,null,null,{"$f":"IFERROR(VLOOKUP(ROWS($AJ$2:AJ298),O298:Q2201,3,0),\"\")","v":""},null,{"$f":"IFERROR(VLOOKUP(ROWS(AL$2:$AL298),N298:Q2201,4,0),\"\")","v":""}]
[null,null,null,null,null,null,null,null,null,null,null,null,null,0,0,0,"principal growth fund","MID010","Diversified equity",null,null,null,null,null,null,null,null,null,null,null,{"$f":"IFERROR(VLOOKUP(ROWS($AE$2:AE299),P299:Q2202,2,0),\"\")","v":""},null,null,null,null,{"$f":"IFERROR(VLOOKUP(ROWS($AJ$2:AJ299),O299:Q2202,3,0),\"\")","v":""},null,{"$f":"IFERROR(VLOOKUP(ROWS(AL$2:$AL299),N299:Q2202,4,0),\"\")","v":""}]
[null,null,null,null,null,null,null,null,null,null,null,null,null,0,0,0,"principal services indu ","MID096","Diversified equity",null,null,null,null,null,null,null,null,null,null,null,{"$f":"IFERROR(VLOOKUP(ROWS($AE$2:AE300),P300:Q2203,2,0),\"\")","v":""},null,null,null,null,{"$f":"IFERROR(VLOOKUP(ROWS($AJ$2:AJ300),O300:Q2203,3,0),\"\")","v":""},null,{"$f":"IFERROR(VLOOKUP(ROWS(AL$2:$AL300),N300:Q2203,4,0),\"\")","v":""}]
[null,null,null,null,null,null,null,null,null,null,null,null,null,0,0,0,"quantum long term equity","MQU001","Diversified equity",null,null,null,null,null,null,null,null,null,null,null,{"$f":"IFERROR(VLOOKUP(ROWS($AE$2:AE301),P301:Q2204,2,0),\"\")","v":""},null,null,null,null,{"$f":"IFERROR(VLOOKUP(ROWS($AJ$2:AJ301),O301:Q2204,3,0),\"\")","v":""},null,{"$f":"IFERROR(VLOOKUP(ROWS(AL$2:$AL301),N301:Q2204,4,0),\"\")","v":""}]
[null,null,null,null,null,null,null,null,null,null,null,null,null,0,0,0,"reliance capital builder ii sr a","MRC1757","Diversified equity",null,null,null,null,null,null,null,null,null,null,null,{"$f":"IFERROR(VLOOKUP(ROWS($AE$2:AE302),P302:Q2205,2,0),\"\")","v":""},null,null,null,null,{"$f":"IFERROR(VLOOKUP(ROWS($AJ$2:AJ302),O302:Q2205,3,0),\"\")","v":""},null,{"$f":"IFERROR(VLOOKUP(ROWS(AL$2:$AL302),N302:Q2205,4,0),\"\")","v":""}]
[null,null,null,null,null,null,null,null,null,null,null,null,null,0,0,0,"reliance capital builder ii sr a dp","MRC1759","Diversified equity",null,null,null,null,null,null,null,null,null,null,null,{"$f":"IFERROR(VLOOKUP(ROWS($AE$2:AE303),P303:Q2206,2,0),\"\")","v":""},null,null,null,null,{"$f":"IFERROR(VLOOKUP(ROWS($AJ$2:AJ303),O303:Q2206,3,0),\"\")","v":""},null,{"$f":"IFERROR(VLOOKUP(ROWS(AL$2:$AL303),N303:Q2206,4,0),\"\")","v":""}]
[null,null,null,null,null,null,null,null,null,null,null,null,null,0,0,0,"reliance capital builder ii sr b","MRC1761","Diversified equity",null,null,null,null,null,null,null,null,null,null,null,{"$f":"IFERROR(VLOOKUP(ROWS($AE$2:AE304),P304:Q2207,2,0),\"\")","v":""},null,null,null,null,{"$f":"IFERROR(VLOOKUP(ROWS($AJ$2:AJ304),O304:Q2207,3,0),\"\")","v":""},null,{"$f":"IFERROR(VLOOKUP(ROWS(AL$2:$AL304),N304:Q2207,4,0),\"\")","v":""}]
[null,null,null,null,null,null,null,null,null,null,null,null,null,0,0,0,"reliance capital builder ii sr b dp","MRC1763","Diversified equity",null,null,null,null,null,null,null,null,null,null,null,{"$f":"IFERROR(VLOOKUP(ROWS($AE$2:AE305),P305:Q2208,2,0),\"\")","v":""},null,null,null,null,{"$f":"IFERROR(VLOOKUP(ROWS($AJ$2:AJ305),O305:Q2208,3,0),\"\")","v":""},null,{"$f":"IFERROR(VLOOKUP(ROWS(AL$2:$AL305),N305:Q2208,4,0),\"\")","v":""}]
[null,null,null,null,null,null,null,null,null,null,null,null,null,0,0,0,"reliance capital builder ii sr c","MRC1833","Diversified equity",null,null,null,null,null,null,null,null,null,null,null,{"$f":"IFERROR(VLOOKUP(ROWS($AE$2:AE306),P306:Q2209,2,0),\"\")","v":""},null,null,null,null,{"$f":"IFERROR(VLOOKUP(ROWS($AJ$2:AJ306),O306:Q2209,3,0),\"\")","v":""},null,{"$f":"IFERROR(VLOOKUP(ROWS(AL$2:$AL306),N306:Q2209,4,0),\"\")","v":""}]
[null,null,null,null,null,null,null,null,null,null,null,null,null,0,0,0,"reliance capital builder ii sr c dp","MRC1835","Diversified equity",null,null,null,null,null,null,null,null,null,null,null,{"$f":"IFERROR(VLOOKUP(ROWS($AE$2:AE307),P307:Q2210,2,0),\"\")","v":""},null,null,null,null,{"$f":"IFERROR(VLOOKUP(ROWS($AJ$2:AJ307),O307:Q2210,3,0),\"\")","v":""},null,{"$f":"IFERROR(VLOOKUP(ROWS(AL$2:$AL307),N307:Q2210,4,0),\"\")","v":""}]
[null,null,null,null,null,null,null,null,null,null,null,null,null,0,0,0,"reliance capital builder sr a","MRC1634","Diversified equity",null,null,null,null,null,null,null,null,null,null,null,{"$f":"IFERROR(VLOOKUP(ROWS($AE$2:AE308),P308:Q2211,2,0),\"\")","v":""},null,null,null,null,{"$f":"IFERROR(VLOOKUP(ROWS($AJ$2:AJ308),O308:Q2211,3,0),\"\")","v":""},null,{"$f":"IFERROR(VLOOKUP(ROWS(AL$2:$AL308),N308:Q2211,4,0),\"\")","v":""}]
[null,null,null,null,null,null,null,null,null,null,null,null,null,0,0,0,"reliance capital builder sr a dp","MRC1636","Diversified equity",null,null,null,null,null,null,null,null,null,null,null,{"$f":"IFERROR(VLOOKUP(ROWS($AE$2:AE309),P309:Q2212,2,0),\"\")","v":""},null,null,null,null,{"$f":"IFERROR(VLOOKUP(ROWS($AJ$2:AJ309),O309:Q2212,3,0),\"\")","v":""},null,{"$f":"IFERROR(VLOOKUP(ROWS(AL$2:$AL309),N309:Q2212,4,0),\"\")","v":""}]
[null,null,null,null,null,null,null,null,null,null,null,null,null,0,0,0,"reliance capital builder sr b","MRC1656","Diversified equity",null,null,null,null,null,null,null,null,null,null,null,{"$f":"IFERROR(VLOOKUP(ROWS($AE$2:AE310),P310:Q2213,2,0),\"\")","v":""},null,null,null,null,{"$f":"IFERROR(VLOOKUP(ROWS($AJ$2:AJ310),O310:Q2213,3,0),\"\")","v":""},null,{"$f":"IFERROR(VLOOKUP(ROWS(AL$2:$AL310),N310:Q2213,4,0),\"\")","v":""}]
[null,null,null,null,null,null,null,null,null,null,null,null,null,0,0,0,"reliance capital builder sr b dp","MRC1658","Diversified equity",null,null,null,null,null,null,null,null,null,null,null,{"$f":"IFERROR(VLOOKUP(ROWS($AE$2:AE311),P311:Q2214,2,0),\"\")","v":""},null,null,null,null,{"$f":"IFERROR(VLOOKUP(ROWS($AJ$2:AJ311),O311:Q2214,3,0),\"\")","v":""},null,{"$f":"IFERROR(VLOOKUP(ROWS(AL$2:$AL311),N311:Q2214,4,0),\"\")","v":""}]
[null,null,null,null,null,null,null,null,null,null,null,null,null,0,0,0,"reliance capital builder sr c","MRC1684","Diversified equity",null,null,null,null,null,null,null,null,null,null,null,{"$f":"IFERROR(VLOOKUP(ROWS($AE$2:AE312),P312:Q2215,2,0),\"\")","v":""},null,null,null,null,{"$f":"IFERROR(VLOOKUP(ROWS($AJ$2:AJ312),O312:Q2215,3,0),\"\")","v":""},null,{"$f":"IFERROR(VLOOKUP(ROWS(AL$2:$AL312),N312:Q2215,4,0),\"\")","v":""}]
[null,null,null,null,null,null,null,null,null,null,null,null,null,0,0,0,"reliance capital builder sr c dp","MRC1686","Diversified equity",null,null,null,null,null,null,null,null,null,null,null,{"$f":"IFERROR(VLOOKUP(ROWS($AE$2:AE313),P313:Q2216,2,0),\"\")","v":""},null,null,null,null,{"$f":"IFERROR(VLOOKUP(ROWS($AJ$2:AJ313),O313:Q2216,3,0),\"\")","v":""},null,{"$f":"IFERROR(VLOOKUP(ROWS(AL$2:$AL313),N313:Q2216,4,0),\"\")","v":""}]
[null,null,null,null,null,null,null,null,null,null,null,null,null,0,0,0,"reliance close ended eqty sr a","MRC1304","Diversified equity",null,null,null,null,null,null,null,null,null,null,null,{"$f":"IFERROR(VLOOKUP(ROWS($AE$2:AE314),P314:Q2217,2,0),\"\")","v":""},null,null,null,null,{"$f":"IFERROR(VLOOKUP(ROWS($AJ$2:AJ314),O314:Q2217,3,0),\"\")","v":""},null,{"$f":"IFERROR(VLOOKUP(ROWS(AL$2:$AL314),N314:Q2217,4,0),\"\")","v":""}]
[null,null,null,null,null,null,null,null,null,null,null,null,null,0,0,0,"reliance close ended eqty sr a dp g","MRC1306","Diversified equity",null,null,null,null,null,null,null,null,null,null,null,{"$f":"IFERROR(VLOOKUP(ROWS($AE$2:AE315),P315:Q2218,2,0),\"\")","v":""},null,null,null,null,{"$f":"IFERROR(VLOOKUP(ROWS($AJ$2:AJ315),O315:Q2218,3,0),\"\")","v":""},null,{"$f":"IFERROR(VLOOKUP(ROWS(AL$2:$AL315),N315:Q2218,4,0),\"\")","v":""}]
[null,null,null,null,null,null,null,null,null,null,null,null,null,0,0,0,"reliance close ended eqty sr b","MRC1336","Diversified equity",null,null,null,null,null,null,null,null,null,null,null,{"$f":"IFERROR(VLOOKUP(ROWS($AE$2:AE316),P316:Q2219,2,0),\"\")","v":""},null,null,null,null,{"$f":"IFERROR(VLOOKUP(ROWS($AJ$2:AJ316),O316:Q2219,3,0),\"\")","v":""},null,{"$f":"IFERROR(VLOOKUP(ROWS(AL$2:$AL316),N316:Q2219,4,0),\"\")","v":""}]
[null,null,null,null,null,null,null,null,null,null,null,null,null,0,0,0,"reliance close ended eqty sr b dp g","MRC1338","Diversified equity",null,null,null,null,null,null,null,null,null,null,null,{"$f":"IFERROR(VLOOKUP(ROWS($AE$2:AE317),P317:Q2220,2,0),\"\")","v":""},null,null,null,null,{"$f":"IFERROR(VLOOKUP(ROWS($AJ$2:AJ317),O317:Q2220,3,0),\"\")","v":""},null,{"$f":"IFERROR(VLOOKUP(ROWS(AL$2:$AL317),N317:Q2220,4,0),\"\")","v":""}]
[null,null,null,null,null,null,null,null,null,null,null,null,null,0,0,0,"reliance close end eqty 2 sr a dp g","MRC1576","Diversified equity",null,null,null,null,null,null,null,null,null,null,null,{"$f":"IFERROR(VLOOKUP(ROWS($AE$2:AE318),P318:Q2221,2,0),\"\")","v":""},null,null,null,null,{"$f":"IFERROR(VLOOKUP(ROWS($AJ$2:AJ318),O318:Q2221,3,0),\"\")","v":""},null,{"$f":"IFERROR(VLOOKUP(ROWS(AL$2:$AL318),N318:Q2221,4,0),\"\")","v":""}]
[null,null,null,null,null,null,null,null,null,null,null,null,null,0,0,0,"reliance equity oppor ip","MRC231","Diversified equity",null,null,null,null,null,null,null,null,null,null,null,{"$f":"IFERROR(VLOOKUP(ROWS($AE$2:AE319),P319:Q2222,2,0),\"\")","v":""},null,null,null,null,{"$f":"IFERROR(VLOOKUP(ROWS($AJ$2:AJ319),O319:Q2222,3,0),\"\")","v":""},null,{"$f":"IFERROR(VLOOKUP(ROWS(AL$2:$AL319),N319:Q2222,4,0),\"\")","v":""}]
[null,null,null,null,null,null,null,null,null,null,null,null,null,0,0,0,"reliance equity oppor rp","MRC089","Diversified equity",null,null,null,null,null,null,null,null,null,null,null,{"$f":"IFERROR(VLOOKUP(ROWS($AE$2:AE320),P320:Q2223,2,0),\"\")","v":""},null,null,null,null,{"$f":"IFERROR(VLOOKUP(ROWS($AJ$2:AJ320),O320:Q2223,3,0),\"\")","v":""},null,{"$f":"IFERROR(VLOOKUP(ROWS(AL$2:$AL320),N320:Q2223,4,0),\"\")","v":""}]
[null,null,null,null,null,null,null,null,null,null,null,null,null,0,0,0,"reliance growth fund ip","MRC234","Diversified equity",null,null,null,null,null,null,null,null,null,null,null,{"$f":"IFERROR(VLOOKUP(ROWS($AE$2:AE321),P321:Q2224,2,0),\"\")","v":""},null,null,null,null,{"$f":"IFERROR(VLOOKUP(ROWS($AJ$2:AJ321),O321:Q2224,3,0),\"\")","v":""},null,{"$f":"IFERROR(VLOOKUP(ROWS(AL$2:$AL321),N321:Q2224,4,0),\"\")","v":""}]
[null,null,null,null,null,null,null,null,null,null,null,null,null,0,0,{"$f":"IF(ISNUMBER(SEARCH($H$6,Q322)),MAX($P$1,P321)+1,0)","v":0},"reliance growth fund rp","MRC008","Diversified equity",null,null,null,null,null,null,null,null,null,null,null,{"$f":"IFERROR(VLOOKUP(ROWS($AE$2:AE322),P322:Q2225,2,0),\"\")","v":""},null,null,null,null,{"$f":"IFERROR(VLOOKUP(ROWS($AJ$2:AJ322),O322:Q2225,3,0),\"\")","v":""},null,{"$f":"IFERROR(VLOOKUP(ROWS(AL$2:$AL322),N322:Q2225,4,0),\"\")","v":""}]
[null,null,null,null,null,null,null,null,null,null,null,null,null,{"$f":"IF(ISNUMBER(SEARCH($H$16,Q323)),MAX($N$1,N322)+1,0)","v":0},{"$f":"IF(ISNUMBER(SEARCH($H$11,Q323)),MAX($O$1,O322)+1,0)","v":0},0,"reliance nri equity fund","MRC078","Diversified equity",null,null,null,null,null,null,null,null,null,null,null,{"$f":"IFERROR(VLOOKUP(ROWS($AE$2:AE323),P323:Q2226,2,0),\"\")","v":""},null,null,null,null,{"$f":"IFERROR(VLOOKUP(ROWS($AJ$2:AJ323),O323:Q2226,3,0),\"\")","v":""},null,{"$f":"IFERROR(VLOOKUP(ROWS(AL$2:$AL323),N323:Q2226,4,0),\"\")","v":""}]
[null,null,null,null,null,null,null,null,null,null,null,null,null,0,0,0,"reliance rsf equity","MRC098","Diversified equity",null,null,null,null,null,null,null,null,null,null,null,{"$f":"IFERROR(VLOOKUP(ROWS($AE$2:AE324),P324:Q2227,2,0),\"\")","v":""},null,null,null,null,{"$f":"IFERROR(VLOOKUP(ROWS($AJ$2:AJ324),O324:Q2227,3,0),\"\")","v":""},null,{"$f":"IFERROR(VLOOKUP(ROWS(AL$2:$AL324),N324:Q2227,4,0),\"\")","v":""}]
[null,null,null,null,null,null,null,null,null,null,null,null,null,0,0,0,"reliance top 200 fund ip","MRC158","Diversified equity",null,null,null,null,null,null,null,null,null,null,null,{"$f":"IFERROR(VLOOKUP(ROWS($AE$2:AE325),P325:Q2228,2,0),\"\")","v":""},null,null,null,null,{"$f":"IFERROR(VLOOKUP(ROWS($AJ$2:AJ325),O325:Q2228,3,0),\"\")","v":""},null,{"$f":"IFERROR(VLOOKUP(ROWS(AL$2:$AL325),N325:Q2228,4,0),\"\")","v":""}]
[null,null,null,null,null,null,null,null,null,null,null,null,null,0,0,0,"reliance top 200 fund rp","MRC155","Diversified equity",null,null,null,null,null,null,null,null,null,null,null,{"$f":"IFERROR(VLOOKUP(ROWS($AE$2:AE326),P326:Q2229,2,0),\"\")","v":""},null,null,null,null,{"$f":"IFERROR(VLOOKUP(ROWS($AJ$2:AJ326),O326:Q2229,3,0),\"\")","v":""},null,{"$f":"IFERROR(VLOOKUP(ROWS(AL$2:$AL326),N326:Q2229,4,0),\"\")","v":""}]
[null,null,null,null,null,null,null,null,null,null,null,null,null,0,0,0,"reliance vision fund ip","MRC237","Diversified equity",null,null,null,null,null,null,null,null,null,null,null,{"$f":"IFERROR(VLOOKUP(ROWS($AE$2:AE327),P327:Q2230,2,0),\"\")","v":""},null,null,null,null,{"$f":"IFERROR(VLOOKUP(ROWS($AJ$2:AJ327),O327:Q2230,3,0),\"\")","v":""},null,{"$f":"IFERROR(VLOOKUP(ROWS(AL$2:$AL327),N327:Q2230,4,0),\"\")","v":""}]
[null,null,null,null,null,null,null,null,null,null,null,null,null,0,0,0,"reliance vision fund rp","MRC001","Diversified equity",null,null,null,null,null,null,null,null,null,null,null,{"$f":"IFERROR(VLOOKUP(ROWS($AE$2:AE328),P328:Q2231,2,0),\"\")","v":""},null,null,null,null,{"$f":"IFERROR(VLOOKUP(ROWS($AJ$2:AJ328),O328:Q2231,3,0),\"\")","v":""},null,{"$f":"IFERROR(VLOOKUP(ROWS(AL$2:$AL328),N328:Q2231,4,0),\"\")","v":""}]
[null,null,null,null,null,null,null,null,null,null,null,null,null,0,0,0,"religare invesco contra","MLI019","Diversified equity",null,null,null,null,null,null,null,null,null,null,null,{"$f":"IFERROR(VLOOKUP(ROWS($AE$2:AE329),P329:Q2232,2,0),\"\")","v":""},null,null,null,null,{"$f":"IFERROR(VLOOKUP(ROWS($AJ$2:AJ329),O329:Q2232,3,0),\"\")","v":""},null,{"$f":"IFERROR(VLOOKUP(ROWS(AL$2:$AL329),N329:Q2232,4,0),\"\")","v":""}]
[null,null,null,null,null,null,null,null,null,null,null,null,null,0,0,0,"religare invesco contra dir","MLI566","Diversified equity",null,null,null,null,null,null,null,null,null,null,null,{"$f":"IFERROR(VLOOKUP(ROWS($AE$2:AE330),P330:Q2233,2,0),\"\")","v":""},null,null,null,null,{"$f":"IFERROR(VLOOKUP(ROWS($AJ$2:AJ330),O330:Q2233,3,0),\"\")","v":""},null,{"$f":"IFERROR(VLOOKUP(ROWS(AL$2:$AL330),N330:Q2233,4,0),\"\")","v":""}]
[null,null,null,null,null,null,null,null,null,null,null,null,null,0,0,0,"religare invesco dynamic equity","MLI117","Diversified equity",null,null,null,null,null,null,null,null,null,null,null,{"$f":"IFERROR(VLOOKUP(ROWS($AE$2:AE331),P331:Q2234,2,0),\"\")","v":""},null,null,null,null,{"$f":"IFERROR(VLOOKUP(ROWS($AJ$2:AJ331),O331:Q2234,3,0),\"\")","v":""},null,{"$f":"IFERROR(VLOOKUP(ROWS(AL$2:$AL331),N331:Q2234,4,0),\"\")","v":""}]
[null,null,null,null,null,null,null,null,null,null,null,null,null,0,0,0,"religare invesco dynamic equity dp","MLI564","Diversified equity",null,null,null,null,null,null,null,null,null,null,null,{"$f":"IFERROR(VLOOKUP(ROWS($AE$2:AE332),P332:Q2235,2,0),\"\")","v":""},null,null,null,null,{"$f":"IFERROR(VLOOKUP(ROWS($AJ$2:AJ332),O332:Q2235,3,0),\"\")","v":""},null,{"$f":"IFERROR(VLOOKUP(ROWS(AL$2:$AL332),N332:Q2235,4,0),\"\")","v":""}]
[null,null,null,null,null,null,null,null,null,null,null,null,null,0,0,0,"religare invesco growth fund","MLI099","Diversified equity",null,null,null,null,null,null,null,null,null,null,null,{"$f":"IFERROR(VLOOKUP(ROWS($AE$2:AE333),P333:Q2236,2,0),\"\")","v":""},null,null,null,null,{"$f":"IFERROR(VLOOKUP(ROWS($AJ$2:AJ333),O333:Q2236,3,0),\"\")","v":""},null,{"$f":"IFERROR(VLOOKUP(ROWS(AL$2:$AL333),N333:Q2236,4,0),\"\")","v":""}]
[null,null,null,null,null,null,null,null,null,null,null,null,null,0,0,0,"religare invesco growth fund dp","MLI560","Diversified equity",null,null,null,null,null,null,null,null,null,null,null,{"$f":"IFERROR(VLOOKUP(ROWS($AE$2:AE334),P334:Q2237,2,0),\"\")","v":""},null,null,null,null,{"$f":"IFERROR(VLOOKUP(ROWS($AJ$2:AJ334),O334:Q2237,3,0),\"\")","v":""},null,{"$f":"IFERROR(VLOOKUP(ROWS(AL$2:$AL334),N334:Q2237,4,0),\"\")","v":""}]
[null,null,null,null,null,null,null,null,null,null,null,null,null,0,0,0,"religare invesco psu equity","MLI345","Diversified equity",null,null,null,null,null,null,null,null,null,null,null,{"$f":"IFERROR(VLOOKUP(ROWS($AE$2:AE335),P335:Q2238,2,0),\"\")","v":""},null,null,null,null,{"$f":"IFERROR(VLOOKUP(ROWS($AJ$2:AJ335),O335:Q2238,3,0),\"\")","v":""},null,{"$f":"IFERROR(VLOOKUP(ROWS(AL$2:$AL335),N335:Q2238,4,0),\"\")","v":""}]
[null,null,null,null,null,null,null,null,null,null,null,null,null,0,0,0,"religare invesco psu equity dp","MLI552","Diversified equity",null,null,null,null,null,null,null,null,null,null,null,{"$f":"IFERROR(VLOOKUP(ROWS($AE$2:AE336),P336:Q2239,2,0),\"\")","v":""},null,null,null,null,{"$f":"IFERROR(VLOOKUP(ROWS($AJ$2:AJ336),O336:Q2239,3,0),\"\")","v":""},null,{"$f":"IFERROR(VLOOKUP(ROWS(AL$2:$AL336),N336:Q2239,4,0),\"\")","v":""}]
[null,null,null,null,null,null,null,null,null,null,null,null,null,0,0,0,"sbi contra fund","MSB010","Diversified equity",null,null,null,null,null,null,null,null,null,null,null,{"$f":"IFERROR(VLOOKUP(ROWS($AE$2:AE337),P337:Q2240,2,0),\"\")","v":""},null,null,null,null,{"$f":"IFERROR(VLOOKUP(ROWS($AJ$2:AJ337),O337:Q2240,3,0),\"\")","v":""},null,{"$f":"IFERROR(VLOOKUP(ROWS(AL$2:$AL337),N337:Q2240,4,0),\"\")","v":""}]
[null,null,null,null,null,null,null,null,null,null,null,null,null,0,0,0,"sbi equity oppor sr 1 regular","MSB1031","Diversified equity",null,null,null,null,null,null,null,null,null,null,null,{"$f":"IFERROR(VLOOKUP(ROWS($AE$2:AE338),P338:Q2241,2,0),\"\")","v":""},null,null,null,null,{"$f":"IFERROR(VLOOKUP(ROWS($AJ$2:AJ338),O338:Q2241,3,0),\"\")","v":""},null,{"$f":"IFERROR(VLOOKUP(ROWS(AL$2:$AL338),N338:Q2241,4,0),\"\")","v":""}]
[null,null,null,null,null,null,null,null,null,null,null,null,null,0,0,0,"sbi equity oppor sr 2 regular","MSB1083","Diversified equity",null,null,null,null,null,null,null,null,null,null,null,{"$f":"IFERROR(VLOOKUP(ROWS($AE$2:AE339),P339:Q2242,2,0),\"\")","v":""},null,null,null,null,{"$f":"IFERROR(VLOOKUP(ROWS($AJ$2:AJ339),O339:Q2242,3,0),\"\")","v":""},null,{"$f":"IFERROR(VLOOKUP(ROWS(AL$2:$AL339),N339:Q2242,4,0),\"\")","v":""}]
[null,null,null,null,null,null,null,null,null,null,null,null,null,0,0,0,"sbi magnum multicap fund","MSB073","Diversified equity",null,null,null,null,null,null,null,null,null,null,null,{"$f":"IFERROR(VLOOKUP(ROWS($AE$2:AE340),P340:Q2243,2,0),\"\")","v":""},null,null,null,null,{"$f":"IFERROR(VLOOKUP(ROWS($AJ$2:AJ340),O340:Q2243,3,0),\"\")","v":""},null,{"$f":"IFERROR(VLOOKUP(ROWS(AL$2:$AL340),N340:Q2243,4,0),\"\")","v":""}]
[null,null,null,null,null,null,null,null,null,null,null,null,null,0,0,0,"sbi magnum multiplier fund","MSB003","Diversified equity",null,null,null,null,null,null,null,null,null,null,null,{"$f":"IFERROR(VLOOKUP(ROWS($AE$2:AE341),P341:Q2244,2,0),\"\")","v":""},null,null,null,null,{"$f":"IFERROR(VLOOKUP(ROWS($AJ$2:AJ341),O341:Q2244,3,0),\"\")","v":""},null,{"$f":"IFERROR(VLOOKUP(ROWS(AL$2:$AL341),N341:Q2244,4,0),\"\")","v":""}]
[null,null,null,null,null,null,null,null,null,null,null,null,null,0,0,0,"sbi one india fund","MSB083","Diversified equity",null,null,null,null,null,null,null,null,null,null,null,{"$f":"IFERROR(VLOOKUP(ROWS($AE$2:AE342),P342:Q2245,2,0),\"\")","v":""},null,null,null,null,{"$f":"IFERROR(VLOOKUP(ROWS($AJ$2:AJ342),O342:Q2245,3,0),\"\")","v":""},null,{"$f":"IFERROR(VLOOKUP(ROWS(AL$2:$AL342),N342:Q2245,4,0),\"\")","v":""}]
[null,null,null,null,null,null,null,null,null,null,null,null,null,0,0,0,"sbi psu fund","MSB222","Diversified equity",null,null,null,null,null,null,null,null,null,null,null,{"$f":"IFERROR(VLOOKUP(ROWS($AE$2:AE343),P343:Q2246,2,0),\"\")","v":""},null,null,null,null,{"$f":"IFERROR(VLOOKUP(ROWS($AJ$2:AJ343),O343:Q2246,3,0),\"\")","v":""},null,{"$f":"IFERROR(VLOOKUP(ROWS(AL$2:$AL343),N343:Q2246,4,0),\"\")","v":""}]
[null,null,null,null,null,null,null,null,null,null,null,null,null,0,0,0,"sundaram equity multiplier","MSN101","Diversified equity",null,null,null,null,null,null,null,null,null,null,null,{"$f":"IFERROR(VLOOKUP(ROWS($AE$2:AE344),P344:Q2247,2,0),\"\")","v":""},null,null,null,null,{"$f":"IFERROR(VLOOKUP(ROWS($AJ$2:AJ344),O344:Q2247,3,0),\"\")","v":""},null,{"$f":"IFERROR(VLOOKUP(ROWS(AL$2:$AL344),N344:Q2247,4,0),\"\")","v":""}]
[null,null,null,null,null,null,null,null,null,null,null,null,null,0,0,0,"sundaram psu opportunities","MSN344","Diversified equity",null,null,null,null,null,null,null,null,null,null,null,{"$f":"IFERROR(VLOOKUP(ROWS($AE$2:AE345),P345:Q2248,2,0),\"\")","v":""},null,null,null,null,{"$f":"IFERROR(VLOOKUP(ROWS($AJ$2:AJ345),O345:Q2248,3,0),\"\")","v":""},null,{"$f":"IFERROR(VLOOKUP(ROWS(AL$2:$AL345),N345:Q2248,4,0),\"\")","v":""}]
[null,null,null,null,null,null,null,null,null,null,null,null,null,0,0,0,"sundaram rural india fund","MSN097","Diversified equity",null,null,null,null,null,null,null,null,null,null,null,{"$f":"IFERROR(VLOOKUP(ROWS($AE$2:AE346),P346:Q2249,2,0),\"\")","v":""},null,null,null,null,{"$f":"IFERROR(VLOOKUP(ROWS($AJ$2:AJ346),O346:Q2249,3,0),\"\")","v":""},null,{"$f":"IFERROR(VLOOKUP(ROWS(AL$2:$AL346),N346:Q2249,4,0),\"\")","v":""}]
[null,null,null,null,null,null,null,null,null,null,null,null,null,0,0,0,"tata dividend yield fund regular","MTA129","Diversified equity",null,null,null,null,null,null,null,null,null,null,null,{"$f":"IFERROR(VLOOKUP(ROWS($AE$2:AE347),P347:Q2250,2,0),\"\")","v":""},null,null,null,null,{"$f":"IFERROR(VLOOKUP(ROWS($AJ$2:AJ347),O347:Q2250,3,0),\"\")","v":""},null,{"$f":"IFERROR(VLOOKUP(ROWS(AL$2:$AL347),N347:Q2250,4,0),\"\")","v":""}]
[null,null,null,null,null,null,null,null,null,null,null,null,null,0,0,0,"tata equity management","MTA147","Diversified equity",null,null,null,null,null,null,null,null,null,null,null,{"$f":"IFERROR(VLOOKUP(ROWS($AE$2:AE348),P348:Q2251,2,0),\"\")","v":""},null,null,null,null,{"$f":"IFERROR(VLOOKUP(ROWS($AJ$2:AJ348),O348:Q2251,3,0),\"\")","v":""},null,{"$f":"IFERROR(VLOOKUP(ROWS(AL$2:$AL348),N348:Q2251,4,0),\"\")","v":""}]
[null,null,null,null,null,null,null,null,null,null,null,null,null,0,0,0,"tata equity opp fund regular","MTA043","Diversified equity",null,null,null,null,null,null,null,null,null,null,null,{"$f":"IFERROR(VLOOKUP(ROWS($AE$2:AE349),P349:Q2252,2,0),\"\")","v":""},null,null,null,null,{"$f":"IFERROR(VLOOKUP(ROWS($AJ$2:AJ349),O349:Q2252,3,0),\"\")","v":""},null,{"$f":"IFERROR(VLOOKUP(ROWS(AL$2:$AL349),N349:Q2252,4,0),\"\")","v":""}]
[null,null,null,null,null,null,null,null,null,null,null,null,null,0,0,0,"tata equity p e fund","MTA125","Diversified equity",null,null,null,null,null,null,null,null,null,null,null,{"$f":"IFERROR(VLOOKUP(ROWS($AE$2:AE350),P350:Q2253,2,0),\"\")","v":""},null,null,null,null,{"$f":"IFERROR(VLOOKUP(ROWS($AJ$2:AJ350),O350:Q2253,3,0),\"\")","v":""},null,{"$f":"IFERROR(VLOOKUP(ROWS(AL$2:$AL350),N350:Q2253,4,0),\"\")","v":""}]
[null,null,null,null,null,null,null,null,null,null,null,null,null,0,0,0,"tata ethical fund","MTA010","Diversified equity",null,null,null,null,null,null,null,null,null,null,null,{"$f":"IFERROR(VLOOKUP(ROWS($AE$2:AE351),P351:Q2254,2,0),\"\")","v":""},null,null,null,null,{"$f":"IFERROR(VLOOKUP(ROWS($AJ$2:AJ351),O351:Q2254,3,0),\"\")","v":""},null,{"$f":"IFERROR(VLOOKUP(ROWS(AL$2:$AL351),N351:Q2254,4,0),\"\")","v":""}]
[null,null,null,null,null,null,null,null,null,null,null,null,null,0,0,0,"taurus ethical fund","MCM049","Diversified equity",null,null,null,null,null,null,null,null,null,null,null,{"$f":"IFERROR(VLOOKUP(ROWS($AE$2:AE352),P352:Q2255,2,0),\"\")","v":""},null,null,null,null,{"$f":"IFERROR(VLOOKUP(ROWS($AJ$2:AJ352),O352:Q2255,3,0),\"\")","v":""},null,{"$f":"IFERROR(VLOOKUP(ROWS(AL$2:$AL352),N352:Q2255,4,0),\"\")","v":""}]
[null,null,null,null,null,null,null,null,null,null,null,null,null,0,0,0,"taurus star share","MCM042","Diversified equity",null,null,null,null,null,null,null,null,null,null,null,{"$f":"IFERROR(VLOOKUP(ROWS($AE$2:AE353),P353:Q2256,2,0),\"\")","v":""},null,null,null,null,{"$f":"IFERROR(VLOOKUP(ROWS($AJ$2:AJ353),O353:Q2256,3,0),\"\")","v":""},null,{"$f":"IFERROR(VLOOKUP(ROWS(AL$2:$AL353),N353:Q2256,4,0),\"\")","v":""}]
[null,null,null,null,null,null,null,null,null,null,null,null,null,0,0,0,"templeton india growth fund","MTE024","Diversified equity",null,null,null,null,null,null,null,null,null,null,null,{"$f":"IFERROR(VLOOKUP(ROWS($AE$2:AE354),P354:Q2257,2,0),\"\")","v":""},null,null,null,null,{"$f":"IFERROR(VLOOKUP(ROWS($AJ$2:AJ354),O354:Q2257,3,0),\"\")","v":""},null,{"$f":"IFERROR(VLOOKUP(ROWS(AL$2:$AL354),N354:Q2257,4,0),\"\")","v":""}]
[null,null,null,null,null,null,null,null,null,null,null,null,null,0,0,0,"templeton india growth fund dir","MTE295","Diversified equity",null,null,null,null,null,null,null,null,null,null,null,{"$f":"IFERROR(VLOOKUP(ROWS($AE$2:AE355),P355:Q2258,2,0),\"\")","v":""},null,null,null,null,{"$f":"IFERROR(VLOOKUP(ROWS($AJ$2:AJ355),O355:Q2258,3,0),\"\")","v":""},null,{"$f":"IFERROR(VLOOKUP(ROWS(AL$2:$AL355),N355:Q2258,4,0),\"\")","v":""}]
[null,null,null,null,null,null,null,null,null,null,null,null,null,0,0,0,"union kbc equity fund","MUK001","Diversified equity",null,null,null,null,null,null,null,null,null,null,null,{"$f":"IFERROR(VLOOKUP(ROWS($AE$2:AE356),P356:Q2259,2,0),\"\")","v":""},null,null,null,null,{"$f":"IFERROR(VLOOKUP(ROWS($AJ$2:AJ356),O356:Q2259,3,0),\"\")","v":""},null,{"$f":"IFERROR(VLOOKUP(ROWS(AL$2:$AL356),N356:Q2259,4,0),\"\")","v":""}]
[null,null,null,null,null,null,null,null,null,null,null,null,null,0,0,0,"uti dividend yield fund","MUT070","Diversified equity",null,null,null,null,null,null,null,null,null,null,null,{"$f":"IFERROR(VLOOKUP(ROWS($AE$2:AE357),P357:Q2260,2,0),\"\")","v":""},null,null,null,null,{"$f":"IFERROR(VLOOKUP(ROWS($AJ$2:AJ357),O357:Q2260,3,0),\"\")","v":""},null,{"$f":"IFERROR(VLOOKUP(ROWS(AL$2:$AL357),N357:Q2260,4,0),\"\")","v":""}]
[null,null,null,null,null,null,null,null,null,null,null,null,null,0,0,0,"uti focussed equity sr i dp","MUT1575","Diversified equity",null,null,null,null,null,null,null,null,null,null,null,{"$f":"IFERROR(VLOOKUP(ROWS($AE$2:AE358),P358:Q2261,2,0),\"\")","v":""},null,null,null,null,{"$f":"IFERROR(VLOOKUP(ROWS($AJ$2:AJ358),O358:Q2261,3,0),\"\")","v":""},null,{"$f":"IFERROR(VLOOKUP(ROWS(AL$2:$AL358),N358:Q2261,4,0),\"\")","v":""}]
[null,null,null,null,null,null,null,null,null,null,null,null,null,0,0,0,"uti focussed equity sr ii dp","MUT1704","Diversified equity",null,null,null,null,null,null,null,null,null,null,null,{"$f":"IFERROR(VLOOKUP(ROWS($AE$2:AE359),P359:Q2262,2,0),\"\")","v":""},null,null,null,null,{"$f":"IFERROR(VLOOKUP(ROWS($AJ$2:AJ359),O359:Q2262,3,0),\"\")","v":""},null,{"$f":"IFERROR(VLOOKUP(ROWS(AL$2:$AL359),N359:Q2262,4,0),\"\")","v":""}]
[null,null,null,null,null,null,null,null,null,null,null,null,null,0,0,0,"uti focussed equity sr ii rp","MUT1706","Diversified equity",null,null,null,null,null,null,null,null,null,null,null,{"$f":"IFERROR(VLOOKUP(ROWS($AE$2:AE360),P360:Q2263,2,0),\"\")","v":""},null,null,null,null,{"$f":"IFERROR(VLOOKUP(ROWS($AJ$2:AJ360),O360:Q2263,3,0),\"\")","v":""},null,{"$f":"IFERROR(VLOOKUP(ROWS(AL$2:$AL360),N360:Q2263,4,0),\"\")","v":""}]
[null,null,null,null,null,null,null,null,null,null,null,null,null,0,0,0,"uti focussed equity sr i rp","MUT1573","Diversified equity",null,null,null,null,null,null,null,null,null,null,null,{"$f":"IFERROR(VLOOKUP(ROWS($AE$2:AE361),P361:Q2264,2,0),\"\")","v":""},null,null,null,null,{"$f":"IFERROR(VLOOKUP(ROWS($AJ$2:AJ361),O361:Q2264,3,0),\"\")","v":""},null,{"$f":"IFERROR(VLOOKUP(ROWS(AL$2:$AL361),N361:Q2264,4,0),\"\")","v":""}]
[null,null,null,null,null,null,null,null,null,null,null,null,null,0,0,0,"uti mnc fund","MUT023","Diversified equity",null,null,null,null,null,null,null,null,null,null,null,{"$f":"IFERROR(VLOOKUP(ROWS($AE$2:AE362),P362:Q2265,2,0),\"\")","v":""},null,null,null,null,{"$f":"IFERROR(VLOOKUP(ROWS($AJ$2:AJ362),O362:Q2265,3,0),\"\")","v":""},null,{"$f":"IFERROR(VLOOKUP(ROWS(AL$2:$AL362),N362:Q2265,4,0),\"\")","v":""}]
[null,null,null,null,null,null,null,null,null,null,null,null,null,0,0,0,"uti multi cap fund dp","MUT1571","Diversified equity",null,null,null,null,null,null,null,null,null,null,null,{"$f":"IFERROR(VLOOKUP(ROWS($AE$2:AE363),P363:Q2266,2,0),\"\")","v":""},null,null,null,null,{"$f":"IFERROR(VLOOKUP(ROWS($AJ$2:AJ363),O363:Q2266,3,0),\"\")","v":""},null,{"$f":"IFERROR(VLOOKUP(ROWS(AL$2:$AL363),N363:Q2266,4,0),\"\")","v":""}]
[null,null,null,null,null,null,null,null,null,null,null,null,null,0,0,0,"uti multi cap fund rp","MUT1569","Diversified equity",null,null,null,null,null,null,null,null,null,null,null,{"$f":"IFERROR(VLOOKUP(ROWS($AE$2:AE364),P364:Q2267,2,0),\"\")","v":""},null,null,null,null,{"$f":"IFERROR(VLOOKUP(ROWS($AJ$2:AJ364),O364:Q2267,3,0),\"\")","v":""},null,{"$f":"IFERROR(VLOOKUP(ROWS(AL$2:$AL364),N364:Q2267,4,0),\"\")","v":""}]
[null,null,null,null,null,null,null,null,null,null,null,null,null,0,0,0,"baroda pioneer infrastructure","MBO046","Thematic - Infrastructure",null,null,null,null,null,null,null,null,null,null,null,{"$f":"IFERROR(VLOOKUP(ROWS($AE$2:AE365),P365:Q2268,2,0),\"\")","v":""},null,null,null,null,{"$f":"IFERROR(VLOOKUP(ROWS($AJ$2:AJ365),O365:Q2268,3,0),\"\")","v":""},null,{"$f":"IFERROR(VLOOKUP(ROWS(AL$2:$AL365),N365:Q2268,4,0),\"\")","v":""}]
[null,null,null,null,null,null,null,null,null,null,null,null,null,0,0,0,"birla sl india reforms fund","MBS490","Thematic - Infrastructure",null,null,null,null,null,null,null,null,null,null,null,{"$f":"IFERROR(VLOOKUP(ROWS($AE$2:AE366),P366:Q2269,2,0),\"\")","v":""},null,null,null,null,{"$f":"IFERROR(VLOOKUP(ROWS($AJ$2:AJ366),O366:Q2269,3,0),\"\")","v":""},null,{"$f":"IFERROR(VLOOKUP(ROWS(AL$2:$AL366),N366:Q2269,4,0),\"\")","v":""}]
[null,null,null,null,null,null,null,null,null,null,null,null,null,0,0,0,"birla sl infrastructure","MBS094","Thematic - Infrastructure",null,null,null,null,null,null,null,null,null,null,null,{"$f":"IFERROR(VLOOKUP(ROWS($AE$2:AE367),P367:Q2270,2,0),\"\")","v":""},null,null,null,null,{"$f":"IFERROR(VLOOKUP(ROWS($AJ$2:AJ367),O367:Q2270,3,0),\"\")","v":""},null,{"$f":"IFERROR(VLOOKUP(ROWS(AL$2:$AL367),N367:Q2270,4,0),\"\")","v":""}]
[null,null,null,null,null,null,null,null,null,null,null,null,null,0,0,0,"boi axa focused infrast ","MBA057","Thematic - Infrastructure",null,null,null,null,null,null,null,null,null,null,null,{"$f":"IFERROR(VLOOKUP(ROWS($AE$2:AE368),P368:Q2271,2,0),\"\")","v":""},null,null,null,null,{"$f":"IFERROR(VLOOKUP(ROWS($AJ$2:AJ368),O368:Q2271,3,0),\"\")","v":""},null,{"$f":"IFERROR(VLOOKUP(ROWS(AL$2:$AL368),N368:Q2271,4,0),\"\")","v":""}]
[null,null,null,null,null,null,null,null,null,null,null,null,null,0,0,0,"can robeco infrastructure","MCA040","Thematic - Infrastructure",null,null,null,null,null,null,null,null,null,null,null,{"$f":"IFERROR(VLOOKUP(ROWS($AE$2:AE369),P369:Q2272,2,0),\"\")","v":""},null,null,null,null,{"$f":"IFERROR(VLOOKUP(ROWS($AJ$2:AJ369),O369:Q2272,3,0),\"\")","v":""},null,{"$f":"IFERROR(VLOOKUP(ROWS(AL$2:$AL369),N369:Q2272,4,0),\"\")","v":""}]
[null,null,null,null,null,null,null,null,null,null,null,null,null,0,0,0,"dsp br india tiger ip","MDS064","Thematic - Infrastructure",null,null,null,null,null,null,null,null,null,null,null,{"$f":"IFERROR(VLOOKUP(ROWS($AE$2:AE370),P370:Q2273,2,0),\"\")","v":""},null,null,null,null,{"$f":"IFERROR(VLOOKUP(ROWS($AJ$2:AJ370),O370:Q2273,3,0),\"\")","v":""},null,{"$f":"IFERROR(VLOOKUP(ROWS(AL$2:$AL370),N370:Q2273,4,0),\"\")","v":""}]
[null,null,null,null,null,null,null,null,null,null,null,null,null,0,0,0,"dsp br india tiger rp","MDS039","Thematic - Infrastructure",null,null,null,null,null,null,null,null,null,null,null,{"$f":"IFERROR(VLOOKUP(ROWS($AE$2:AE371),P371:Q2274,2,0),\"\")","v":""},null,null,null,null,{"$f":"IFERROR(VLOOKUP(ROWS($AJ$2:AJ371),O371:Q2274,3,0),\"\")","v":""},null,{"$f":"IFERROR(VLOOKUP(ROWS(AL$2:$AL371),N371:Q2274,4,0),\"\")","v":""}]
[null,null,null,null,null,null,null,null,null,null,null,null,null,0,0,0,"dsp br natural resources rp","MDS160","Thematic - Infrastructure",null,null,null,null,null,null,null,null,null,null,null,{"$f":"IFERROR(VLOOKUP(ROWS($AE$2:AE372),P372:Q2275,2,0),\"\")","v":""},null,null,null,null,{"$f":"IFERROR(VLOOKUP(ROWS($AJ$2:AJ372),O372:Q2275,3,0),\"\")","v":""},null,{"$f":"IFERROR(VLOOKUP(ROWS(AL$2:$AL372),N372:Q2275,4,0),\"\")","v":""}]
[null,null,null,null,null,null,null,null,null,null,null,null,null,0,0,0,"escorts infrastructure","MES025","Thematic - Infrastructure",null,null,null,null,null,null,null,null,null,null,null,{"$f":"IFERROR(VLOOKUP(ROWS($AE$2:AE373),P373:Q2276,2,0),\"\")","v":""},null,null,null,null,{"$f":"IFERROR(VLOOKUP(ROWS($AJ$2:AJ373),O373:Q2276,3,0),\"\")","v":""},null,{"$f":"IFERROR(VLOOKUP(ROWS(AL$2:$AL373),N373:Q2276,4,0),\"\")","v":""}]
[null,null,null,null,null,null,null,null,null,null,null,null,null,0,0,0,"escorts power and energy","MES033","Thematic - Infrastructure",null,null,null,null,null,null,null,null,null,null,null,{"$f":"IFERROR(VLOOKUP(ROWS($AE$2:AE374),P374:Q2277,2,0),\"\")","v":""},null,null,null,null,{"$f":"IFERROR(VLOOKUP(ROWS($AJ$2:AJ374),O374:Q2277,3,0),\"\")","v":""},null,{"$f":"IFERROR(VLOOKUP(ROWS(AL$2:$AL374),N374:Q2277,4,0),\"\")","v":""}]
[null,null,null,null,null,null,null,null,null,null,null,null,null,0,0,0,"franklin build india fund","MTE266","Thematic - Infrastructure",null,null,null,null,null,null,null,null,null,null,null,{"$f":"IFERROR(VLOOKUP(ROWS($AE$2:AE375),P375:Q2278,2,0),\"\")","v":""},null,null,null,null,{"$f":"IFERROR(VLOOKUP(ROWS($AJ$2:AJ375),O375:Q2278,3,0),\"\")","v":""},null,{"$f":"IFERROR(VLOOKUP(ROWS(AL$2:$AL375),N375:Q2278,4,0),\"\")","v":""}]
[null,null,null,null,null,null,null,null,null,null,null,null,null,0,0,0,"gs infra bees","MBM030","Thematic - Infrastructure",null,null,null,null,null,null,null,null,null,null,null,{"$f":"IFERROR(VLOOKUP(ROWS($AE$2:AE376),P376:Q2279,2,0),\"\")","v":""},null,null,null,null,{"$f":"IFERROR(VLOOKUP(ROWS($AJ$2:AJ376),O376:Q2279,3,0),\"\")","v":""},null,{"$f":"IFERROR(VLOOKUP(ROWS(AL$2:$AL376),N376:Q2279,4,0),\"\")","v":""}]
[null,null,null,null,null,null,null,null,null,null,null,null,null,0,0,0,"hdfc infrastructure fund","MHD283","Thematic - Infrastructure",null,null,null,null,null,null,null,null,null,null,null,{"$f":"IFERROR(VLOOKUP(ROWS($AE$2:AE377),P377:Q2280,2,0),\"\")","v":""},null,null,null,null,{"$f":"IFERROR(VLOOKUP(ROWS($AJ$2:AJ377),O377:Q2280,3,0),\"\")","v":""},null,{"$f":"IFERROR(VLOOKUP(ROWS(AL$2:$AL377),N377:Q2280,4,0),\"\")","v":""}]
[null,null,null,null,null,null,null,null,null,null,null,null,null,0,0,0,"hsbc progressive themes","MHS052","Thematic - Infrastructure",null,null,null,null,null,null,null,null,null,null,null,{"$f":"IFERROR(VLOOKUP(ROWS($AE$2:AE378),P378:Q2281,2,0),\"\")","v":""},null,null,null,null,{"$f":"IFERROR(VLOOKUP(ROWS($AJ$2:AJ378),O378:Q2281,3,0),\"\")","v":""},null,{"$f":"IFERROR(VLOOKUP(ROWS(AL$2:$AL378),N378:Q2281,4,0),\"\")","v":""}]
[null,null,null,null,null,null,null,null,null,null,null,null,null,0,0,0,"icici pru infrastructure","MPI108","Thematic - Infrastructure",null,null,null,null,null,null,null,null,null,null,null,{"$f":"IFERROR(VLOOKUP(ROWS($AE$2:AE379),P379:Q2282,2,0),\"\")","v":""},null,null,null,null,{"$f":"IFERROR(VLOOKUP(ROWS($AJ$2:AJ379),O379:Q2282,3,0),\"\")","v":""},null,{"$f":"IFERROR(VLOOKUP(ROWS(AL$2:$AL379),N379:Q2282,4,0),\"\")","v":""}]
[null,null,null,null,null,null,null,null,null,null,null,null,null,0,0,0,"icici pru infrastructure inst ","MPI149","Thematic - Infrastructure",null,null,null,null,null,null,null,null,null,null,null,{"$f":"IFERROR(VLOOKUP(ROWS($AE$2:AE380),P380:Q2283,2,0),\"\")","v":""},null,null,null,null,{"$f":"IFERROR(VLOOKUP(ROWS($AJ$2:AJ380),O380:Q2283,3,0),\"\")","v":""},null,{"$f":"IFERROR(VLOOKUP(ROWS(AL$2:$AL380),N380:Q2283,4,0),\"\")","v":""}]
[null,null,null,null,null,null,null,null,null,null,null,null,null,0,0,0,"idfc infrastructure plan a","MAG446","Thematic - Infrastructure",null,null,null,null,null,null,null,null,null,null,null,{"$f":"IFERROR(VLOOKUP(ROWS($AE$2:AE381),P381:Q2284,2,0),\"\")","v":""},null,null,null,null,{"$f":"IFERROR(VLOOKUP(ROWS($AJ$2:AJ381),O381:Q2284,3,0),\"\")","v":""},null,{"$f":"IFERROR(VLOOKUP(ROWS(AL$2:$AL381),N381:Q2284,4,0),\"\")","v":""}]
[null,null,null,null,null,null,null,null,null,null,null,null,null,0,0,0,"jm basic fund","MJM124","Thematic - Infrastructure",null,null,null,null,null,null,null,null,null,null,null,{"$f":"IFERROR(VLOOKUP(ROWS($AE$2:AE382),P382:Q2285,2,0),\"\")","v":""},null,null,null,null,{"$f":"IFERROR(VLOOKUP(ROWS($AJ$2:AJ382),O382:Q2285,3,0),\"\")","v":""},null,{"$f":"IFERROR(VLOOKUP(ROWS(AL$2:$AL382),N382:Q2285,4,0),\"\")","v":""}]
[null,null,null,null,null,null,null,null,null,null,null,null,null,0,0,0,"kotak infras eco reform standard","MAI041","Thematic - Infrastructure",null,null,null,null,null,null,null,null,null,null,null,{"$f":"IFERROR(VLOOKUP(ROWS($AE$2:AE383),P383:Q2286,2,0),\"\")","v":""},null,null,null,null,{"$f":"IFERROR(VLOOKUP(ROWS($AJ$2:AJ383),O383:Q2286,3,0),\"\")","v":""},null,{"$f":"IFERROR(VLOOKUP(ROWS(AL$2:$AL383),N383:Q2286,4,0),\"\")","v":""}]
[null,null,null,null,null,null,null,null,null,null,null,null,null,0,0,0,"lic infrastructure sr 1","MJB094","Thematic - Infrastructure",null,null,null,null,null,null,null,null,null,null,null,{"$f":"IFERROR(VLOOKUP(ROWS($AE$2:AE384),P384:Q2287,2,0),\"\")","v":""},null,null,null,null,{"$f":"IFERROR(VLOOKUP(ROWS($AJ$2:AJ384),O384:Q2287,3,0),\"\")","v":""},null,{"$f":"IFERROR(VLOOKUP(ROWS(AL$2:$AL384),N384:Q2287,4,0),\"\")","v":""}]
[null,null,null,null,null,null,null,null,null,null,null,null,null,0,0,0,"l t infrastructure","MCC081","Thematic - Infrastructure",null,null,null,null,null,null,null,null,null,null,null,{"$f":"IFERROR(VLOOKUP(ROWS($AE$2:AE385),P385:Q2288,2,0),\"\")","v":""},null,null,null,null,{"$f":"IFERROR(VLOOKUP(ROWS($AJ$2:AJ385),O385:Q2288,3,0),\"\")","v":""},null,{"$f":"IFERROR(VLOOKUP(ROWS(AL$2:$AL385),N385:Q2288,4,0),\"\")","v":""}]
[null,null,null,null,null,null,null,null,null,null,null,null,null,0,0,{"$f":"IF(ISNUMBER(SEARCH($H$6,Q386)),MAX($P$1,P385)+1,0)","v":0},"reliance diver power rp","MRC055","Thematic - Infrastructure",null,null,null,null,null,null,null,null,null,null,null,{"$f":"IFERROR(VLOOKUP(ROWS($AE$2:AE386),P386:Q2289,2,0),\"\")","v":""},null,null,null,null,{"$f":"IFERROR(VLOOKUP(ROWS($AJ$2:AJ386),O386:Q2289,3,0),\"\")","v":""},null,{"$f":"IFERROR(VLOOKUP(ROWS(AL$2:$AL386),N386:Q2289,4,0),\"\")","v":""}]
[null,null,null,null,null,null,null,null,null,null,null,null,null,{"$f":"IF(ISNUMBER(SEARCH($H$16,Q387)),MAX($N$1,N386)+1,0)","v":0},{"$f":"IF(ISNUMBER(SEARCH($H$11,Q387)),MAX($O$1,O386)+1,0)","v":0},0,"religare invesco infrastructure","MLI139","Thematic - Infrastructure",null,null,null,null,null,null,null,null,null,null,null,{"$f":"IFERROR(VLOOKUP(ROWS($AE$2:AE387),P387:Q2290,2,0),\"\")","v":""},null,null,null,null,{"$f":"IFERROR(VLOOKUP(ROWS($AJ$2:AJ387),O387:Q2290,3,0),\"\")","v":""},null,{"$f":"IFERROR(VLOOKUP(ROWS(AL$2:$AL387),N387:Q2290,4,0),\"\")","v":""}]
[null,null,null,null,null,null,null,null,null,null,null,null,null,0,0,0,"sahara infrastructure fpo","MFI021","Thematic - Infrastructure",null,null,null,null,null,null,null,null,null,null,null,{"$f":"IFERROR(VLOOKUP(ROWS($AE$2:AE388),P388:Q2291,2,0),\"\")","v":""},null,null,null,null,{"$f":"IFERROR(VLOOKUP(ROWS($AJ$2:AJ388),O388:Q2291,3,0),\"\")","v":""},null,{"$f":"IFERROR(VLOOKUP(ROWS(AL$2:$AL388),N388:Q2291,4,0),\"\")","v":""}]
[null,null,null,null,null,null,null,null,null,null,null,null,null,0,0,0,"sahara infrastructure vpo","MFI023","Thematic - Infrastructure",null,null,null,null,null,null,null,null,null,null,null,{"$f":"IFERROR(VLOOKUP(ROWS($AE$2:AE389),P389:Q2292,2,0),\"\")","v":""},null,null,null,null,{"$f":"IFERROR(VLOOKUP(ROWS($AJ$2:AJ389),O389:Q2292,3,0),\"\")","v":""},null,{"$f":"IFERROR(VLOOKUP(ROWS(AL$2:$AL389),N389:Q2292,4,0),\"\")","v":""}]
[null,null,null,null,null,null,null,null,null,null,null,null,null,0,0,0,"sahara power natural res ","MFI051","Thematic - Infrastructure",null,null,null,null,null,null,null,null,null,null,null,{"$f":"IFERROR(VLOOKUP(ROWS($AE$2:AE390),P390:Q2293,2,0),\"\")","v":""},null,null,null,null,{"$f":"IFERROR(VLOOKUP(ROWS($AJ$2:AJ390),O390:Q2293,3,0),\"\")","v":""},null,{"$f":"IFERROR(VLOOKUP(ROWS(AL$2:$AL390),N390:Q2293,4,0),\"\")","v":""}]
[null,null,null,null,null,null,null,null,null,null,null,null,null,0,0,0,"sbi infrastructure sr i","MSB091","Thematic - Infrastructure",null,null,null,null,null,null,null,null,null,null,null,{"$f":"IFERROR(VLOOKUP(ROWS($AE$2:AE391),P391:Q2294,2,0),\"\")","v":""},null,null,null,null,{"$f":"IFERROR(VLOOKUP(ROWS($AJ$2:AJ391),O391:Q2294,3,0),\"\")","v":""},null,{"$f":"IFERROR(VLOOKUP(ROWS(AL$2:$AL391),N391:Q2294,4,0),\"\")","v":""}]
[null,null,null,null,null,null,null,null,null,null,null,null,null,0,0,0,"sundaram infrastructure adv dp","MSN555","Thematic - Infrastructure",null,null,null,null,null,null,null,null,null,null,null,{"$f":"IFERROR(VLOOKUP(ROWS($AE$2:AE392),P392:Q2295,2,0),\"\")","v":""},null,null,null,null,{"$f":"IFERROR(VLOOKUP(ROWS($AJ$2:AJ392),O392:Q2295,3,0),\"\")","v":""},null,{"$f":"IFERROR(VLOOKUP(ROWS(AL$2:$AL392),N392:Q2295,4,0),\"\")","v":""}]
[null,null,null,null,null,null,null,null,null,null,null,null,null,0,0,0,"sundaram infrastructure adv rp","MSN083","Thematic - Infrastructure",null,null,null,null,null,null,null,null,null,null,null,{"$f":"IFERROR(VLOOKUP(ROWS($AE$2:AE393),P393:Q2296,2,0),\"\")","v":""},null,null,null,null,{"$f":"IFERROR(VLOOKUP(ROWS($AJ$2:AJ393),O393:Q2296,3,0),\"\")","v":""},null,{"$f":"IFERROR(VLOOKUP(ROWS(AL$2:$AL393),N393:Q2296,4,0),\"\")","v":""}]
[null,null,null,null,null,null,null,null,null,null,null,null,null,0,0,0,"tata infrastructure fund regular","MTA131","Thematic - Infrastructure",null,null,null,null,null,null,null,null,null,null,null,{"$f":"IFERROR(VLOOKUP(ROWS($AE$2:AE394),P394:Q2297,2,0),\"\")","v":""},null,null,null,null,{"$f":"IFERROR(VLOOKUP(ROWS($AJ$2:AJ394),O394:Q2297,3,0),\"\")","v":""},null,{"$f":"IFERROR(VLOOKUP(ROWS(AL$2:$AL394),N394:Q2297,4,0),\"\")","v":""}]
[null,null,null,null,null,null,null,null,null,null,null,null,null,0,0,0,"taurus infrastructure","MCM012","Thematic - Infrastructure",null,null,null,null,null,null,null,null,null,null,null,{"$f":"IFERROR(VLOOKUP(ROWS($AE$2:AE395),P395:Q2298,2,0),\"\")","v":""},null,null,null,null,{"$f":"IFERROR(VLOOKUP(ROWS($AJ$2:AJ395),O395:Q2298,3,0),\"\")","v":""},null,{"$f":"IFERROR(VLOOKUP(ROWS(AL$2:$AL395),N395:Q2298,4,0),\"\")","v":""}]
[null,null,null,null,null,null,null,null,null,null,null,null,null,0,0,0,"uti infrastructure fund","MUT065","Thematic - Infrastructure",null,null,null,null,null,null,null,null,null,null,null,{"$f":"IFERROR(VLOOKUP(ROWS($AE$2:AE396),P396:Q2299,2,0),\"\")","v":""},null,null,null,null,{"$f":"IFERROR(VLOOKUP(ROWS($AJ$2:AJ396),O396:Q2299,3,0),\"\")","v":""},null,{"$f":"IFERROR(VLOOKUP(ROWS(AL$2:$AL396),N396:Q2299,4,0),\"\")","v":""}]
[null,null,null,null,null,null,null,null,null,null,null,null,null,0,0,0,"axis long term equity fund","MAA011","ELSS",null,null,null,null,null,null,null,null,null,null,null,{"$f":"IFERROR(VLOOKUP(ROWS($AE$2:AE397),P397:Q2300,2,0),\"\")","v":""},null,null,null,null,{"$f":"IFERROR(VLOOKUP(ROWS($AJ$2:AJ397),O397:Q2300,3,0),\"\")","v":""},null,{"$f":"IFERROR(VLOOKUP(ROWS(AL$2:$AL397),N397:Q2300,4,0),\"\")","v":""}]
[null,null,null,null,null,null,null,null,null,null,null,null,null,0,0,0,"baroda pioneer elss 96 plan a","MBO158","ELSS",null,null,null,null,null,null,null,null,null,null,null,{"$f":"IFERROR(VLOOKUP(ROWS($AE$2:AE398),P398:Q2301,2,0),\"\")","v":""},null,null,null,null,{"$f":"IFERROR(VLOOKUP(ROWS($AJ$2:AJ398),O398:Q2301,3,0),\"\")","v":""},null,{"$f":"IFERROR(VLOOKUP(ROWS(AL$2:$AL398),N398:Q2301,4,0),\"\")","v":""}]
[null,null,null,null,null,null,null,null,null,null,null,null,null,0,0,0,"baroda pioneer elss 96 plan a","MBO224","ELSS",null,null,null,null,null,null,null,null,null,null,null,{"$f":"IFERROR(VLOOKUP(ROWS($AE$2:AE399),P399:Q2302,2,0),\"\")","v":""},null,null,null,null,{"$f":"IFERROR(VLOOKUP(ROWS($AJ$2:AJ399),O399:Q2302,3,0),\"\")","v":""},null,{"$f":"IFERROR(VLOOKUP(ROWS(AL$2:$AL399),N399:Q2302,4,0),\"\")","v":""}]
[null,null,null,null,null,null,null,null,null,null,null,null,null,0,0,0,"baroda pioneer elss 96 plan b dir","MBO225","ELSS",null,null,null,null,null,null,null,null,null,null,null,{"$f":"IFERROR(VLOOKUP(ROWS($AE$2:AE400),P400:Q2303,2,0),\"\")","v":""},null,null,null,null,{"$f":"IFERROR(VLOOKUP(ROWS($AJ$2:AJ400),O400:Q2303,3,0),\"\")","v":""},null,{"$f":"IFERROR(VLOOKUP(ROWS(AL$2:$AL400),N400:Q2303,4,0),\"\")","v":""}]
[null,null,null,null,null,null,null,null,null,null,null,null,null,0,0,0,"baroda pioneer elss 96 plan b dir bo ","MBO159","ELSS",null,null,null,null,null,null,null,null,null,null,null,{"$f":"IFERROR(VLOOKUP(ROWS($AE$2:AE401),P401:Q2304,2,0),\"\")","v":""},null,null,null,null,{"$f":"IFERROR(VLOOKUP(ROWS($AJ$2:AJ401),O401:Q2304,3,0),\"\")","v":""},null,{"$f":"IFERROR(VLOOKUP(ROWS(AL$2:$AL401),N401:Q2304,4,0),\"\")","v":""}]
[null,null,null,null,null,null,null,null,null,null,null,null,null,0,0,0,"birla sl tax relief 96","MBS291","ELSS",null,null,null,null,null,null,null,null,null,null,null,{"$f":"IFERROR(VLOOKUP(ROWS($AE$2:AE402),P402:Q2305,2,0),\"\")","v":""},null,null,null,null,{"$f":"IFERROR(VLOOKUP(ROWS($AJ$2:AJ402),O402:Q2305,3,0),\"\")","v":""},null,{"$f":"IFERROR(VLOOKUP(ROWS(AL$2:$AL402),N402:Q2305,4,0),\"\")","v":""}]
[null,null,null,null,null,null,null,null,null,null,null,null,null,0,0,0,"birla sl tax savings","MIN039","ELSS",null,null,null,null,null,null,null,null,null,null,null,{"$f":"IFERROR(VLOOKUP(ROWS($AE$2:AE403),P403:Q2306,2,0),\"\")","v":""},null,null,null,null,{"$f":"IFERROR(VLOOKUP(ROWS($AJ$2:AJ403),O403:Q2306,3,0),\"\")","v":""},null,{"$f":"IFERROR(VLOOKUP(ROWS(AL$2:$AL403),N403:Q2306,4,0),\"\")","v":""}]
[null,null,null,null,null,null,null,null,null,null,null,null,null,0,0,0,"birla sun life tax plan","MBS099","ELSS",null,null,null,null,null,null,null,null,null,null,null,{"$f":"IFERROR(VLOOKUP(ROWS($AE$2:AE404),P404:Q2307,2,0),\"\")","v":""},null,null,null,null,{"$f":"IFERROR(VLOOKUP(ROWS($AJ$2:AJ404),O404:Q2307,3,0),\"\")","v":""},null,{"$f":"IFERROR(VLOOKUP(ROWS(AL$2:$AL404),N404:Q2307,4,0),\"\")","v":""}]
[null,null,null,null,null,null,null,null,null,null,null,null,null,0,0,0,"bnp paribas long term equity","MAB041","ELSS",null,null,null,null,null,null,null,null,null,null,null,{"$f":"IFERROR(VLOOKUP(ROWS($AE$2:AE405),P405:Q2308,2,0),\"\")","v":""},null,null,null,null,{"$f":"IFERROR(VLOOKUP(ROWS($AJ$2:AJ405),O405:Q2308,3,0),\"\")","v":""},null,{"$f":"IFERROR(VLOOKUP(ROWS(AL$2:$AL405),N405:Q2308,4,0),\"\")","v":""}]
[null,null,null,null,null,null,null,null,null,null,null,null,null,0,0,0,"bnp paribas long term equity dp","MAB724","ELSS",null,null,null,null,null,null,null,null,null,null,null,{"$f":"IFERROR(VLOOKUP(ROWS($AE$2:AE406),P406:Q2309,2,0),\"\")","v":""},null,null,null,null,{"$f":"IFERROR(VLOOKUP(ROWS($AJ$2:AJ406),O406:Q2309,3,0),\"\")","v":""},null,{"$f":"IFERROR(VLOOKUP(ROWS(AL$2:$AL406),N406:Q2309,4,0),\"\")","v":""}]
[null,null,null,null,null,null,null,null,null,null,null,null,null,0,0,0,"boi axa tax advtg eco","MBA045","ELSS",null,null,null,null,null,null,null,null,null,null,null,{"$f":"IFERROR(VLOOKUP(ROWS($AE$2:AE407),P407:Q2310,2,0),\"\")","v":""},null,null,null,null,{"$f":"IFERROR(VLOOKUP(ROWS($AJ$2:AJ407),O407:Q2310,3,0),\"\")","v":""},null,{"$f":"IFERROR(VLOOKUP(ROWS(AL$2:$AL407),N407:Q2310,4,0),\"\")","v":""}]
[null,null,null,null,null,null,null,null,null,null,null,null,null,0,0,0,"boi axa tax advtg rp","MBA043","ELSS",null,null,null,null,null,null,null,null,null,null,null,{"$f":"IFERROR(VLOOKUP(ROWS($AE$2:AE408),P408:Q2311,2,0),\"\")","v":""},null,null,null,null,{"$f":"IFERROR(VLOOKUP(ROWS($AJ$2:AJ408),O408:Q2311,3,0),\"\")","v":""},null,{"$f":"IFERROR(VLOOKUP(ROWS(AL$2:$AL408),N408:Q2311,4,0),\"\")","v":""}]
[null,null,null,null,null,null,null,null,null,null,null,null,null,0,0,0,"can robeco eqty taxsaver","MCA152","ELSS",null,null,null,null,null,null,null,null,null,null,null,{"$f":"IFERROR(VLOOKUP(ROWS($AE$2:AE409),P409:Q2312,2,0),\"\")","v":""},null,null,null,null,{"$f":"IFERROR(VLOOKUP(ROWS($AJ$2:AJ409),O409:Q2312,3,0),\"\")","v":""},null,{"$f":"IFERROR(VLOOKUP(ROWS(AL$2:$AL409),N409:Q2312,4,0),\"\")","v":""}]
[null,null,null,null,null,null,null,null,null,null,null,null,null,0,0,0,"dsp brtax saver fund","MDS060","ELSS",null,null,null,null,null,null,null,null,null,null,null,{"$f":"IFERROR(VLOOKUP(ROWS($AE$2:AE410),P410:Q2313,2,0),\"\")","v":""},null,null,null,null,{"$f":"IFERROR(VLOOKUP(ROWS($AJ$2:AJ410),O410:Q2313,3,0),\"\")","v":""},null,{"$f":"IFERROR(VLOOKUP(ROWS(AL$2:$AL410),N410:Q2313,4,0),\"\")","v":""}]
[null,null,null,null,null,null,null,null,null,null,null,null,null,0,0,0,"dws tax saving fund","MDE043","ELSS",null,null,null,null,null,null,null,null,null,null,null,{"$f":"IFERROR(VLOOKUP(ROWS($AE$2:AE411),P411:Q2314,2,0),\"\")","v":""},null,null,null,null,{"$f":"IFERROR(VLOOKUP(ROWS($AJ$2:AJ411),O411:Q2314,3,0),\"\")","v":""},null,{"$f":"IFERROR(VLOOKUP(ROWS(AL$2:$AL411),N411:Q2314,4,0),\"\")","v":""}]
[null,null,null,null,null,null,null,null,null,null,null,null,null,0,0,0,"edelweiss elss fund","MEW039","ELSS",null,null,null,null,null,null,null,null,null,null,null,{"$f":"IFERROR(VLOOKUP(ROWS($AE$2:AE412),P412:Q2315,2,0),\"\")","v":""},null,null,null,null,{"$f":"IFERROR(VLOOKUP(ROWS($AJ$2:AJ412),O412:Q2315,3,0),\"\")","v":""},null,{"$f":"IFERROR(VLOOKUP(ROWS(AL$2:$AL412),N412:Q2315,4,0),\"\")","v":""}]
[null,null,null,null,null,null,null,null,null,null,null,null,null,0,0,0,"escorts tax plan","MES003","ELSS",null,null,null,null,null,null,null,null,null,null,null,{"$f":"IFERROR(VLOOKUP(ROWS($AE$2:AE413),P413:Q2316,2,0),\"\")","v":""},null,null,null,null,{"$f":"IFERROR(VLOOKUP(ROWS($AJ$2:AJ413),O413:Q2316,3,0),\"\")","v":""},null,{"$f":"IFERROR(VLOOKUP(ROWS(AL$2:$AL413),N413:Q2316,4,0),\"\")","v":""}]
[null,null,null,null,null,null,null,null,null,null,null,null,null,0,0,0,"franklin india tax shield","MKP007","ELSS",null,null,null,null,null,null,null,null,null,null,null,{"$f":"IFERROR(VLOOKUP(ROWS($AE$2:AE414),P414:Q2317,2,0),\"\")","v":""},null,null,null,null,{"$f":"IFERROR(VLOOKUP(ROWS($AJ$2:AJ414),O414:Q2317,3,0),\"\")","v":""},null,{"$f":"IFERROR(VLOOKUP(ROWS(AL$2:$AL414),N414:Q2317,4,0),\"\")","v":""}]
[null,null,null,null,null,null,null,null,null,null,null,null,null,0,0,0,"hdfc long term advantage","MHD009","ELSS",null,null,null,null,null,null,null,null,null,null,null,{"$f":"IFERROR(VLOOKUP(ROWS($AE$2:AE415),P415:Q2318,2,0),\"\")","v":""},null,null,null,null,{"$f":"IFERROR(VLOOKUP(ROWS($AJ$2:AJ415),O415:Q2318,3,0),\"\")","v":""},null,{"$f":"IFERROR(VLOOKUP(ROWS(AL$2:$AL415),N415:Q2318,4,0),\"\")","v":""}]
[null,null,null,null,null,null,null,null,null,null,null,null,null,0,0,0,"hdfc tax saver","MZU017","ELSS",null,null,null,null,null,null,null,null,null,null,null,{"$f":"IFERROR(VLOOKUP(ROWS($AE$2:AE416),P416:Q2319,2,0),\"\")","v":""},null,null,null,null,{"$f":"IFERROR(VLOOKUP(ROWS($AJ$2:AJ416),O416:Q2319,3,0),\"\")","v":""},null,{"$f":"IFERROR(VLOOKUP(ROWS(AL$2:$AL416),N416:Q2319,4,0),\"\")","v":""}]
[null,null,null,null,null,null,null,null,null,null,null,null,null,0,0,0,"hsbc tax saver equity fund","MHS069","ELSS",null,null,null,null,null,null,null,null,null,null,null,{"$f":"IFERROR(VLOOKUP(ROWS($AE$2:AE417),P417:Q2320,2,0),\"\")","v":""},null,null,null,null,{"$f":"IFERROR(VLOOKUP(ROWS($AJ$2:AJ417),O417:Q2320,3,0),\"\")","v":""},null,{"$f":"IFERROR(VLOOKUP(ROWS(AL$2:$AL417),N417:Q2320,4,0),\"\")","v":""}]
[null,null,null,null,null,null,null,null,null,null,null,null,null,0,0,0,"icici pru right fund","MPI691","ELSS",null,null,null,null,null,null,null,null,null,null,null,{"$f":"IFERROR(VLOOKUP(ROWS($AE$2:AE418),P418:Q2321,2,0),\"\")","v":""},null,null,null,null,{"$f":"IFERROR(VLOOKUP(ROWS($AJ$2:AJ418),O418:Q2321,3,0),\"\")","v":""},null,{"$f":"IFERROR(VLOOKUP(ROWS(AL$2:$AL418),N418:Q2321,4,0),\"\")","v":""}]
[null,null,null,null,null,null,null,null,null,null,null,null,null,0,0,0,"icici pru tax plan","MPI007","ELSS",null,null,null,null,null,null,null,null,null,null,null,{"$f":"IFERROR(VLOOKUP(ROWS($AE$2:AE419),P419:Q2322,2,0),\"\")","v":""},null,null,null,null,{"$f":"IFERROR(VLOOKUP(ROWS($AJ$2:AJ419),O419:Q2322,3,0),\"\")","v":""},null,{"$f":"IFERROR(VLOOKUP(ROWS(AL$2:$AL419),N419:Q2322,4,0),\"\")","v":""}]
[null,null,null,null,null,null,null,null,null,null,null,null,null,0,0,0,"idbi equity advantage reg","MIB142","ELSS",null,null,null,null,null,null,null,null,null,null,null,{"$f":"IFERROR(VLOOKUP(ROWS($AE$2:AE420),P420:Q2323,2,0),\"\")","v":""},null,null,null,null,{"$f":"IFERROR(VLOOKUP(ROWS($AJ$2:AJ420),O420:Q2323,3,0),\"\")","v":""},null,{"$f":"IFERROR(VLOOKUP(ROWS(AL$2:$AL420),N420:Q2323,4,0),\"\")","v":""}]
[null,null,null,null,null,null,null,null,null,null,null,null,null,0,0,0,"idfc tax advantage elss rp","MAG303","ELSS",null,null,null,null,null,null,null,null,null,null,null,{"$f":"IFERROR(VLOOKUP(ROWS($AE$2:AE421),P421:Q2324,2,0),\"\")","v":""},null,null,null,null,{"$f":"IFERROR(VLOOKUP(ROWS($AJ$2:AJ421),O421:Q2324,3,0),\"\")","v":""},null,{"$f":"IFERROR(VLOOKUP(ROWS(AL$2:$AL421),N421:Q2324,4,0),\"\")","v":""}]
[null,null,null,null,null,null,null,null,null,null,null,null,null,0,0,0,"idfc tax saver fund","MAG123","ELSS",null,null,null,null,null,null,null,null,null,null,null,{"$f":"IFERROR(VLOOKUP(ROWS($AE$2:AE422),P422:Q2325,2,0),\"\")","v":""},null,null,null,null,{"$f":"IFERROR(VLOOKUP(ROWS($AJ$2:AJ422),O422:Q2325,3,0),\"\")","v":""},null,{"$f":"IFERROR(VLOOKUP(ROWS(AL$2:$AL422),N422:Q2325,4,0),\"\")","v":""}]
[null,null,null,null,null,null,null,null,null,null,null,null,null,0,0,0,"jm tax gain fund","MJM157","ELSS",null,null,null,null,null,null,null,null,null,null,null,{"$f":"IFERROR(VLOOKUP(ROWS($AE$2:AE423),P423:Q2326,2,0),\"\")","v":""},null,null,null,null,{"$f":"IFERROR(VLOOKUP(ROWS($AJ$2:AJ423),O423:Q2326,3,0),\"\")","v":""},null,{"$f":"IFERROR(VLOOKUP(ROWS(AL$2:$AL423),N423:Q2326,4,0),\"\")","v":""}]
[null,null,null,null,null,null,null,null,null,null,null,null,null,0,0,0,"jpmorgan tax advantage","MJP031","ELSS",null,null,null,null,null,null,null,null,null,null,null,{"$f":"IFERROR(VLOOKUP(ROWS($AE$2:AE424),P424:Q2327,2,0),\"\")","v":""},null,null,null,null,{"$f":"IFERROR(VLOOKUP(ROWS($AJ$2:AJ424),O424:Q2327,3,0),\"\")","v":""},null,{"$f":"IFERROR(VLOOKUP(ROWS(AL$2:$AL424),N424:Q2327,4,0),\"\")","v":""}]
[null,null,null,null,null,null,null,null,null,null,null,null,null,0,0,0,"kotak tax saver regular","MKM081","ELSS",null,null,null,null,null,null,null,null,null,null,null,{"$f":"IFERROR(VLOOKUP(ROWS($AE$2:AE425),P425:Q2328,2,0),\"\")","v":""},null,null,null,null,{"$f":"IFERROR(VLOOKUP(ROWS($AJ$2:AJ425),O425:Q2328,3,0),\"\")","v":""},null,{"$f":"IFERROR(VLOOKUP(ROWS(AL$2:$AL425),N425:Q2328,4,0),\"\")","v":""}]
[null,null,null,null,null,null,null,null,null,null,null,null,null,0,0,0,"lic nomura tax plan","MJB013","ELSS",null,null,null,null,null,null,null,null,null,null,null,{"$f":"IFERROR(VLOOKUP(ROWS($AE$2:AE426),P426:Q2329,2,0),\"\")","v":""},null,null,null,null,{"$f":"IFERROR(VLOOKUP(ROWS($AJ$2:AJ426),O426:Q2329,3,0),\"\")","v":""},null,{"$f":"IFERROR(VLOOKUP(ROWS(AL$2:$AL426),N426:Q2329,4,0),\"\")","v":""}]
[null,null,null,null,null,null,null,null,null,null,null,null,null,0,0,0,"l t long term adv fund i","MCC117","ELSS",null,null,null,null,null,null,null,null,null,null,null,{"$f":"IFERROR(VLOOKUP(ROWS($AE$2:AE427),P427:Q2330,2,0),\"\")","v":""},null,null,null,null,{"$f":"IFERROR(VLOOKUP(ROWS($AJ$2:AJ427),O427:Q2330,3,0),\"\")","v":""},null,{"$f":"IFERROR(VLOOKUP(ROWS(AL$2:$AL427),N427:Q2330,4,0),\"\")","v":""}]
[null,null,null,null,null,null,null,null,null,null,null,null,null,0,0,0,"l t tax advantage","MFF003","ELSS",null,null,null,null,null,null,null,null,null,null,null,{"$f":"IFERROR(VLOOKUP(ROWS($AE$2:AE428),P428:Q2331,2,0),\"\")","v":""},null,null,null,null,{"$f":"IFERROR(VLOOKUP(ROWS($AJ$2:AJ428),O428:Q2331,3,0),\"\")","v":""},null,{"$f":"IFERROR(VLOOKUP(ROWS(AL$2:$AL428),N428:Q2331,4,0),\"\")","v":""}]
[null,null,null,null,null,null,null,null,null,null,null,null,null,0,0,0,"l t tax saver fund","MCC049","ELSS",null,null,null,null,null,null,null,null,null,null,null,{"$f":"IFERROR(VLOOKUP(ROWS($AE$2:AE429),P429:Q2332,2,0),\"\")","v":""},null,null,null,null,{"$f":"IFERROR(VLOOKUP(ROWS($AJ$2:AJ429),O429:Q2332,3,0),\"\")","v":""},null,{"$f":"IFERROR(VLOOKUP(ROWS(AL$2:$AL429),N429:Q2332,4,0),\"\")","v":""}]
[null,null,null,null,null,null,null,null,null,null,null,null,null,0,0,0,"principal personal tax saver","MSF023","ELSS",null,null,null,null,null,null,null,null,null,null,null,{"$f":"IFERROR(VLOOKUP(ROWS($AE$2:AE430),P430:Q2333,2,0),\"\")","v":""},null,null,null,null,{"$f":"IFERROR(VLOOKUP(ROWS($AJ$2:AJ430),O430:Q2333,3,0),\"\")","v":""},null,{"$f":"IFERROR(VLOOKUP(ROWS(AL$2:$AL430),N430:Q2333,4,0),\"\")","v":""}]
[null,null,null,null,null,null,null,null,null,null,null,null,null,0,0,0,"principal tax savings","MID026","ELSS",null,null,null,null,null,null,null,null,null,null,null,{"$f":"IFERROR(VLOOKUP(ROWS($AE$2:AE431),P431:Q2334,2,0),\"\")","v":""},null,null,null,null,{"$f":"IFERROR(VLOOKUP(ROWS($AJ$2:AJ431),O431:Q2334,3,0),\"\")","v":""},null,{"$f":"IFERROR(VLOOKUP(ROWS(AL$2:$AL431),N431:Q2334,4,0),\"\")","v":""}]
[null,null,null,null,null,null,null,null,null,null,null,null,null,0,0,0,"quantum tax saving fund","MQU008","ELSS",null,null,null,null,null,null,null,null,null,null,null,{"$f":"IFERROR(VLOOKUP(ROWS($AE$2:AE432),P432:Q2335,2,0),\"\")","v":""},null,null,null,null,{"$f":"IFERROR(VLOOKUP(ROWS($AJ$2:AJ432),O432:Q2335,3,0),\"\")","v":""},null,{"$f":"IFERROR(VLOOKUP(ROWS(AL$2:$AL432),N432:Q2335,4,0),\"\")","v":""}]
[null,null,null,null,null,null,null,null,null,null,null,null,null,0,0,0,"reliance elsf series 1","MRC270","ELSS",null,null,null,null,null,null,null,null,null,null,null,{"$f":"IFERROR(VLOOKUP(ROWS($AE$2:AE433),P433:Q2336,2,0),\"\")","v":""},null,null,null,null,{"$f":"IFERROR(VLOOKUP(ROWS($AJ$2:AJ433),O433:Q2336,3,0),\"\")","v":""},null,{"$f":"IFERROR(VLOOKUP(ROWS(AL$2:$AL433),N433:Q2336,4,0),\"\")","v":""}]
[null,null,null,null,null,null,null,null,null,null,null,null,null,0,0,0,"reliance tax saver elss ","MRC101","ELSS",null,null,null,null,null,null,null,null,null,null,null,{"$f":"IFERROR(VLOOKUP(ROWS($AE$2:AE434),P434:Q2337,2,0),\"\")","v":""},null,null,null,null,{"$f":"IFERROR(VLOOKUP(ROWS($AJ$2:AJ434),O434:Q2337,3,0),\"\")","v":""},null,{"$f":"IFERROR(VLOOKUP(ROWS(AL$2:$AL434),N434:Q2337,4,0),\"\")","v":""}]
[null,null,null,null,null,null,null,null,null,null,null,null,null,0,0,0,"religare invesco agile tax","MLI155","ELSS",null,null,null,null,null,null,null,null,null,null,null,{"$f":"IFERROR(VLOOKUP(ROWS($AE$2:AE435),P435:Q2338,2,0),\"\")","v":""},null,null,null,null,{"$f":"IFERROR(VLOOKUP(ROWS($AJ$2:AJ435),O435:Q2338,3,0),\"\")","v":""},null,{"$f":"IFERROR(VLOOKUP(ROWS(AL$2:$AL435),N435:Q2338,4,0),\"\")","v":""}]
[null,null,null,null,null,null,null,null,null,null,null,null,null,0,0,0,"religare invesco tax plan","MLI011","ELSS",null,null,null,null,null,null,null,null,null,null,null,{"$f":"IFERROR(VLOOKUP(ROWS($AE$2:AE436),P436:Q2339,2,0),\"\")","v":""},null,null,null,null,{"$f":"IFERROR(VLOOKUP(ROWS($AJ$2:AJ436),O436:Q2339,3,0),\"\")","v":""},null,{"$f":"IFERROR(VLOOKUP(ROWS(AL$2:$AL436),N436:Q2339,4,0),\"\")","v":""}]
[null,null,null,null,null,null,null,null,null,null,null,null,null,0,0,0,"religare invesco tax plan dp","MLI550","ELSS",null,null,null,null,null,null,null,null,null,null,null,{"$f":"IFERROR(VLOOKUP(ROWS($AE$2:AE437),P437:Q2340,2,0),\"\")","v":""},null,null,null,null,{"$f":"IFERROR(VLOOKUP(ROWS($AJ$2:AJ437),O437:Q2340,3,0),\"\")","v":""},null,{"$f":"IFERROR(VLOOKUP(ROWS(AL$2:$AL437),N437:Q2340,4,0),\"\")","v":""}]
[null,null,null,null,null,null,null,null,null,null,null,null,null,0,0,0,"sahara taxgain","MFI011","ELSS",null,null,null,null,null,null,null,null,null,null,null,{"$f":"IFERROR(VLOOKUP(ROWS($AE$2:AE438),P438:Q2341,2,0),\"\")","v":""},null,null,null,null,{"$f":"IFERROR(VLOOKUP(ROWS($AJ$2:AJ438),O438:Q2341,3,0),\"\")","v":""},null,{"$f":"IFERROR(VLOOKUP(ROWS(AL$2:$AL438),N438:Q2341,4,0),\"\")","v":""}]
[null,null,null,null,null,null,null,null,null,null,null,null,null,0,0,0,"sbi long term advantage sr1 dp","MSB1065","ELSS",null,null,null,null,null,null,null,null,null,null,null,{"$f":"IFERROR(VLOOKUP(ROWS($AE$2:AE439),P439:Q2342,2,0),\"\")","v":""},null,null,null,null,{"$f":"IFERROR(VLOOKUP(ROWS($AJ$2:AJ439),O439:Q2342,3,0),\"\")","v":""},null,{"$f":"IFERROR(VLOOKUP(ROWS(AL$2:$AL439),N439:Q2342,4,0),\"\")","v":""}]
[null,null,null,null,null,null,null,null,null,null,null,null,null,0,0,0,"sbi long term advantage sr1 rp","MSB1063","ELSS",null,null,null,null,null,null,null,null,null,null,null,{"$f":"IFERROR(VLOOKUP(ROWS($AE$2:AE440),P440:Q2343,2,0),\"\")","v":""},null,null,null,null,{"$f":"IFERROR(VLOOKUP(ROWS($AJ$2:AJ440),O440:Q2343,3,0),\"\")","v":""},null,{"$f":"IFERROR(VLOOKUP(ROWS(AL$2:$AL440),N440:Q2343,4,0),\"\")","v":""}]
[null,null,null,null,null,null,null,null,null,null,null,null,null,0,0,0,"sbi long term advantage sr2 dp","MSB1093","ELSS",null,null,null,null,null,null,null,null,null,null,null,{"$f":"IFERROR(VLOOKUP(ROWS($AE$2:AE441),P441:Q2344,2,0),\"\")","v":""},null,null,null,null,{"$f":"IFERROR(VLOOKUP(ROWS($AJ$2:AJ441),O441:Q2344,3,0),\"\")","v":""},null,{"$f":"IFERROR(VLOOKUP(ROWS(AL$2:$AL441),N441:Q2344,4,0),\"\")","v":""}]
[null,null,null,null,null,null,null,null,null,null,null,null,null,0,0,0,"sbi long term advantage sr2 rp","MSB1091","ELSS",null,null,null,null,null,null,null,null,null,null,null,{"$f":"IFERROR(VLOOKUP(ROWS($AE$2:AE442),P442:Q2345,2,0),\"\")","v":""},null,null,null,null,{"$f":"IFERROR(VLOOKUP(ROWS($AJ$2:AJ442),O442:Q2345,3,0),\"\")","v":""},null,{"$f":"IFERROR(VLOOKUP(ROWS(AL$2:$AL442),N442:Q2345,4,0),\"\")","v":""}]
[null,null,null,null,null,null,null,null,null,null,null,null,null,0,0,0,"sbi magnum tax gain","MSB093","ELSS",null,null,null,null,null,null,null,null,null,null,null,{"$f":"IFERROR(VLOOKUP(ROWS($AE$2:AE443),P443:Q2346,2,0),\"\")","v":""},null,null,null,null,{"$f":"IFERROR(VLOOKUP(ROWS($AJ$2:AJ443),O443:Q2346,3,0),\"\")","v":""},null,{"$f":"IFERROR(VLOOKUP(ROWS(AL$2:$AL443),N443:Q2346,4,0),\"\")","v":""}]
[null,null,null,null,null,null,null,null,null,null,null,null,null,0,0,0,"sbi tax advantage sr 1","MSB135","ELSS",null,null,null,null,null,null,null,null,null,null,null,{"$f":"IFERROR(VLOOKUP(ROWS($AE$2:AE444),P444:Q2347,2,0),\"\")","v":""},null,null,null,null,{"$f":"IFERROR(VLOOKUP(ROWS($AJ$2:AJ444),O444:Q2347,3,0),\"\")","v":""},null,{"$f":"IFERROR(VLOOKUP(ROWS(AL$2:$AL444),N444:Q2347,4,0),\"\")","v":""}]
[null,null,null,null,null,null,null,null,null,null,null,null,null,0,0,0,"sbi tax advantage sr 2","MSB368","ELSS",null,null,null,null,null,null,null,null,null,null,null,{"$f":"IFERROR(VLOOKUP(ROWS($AE$2:AE445),P445:Q2348,2,0),\"\")","v":""},null,null,null,null,{"$f":"IFERROR(VLOOKUP(ROWS($AJ$2:AJ445),O445:Q2348,3,0),\"\")","v":""},null,{"$f":"IFERROR(VLOOKUP(ROWS(AL$2:$AL445),N445:Q2348,4,0),\"\")","v":""}]
[null,null,null,null,null,null,null,null,null,null,null,null,null,0,0,0,"sbi tax advantage sr 3 regular","MSB813","ELSS",null,null,null,null,null,null,null,null,null,null,null,{"$f":"IFERROR(VLOOKUP(ROWS($AE$2:AE446),P446:Q2349,2,0),\"\")","v":""},null,null,null,null,{"$f":"IFERROR(VLOOKUP(ROWS($AJ$2:AJ446),O446:Q2349,3,0),\"\")","v":""},null,{"$f":"IFERROR(VLOOKUP(ROWS(AL$2:$AL446),N446:Q2349,4,0),\"\")","v":""}]
[null,null,null,null,null,null,null,null,null,null,null,null,null,0,0,0,"sundaram tax saver","MSN004","ELSS",null,null,null,null,null,null,null,null,null,null,null,{"$f":"IFERROR(VLOOKUP(ROWS($AE$2:AE447),P447:Q2350,2,0),\"\")","v":""},null,null,null,null,{"$f":"IFERROR(VLOOKUP(ROWS($AJ$2:AJ447),O447:Q2350,3,0),\"\")","v":""},null,{"$f":"IFERROR(VLOOKUP(ROWS(AL$2:$AL447),N447:Q2350,4,0),\"\")","v":""}]
[null,null,null,null,null,null,null,null,null,null,null,null,null,0,0,0,"tata infra tax saving fund","MTA470","ELSS",null,null,null,null,null,null,null,null,null,null,null,{"$f":"IFERROR(VLOOKUP(ROWS($AE$2:AE448),P448:Q2351,2,0),\"\")","v":""},null,null,null,null,{"$f":"IFERROR(VLOOKUP(ROWS($AJ$2:AJ448),O448:Q2351,3,0),\"\")","v":""},null,{"$f":"IFERROR(VLOOKUP(ROWS(AL$2:$AL448),N448:Q2351,4,0),\"\")","v":""}]
[null,null,null,null,null,null,null,null,null,null,null,null,null,0,0,0,"tata tax advantage fund 1","MTA142","ELSS",null,null,null,null,null,null,null,null,null,null,null,{"$f":"IFERROR(VLOOKUP(ROWS($AE$2:AE449),P449:Q2352,2,0),\"\")","v":""},null,null,null,null,{"$f":"IFERROR(VLOOKUP(ROWS($AJ$2:AJ449),O449:Q2352,3,0),\"\")","v":""},null,{"$f":"IFERROR(VLOOKUP(ROWS(AL$2:$AL449),N449:Q2352,4,0),\"\")","v":""}]
[null,null,null,null,null,null,null,null,null,null,null,null,null,0,0,{"$f":"IF(ISNUMBER(SEARCH($H$6,Q450)),MAX($P$1,P449)+1,0)","v":0},"tata tax saving fund regular plan","MTA003","ELSS",null,null,null,null,null,null,null,null,null,null,null,{"$f":"IFERROR(VLOOKUP(ROWS($AE$2:AE450),P450:Q2353,2,0),\"\")","v":""},null,null,null,null,{"$f":"IFERROR(VLOOKUP(ROWS($AJ$2:AJ450),O450:Q2353,3,0),\"\")","v":""},null,{"$f":"IFERROR(VLOOKUP(ROWS(AL$2:$AL450),N450:Q2353,4,0),\"\")","v":""}]
[null,null,null,null,null,null,null,null,null,null,null,null,null,{"$f":"IF(ISNUMBER(SEARCH($H$16,Q451)),MAX($N$1,N450)+1,0)","v":0},{"$f":"IF(ISNUMBER(SEARCH($H$11,Q451)),MAX($O$1,O450)+1,0)","v":0},0,"tata tax saving fund regular plan","MTA1113","ELSS",null,null,null,null,null,null,null,null,null,null,null,{"$f":"IFERROR(VLOOKUP(ROWS($AE$2:AE451),P451:Q2354,2,0),\"\")","v":""},null,null,null,null,{"$f":"IFERROR(VLOOKUP(ROWS($AJ$2:AJ451),O451:Q2354,3,0),\"\")","v":""},null,{"$f":"IFERROR(VLOOKUP(ROWS(AL$2:$AL451),N451:Q2354,4,0),\"\")","v":""}]
[null,null,null,null,null,null,null,null,null,null,null,null,null,0,0,0,"taurus tax shield","MCM014","ELSS",null,null,null,null,null,null,null,null,null,null,null,{"$f":"IFERROR(VLOOKUP(ROWS($AE$2:AE452),P452:Q2355,2,0),\"\")","v":""},null,null,null,null,{"$f":"IFERROR(VLOOKUP(ROWS($AJ$2:AJ452),O452:Q2355,3,0),\"\")","v":""},null,{"$f":"IFERROR(VLOOKUP(ROWS(AL$2:$AL452),N452:Q2355,4,0),\"\")","v":""}]
[null,null,null,null,null,null,null,null,null,null,null,null,null,0,0,0,"union kbc tax saver scheme","MUK010","ELSS",null,null,null,null,null,null,null,null,null,null,null,{"$f":"IFERROR(VLOOKUP(ROWS($AE$2:AE453),P453:Q2356,2,0),\"\")","v":""},null,null,null,null,{"$f":"IFERROR(VLOOKUP(ROWS($AJ$2:AJ453),O453:Q2356,3,0),\"\")","v":""},null,{"$f":"IFERROR(VLOOKUP(ROWS(AL$2:$AL453),N453:Q2356,4,0),\"\")","v":""}]
[null,null,null,null,null,null,null,null,null,null,null,null,null,0,0,0,"uti equity tax saving","MUT025","ELSS",null,null,null,null,null,null,null,null,null,null,null,{"$f":"IFERROR(VLOOKUP(ROWS($AE$2:AE454),P454:Q2357,2,0),\"\")","v":""},null,null,null,null,{"$f":"IFERROR(VLOOKUP(ROWS($AJ$2:AJ454),O454:Q2357,3,0),\"\")","v":""},null,{"$f":"IFERROR(VLOOKUP(ROWS(AL$2:$AL454),N454:Q2357,4,0),\"\")","v":""}]
[null,null,null,null,null,null,null,null,null,null,null,null,null,0,0,0,"uti long term advantage","MUT110","ELSS",null,null,null,null,null,null,null,null,null,null,null,{"$f":"IFERROR(VLOOKUP(ROWS($AE$2:AE455),P455:Q2358,2,0),\"\")","v":""},null,null,null,null,{"$f":"IFERROR(VLOOKUP(ROWS($AJ$2:AJ455),O455:Q2358,3,0),\"\")","v":""},null,{"$f":"IFERROR(VLOOKUP(ROWS(AL$2:$AL455),N455:Q2358,4,0),\"\")","v":""}]
[null,null,null,null,null,null,null,null,null,null,null,null,null,0,0,0,"uti long term advantage s2","MUT149","ELSS",null,null,null,null,null,null,null,null,null,null,null,{"$f":"IFERROR(VLOOKUP(ROWS($AE$2:AE456),P456:Q2359,2,0),\"\")","v":""},null,null,null,null,{"$f":"IFERROR(VLOOKUP(ROWS($AJ$2:AJ456),O456:Q2359,3,0),\"\")","v":""},null,{"$f":"IFERROR(VLOOKUP(ROWS(AL$2:$AL456),N456:Q2359,4,0),\"\")","v":""}]
[null,null,null,null,null,null,null,null,null,null,null,null,null,0,0,0,"uti master equity plan us ","MUT101","ELSS",null,null,null,null,null,null,null,null,null,null,null,{"$f":"IFERROR(VLOOKUP(ROWS($AE$2:AE457),P457:Q2360,2,0),\"\")","v":""},null,null,null,null,{"$f":"IFERROR(VLOOKUP(ROWS($AJ$2:AJ457),O457:Q2360,3,0),\"\")","v":""},null,{"$f":"IFERROR(VLOOKUP(ROWS(AL$2:$AL457),N457:Q2360,4,0),\"\")","v":""}]
[null,null,null,null,null,null,null,null,null,null,null,null,null,0,0,0,"sbi pharma fund","MSB062","Pharma",null,null,null,null,null,null,null,null,null,null,null,{"$f":"IFERROR(VLOOKUP(ROWS($AE$2:AE458),P458:Q2361,2,0),\"\")","v":""},null,null,null,null,{"$f":"IFERROR(VLOOKUP(ROWS($AJ$2:AJ458),O458:Q2361,3,0),\"\")","v":""},null,{"$f":"IFERROR(VLOOKUP(ROWS(AL$2:$AL458),N458:Q2361,4,0),\"\")","v":""}]
[null,null,null,null,null,null,null,null,null,null,null,null,null,0,0,0,"reliance pharma fund","MRC058","Pharma",null,null,null,null,null,null,null,null,null,null,null,{"$f":"IFERROR(VLOOKUP(ROWS($AE$2:AE459),P459:Q2362,2,0),\"\")","v":""},null,null,null,null,{"$f":"IFERROR(VLOOKUP(ROWS($AJ$2:AJ459),O459:Q2362,3,0),\"\")","v":""},null,{"$f":"IFERROR(VLOOKUP(ROWS(AL$2:$AL459),N459:Q2362,4,0),\"\")","v":""}]
[null,null,null,null,null,null,null,null,null,null,null,null,null,0,0,0,"uti pharma health","MUT031","Pharma",null,null,null,null,null,null,null,null,null,null,null,{"$f":"IFERROR(VLOOKUP(ROWS($AE$2:AE460),P460:Q2363,2,0),\"\")","v":""},null,null,null,null,{"$f":"IFERROR(VLOOKUP(ROWS($AJ$2:AJ460),O460:Q2363,3,0),\"\")","v":""},null,{"$f":"IFERROR(VLOOKUP(ROWS(AL$2:$AL460),N460:Q2363,4,0),\"\")","v":""}]
[null,null,null,null,null,null,null,null,null,null,null,null,null,0,0,0,"baroda bank financial serv ","MBO078","Banking",null,null,null,null,null,null,null,null,null,null,null,{"$f":"IFERROR(VLOOKUP(ROWS($AE$2:AE461),P461:Q2364,2,0),\"\")","v":""},null,null,null,null,{"$f":"IFERROR(VLOOKUP(ROWS($AJ$2:AJ461),O461:Q2364,3,0),\"\")","v":""},null,{"$f":"IFERROR(VLOOKUP(ROWS(AL$2:$AL461),N461:Q2364,4,0),\"\")","v":""}]
[null,null,null,null,null,null,null,null,null,null,null,null,null,0,0,0,"birla sl bank financial ser dp","MBS1453","Banking",null,null,null,null,null,null,null,null,null,null,null,{"$f":"IFERROR(VLOOKUP(ROWS($AE$2:AE462),P462:Q2365,2,0),\"\")","v":""},null,null,null,null,{"$f":"IFERROR(VLOOKUP(ROWS($AJ$2:AJ462),O462:Q2365,3,0),\"\")","v":""},null,{"$f":"IFERROR(VLOOKUP(ROWS(AL$2:$AL462),N462:Q2365,4,0),\"\")","v":""}]
[null,null,null,null,null,null,null,null,null,null,null,null,null,0,0,0,"birla sl bank financial ser rp","MBS1451","Banking",null,null,null,null,null,null,null,null,null,null,null,{"$f":"IFERROR(VLOOKUP(ROWS($AE$2:AE463),P463:Q2366,2,0),\"\")","v":""},null,null,null,null,{"$f":"IFERROR(VLOOKUP(ROWS($AJ$2:AJ463),O463:Q2366,3,0),\"\")","v":""},null,{"$f":"IFERROR(VLOOKUP(ROWS(AL$2:$AL463),N463:Q2366,4,0),\"\")","v":""}]
[null,null,null,null,null,null,null,null,null,null,null,null,null,0,0,0,"gs bank bees","MBM004","Banking",null,null,null,null,null,null,null,null,null,null,null,{"$f":"IFERROR(VLOOKUP(ROWS($AE$2:AE464),P464:Q2367,2,0),\"\")","v":""},null,null,null,null,{"$f":"IFERROR(VLOOKUP(ROWS($AJ$2:AJ464),O464:Q2367,3,0),\"\")","v":""},null,{"$f":"IFERROR(VLOOKUP(ROWS(AL$2:$AL464),N464:Q2367,4,0),\"\")","v":""}]
[null,null,null,null,null,null,null,null,null,null,null,null,null,0,0,0,"gs psu bank bees","MBM018","Banking",null,null,null,null,null,null,null,null,null,null,null,{"$f":"IFERROR(VLOOKUP(ROWS($AE$2:AE465),P465:Q2368,2,0),\"\")","v":""},null,null,null,null,{"$f":"IFERROR(VLOOKUP(ROWS($AJ$2:AJ465),O465:Q2368,3,0),\"\")","v":""},null,{"$f":"IFERROR(VLOOKUP(ROWS(AL$2:$AL465),N465:Q2368,4,0),\"\")","v":""}]
[null,null,null,null,null,null,null,null,null,null,null,null,null,0,0,0,"icici pru bkg fin serv rp","MPI447","Banking",null,null,null,null,null,null,null,null,null,null,null,{"$f":"IFERROR(VLOOKUP(ROWS($AE$2:AE466),P466:Q2369,2,0),\"\")","v":""},null,null,null,null,{"$f":"IFERROR(VLOOKUP(ROWS($AJ$2:AJ466),O466:Q2369,3,0),\"\")","v":""},null,{"$f":"IFERROR(VLOOKUP(ROWS(AL$2:$AL466),N466:Q2369,4,0),\"\")","v":""}]
[null,null,null,null,null,null,null,null,null,null,null,null,null,0,0,0,"kotak psu bank etf","MKM178","Banking",null,null,null,null,null,null,null,null,null,null,null,{"$f":"IFERROR(VLOOKUP(ROWS($AE$2:AE467),P467:Q2370,2,0),\"\")","v":""},null,null,null,null,{"$f":"IFERROR(VLOOKUP(ROWS($AJ$2:AJ467),O467:Q2370,3,0),\"\")","v":""},null,{"$f":"IFERROR(VLOOKUP(ROWS(AL$2:$AL467),N467:Q2370,4,0),\"\")","v":""}]
[null,null,null,null,null,null,null,null,null,null,null,null,null,0,0,0,"r*shares banking etf","MRC356","Banking",null,null,null,null,null,null,null,null,null,null,null,{"$f":"IFERROR(VLOOKUP(ROWS($AE$2:AE468),P468:Q2371,2,0),\"\")","v":""},null,null,null,null,{"$f":"IFERROR(VLOOKUP(ROWS($AJ$2:AJ468),O468:Q2371,3,0),\"\")","v":""},null,{"$f":"IFERROR(VLOOKUP(ROWS(AL$2:$AL468),N468:Q2371,4,0),\"\")","v":""}]
[null,null,null,null,null,null,null,null,null,null,null,null,null,0,0,0,"r*shares sensex etf","MRC1688","Banking",null,null,null,null,null,null,null,null,null,null,null,{"$f":"IFERROR(VLOOKUP(ROWS($AE$2:AE469),P469:Q2372,2,0),\"\")","v":""},null,null,null,null,{"$f":"IFERROR(VLOOKUP(ROWS($AJ$2:AJ469),O469:Q2372,3,0),\"\")","v":""},null,{"$f":"IFERROR(VLOOKUP(ROWS(AL$2:$AL469),N469:Q2372,4,0),\"\")","v":""}]
[null,null,null,null,null,null,null,null,null,null,null,null,null,0,0,0,"reliance banking fund","MRC026","Banking",null,null,null,null,null,null,null,null,null,null,null,{"$f":"IFERROR(VLOOKUP(ROWS($AE$2:AE470),P470:Q2373,2,0),\"\")","v":""},null,null,null,null,{"$f":"IFERROR(VLOOKUP(ROWS($AJ$2:AJ470),O470:Q2373,3,0),\"\")","v":""},null,{"$f":"IFERROR(VLOOKUP(ROWS(AL$2:$AL470),N470:Q2373,4,0),\"\")","v":""}]
[null,null,null,null,null,null,null,null,null,null,null,null,null,0,0,0,"reliance banking fund ip","MRC447","Banking",null,null,null,null,null,null,null,null,null,null,null,{"$f":"IFERROR(VLOOKUP(ROWS($AE$2:AE471),P471:Q2374,2,0),\"\")","v":""},null,null,null,null,{"$f":"IFERROR(VLOOKUP(ROWS($AJ$2:AJ471),O471:Q2374,3,0),\"\")","v":""},null,{"$f":"IFERROR(VLOOKUP(ROWS(AL$2:$AL471),N471:Q2374,4,0),\"\")","v":""}]
[null,null,null,null,null,null,null,null,null,null,null,null,null,0,0,0,"religare invesco banking dir","MLI570","Banking",null,null,null,null,null,null,null,null,null,null,null,{"$f":"IFERROR(VLOOKUP(ROWS($AE$2:AE472),P472:Q2375,2,0),\"\")","v":""},null,null,null,null,{"$f":"IFERROR(VLOOKUP(ROWS($AJ$2:AJ472),O472:Q2375,3,0),\"\")","v":""},null,{"$f":"IFERROR(VLOOKUP(ROWS(AL$2:$AL472),N472:Q2375,4,0),\"\")","v":""}]
[null,null,null,null,null,null,null,null,null,null,null,null,null,0,0,0,"religare invesco banking rp","MLI257","Banking",null,null,null,null,null,null,null,null,null,null,null,{"$f":"IFERROR(VLOOKUP(ROWS($AE$2:AE473),P473:Q2376,2,0),\"\")","v":""},null,null,null,null,{"$f":"IFERROR(VLOOKUP(ROWS($AJ$2:AJ473),O473:Q2376,3,0),\"\")","v":""},null,{"$f":"IFERROR(VLOOKUP(ROWS(AL$2:$AL473),N473:Q2376,4,0),\"\")","v":""}]
[null,null,null,null,null,null,null,null,null,null,null,null,null,0,0,0,"sahara bkg fin services","MFI053","Banking",null,null,null,null,null,null,null,null,null,null,null,{"$f":"IFERROR(VLOOKUP(ROWS($AE$2:AE474),P474:Q2377,2,0),\"\")","v":""},null,null,null,null,{"$f":"IFERROR(VLOOKUP(ROWS($AJ$2:AJ474),O474:Q2377,3,0),\"\")","v":""},null,{"$f":"IFERROR(VLOOKUP(ROWS(AL$2:$AL474),N474:Q2377,4,0),\"\")","v":""}]
[null,null,null,null,null,null,null,null,null,null,null,null,null,0,0,0,"sbi banking financial services dp","MSB1101","Banking",null,null,null,null,null,null,null,null,null,null,null,{"$f":"IFERROR(VLOOKUP(ROWS($AE$2:AE475),P475:Q2378,2,0),\"\")","v":""},null,null,null,null,{"$f":"IFERROR(VLOOKUP(ROWS($AJ$2:AJ475),O475:Q2378,3,0),\"\")","v":""},null,{"$f":"IFERROR(VLOOKUP(ROWS(AL$2:$AL475),N475:Q2378,4,0),\"\")","v":""}]
[null,null,null,null,null,null,null,null,null,null,null,null,null,0,0,0,"sbi banking financial services rp","MSB1099","Banking",null,null,null,null,null,null,null,null,null,null,null,{"$f":"IFERROR(VLOOKUP(ROWS($AE$2:AE476),P476:Q2379,2,0),\"\")","v":""},null,null,null,null,{"$f":"IFERROR(VLOOKUP(ROWS($AJ$2:AJ476),O476:Q2379,3,0),\"\")","v":""},null,{"$f":"IFERROR(VLOOKUP(ROWS(AL$2:$AL476),N476:Q2379,4,0),\"\")","v":""}]
[null,null,null,null,null,null,null,null,null,null,null,null,null,0,0,0,"sundaram fin serv opp ip","MSN229","Banking",null,null,null,null,null,null,null,null,null,null,null,{"$f":"IFERROR(VLOOKUP(ROWS($AE$2:AE477),P477:Q2380,2,0),\"\")","v":""},null,null,null,null,{"$f":"IFERROR(VLOOKUP(ROWS($AJ$2:AJ477),O477:Q2380,3,0),\"\")","v":""},null,{"$f":"IFERROR(VLOOKUP(ROWS(AL$2:$AL477),N477:Q2380,4,0),\"\")","v":""}]
[null,null,null,null,null,null,null,null,null,null,null,null,null,0,0,0,"sundaram fin serv opp rp","MSN227","Banking",null,null,null,null,null,null,null,null,null,null,null,{"$f":"IFERROR(VLOOKUP(ROWS($AE$2:AE478),P478:Q2381,2,0),\"\")","v":""},null,null,null,null,{"$f":"IFERROR(VLOOKUP(ROWS($AJ$2:AJ478),O478:Q2381,3,0),\"\")","v":""},null,{"$f":"IFERROR(VLOOKUP(ROWS(AL$2:$AL478),N478:Q2381,4,0),\"\")","v":""}]
[null,null,null,null,null,null,null,null,null,null,null,null,null,0,0,0,"taurus banking financial serv ","MCM120","Banking",null,null,null,null,null,null,null,null,null,null,null,{"$f":"IFERROR(VLOOKUP(ROWS($AE$2:AE479),P479:Q2382,2,0),\"\")","v":""},null,null,null,null,{"$f":"IFERROR(VLOOKUP(ROWS($AJ$2:AJ479),O479:Q2382,3,0),\"\")","v":""},null,{"$f":"IFERROR(VLOOKUP(ROWS(AL$2:$AL479),N479:Q2382,4,0),\"\")","v":""}]
[null,null,null,null,null,null,null,null,null,null,null,null,null,0,0,0,"uti banking sector","MUT064","Banking",null,null,null,null,null,null,null,null,null,null,null,{"$f":"IFERROR(VLOOKUP(ROWS($AE$2:AE480),P480:Q2383,2,0),\"\")","v":""},null,null,null,null,{"$f":"IFERROR(VLOOKUP(ROWS($AJ$2:AJ480),O480:Q2383,3,0),\"\")","v":""},null,{"$f":"IFERROR(VLOOKUP(ROWS(AL$2:$AL480),N480:Q2383,4,0),\"\")","v":""}]
[null,null,null,null,null,null,null,null,null,null,null,null,null,0,0,0,"ICICI FMCG","MPI004","FMCG",null,null,null,null,null,null,null,null,null,null,null,{"$f":"IFERROR(VLOOKUP(ROWS($AE$2:AE481),P481:Q2384,2,0),\"\")","v":""},null,null,null,null,{"$f":"IFERROR(VLOOKUP(ROWS($AJ$2:AJ481),O481:Q2384,3,0),\"\")","v":""},null,{"$f":"IFERROR(VLOOKUP(ROWS(AL$2:$AL481),N481:Q2384,4,0),\"\")","v":""}]
[null,null,null,null,null,null,null,null,null,null,null,null,null,0,0,0,"SBI FMCG","MSB492","FMCG",null,null,null,null,null,null,null,null,null,null,null,{"$f":"IFERROR(VLOOKUP(ROWS($AE$2:AE482),P482:Q2385,2,0),\"\")","v":""},null,null,null,null,{"$f":"IFERROR(VLOOKUP(ROWS($AJ$2:AJ482),O482:Q2385,3,0),\"\")","v":""},null,{"$f":"IFERROR(VLOOKUP(ROWS(AL$2:$AL482),N482:Q2385,4,0),\"\")","v":""}]
[null,null,null,null,null,null,null,null,null,null,null,null,null,0,0,0,"icici pru technology direct","MPI1128","Technology",null,null,null,null,null,null,null,null,null,null,null,{"$f":"IFERROR(VLOOKUP(ROWS($AE$2:AE483),P483:Q2386,2,0),\"\")","v":""},null,null,null,null,{"$f":"IFERROR(VLOOKUP(ROWS($AJ$2:AJ483),O483:Q2386,3,0),\"\")","v":""},null,{"$f":"IFERROR(VLOOKUP(ROWS(AL$2:$AL483),N483:Q2386,4,0),\"\")","v":""}]
[null,null,null,null,null,null,null,null,null,null,null,null,null,0,0,0,"icici pru tech fund","MPI015","Technology",null,null,null,null,null,null,null,null,null,null,null,{"$f":"IFERROR(VLOOKUP(ROWS($AE$2:AE484),P484:Q2387,2,0),\"\")","v":""},null,null,null,null,{"$f":"IFERROR(VLOOKUP(ROWS($AJ$2:AJ484),O484:Q2387,3,0),\"\")","v":""},null,{"$f":"IFERROR(VLOOKUP(ROWS(AL$2:$AL484),N484:Q2387,4,0),\"\")","v":""}]
[null,null,null,null,null,null,null,null,null,null,null,null,null,0,0,0,"sbi it fund","MSB491","Technology",null,null,null,null,null,null,null,null,null,null,null,{"$f":"IFERROR(VLOOKUP(ROWS($AE$2:AE485),P485:Q2388,2,0),\"\")","v":""},null,null,null,null,{"$f":"IFERROR(VLOOKUP(ROWS($AJ$2:AJ485),O485:Q2388,3,0),\"\")","v":""},null,{"$f":"IFERROR(VLOOKUP(ROWS(AL$2:$AL485),N485:Q2388,4,0),\"\")","v":""}]
[null,null,null,null,null,null,null,null,null,null,null,null,null,0,0,0,"birla sl new millennium","MAC025","Technology",null,null,null,null,null,null,null,null,null,null,null,{"$f":"IFERROR(VLOOKUP(ROWS($AE$2:AE486),P486:Q2389,2,0),\"\")","v":""},null,null,null,null,{"$f":"IFERROR(VLOOKUP(ROWS($AJ$2:AJ486),O486:Q2389,3,0),\"\")","v":""},null,{"$f":"IFERROR(VLOOKUP(ROWS(AL$2:$AL486),N486:Q2389,4,0),\"\")","v":""}]
[null,null,null,null,null,null,null,null,null,null,null,null,null,0,0,0,"dsp br technology com rp","MDS010","Technology",null,null,null,null,null,null,null,null,null,null,null,{"$f":"IFERROR(VLOOKUP(ROWS($AE$2:AE487),P487:Q2390,2,0),\"\")","v":""},null,null,null,null,{"$f":"IFERROR(VLOOKUP(ROWS($AJ$2:AJ487),O487:Q2390,3,0),\"\")","v":""},null,{"$f":"IFERROR(VLOOKUP(ROWS(AL$2:$AL487),N487:Q2390,4,0),\"\")","v":""}]
[null,null,null,null,null,null,null,null,null,null,null,null,null,0,0,0,"franklin infotech fund","MKP004","Technology",null,null,null,null,null,null,null,null,null,null,null,{"$f":"IFERROR(VLOOKUP(ROWS($AE$2:AE488),P488:Q2391,2,0),\"\")","v":""},null,null,null,null,{"$f":"IFERROR(VLOOKUP(ROWS($AJ$2:AJ488),O488:Q2391,3,0),\"\")","v":""},null,{"$f":"IFERROR(VLOOKUP(ROWS(AL$2:$AL488),N488:Q2391,4,0),\"\")","v":""}]
[null,null,null,null,null,null,null,null,null,null,null,null,null,0,0,0,"uti transport logistics direct","MUT623","other sectors",null,null,null,null,null,null,null,null,null,null,null,{"$f":"IFERROR(VLOOKUP(ROWS($AE$2:AE489),P489:Q2392,2,0),\"\")","v":""},null,null,null,null,{"$f":"IFERROR(VLOOKUP(ROWS($AJ$2:AJ489),O489:Q2392,3,0),\"\")","v":""},null,{"$f":"IFERROR(VLOOKUP(ROWS(AL$2:$AL489),N489:Q2392,4,0),\"\")","v":""}]
[null,null,null,null,null,null,null,null,null,null,null,null,null,0,0,0,"uti transport logistics","MUT066","other sectors",null,null,null,null,null,null,null,null,null,null,null,{"$f":"IFERROR(VLOOKUP(ROWS($AE$2:AE490),P490:Q2393,2,0),\"\")","v":""},null,null,null,null,{"$f":"IFERROR(VLOOKUP(ROWS($AJ$2:AJ490),O490:Q2393,3,0),\"\")","v":""},null,{"$f":"IFERROR(VLOOKUP(ROWS(AL$2:$AL490),N490:Q2393,4,0),\"\")","v":""}]
[null,null,null,null,null,null,null,null,null,null,null,null,null,0,0,0,"can robeco force ip","MCA165","other sectors",null,null,null,null,null,null,null,null,null,null,null,{"$f":"IFERROR(VLOOKUP(ROWS($AE$2:AE491),P491:Q2394,2,0),\"\")","v":""},null,null,null,null,{"$f":"IFERROR(VLOOKUP(ROWS($AJ$2:AJ491),O491:Q2394,3,0),\"\")","v":""},null,{"$f":"IFERROR(VLOOKUP(ROWS(AL$2:$AL491),N491:Q2394,4,0),\"\")","v":""}]
[null,null,null,null,null,null,null,null,null,null,null,null,null,0,0,0,"can robeco force rp","MCA163","other sectors",null,null,null,null,null,null,null,null,null,null,null,{"$f":"IFERROR(VLOOKUP(ROWS($AE$2:AE492),P492:Q2395,2,0),\"\")","v":""},null,null,null,null,{"$f":"IFERROR(VLOOKUP(ROWS($AJ$2:AJ492),O492:Q2395,3,0),\"\")","v":""},null,{"$f":"IFERROR(VLOOKUP(ROWS(AL$2:$AL492),N492:Q2395,4,0),\"\")","v":""}]
[null,null,null,null,null,null,null,null,null,null,null,null,null,0,0,0,"sundaram media ent opp rp","MSN231","other sectors",null,null,null,null,null,null,null,null,null,null,null,{"$f":"IFERROR(VLOOKUP(ROWS($AE$2:AE493),P493:Q2396,2,0),\"\")","v":""},null,null,null,null,{"$f":"IFERROR(VLOOKUP(ROWS($AJ$2:AJ493),O493:Q2396,3,0),\"\")","v":""},null,{"$f":"IFERROR(VLOOKUP(ROWS(AL$2:$AL493),N493:Q2396,4,0),\"\")","v":""}]
[null,null,null,null,null,null,null,null,null,null,null,null,null,0,0,0,"idfc ss 50 50 equity regular","MAG269","other sectors",null,null,null,null,null,null,null,null,null,null,null,{"$f":"IFERROR(VLOOKUP(ROWS($AE$2:AE494),P494:Q2397,2,0),\"\")","v":""},null,null,null,null,{"$f":"IFERROR(VLOOKUP(ROWS($AJ$2:AJ494),O494:Q2397,3,0),\"\")","v":""},null,{"$f":"IFERROR(VLOOKUP(ROWS(AL$2:$AL494),N494:Q2397,4,0),\"\")","v":""}]
[null,null,null,null,null,null,null,null,null,null,null,null,null,0,0,0,"idfc ss 50 50 equity b","MAG333","other sectors",null,null,null,null,null,null,null,null,null,null,null,{"$f":"IFERROR(VLOOKUP(ROWS($AE$2:AE495),P495:Q2398,2,0),\"\")","v":""},null,null,null,null,{"$f":"IFERROR(VLOOKUP(ROWS($AJ$2:AJ495),O495:Q2398,3,0),\"\")","v":""},null,{"$f":"IFERROR(VLOOKUP(ROWS(AL$2:$AL495),N495:Q2398,4,0),\"\")","v":""}]
[null,null,null,null,null,null,null,null,null,null,null,null,null,0,0,0,"sahara real fund ","MFI037","other sectors",null,null,null,null,null,null,null,null,null,null,null,{"$f":"IFERROR(VLOOKUP(ROWS($AE$2:AE496),P496:Q2399,2,0),\"\")","v":""},null,null,null,null,{"$f":"IFERROR(VLOOKUP(ROWS($AJ$2:AJ496),O496:Q2399,3,0),\"\")","v":""},null,{"$f":"IFERROR(VLOOKUP(ROWS(AL$2:$AL496),N496:Q2399,4,0),\"\")","v":""}]
[null,null,null,null,null,null,null,null,null,null,null,null,null,0,0,0,"reliance media entertain","MRC071","other sectors",null,null,null,null,null,null,null,null,null,null,null,{"$f":"IFERROR(VLOOKUP(ROWS($AE$2:AE497),P497:Q2400,2,0),\"\")","v":""},null,null,null,null,{"$f":"IFERROR(VLOOKUP(ROWS($AJ$2:AJ497),O497:Q2400,3,0),\"\")","v":""},null,{"$f":"IFERROR(VLOOKUP(ROWS(AL$2:$AL497),N497:Q2400,4,0),\"\")","v":""}]
[null,null,null,null,null,null,null,null,null,null,null,null,null,0,0,0,"uti energy fund","MUT030","other sectors",null,null,null,null,null,null,null,null,null,null,null,{"$f":"IFERROR(VLOOKUP(ROWS($AE$2:AE498),P498:Q2401,2,0),\"\")","v":""},null,null,null,null,{"$f":"IFERROR(VLOOKUP(ROWS($AJ$2:AJ498),O498:Q2401,3,0),\"\")","v":""},null,{"$f":"IFERROR(VLOOKUP(ROWS(AL$2:$AL498),N498:Q2401,4,0),\"\")","v":""}]
[null,null,null,null,null,null,null,null,null,null,null,null,null,0,0,0,"sbi magnum comma fund","MSB069","other sectors",null,null,null,null,null,null,null,null,null,null,null,{"$f":"IFERROR(VLOOKUP(ROWS($AE$2:AE499),P499:Q2402,2,0),\"\")","v":""},null,null,null,null,{"$f":"IFERROR(VLOOKUP(ROWS($AJ$2:AJ499),O499:Q2402,3,0),\"\")","v":""},null,{"$f":"IFERROR(VLOOKUP(ROWS(AL$2:$AL499),N499:Q2402,4,0),\"\")","v":""}]
[null,null,null,null,null,null,null,null,null,null,null,null,null,0,0,0,"baroda pioneer psu equity fund","MBO050","other sectors",null,null,null,null,null,null,null,null,null,null,null,{"$f":"IFERROR(VLOOKUP(ROWS($AE$2:AE500),P500:Q2403,2,0),\"\")","v":""},null,null,null,null,{"$f":"IFERROR(VLOOKUP(ROWS($AJ$2:AJ500),O500:Q2403,3,0),\"\")","v":""},null,{"$f":"IFERROR(VLOOKUP(ROWS(AL$2:$AL500),N500:Q2403,4,0),\"\")","v":""}]
[null,null,null,null,null,null,null,null,null,null,null,null,null,0,0,0,"gs junior bees","MBM002","Index",null,null,null,null,null,null,null,null,null,null,null,{"$f":"IFERROR(VLOOKUP(ROWS($AE$2:AE501),P501:Q2404,2,0),\"\")","v":""},null,null,null,null,{"$f":"IFERROR(VLOOKUP(ROWS($AJ$2:AJ501),O501:Q2404,3,0),\"\")","v":""},null,{"$f":"IFERROR(VLOOKUP(ROWS(AL$2:$AL501),N501:Q2404,4,0),\"\")","v":""}]
[null,null,null,null,null,null,null,null,null,null,null,null,null,0,0,0,"tata index fund sensex plan b ","MTA038","Index",null,null,null,null,null,null,null,null,null,null,null,{"$f":"IFERROR(VLOOKUP(ROWS($AE$2:AE502),P502:Q2405,2,0),\"\")","v":""},null,null,null,null,{"$f":"IFERROR(VLOOKUP(ROWS($AJ$2:AJ502),O502:Q2405,3,0),\"\")","v":""},null,{"$f":"IFERROR(VLOOKUP(ROWS(AL$2:$AL502),N502:Q2405,4,0),\"\")","v":""}]
[null,null,null,null,null,null,null,null,null,null,null,null,null,0,0,0,"icici pru nifty junior direct","MPI1185","Index",null,null,null,null,null,null,null,null,null,null,null,{"$f":"IFERROR(VLOOKUP(ROWS($AE$2:AE503),P503:Q2406,2,0),\"\")","v":""},null,null,null,null,{"$f":"IFERROR(VLOOKUP(ROWS($AJ$2:AJ503),O503:Q2406,3,0),\"\")","v":""},null,{"$f":"IFERROR(VLOOKUP(ROWS(AL$2:$AL503),N503:Q2406,4,0),\"\")","v":""}]
[null,null,null,null,null,null,null,null,null,null,null,null,null,0,0,0,"principal index fund midcap dp","MID364","Index",null,null,null,null,null,null,null,null,null,null,null,{"$f":"IFERROR(VLOOKUP(ROWS($AE$2:AE504),P504:Q2407,2,0),\"\")","v":""},null,null,null,null,{"$f":"IFERROR(VLOOKUP(ROWS($AJ$2:AJ504),O504:Q2407,3,0),\"\")","v":""},null,{"$f":"IFERROR(VLOOKUP(ROWS(AL$2:$AL504),N504:Q2407,4,0),\"\")","v":""}]
[null,null,null,null,null,null,null,null,null,null,null,null,null,0,0,0,"idbi nifty junior index direct","MIB076","Index",null,null,null,null,null,null,null,null,null,null,null,{"$f":"IFERROR(VLOOKUP(ROWS($AE$2:AE505),P505:Q2408,2,0),\"\")","v":""},null,null,null,null,{"$f":"IFERROR(VLOOKUP(ROWS($AJ$2:AJ505),O505:Q2408,3,0),\"\")","v":""},null,{"$f":"IFERROR(VLOOKUP(ROWS(AL$2:$AL505),N505:Q2408,4,0),\"\")","v":""}]
[null,null,null,null,null,null,null,null,null,null,null,null,null,0,0,0,"icici pru nifty junior index","MPI751","Index",null,null,null,null,null,null,null,null,null,null,null,{"$f":"IFERROR(VLOOKUP(ROWS($AE$2:AE506),P506:Q2409,2,0),\"\")","v":""},null,null,null,null,{"$f":"IFERROR(VLOOKUP(ROWS($AJ$2:AJ506),O506:Q2409,3,0),\"\")","v":""},null,{"$f":"IFERROR(VLOOKUP(ROWS(AL$2:$AL506),N506:Q2409,4,0),\"\")","v":""}]
[null,null,null,null,null,null,null,null,null,null,null,null,null,0,0,0,"principal index fund midcap rp","MID362","Index",null,null,null,null,null,null,null,null,null,null,null,{"$f":"IFERROR(VLOOKUP(ROWS($AE$2:AE507),P507:Q2410,2,0),\"\")","v":""},null,null,null,null,{"$f":"IFERROR(VLOOKUP(ROWS($AJ$2:AJ507),O507:Q2410,3,0),\"\")","v":""},null,{"$f":"IFERROR(VLOOKUP(ROWS(AL$2:$AL507),N507:Q2410,4,0),\"\")","v":""}]
[null,null,null,null,null,null,null,null,null,null,null,null,null,0,0,0,"idbi nifty junior index fund","MIB007","Index",null,null,null,null,null,null,null,null,null,null,null,{"$f":"IFERROR(VLOOKUP(ROWS($AE$2:AE508),P508:Q2411,2,0),\"\")","v":""},null,null,null,null,{"$f":"IFERROR(VLOOKUP(ROWS($AJ$2:AJ508),O508:Q2411,3,0),\"\")","v":""},null,{"$f":"IFERROR(VLOOKUP(ROWS(AL$2:$AL508),N508:Q2411,4,0),\"\")","v":""}]
[null,null,null,null,null,null,null,null,null,null,null,null,null,0,0,0,"r*shares consumption etf","MRC1474","Index",null,null,null,null,null,null,null,null,null,null,null,{"$f":"IFERROR(VLOOKUP(ROWS($AE$2:AE509),P509:Q2412,2,0),\"\")","v":""},null,null,null,null,{"$f":"IFERROR(VLOOKUP(ROWS($AJ$2:AJ509),O509:Q2412,3,0),\"\")","v":""},null,{"$f":"IFERROR(VLOOKUP(ROWS(AL$2:$AL509),N509:Q2412,4,0),\"\")","v":""}]
[null,null,null,null,null,null,null,null,null,null,null,null,null,0,0,0,"gs cnx 500 fund direct","MBM033","Index",null,null,null,null,null,null,null,null,null,null,null,{"$f":"IFERROR(VLOOKUP(ROWS($AE$2:AE510),P510:Q2413,2,0),\"\")","v":""},null,null,null,null,{"$f":"IFERROR(VLOOKUP(ROWS($AJ$2:AJ510),O510:Q2413,3,0),\"\")","v":""},null,{"$f":"IFERROR(VLOOKUP(ROWS(AL$2:$AL510),N510:Q2413,4,0),\"\")","v":""}]
[null,null,null,null,null,null,null,null,null,null,null,null,null,0,0,0,"gs cnx 500 fund","MBM023","Index",null,null,null,null,null,null,null,null,null,null,null,{"$f":"IFERROR(VLOOKUP(ROWS($AE$2:AE511),P511:Q2414,2,0),\"\")","v":""},null,null,null,null,{"$f":"IFERROR(VLOOKUP(ROWS($AJ$2:AJ511),O511:Q2414,3,0),\"\")","v":""},null,{"$f":"IFERROR(VLOOKUP(ROWS(AL$2:$AL511),N511:Q2414,4,0),\"\")","v":""}]
[null,null,null,null,null,null,null,null,null,null,null,null,null,0,0,0,"icici prudential cnx 100 etf","MPI1512","Index",null,null,null,null,null,null,null,null,null,null,null,{"$f":"IFERROR(VLOOKUP(ROWS($AE$2:AE512),P512:Q2415,2,0),\"\")","v":""},null,null,null,null,{"$f":"IFERROR(VLOOKUP(ROWS($AJ$2:AJ512),O512:Q2415,3,0),\"\")","v":""},null,{"$f":"IFERROR(VLOOKUP(ROWS(AL$2:$AL512),N512:Q2415,4,0),\"\")","v":""}]
[null,null,null,null,null,null,null,null,null,null,null,null,null,0,0,0,"r*shares cnx 100 etf","MRC1048","Index",null,null,null,null,null,null,null,null,null,null,null,{"$f":"IFERROR(VLOOKUP(ROWS($AE$2:AE513),P513:Q2416,2,0),\"\")","v":""},null,null,null,null,{"$f":"IFERROR(VLOOKUP(ROWS($AJ$2:AJ513),O513:Q2416,3,0),\"\")","v":""},null,{"$f":"IFERROR(VLOOKUP(ROWS(AL$2:$AL513),N513:Q2416,4,0),\"\")","v":""}]
[null,null,null,null,null,null,null,null,null,null,null,null,null,0,0,{"$f":"IF(ISNUMBER(SEARCH($H$6,Q514)),MAX($P$1,P513)+1,0)","v":0},"iifl nifty etf","MII001","Index",null,null,null,null,null,null,null,null,null,null,null,{"$f":"IFERROR(VLOOKUP(ROWS($AE$2:AE514),P514:Q2417,2,0),\"\")","v":""},null,null,null,null,{"$f":"IFERROR(VLOOKUP(ROWS($AJ$2:AJ514),O514:Q2417,3,0),\"\")","v":""},null,{"$f":"IFERROR(VLOOKUP(ROWS(AL$2:$AL514),N514:Q2417,4,0),\"\")","v":""}]
[null,null,null,null,null,null,null,null,null,null,null,null,null,{"$f":"IF(ISNUMBER(SEARCH($H$16,Q515)),MAX($N$1,N514)+1,0)","v":0},{"$f":"IF(ISNUMBER(SEARCH($H$11,Q515)),MAX($O$1,O514)+1,0)","v":0},0,"r*shares nifty etf","MRC1303","Index",null,null,null,null,null,null,null,null,null,null,null,{"$f":"IFERROR(VLOOKUP(ROWS($AE$2:AE515),P515:Q2418,2,0),\"\")","v":""},null,null,null,null,{"$f":"IFERROR(VLOOKUP(ROWS($AJ$2:AJ515),O515:Q2418,3,0),\"\")","v":""},null,{"$f":"IFERROR(VLOOKUP(ROWS(AL$2:$AL515),N515:Q2418,4,0),\"\")","v":""}]
[null,null,null,null,null,null,null,null,null,null,null,null,null,0,0,0,"birla sun life nifty etf","MBS589","Index",null,null,null,null,null,null,null,null,null,null,null,{"$f":"IFERROR(VLOOKUP(ROWS($AE$2:AE516),P516:Q2419,2,0),\"\")","v":""},null,null,null,null,{"$f":"IFERROR(VLOOKUP(ROWS($AJ$2:AJ516),O516:Q2419,3,0),\"\")","v":""},null,{"$f":"IFERROR(VLOOKUP(ROWS(AL$2:$AL516),N516:Q2419,4,0),\"\")","v":""}]
[null,null,null,null,null,null,null,null,null,null,null,null,null,0,0,0,"icici prudential nifty etf","MPI1312","Index",null,null,null,null,null,null,null,null,null,null,null,{"$f":"IFERROR(VLOOKUP(ROWS($AE$2:AE517),P517:Q2420,2,0),\"\")","v":""},null,null,null,null,{"$f":"IFERROR(VLOOKUP(ROWS($AJ$2:AJ517),O517:Q2420,3,0),\"\")","v":""},null,{"$f":"IFERROR(VLOOKUP(ROWS(AL$2:$AL517),N517:Q2420,4,0),\"\")","v":""}]
[null,null,null,null,null,null,null,null,null,null,null,null,null,0,0,0,"hdfc index nifty plan direct","MHD1152","Index",null,null,null,null,null,null,null,null,null,null,null,{"$f":"IFERROR(VLOOKUP(ROWS($AE$2:AE518),P518:Q2421,2,0),\"\")","v":""},null,null,null,null,{"$f":"IFERROR(VLOOKUP(ROWS($AJ$2:AJ518),O518:Q2421,3,0),\"\")","v":""},null,{"$f":"IFERROR(VLOOKUP(ROWS(AL$2:$AL518),N518:Q2421,4,0),\"\")","v":""}]
[null,null,null,null,null,null,null,null,null,null,null,null,null,0,0,0,"quantum index fund","MQU007","Index",null,null,null,null,null,null,null,null,null,null,null,{"$f":"IFERROR(VLOOKUP(ROWS($AE$2:AE519),P519:Q2422,2,0),\"\")","v":""},null,null,null,null,{"$f":"IFERROR(VLOOKUP(ROWS($AJ$2:AJ519),O519:Q2422,3,0),\"\")","v":""},null,{"$f":"IFERROR(VLOOKUP(ROWS(AL$2:$AL519),N519:Q2422,4,0),\"\")","v":""}]
[null,null,null,null,null,null,null,null,null,null,null,null,null,0,0,0,"icici pru index fund direct","MPI1144","Index",null,null,null,null,null,null,null,null,null,null,null,{"$f":"IFERROR(VLOOKUP(ROWS($AE$2:AE520),P520:Q2423,2,0),\"\")","v":""},null,null,null,null,{"$f":"IFERROR(VLOOKUP(ROWS($AJ$2:AJ520),O520:Q2423,3,0),\"\")","v":""},null,{"$f":"IFERROR(VLOOKUP(ROWS(AL$2:$AL520),N520:Q2423,4,0),\"\")","v":""}]
[null,null,null,null,null,null,null,null,null,null,null,null,null,0,0,0,"hdfc index nifty plan","MHD019","Index",null,null,null,null,null,null,null,null,null,null,null,{"$f":"IFERROR(VLOOKUP(ROWS($AE$2:AE521),P521:Q2424,2,0),\"\")","v":""},null,null,null,null,{"$f":"IFERROR(VLOOKUP(ROWS($AJ$2:AJ521),O521:Q2424,3,0),\"\")","v":""},null,{"$f":"IFERROR(VLOOKUP(ROWS(AL$2:$AL521),N521:Q2424,4,0),\"\")","v":""}]
[null,null,null,null,null,null,null,null,null,null,null,null,null,0,0,0,"uti nifty index fund direct","MUT657","Index",null,null,null,null,null,null,null,null,null,null,null,{"$f":"IFERROR(VLOOKUP(ROWS($AE$2:AE522),P522:Q2425,2,0),\"\")","v":""},null,null,null,null,{"$f":"IFERROR(VLOOKUP(ROWS($AJ$2:AJ522),O522:Q2425,3,0),\"\")","v":""},null,{"$f":"IFERROR(VLOOKUP(ROWS(AL$2:$AL522),N522:Q2425,4,0),\"\")","v":""}]
[null,null,null,null,null,null,null,null,null,null,null,null,null,0,0,0,"reliance index nifty direct","MRC922","Index",null,null,null,null,null,null,null,null,null,null,null,{"$f":"IFERROR(VLOOKUP(ROWS($AE$2:AE523),P523:Q2426,2,0),\"\")","v":""},null,null,null,null,{"$f":"IFERROR(VLOOKUP(ROWS($AJ$2:AJ523),O523:Q2426,3,0),\"\")","v":""},null,{"$f":"IFERROR(VLOOKUP(ROWS(AL$2:$AL523),N523:Q2426,4,0),\"\")","v":""}]
[null,null,null,null,null,null,null,null,null,null,null,null,null,0,0,0,"franklin i index nse direct","MTE321","Index",null,null,null,null,null,null,null,null,null,null,null,{"$f":"IFERROR(VLOOKUP(ROWS($AE$2:AE524),P524:Q2427,2,0),\"\")","v":""},null,null,null,null,{"$f":"IFERROR(VLOOKUP(ROWS($AJ$2:AJ524),O524:Q2427,3,0),\"\")","v":""},null,{"$f":"IFERROR(VLOOKUP(ROWS(AL$2:$AL524),N524:Q2427,4,0),\"\")","v":""}]
[null,null,null,null,null,null,null,null,null,null,null,null,null,0,0,0,"principal index fund direct","MID316","Index",null,null,null,null,null,null,null,null,null,null,null,{"$f":"IFERROR(VLOOKUP(ROWS($AE$2:AE525),P525:Q2428,2,0),\"\")","v":""},null,null,null,null,{"$f":"IFERROR(VLOOKUP(ROWS($AJ$2:AJ525),O525:Q2428,3,0),\"\")","v":""},null,{"$f":"IFERROR(VLOOKUP(ROWS(AL$2:$AL525),N525:Q2428,4,0),\"\")","v":""}]
[null,null,null,null,null,null,null,null,null,null,null,null,null,0,0,0,"idfc nifty fund direct","MAG739","Index",null,null,null,null,null,null,null,null,null,null,null,{"$f":"IFERROR(VLOOKUP(ROWS($AE$2:AE526),P526:Q2429,2,0),\"\")","v":""},null,null,null,null,{"$f":"IFERROR(VLOOKUP(ROWS($AJ$2:AJ526),O526:Q2429,3,0),\"\")","v":""},null,{"$f":"IFERROR(VLOOKUP(ROWS(AL$2:$AL526),N526:Q2429,4,0),\"\")","v":""}]
[null,null,null,null,null,null,null,null,null,null,null,null,null,0,0,0,"uti nifty index fund","MUT029","Index",null,null,null,null,null,null,null,null,null,null,null,{"$f":"IFERROR(VLOOKUP(ROWS($AE$2:AE527),P527:Q2430,2,0),\"\")","v":""},null,null,null,null,{"$f":"IFERROR(VLOOKUP(ROWS($AJ$2:AJ527),O527:Q2430,3,0),\"\")","v":""},null,{"$f":"IFERROR(VLOOKUP(ROWS(AL$2:$AL527),N527:Q2430,4,0),\"\")","v":""}]
[null,null,null,null,null,null,null,null,null,null,null,null,null,0,0,0,"idfc nifty fund regular plan","MAG386","Index",null,null,null,null,null,null,null,null,null,null,null,{"$f":"IFERROR(VLOOKUP(ROWS($AE$2:AE528),P528:Q2431,2,0),\"\")","v":""},null,null,null,null,{"$f":"IFERROR(VLOOKUP(ROWS($AJ$2:AJ528),O528:Q2431,3,0),\"\")","v":""},null,{"$f":"IFERROR(VLOOKUP(ROWS(AL$2:$AL528),N528:Q2431,4,0),\"\")","v":""}]
[null,null,null,null,null,null,null,null,null,null,null,null,null,0,0,0,"taurus nifty index direct","MCM153","Index",null,null,null,null,null,null,null,null,null,null,null,{"$f":"IFERROR(VLOOKUP(ROWS($AE$2:AE529),P529:Q2432,2,0),\"\")","v":""},null,null,null,null,{"$f":"IFERROR(VLOOKUP(ROWS($AJ$2:AJ529),O529:Q2432,3,0),\"\")","v":""},null,{"$f":"IFERROR(VLOOKUP(ROWS(AL$2:$AL529),N529:Q2432,4,0),\"\")","v":""}]
[null,null,null,null,null,null,null,null,null,null,null,null,null,0,0,0,"icici pru index fund","MPI031","Index",null,null,null,null,null,null,null,null,null,null,null,{"$f":"IFERROR(VLOOKUP(ROWS($AE$2:AE530),P530:Q2433,2,0),\"\")","v":""},null,null,null,null,{"$f":"IFERROR(VLOOKUP(ROWS($AJ$2:AJ530),O530:Q2433,3,0),\"\")","v":""},null,{"$f":"IFERROR(VLOOKUP(ROWS(AL$2:$AL530),N530:Q2433,4,0),\"\")","v":""}]
[null,null,null,null,null,null,null,null,null,null,null,null,null,0,0,0,"religare invesco nifty etf","MLI428","Index",null,null,null,null,null,null,null,null,null,null,null,{"$f":"IFERROR(VLOOKUP(ROWS($AE$2:AE531),P531:Q2434,2,0),\"\")","v":""},null,null,null,null,{"$f":"IFERROR(VLOOKUP(ROWS($AJ$2:AJ531),O531:Q2434,3,0),\"\")","v":""},null,{"$f":"IFERROR(VLOOKUP(ROWS(AL$2:$AL531),N531:Q2434,4,0),\"\")","v":""}]
[null,null,null,null,null,null,null,null,null,null,null,null,null,0,0,0,"sbi sensex etf","MSB583","Index",null,null,null,null,null,null,null,null,null,null,null,{"$f":"IFERROR(VLOOKUP(ROWS($AE$2:AE532),P532:Q2435,2,0),\"\")","v":""},null,null,null,null,{"$f":"IFERROR(VLOOKUP(ROWS($AJ$2:AJ532),O532:Q2435,3,0),\"\")","v":""},null,{"$f":"IFERROR(VLOOKUP(ROWS(AL$2:$AL532),N532:Q2435,4,0),\"\")","v":""}]
[null,null,null,null,null,null,null,null,null,null,null,null,null,0,0,0,"franklin i index nse","MTE035","Index",null,null,null,null,null,null,null,null,null,null,null,{"$f":"IFERROR(VLOOKUP(ROWS($AE$2:AE533),P533:Q2436,2,0),\"\")","v":""},null,null,null,null,{"$f":"IFERROR(VLOOKUP(ROWS($AJ$2:AJ533),O533:Q2436,3,0),\"\")","v":""},null,{"$f":"IFERROR(VLOOKUP(ROWS(AL$2:$AL533),N533:Q2436,4,0),\"\")","v":""}]
[null,null,null,null,null,null,null,null,null,null,null,null,null,0,0,0,"lic nomura index nifty direct","MJB159","Index",null,null,null,null,null,null,null,null,null,null,null,{"$f":"IFERROR(VLOOKUP(ROWS($AE$2:AE534),P534:Q2437,2,0),\"\")","v":""},null,null,null,null,{"$f":"IFERROR(VLOOKUP(ROWS($AJ$2:AJ534),O534:Q2437,3,0),\"\")","v":""},null,{"$f":"IFERROR(VLOOKUP(ROWS(AL$2:$AL534),N534:Q2437,4,0),\"\")","v":""}]
[null,null,null,null,null,null,null,null,null,null,null,null,null,0,0,0,"tata index fund nifty direct plan","MTA763","Index",null,null,null,null,null,null,null,null,null,null,null,{"$f":"IFERROR(VLOOKUP(ROWS($AE$2:AE535),P535:Q2438,2,0),\"\")","v":""},null,null,null,null,{"$f":"IFERROR(VLOOKUP(ROWS($AJ$2:AJ535),O535:Q2438,3,0),\"\")","v":""},null,{"$f":"IFERROR(VLOOKUP(ROWS(AL$2:$AL535),N535:Q2438,4,0),\"\")","v":""}]
[null,null,null,null,null,null,null,null,null,null,null,null,null,0,0,0,"birla sun life index fund","MBS025","Index",null,null,null,null,null,null,null,null,null,null,null,{"$f":"IFERROR(VLOOKUP(ROWS($AE$2:AE536),P536:Q2439,2,0),\"\")","v":""},null,null,null,null,{"$f":"IFERROR(VLOOKUP(ROWS($AJ$2:AJ536),O536:Q2439,3,0),\"\")","v":""},null,{"$f":"IFERROR(VLOOKUP(ROWS(AL$2:$AL536),N536:Q2439,4,0),\"\")","v":""}]
[null,null,null,null,null,null,null,null,null,null,null,null,null,0,0,0,"reliance index fund nifty","MRC590","Index",null,null,null,null,null,null,null,null,null,null,null,{"$f":"IFERROR(VLOOKUP(ROWS($AE$2:AE537),P537:Q2440,2,0),\"\")","v":""},null,null,null,null,{"$f":"IFERROR(VLOOKUP(ROWS($AJ$2:AJ537),O537:Q2440,3,0),\"\")","v":""},null,{"$f":"IFERROR(VLOOKUP(ROWS(AL$2:$AL537),N537:Q2440,4,0),\"\")","v":""}]
[null,null,null,null,null,null,null,null,null,null,null,null,null,0,0,0,"principal index fund","MID009","Index",null,null,null,null,null,null,null,null,null,null,null,{"$f":"IFERROR(VLOOKUP(ROWS($AE$2:AE538),P538:Q2441,2,0),\"\")","v":""},null,null,null,null,{"$f":"IFERROR(VLOOKUP(ROWS($AJ$2:AJ538),O538:Q2441,3,0),\"\")","v":""},null,{"$f":"IFERROR(VLOOKUP(ROWS(AL$2:$AL538),N538:Q2441,4,0),\"\")","v":""}]
[null,null,null,null,null,null,null,null,null,null,null,null,null,0,0,0,"birla sl index fund direct","MBS851","Index",null,null,null,null,null,null,null,null,null,null,null,{"$f":"IFERROR(VLOOKUP(ROWS($AE$2:AE539),P539:Q2442,2,0),\"\")","v":""},null,null,null,null,{"$f":"IFERROR(VLOOKUP(ROWS($AJ$2:AJ539),O539:Q2442,3,0),\"\")","v":""},null,{"$f":"IFERROR(VLOOKUP(ROWS(AL$2:$AL539),N539:Q2442,4,0),\"\")","v":""}]
[null,null,null,null,null,null,null,null,null,null,null,null,null,0,0,0,"gs nifty bees","MBM001","Index",null,null,null,null,null,null,null,null,null,null,null,{"$f":"IFERROR(VLOOKUP(ROWS($AE$2:AE540),P540:Q2443,2,0),\"\")","v":""},null,null,null,null,{"$f":"IFERROR(VLOOKUP(ROWS($AJ$2:AJ540),O540:Q2443,3,0),\"\")","v":""},null,{"$f":"IFERROR(VLOOKUP(ROWS(AL$2:$AL540),N540:Q2443,4,0),\"\")","v":""}]
[null,null,null,null,null,null,null,null,null,null,null,null,null,0,0,0,"taurus nifty index fund","MCM068","Index",null,null,null,null,null,null,null,null,null,null,null,{"$f":"IFERROR(VLOOKUP(ROWS($AE$2:AE541),P541:Q2444,2,0),\"\")","v":""},null,null,null,null,{"$f":"IFERROR(VLOOKUP(ROWS($AJ$2:AJ541),O541:Q2444,3,0),\"\")","v":""},null,{"$f":"IFERROR(VLOOKUP(ROWS(AL$2:$AL541),N541:Q2444,4,0),\"\")","v":""}]
[null,null,null,null,null,null,null,null,null,null,null,null,null,0,0,0,"sbi nifty index fund direct","MSB507","Index",null,null,null,null,null,null,null,null,null,null,null,{"$f":"IFERROR(VLOOKUP(ROWS($AE$2:AE542),P542:Q2445,2,0),\"\")","v":""},null,null,null,null,{"$f":"IFERROR(VLOOKUP(ROWS($AJ$2:AJ542),O542:Q2445,3,0),\"\")","v":""},null,{"$f":"IFERROR(VLOOKUP(ROWS(AL$2:$AL542),N542:Q2445,4,0),\"\")","v":""}]
[null,null,null,null,null,null,null,null,null,null,null,null,null,0,0,0,"idbi nifty index fund direct","MIB070","Index",null,null,null,null,null,null,null,null,null,null,null,{"$f":"IFERROR(VLOOKUP(ROWS($AE$2:AE543),P543:Q2446,2,0),\"\")","v":""},null,null,null,null,{"$f":"IFERROR(VLOOKUP(ROWS($AJ$2:AJ543),O543:Q2446,3,0),\"\")","v":""},null,{"$f":"IFERROR(VLOOKUP(ROWS(AL$2:$AL543),N543:Q2446,4,0),\"\")","v":""}]
[null,null,null,null,null,null,null,null,null,null,null,null,null,0,0,0,"kotak nifty etf","MKM321","Index",null,null,null,null,null,null,null,null,null,null,null,{"$f":"IFERROR(VLOOKUP(ROWS($AE$2:AE544),P544:Q2447,2,0),\"\")","v":""},null,null,null,null,{"$f":"IFERROR(VLOOKUP(ROWS($AJ$2:AJ544),O544:Q2447,3,0),\"\")","v":""},null,{"$f":"IFERROR(VLOOKUP(ROWS(AL$2:$AL544),N544:Q2447,4,0),\"\")","v":""}]
[null,null,null,null,null,null,null,null,null,null,null,null,null,0,0,0,"lic nomura index nifty plan","MJB018","Index",null,null,null,null,null,null,null,null,null,null,null,{"$f":"IFERROR(VLOOKUP(ROWS($AE$2:AE545),P545:Q2448,2,0),\"\")","v":""},null,null,null,null,{"$f":"IFERROR(VLOOKUP(ROWS($AJ$2:AJ545),O545:Q2448,3,0),\"\")","v":""},null,{"$f":"IFERROR(VLOOKUP(ROWS(AL$2:$AL545),N545:Q2448,4,0),\"\")","v":""}]
[null,null,null,null,null,null,null,null,null,null,null,null,null,0,0,0,"tata index fund nifty regular plan","MTA035","Index",null,null,null,null,null,null,null,null,null,null,null,{"$f":"IFERROR(VLOOKUP(ROWS($AE$2:AE546),P546:Q2449,2,0),\"\")","v":""},null,null,null,null,{"$f":"IFERROR(VLOOKUP(ROWS($AJ$2:AJ546),O546:Q2449,3,0),\"\")","v":""},null,{"$f":"IFERROR(VLOOKUP(ROWS(AL$2:$AL546),N546:Q2449,4,0),\"\")","v":""}]
[null,null,null,null,null,null,null,null,null,null,null,null,null,0,0,0,"sbi nifty index fund","MSB025","Index",null,null,null,null,null,null,null,null,null,null,null,{"$f":"IFERROR(VLOOKUP(ROWS($AE$2:AE547),P547:Q2450,2,0),\"\")","v":""},null,null,null,null,{"$f":"IFERROR(VLOOKUP(ROWS($AJ$2:AJ547),O547:Q2450,3,0),\"\")","v":""},null,{"$f":"IFERROR(VLOOKUP(ROWS(AL$2:$AL547),N547:Q2450,4,0),\"\")","v":""}]
[null,null,null,null,null,null,null,null,null,null,null,null,null,0,0,0,"hdfc index sensex plan direct","MHD1153","Index",null,null,null,null,null,null,null,null,null,null,null,{"$f":"IFERROR(VLOOKUP(ROWS($AE$2:AE548),P548:Q2451,2,0),\"\")","v":""},null,null,null,null,{"$f":"IFERROR(VLOOKUP(ROWS($AJ$2:AJ548),O548:Q2451,3,0),\"\")","v":""},null,{"$f":"IFERROR(VLOOKUP(ROWS(AL$2:$AL548),N548:Q2451,4,0),\"\")","v":""}]
[null,null,null,null,null,null,null,null,null,null,null,null,null,0,0,0,"idbi nifty index fund","MIB001","Index",null,null,null,null,null,null,null,null,null,null,null,{"$f":"IFERROR(VLOOKUP(ROWS($AE$2:AE549),P549:Q2452,2,0),\"\")","v":""},null,null,null,null,{"$f":"IFERROR(VLOOKUP(ROWS($AJ$2:AJ549),O549:Q2452,3,0),\"\")","v":""},null,{"$f":"IFERROR(VLOOKUP(ROWS(AL$2:$AL549),N549:Q2452,4,0),\"\")","v":""}]
[null,null,null,null,null,null,null,null,null,null,null,null,null,0,0,0,"icici pru spice plan","MPI039","Index",null,null,null,null,null,null,null,null,null,null,null,{"$f":"IFERROR(VLOOKUP(ROWS($AE$2:AE550),P550:Q2453,2,0),\"\")","v":""},null,null,null,null,{"$f":"IFERROR(VLOOKUP(ROWS($AJ$2:AJ550),O550:Q2453,3,0),\"\")","v":""},null,{"$f":"IFERROR(VLOOKUP(ROWS(AL$2:$AL550),N550:Q2453,4,0),\"\")","v":""}]
[null,null,null,null,null,null,null,null,null,null,null,null,null,0,0,0,"hdfc index sensex plan","MHD020","Index",null,null,null,null,null,null,null,null,null,null,null,{"$f":"IFERROR(VLOOKUP(ROWS($AE$2:AE551),P551:Q2454,2,0),\"\")","v":""},null,null,null,null,{"$f":"IFERROR(VLOOKUP(ROWS($AJ$2:AJ551),O551:Q2454,3,0),\"\")","v":""},null,{"$f":"IFERROR(VLOOKUP(ROWS(AL$2:$AL551),N551:Q2454,4,0),\"\")","v":""}]
[null,null,null,null,null,null,null,null,null,null,null,null,null,0,0,0,"reliance index sensex direct","MRC927","Index",null,null,null,null,null,null,null,null,null,null,null,{"$f":"IFERROR(VLOOKUP(ROWS($AE$2:AE552),P552:Q2455,2,0),\"\")","v":""},null,null,null,null,{"$f":"IFERROR(VLOOKUP(ROWS($AJ$2:AJ552),O552:Q2455,3,0),\"\")","v":""},null,{"$f":"IFERROR(VLOOKUP(ROWS(AL$2:$AL552),N552:Q2455,4,0),\"\")","v":""}]
[null,null,null,null,null,null,null,null,null,null,null,null,null,0,0,0,"tata index fund sensex direct","MTA764","Index",null,null,null,null,null,null,null,null,null,null,null,{"$f":"IFERROR(VLOOKUP(ROWS($AE$2:AE553),P553:Q2456,2,0),\"\")","v":""},null,null,null,null,{"$f":"IFERROR(VLOOKUP(ROWS($AJ$2:AJ553),O553:Q2456,3,0),\"\")","v":""},null,{"$f":"IFERROR(VLOOKUP(ROWS(AL$2:$AL553),N553:Q2456,4,0),\"\")","v":""}]
[null,null,null,null,null,null,null,null,null,null,null,null,null,0,0,0,"lic nomura index sensex direct","MJB155","Index",null,null,null,null,null,null,null,null,null,null,null,{"$f":"IFERROR(VLOOKUP(ROWS($AE$2:AE554),P554:Q2457,2,0),\"\")","v":""},null,null,null,null,{"$f":"IFERROR(VLOOKUP(ROWS($AJ$2:AJ554),O554:Q2457,3,0),\"\")","v":""},null,{"$f":"IFERROR(VLOOKUP(ROWS(AL$2:$AL554),N554:Q2457,4,0),\"\")","v":""}]
[null,null,null,null,null,null,null,null,null,null,null,null,null,0,0,0,"reliance index fund sensex","MRC595","Index",null,null,null,null,null,null,null,null,null,null,null,{"$f":"IFERROR(VLOOKUP(ROWS($AE$2:AE555),P555:Q2458,2,0),\"\")","v":""},null,null,null,null,{"$f":"IFERROR(VLOOKUP(ROWS($AJ$2:AJ555),O555:Q2458,3,0),\"\")","v":""},null,{"$f":"IFERROR(VLOOKUP(ROWS(AL$2:$AL555),N555:Q2458,4,0),\"\")","v":""}]
[null,null,null,null,null,null,null,null,null,null,null,null,null,0,0,0,"lic nomura index sensex plan","MJB017","Index",null,null,null,null,null,null,null,null,null,null,null,{"$f":"IFERROR(VLOOKUP(ROWS($AE$2:AE556),P556:Q2459,2,0),\"\")","v":""},null,null,null,null,{"$f":"IFERROR(VLOOKUP(ROWS($AJ$2:AJ556),O556:Q2459,3,0),\"\")","v":""},null,{"$f":"IFERROR(VLOOKUP(ROWS(AL$2:$AL556),N556:Q2459,4,0),\"\")","v":""}]
[null,null,null,null,null,null,null,null,null,null,null,null,null,0,0,0,"tata index fund sensex regular plan","MTA037","Index",null,null,null,null,null,null,null,null,null,null,null,{"$f":"IFERROR(VLOOKUP(ROWS($AE$2:AE557),P557:Q2460,2,0),\"\")","v":""},null,null,null,null,{"$f":"IFERROR(VLOOKUP(ROWS($AJ$2:AJ557),O557:Q2460,3,0),\"\")","v":""},null,{"$f":"IFERROR(VLOOKUP(ROWS(AL$2:$AL557),N557:Q2460,4,0),\"\")","v":""}]
[null,null,null,null,null,null,null,null,null,null,null,null,null,0,0,0,"franklin i index bse","MKP038","Index",null,null,null,null,null,null,null,null,null,null,null,{"$f":"IFERROR(VLOOKUP(ROWS($AE$2:AE558),P558:Q2461,2,0),\"\")","v":""},null,null,null,null,{"$f":"IFERROR(VLOOKUP(ROWS($AJ$2:AJ558),O558:Q2461,3,0),\"\")","v":""},null,{"$f":"IFERROR(VLOOKUP(ROWS(AL$2:$AL558),N558:Q2461,4,0),\"\")","v":""}]
[null,null,null,null,null,null,null,null,null,null,null,null,null,0,0,0,"kotak sensex etf","MKM237","Index",null,null,null,null,null,null,null,null,null,null,null,{"$f":"IFERROR(VLOOKUP(ROWS($AE$2:AE559),P559:Q2462,2,0),\"\")","v":""},null,null,null,null,{"$f":"IFERROR(VLOOKUP(ROWS($AJ$2:AJ559),O559:Q2462,3,0),\"\")","v":""},null,{"$f":"IFERROR(VLOOKUP(ROWS(AL$2:$AL559),N559:Q2462,4,0),\"\")","v":""}]
[null,null,null,null,null,null,null,null,null,null,null,null,null,0,0,0,"r*shares dividend etf","MRC1519","Index",null,null,null,null,null,null,null,null,null,null,null,{"$f":"IFERROR(VLOOKUP(ROWS($AE$2:AE560),P560:Q2463,2,0),\"\")","v":""},null,null,null,null,{"$f":"IFERROR(VLOOKUP(ROWS($AJ$2:AJ560),O560:Q2463,3,0),\"\")","v":""},null,{"$f":"IFERROR(VLOOKUP(ROWS(AL$2:$AL560),N560:Q2463,4,0),\"\")","v":""}]
[null,null,null,null,null,null,null,null,null,null,null,null,null,0,0,0,"gs cpse etf","MBM040","Index",null,null,null,null,null,null,null,null,null,null,null,{"$f":"IFERROR(VLOOKUP(ROWS($AE$2:AE561),P561:Q2464,2,0),\"\")","v":""},null,null,null,null,{"$f":"IFERROR(VLOOKUP(ROWS($AJ$2:AJ561),O561:Q2464,3,0),\"\")","v":""},null,{"$f":"IFERROR(VLOOKUP(ROWS(AL$2:$AL561),N561:Q2464,4,0),\"\")","v":""}]
[null,null,null,null,null,null,null,null,null,null,null,null,null,0,0,0,"kotak banking etf","MKM903","Index",null,null,null,null,null,null,null,null,null,null,null,{"$f":"IFERROR(VLOOKUP(ROWS($AE$2:AE562),P562:Q2465,2,0),\"\")","v":""},null,null,null,null,{"$f":"IFERROR(VLOOKUP(ROWS($AJ$2:AJ562),O562:Q2465,3,0),\"\")","v":""},null,{"$f":"IFERROR(VLOOKUP(ROWS(AL$2:$AL562),N562:Q2465,4,0),\"\")","v":""}]
[null,null,null,null,null,null,null,null,null,null,null,null,null,0,0,0,"sbi etf bse 100","MSB1112","Index",null,null,null,null,null,null,null,null,null,null,null,{"$f":"IFERROR(VLOOKUP(ROWS($AE$2:AE563),P563:Q2466,2,0),\"\")","v":""},null,null,null,null,{"$f":"IFERROR(VLOOKUP(ROWS($AJ$2:AJ563),O563:Q2466,3,0),\"\")","v":""},null,{"$f":"IFERROR(VLOOKUP(ROWS(AL$2:$AL563),N563:Q2466,4,0),\"\")","v":""}]
[null,null,null,null,null,null,null,null,null,null,null,null,null,0,0,0,"sbi etf banking","MSB1111","Index",null,null,null,null,null,null,null,null,null,null,null,{"$f":"IFERROR(VLOOKUP(ROWS($AE$2:AE564),P564:Q2467,2,0),\"\")","v":""},null,null,null,null,{"$f":"IFERROR(VLOOKUP(ROWS($AJ$2:AJ564),O564:Q2467,3,0),\"\")","v":""},null,{"$f":"IFERROR(VLOOKUP(ROWS(AL$2:$AL564),N564:Q2467,4,0),\"\")","v":""}]
[null,null,null,null,null,null,null,null,null,null,null,null,null,0,0,0,"sbi etf nifty junior","MSB1113","Index",null,null,null,null,null,null,null,null,null,null,null,{"$f":"IFERROR(VLOOKUP(ROWS($AE$2:AE565),P565:Q2468,2,0),\"\")","v":""},null,null,null,null,{"$f":"IFERROR(VLOOKUP(ROWS($AJ$2:AJ565),O565:Q2468,3,0),\"\")","v":""},null,{"$f":"IFERROR(VLOOKUP(ROWS(AL$2:$AL565),N565:Q2468,4,0),\"\")","v":""}]
[null,null,null,null,null,null,null,null,null,null,null,null,null,0,0,0,"idbi rgess fund sr i plan a dp","MIB104","RGESS",null,null,null,null,null,null,null,null,null,null,null,{"$f":"IFERROR(VLOOKUP(ROWS($AE$2:AE566),P566:Q2469,2,0),\"\")","v":""},null,null,null,null,{"$f":"IFERROR(VLOOKUP(ROWS($AJ$2:AJ566),O566:Q2469,3,0),\"\")","v":""},null,{"$f":"IFERROR(VLOOKUP(ROWS(AL$2:$AL566),N566:Q2469,4,0),\"\")","v":""}]
[null,null,null,null,null,null,null,null,null,null,null,null,null,0,0,0,"idbi rgess fund sr i plan a rp","MIB102","RGESS",null,null,null,null,null,null,null,null,null,null,null,{"$f":"IFERROR(VLOOKUP(ROWS($AE$2:AE567),P567:Q2470,2,0),\"\")","v":""},null,null,null,null,{"$f":"IFERROR(VLOOKUP(ROWS($AJ$2:AJ567),O567:Q2470,3,0),\"\")","v":""},null,{"$f":"IFERROR(VLOOKUP(ROWS(AL$2:$AL567),N567:Q2470,4,0),\"\")","v":""}]
[null,null,null,null,null,null,null,null,null,null,null,null,null,0,0,0,"birla sl rgess series 1","MBS985","RGESS",null,null,null,null,null,null,null,null,null,null,null,{"$f":"IFERROR(VLOOKUP(ROWS($AE$2:AE568),P568:Q2471,2,0),\"\")","v":""},null,null,null,null,{"$f":"IFERROR(VLOOKUP(ROWS($AJ$2:AJ568),O568:Q2471,3,0),\"\")","v":""},null,{"$f":"IFERROR(VLOOKUP(ROWS(AL$2:$AL568),N568:Q2471,4,0),\"\")","v":""}]
[null,null,null,null,null,null,null,null,null,null,null,null,null,0,0,0,"sundaram top 100 series i dp g","MSN987","RGESS",null,null,null,null,null,null,null,null,null,null,null,{"$f":"IFERROR(VLOOKUP(ROWS($AE$2:AE569),P569:Q2472,2,0),\"\")","v":""},null,null,null,null,{"$f":"IFERROR(VLOOKUP(ROWS($AJ$2:AJ569),O569:Q2472,3,0),\"\")","v":""},null,{"$f":"IFERROR(VLOOKUP(ROWS(AL$2:$AL569),N569:Q2472,4,0),\"\")","v":""}]
[null,null,null,null,null,null,null,null,null,null,null,null,null,0,0,0,"sundaram top 100 series ii dp g","MSN997","RGESS",null,null,null,null,null,null,null,null,null,null,null,{"$f":"IFERROR(VLOOKUP(ROWS($AE$2:AE570),P570:Q2473,2,0),\"\")","v":""},null,null,null,null,{"$f":"IFERROR(VLOOKUP(ROWS($AJ$2:AJ570),O570:Q2473,3,0),\"\")","v":""},null,{"$f":"IFERROR(VLOOKUP(ROWS(AL$2:$AL570),N570:Q2473,4,0),\"\")","v":""}]
[null,null,null,null,null,null,null,null,null,null,null,null,null,0,0,0,"birla sl focused equity sr 2 dp","MBS1659","RGESS",null,null,null,null,null,null,null,null,null,null,null,{"$f":"IFERROR(VLOOKUP(ROWS($AE$2:AE571),P571:Q2474,2,0),\"\")","v":""},null,null,null,null,{"$f":"IFERROR(VLOOKUP(ROWS($AJ$2:AJ571),O571:Q2474,3,0),\"\")","v":""},null,{"$f":"IFERROR(VLOOKUP(ROWS(AL$2:$AL571),N571:Q2474,4,0),\"\")","v":""}]
[null,null,null,null,null,null,null,null,null,null,null,null,null,0,0,0,"birla sl focused equity sr 1 dp","MBS1581","RGESS",null,null,null,null,null,null,null,null,null,null,null,{"$f":"IFERROR(VLOOKUP(ROWS($AE$2:AE572),P572:Q2475,2,0),\"\")","v":""},null,null,null,null,{"$f":"IFERROR(VLOOKUP(ROWS($AJ$2:AJ572),O572:Q2475,3,0),\"\")","v":""},null,{"$f":"IFERROR(VLOOKUP(ROWS(AL$2:$AL572),N572:Q2475,4,0),\"\")","v":""}]
[null,null,null,null,null,null,null,null,null,null,null,null,null,0,0,0,"sundaram top 100 series iii dp g","MSN1015","RGESS",null,null,null,null,null,null,null,null,null,null,null,{"$f":"IFERROR(VLOOKUP(ROWS($AE$2:AE573),P573:Q2476,2,0),\"\")","v":""},null,null,null,null,{"$f":"IFERROR(VLOOKUP(ROWS($AJ$2:AJ573),O573:Q2476,3,0),\"\")","v":""},null,{"$f":"IFERROR(VLOOKUP(ROWS(AL$2:$AL573),N573:Q2476,4,0),\"\")","v":""}]
[null,null,null,null,null,null,null,null,null,null,null,null,null,0,0,0,"birla sl focused equity sr 1 rp","MBS1579","RGESS",null,null,null,null,null,null,null,null,null,null,null,{"$f":"IFERROR(VLOOKUP(ROWS($AE$2:AE574),P574:Q2477,2,0),\"\")","v":""},null,null,null,null,{"$f":"IFERROR(VLOOKUP(ROWS($AJ$2:AJ574),O574:Q2477,3,0),\"\")","v":""},null,{"$f":"IFERROR(VLOOKUP(ROWS(AL$2:$AL574),N574:Q2477,4,0),\"\")","v":""}]
[null,null,null,null,null,null,null,null,null,null,null,null,null,0,0,0,"birla sl focused equity sr 2 rp","MBS1657","RGESS",null,null,null,null,null,null,null,null,null,null,null,{"$f":"IFERROR(VLOOKUP(ROWS($AE$2:AE575),P575:Q2478,2,0),\"\")","v":""},null,null,null,null,{"$f":"IFERROR(VLOOKUP(ROWS($AJ$2:AJ575),O575:Q2478,3,0),\"\")","v":""},null,{"$f":"IFERROR(VLOOKUP(ROWS(AL$2:$AL575),N575:Q2478,4,0),\"\")","v":""}]
[null,null,null,null,null,null,null,null,null,null,null,null,null,0,0,0,"sundaram top 100 series i rp g","MSN985","RGESS",null,null,null,null,null,null,null,null,null,null,null,{"$f":"IFERROR(VLOOKUP(ROWS($AE$2:AE576),P576:Q2479,2,0),\"\")","v":""},null,null,null,null,{"$f":"IFERROR(VLOOKUP(ROWS($AJ$2:AJ576),O576:Q2479,3,0),\"\")","v":""},null,{"$f":"IFERROR(VLOOKUP(ROWS(AL$2:$AL576),N576:Q2479,4,0),\"\")","v":""}]
[null,null,null,null,null,null,null,null,null,null,null,null,null,0,0,0,"sundaram top 100 series ii rp g","MSN995","RGESS",null,null,null,null,null,null,null,null,null,null,null,{"$f":"IFERROR(VLOOKUP(ROWS($AE$2:AE577),P577:Q2480,2,0),\"\")","v":""},null,null,null,null,{"$f":"IFERROR(VLOOKUP(ROWS($AJ$2:AJ577),O577:Q2480,3,0),\"\")","v":""},null,{"$f":"IFERROR(VLOOKUP(ROWS(AL$2:$AL577),N577:Q2480,4,0),\"\")","v":""}]
[null,null,null,null,null,null,null,null,null,null,null,null,null,0,0,{"$f":"IF(ISNUMBER(SEARCH($H$6,Q578)),MAX($P$1,P577)+1,0)","v":0},"sundaram top 100 series iii rp g","MSN1013","RGESS",null,null,null,null,null,null,null,null,null,null,null,{"$f":"IFERROR(VLOOKUP(ROWS($AE$2:AE578),P578:Q2481,2,0),\"\")","v":""},null,null,null,null,{"$f":"IFERROR(VLOOKUP(ROWS($AJ$2:AJ578),O578:Q2481,3,0),\"\")","v":""},null,{"$f":"IFERROR(VLOOKUP(ROWS(AL$2:$AL578),N578:Q2481,4,0),\"\")","v":""}]
[null,null,null,null,null,null,null,null,null,null,null,null,null,{"$f":"IF(ISNUMBER(SEARCH($H$16,Q579)),MAX($N$1,N578)+1,0)","v":0},{"$f":"IF(ISNUMBER(SEARCH($H$11,Q579)),MAX($O$1,O578)+1,0)","v":0},0,"dsp br rgess fund sr 1 regular","MDS644","RGESS",null,null,null,null,null,null,null,null,null,null,null,{"$f":"IFERROR(VLOOKUP(ROWS($AE$2:AE579),P579:Q2482,2,0),\"\")","v":""},null,null,null,null,{"$f":"IFERROR(VLOOKUP(ROWS($AJ$2:AJ579),O579:Q2482,3,0),\"\")","v":""},null,{"$f":"IFERROR(VLOOKUP(ROWS(AL$2:$AL579),N579:Q2482,4,0),\"\")","v":""}]
[null,null,null,null,null,null,null,null,null,null,null,null,null,0,0,0,"lic nomura rgess sr 2 regular","MJB312","RGESS",null,null,null,null,null,null,null,null,null,null,null,{"$f":"IFERROR(VLOOKUP(ROWS($AE$2:AE580),P580:Q2483,2,0),\"\")","v":""},null,null,null,null,{"$f":"IFERROR(VLOOKUP(ROWS($AJ$2:AJ580),O580:Q2483,3,0),\"\")","v":""},null,{"$f":"IFERROR(VLOOKUP(ROWS(AL$2:$AL580),N580:Q2483,4,0),\"\")","v":""}]
[null,null,null,null,null,null,null,null,null,null,null,null,null,0,0,0,"hdfc rgess sr 1 feb 13","MHD1283","RGESS",null,null,null,null,null,null,null,null,null,null,null,{"$f":"IFERROR(VLOOKUP(ROWS($AE$2:AE581),P581:Q2484,2,0),\"\")","v":""},null,null,null,null,{"$f":"IFERROR(VLOOKUP(ROWS($AJ$2:AJ581),O581:Q2484,3,0),\"\")","v":""},null,{"$f":"IFERROR(VLOOKUP(ROWS(AL$2:$AL581),N581:Q2484,4,0),\"\")","v":""}]
[null,null,null,null,null,null,null,null,null,null,null,null,null,0,0,0,"lic nomura rgess sr 1 regular","MJB201","RGESS",null,null,null,null,null,null,null,null,null,null,null,{"$f":"IFERROR(VLOOKUP(ROWS($AE$2:AE582),P582:Q2485,2,0),\"\")","v":""},null,null,null,null,{"$f":"IFERROR(VLOOKUP(ROWS($AJ$2:AJ582),O582:Q2485,3,0),\"\")","v":""},null,{"$f":"IFERROR(VLOOKUP(ROWS(AL$2:$AL582),N582:Q2485,4,0),\"\")","v":""}]
[null,null,null,null,null,null,null,null,null,null,null,null,null,0,0,0,"hdfc rgess sr 2 regular","MHD1919","RGESS",null,null,null,null,null,null,null,null,null,null,null,{"$f":"IFERROR(VLOOKUP(ROWS($AE$2:AE583),P583:Q2486,2,0),\"\")","v":""},null,null,null,null,{"$f":"IFERROR(VLOOKUP(ROWS($AJ$2:AJ583),O583:Q2486,3,0),\"\")","v":""},null,{"$f":"IFERROR(VLOOKUP(ROWS(AL$2:$AL583),N583:Q2486,4,0),\"\")","v":""}]
[null,null,null,null,null,null,null,null,null,null,null,null,null,0,0,0,"uti rgess","MUT723","RGESS",null,null,null,null,null,null,null,null,null,null,null,{"$f":"IFERROR(VLOOKUP(ROWS($AE$2:AE584),P584:Q2487,2,0),\"\")","v":""},null,null,null,null,{"$f":"IFERROR(VLOOKUP(ROWS($AJ$2:AJ584),O584:Q2487,3,0),\"\")","v":""},null,{"$f":"IFERROR(VLOOKUP(ROWS(AL$2:$AL584),N584:Q2487,4,0),\"\")","v":""}]
[null,null,null,null,null,null,null,null,null,null,null,null,null,0,0,0,"hdfc focused equity fund plan b dp","MHD2572","RGESS",null,null,null,null,null,null,null,null,null,null,null,{"$f":"IFERROR(VLOOKUP(ROWS($AE$2:AE585),P585:Q2488,2,0),\"\")","v":""},null,null,null,null,{"$f":"IFERROR(VLOOKUP(ROWS($AJ$2:AJ585),O585:Q2488,3,0),\"\")","v":""},null,{"$f":"IFERROR(VLOOKUP(ROWS(AL$2:$AL585),N585:Q2488,4,0),\"\")","v":""}]
[null,null,null,null,null,null,null,null,null,null,null,null,null,0,0,0,"birla sl focused equity sr 3 rp","MBS1955","RGESS",null,null,null,null,null,null,null,null,null,null,null,{"$f":"IFERROR(VLOOKUP(ROWS($AE$2:AE586),P586:Q2489,2,0),\"\")","v":""},null,null,null,null,{"$f":"IFERROR(VLOOKUP(ROWS($AJ$2:AJ586),O586:Q2489,3,0),\"\")","v":""},null,{"$f":"IFERROR(VLOOKUP(ROWS(AL$2:$AL586),N586:Q2489,4,0),\"\")","v":""}]
[null,null,null,null,null,null,null,null,null,null,null,null,null,0,0,0,"birla sl focused equity sr 3 dp","MBS1958","RGESS",null,null,null,null,null,null,null,null,null,null,null,{"$f":"IFERROR(VLOOKUP(ROWS($AE$2:AE587),P587:Q2490,2,0),\"\")","v":""},null,null,null,null,{"$f":"IFERROR(VLOOKUP(ROWS($AJ$2:AJ587),O587:Q2490,3,0),\"\")","v":""},null,{"$f":"IFERROR(VLOOKUP(ROWS(AL$2:$AL587),N587:Q2490,4,0),\"\")","v":""}]
[null,null,null,null,null,null,null,null,null,null,null,null,null,0,0,0,"birla sl focused equity sr 4 rp","MBS1980","RGESS",null,null,null,null,null,null,null,null,null,null,null,{"$f":"IFERROR(VLOOKUP(ROWS($AE$2:AE588),P588:Q2491,2,0),\"\")","v":""},null,null,null,null,{"$f":"IFERROR(VLOOKUP(ROWS($AJ$2:AJ588),O588:Q2491,3,0),\"\")","v":""},null,{"$f":"IFERROR(VLOOKUP(ROWS(AL$2:$AL588),N588:Q2491,4,0),\"\")","v":""}]
[null,null,null,null,null,null,null,null,null,null,null,null,null,0,0,0,"birla sl focused equity sr 4 dp","MBS1982","RGESS",null,null,null,null,null,null,null,null,null,null,null,{"$f":"IFERROR(VLOOKUP(ROWS($AE$2:AE589),P589:Q2492,2,0),\"\")","v":""},null,null,null,null,{"$f":"IFERROR(VLOOKUP(ROWS($AJ$2:AJ589),O589:Q2492,3,0),\"\")","v":""},null,{"$f":"IFERROR(VLOOKUP(ROWS(AL$2:$AL589),N589:Q2492,4,0),\"\")","v":""}]
[null,null,null,null,null,null,null,null,null,null,null,null,null,0,0,0,"birla sl focused equity sr 5 rp","MBS2028","RGESS",null,null,null,null,null,null,null,null,null,null,null,{"$f":"IFERROR(VLOOKUP(ROWS($AE$2:AE590),P590:Q2493,2,0),\"\")","v":""},null,null,null,null,{"$f":"IFERROR(VLOOKUP(ROWS($AJ$2:AJ590),O590:Q2493,3,0),\"\")","v":""},null,{"$f":"IFERROR(VLOOKUP(ROWS(AL$2:$AL590),N590:Q2493,4,0),\"\")","v":""}]
[null,null,null,null,null,null,null,null,null,null,null,null,null,0,0,0,"birla sl focused equity sr 5 dp","MBS2030","RGESS",null,null,null,null,null,null,null,null,null,null,null,{"$f":"IFERROR(VLOOKUP(ROWS($AE$2:AE591),P591:Q2494,2,0),\"\")","v":""},null,null,null,null,{"$f":"IFERROR(VLOOKUP(ROWS($AJ$2:AJ591),O591:Q2494,3,0),\"\")","v":""},null,{"$f":"IFERROR(VLOOKUP(ROWS(AL$2:$AL591),N591:Q2494,4,0),\"\")","v":""}]
[null,null,null,null,null,null,null,null,null,null,null,null,null,0,0,0,"hdfc focused equity fund plan a dp","MHD2509","RGESS",null,null,null,null,null,null,null,null,null,null,null,{"$f":"IFERROR(VLOOKUP(ROWS($AE$2:AE592),P592:Q2495,2,0),\"\")","v":""},null,null,null,null,{"$f":"IFERROR(VLOOKUP(ROWS($AJ$2:AJ592),O592:Q2495,3,0),\"\")","v":""},null,{"$f":"IFERROR(VLOOKUP(ROWS(AL$2:$AL592),N592:Q2495,4,0),\"\")","v":""}]
[null,null,null,null,null,null,null,null,null,null,null,null,null,0,0,0,"hdfc focused equity fund plan b rp","MHD2570","RGESS",null,null,null,null,null,null,null,null,null,null,null,{"$f":"IFERROR(VLOOKUP(ROWS($AE$2:AE593),P593:Q2496,2,0),\"\")","v":""},null,null,null,null,{"$f":"IFERROR(VLOOKUP(ROWS($AJ$2:AJ593),O593:Q2496,3,0),\"\")","v":""},null,{"$f":"IFERROR(VLOOKUP(ROWS(AL$2:$AL593),N593:Q2496,4,0),\"\")","v":""}]
[null,null,null,null,null,null,null,null,null,null,null,null,null,0,0,0,"hdfc focused equity fund plan a rp","MHD2507","RGESS",null,null,null,null,null,null,null,null,null,null,null,{"$f":"IFERROR(VLOOKUP(ROWS($AE$2:AE594),P594:Q2497,2,0),\"\")","v":""},null,null,null,null,{"$f":"IFERROR(VLOOKUP(ROWS($AJ$2:AJ594),O594:Q2497,3,0),\"\")","v":""},null,{"$f":"IFERROR(VLOOKUP(ROWS(AL$2:$AL594),N594:Q2497,4,0),\"\")","v":""}]
[null,null,null,null,null,null,null,null,null,null,null,null,null,0,0,0,"icici pru blended plan b direct","MPI1177","arbitrage",null,null,null,null,null,null,null,null,null,null,null,{"$f":"IFERROR(VLOOKUP(ROWS($AE$2:AE595),P595:Q2498,2,0),\"\")","v":""},null,null,null,null,{"$f":"IFERROR(VLOOKUP(ROWS($AJ$2:AJ595),O595:Q2498,3,0),\"\")","v":""},null,{"$f":"IFERROR(VLOOKUP(ROWS(AL$2:$AL595),N595:Q2498,4,0),\"\")","v":""}]
[null,null,null,null,null,null,null,null,null,null,null,null,null,0,0,0,"icici pru blended plan b","MPI106","arbitrage",null,null,null,null,null,null,null,null,null,null,null,{"$f":"IFERROR(VLOOKUP(ROWS($AE$2:AE596),P596:Q2499,2,0),\"\")","v":""},null,null,null,null,{"$f":"IFERROR(VLOOKUP(ROWS($AJ$2:AJ596),O596:Q2499,3,0),\"\")","v":""},null,{"$f":"IFERROR(VLOOKUP(ROWS(AL$2:$AL596),N596:Q2499,4,0),\"\")","v":""}]
[null,null,null,null,null,null,null,null,null,null,null,null,null,0,0,0,"edelweiss arbitrage fund dir","MEW116","arbitrage",null,null,null,null,null,null,null,null,null,null,null,{"$f":"IFERROR(VLOOKUP(ROWS($AE$2:AE597),P597:Q2500,2,0),\"\")","v":""},null,null,null,null,{"$f":"IFERROR(VLOOKUP(ROWS($AJ$2:AJ597),O597:Q2500,3,0),\"\")","v":""},null,{"$f":"IFERROR(VLOOKUP(ROWS(AL$2:$AL597),N597:Q2500,4,0),\"\")","v":""}]
[null,null,null,null,null,null,null,null,null,null,null,null,null,0,0,0,"axis enhanced arbitrage fund dp","MAA588","arbitrage",null,null,null,null,null,null,null,null,null,null,null,{"$f":"IFERROR(VLOOKUP(ROWS($AE$2:AE598),P598:Q2501,2,0),\"\")","v":""},null,null,null,null,{"$f":"IFERROR(VLOOKUP(ROWS($AJ$2:AJ598),O598:Q2501,3,0),\"\")","v":""},null,{"$f":"IFERROR(VLOOKUP(ROWS(AL$2:$AL598),N598:Q2501,4,0),\"\")","v":""}]
[null,null,null,null,null,null,null,null,null,null,null,null,null,0,0,0,"religare invesco arbitrage dir","MLI572","arbitrage",null,null,null,null,null,null,null,null,null,null,null,{"$f":"IFERROR(VLOOKUP(ROWS($AE$2:AE599),P599:Q2502,2,0),\"\")","v":""},null,null,null,null,{"$f":"IFERROR(VLOOKUP(ROWS($AJ$2:AJ599),O599:Q2502,3,0),\"\")","v":""},null,{"$f":"IFERROR(VLOOKUP(ROWS(AL$2:$AL599),N599:Q2502,4,0),\"\")","v":""}]
[null,null,null,null,null,null,null,null,null,null,null,null,null,0,0,0,"edelweiss arbitrage fund reg","MEW113","arbitrage",null,null,null,null,null,null,null,null,null,null,null,{"$f":"IFERROR(VLOOKUP(ROWS($AE$2:AE600),P600:Q2503,2,0),\"\")","v":""},null,null,null,null,{"$f":"IFERROR(VLOOKUP(ROWS($AJ$2:AJ600),O600:Q2503,3,0),\"\")","v":""},null,{"$f":"IFERROR(VLOOKUP(ROWS(AL$2:$AL600),N600:Q2503,4,0),\"\")","v":""}]
[null,null,null,null,null,null,null,null,null,null,null,null,null,0,0,0,"reliance arbitrage advantage","MRC600","arbitrage",null,null,null,null,null,null,null,null,null,null,null,{"$f":"IFERROR(VLOOKUP(ROWS($AE$2:AE601),P601:Q2504,2,0),\"\")","v":""},null,null,null,null,{"$f":"IFERROR(VLOOKUP(ROWS($AJ$2:AJ601),O601:Q2504,3,0),\"\")","v":""},null,{"$f":"IFERROR(VLOOKUP(ROWS(AL$2:$AL601),N601:Q2504,4,0),\"\")","v":""}]
[null,null,null,null,null,null,null,null,null,null,null,null,null,0,0,0,"dws arbitrage fund regular","MDE1256","arbitrage",null,null,null,null,null,null,null,null,null,null,null,{"$f":"IFERROR(VLOOKUP(ROWS($AE$2:AE602),P602:Q2505,2,0),\"\")","v":""},null,null,null,null,{"$f":"IFERROR(VLOOKUP(ROWS($AJ$2:AJ602),O602:Q2505,3,0),\"\")","v":""},null,{"$f":"IFERROR(VLOOKUP(ROWS(AL$2:$AL602),N602:Q2505,4,0),\"\")","v":""}]
[null,null,null,null,null,null,null,null,null,null,null,null,null,0,0,0,"icici pru eqty arbitrage dp","MPI2249","arbitrage",null,null,null,null,null,null,null,null,null,null,null,{"$f":"IFERROR(VLOOKUP(ROWS($AE$2:AE603),P603:Q2506,2,0),\"\")","v":""},null,null,null,null,{"$f":"IFERROR(VLOOKUP(ROWS($AJ$2:AJ603),O603:Q2506,3,0),\"\")","v":""},null,{"$f":"IFERROR(VLOOKUP(ROWS(AL$2:$AL603),N603:Q2506,4,0),\"\")","v":""}]
[null,null,null,null,null,null,null,null,null,null,null,null,null,0,0,0,"sbi arbitrage oppor fund","MSB081","arbitrage",null,null,null,null,null,null,null,null,null,null,null,{"$f":"IFERROR(VLOOKUP(ROWS($AE$2:AE604),P604:Q2507,2,0),\"\")","v":""},null,null,null,null,{"$f":"IFERROR(VLOOKUP(ROWS($AJ$2:AJ604),O604:Q2507,3,0),\"\")","v":""},null,{"$f":"IFERROR(VLOOKUP(ROWS(AL$2:$AL604),N604:Q2507,4,0),\"\")","v":""}]
[null,null,null,null,null,null,null,null,null,null,null,null,null,0,0,0,"religare invesco arbitrage fund","MLI032","arbitrage",null,null,null,null,null,null,null,null,null,null,null,{"$f":"IFERROR(VLOOKUP(ROWS($AE$2:AE605),P605:Q2508,2,0),\"\")","v":""},null,null,null,null,{"$f":"IFERROR(VLOOKUP(ROWS($AJ$2:AJ605),O605:Q2508,3,0),\"\")","v":""},null,{"$f":"IFERROR(VLOOKUP(ROWS(AL$2:$AL605),N605:Q2508,4,0),\"\")","v":""}]
[null,null,null,null,null,null,null,null,null,null,null,null,null,0,0,0,"birla sl enhanced arbitrage rp","MBS468","arbitrage",null,null,null,null,null,null,null,null,null,null,null,{"$f":"IFERROR(VLOOKUP(ROWS($AE$2:AE606),P606:Q2509,2,0),\"\")","v":""},null,null,null,null,{"$f":"IFERROR(VLOOKUP(ROWS($AJ$2:AJ606),O606:Q2509,3,0),\"\")","v":""},null,{"$f":"IFERROR(VLOOKUP(ROWS(AL$2:$AL606),N606:Q2509,4,0),\"\")","v":""}]
[null,null,null,null,null,null,null,null,null,null,null,null,null,0,0,0,"kotak equity arbitrage regular","MKM079","arbitrage",null,null,null,null,null,null,null,null,null,null,null,{"$f":"IFERROR(VLOOKUP(ROWS($AE$2:AE607),P607:Q2510,2,0),\"\")","v":""},null,null,null,null,{"$f":"IFERROR(VLOOKUP(ROWS($AJ$2:AJ607),O607:Q2510,3,0),\"\")","v":""},null,{"$f":"IFERROR(VLOOKUP(ROWS(AL$2:$AL607),N607:Q2510,4,0),\"\")","v":""}]
[null,null,null,null,null,null,null,null,null,null,null,null,null,0,0,0,"l t arbitrage oppor regular","MCC502","arbitrage",null,null,null,null,null,null,null,null,null,null,null,{"$f":"IFERROR(VLOOKUP(ROWS($AE$2:AE608),P608:Q2511,2,0),\"\")","v":""},null,null,null,null,{"$f":"IFERROR(VLOOKUP(ROWS($AJ$2:AJ608),O608:Q2511,3,0),\"\")","v":""},null,{"$f":"IFERROR(VLOOKUP(ROWS(AL$2:$AL608),N608:Q2511,4,0),\"\")","v":""}]
[null,null,null,null,null,null,null,null,null,null,null,null,null,0,0,0,"icici pru equity arbitrage ip","MPI124","arbitrage",null,null,null,null,null,null,null,null,null,null,null,{"$f":"IFERROR(VLOOKUP(ROWS($AE$2:AE609),P609:Q2512,2,0),\"\")","v":""},null,null,null,null,{"$f":"IFERROR(VLOOKUP(ROWS($AJ$2:AJ609),O609:Q2512,3,0),\"\")","v":""},null,{"$f":"IFERROR(VLOOKUP(ROWS(AL$2:$AL609),N609:Q2512,4,0),\"\")","v":""}]
[null,null,null,null,null,null,null,null,null,null,null,null,null,0,0,0,"icici pru equity arbitrage rp","MPI122","arbitrage",null,null,null,null,null,null,null,null,null,null,null,{"$f":"IFERROR(VLOOKUP(ROWS($AE$2:AE610),P610:Q2513,2,0),\"\")","v":""},null,null,null,null,{"$f":"IFERROR(VLOOKUP(ROWS($AJ$2:AJ610),O610:Q2513,3,0),\"\")","v":""},null,{"$f":"IFERROR(VLOOKUP(ROWS(AL$2:$AL610),N610:Q2513,4,0),\"\")","v":""}]
[null,null,null,null,null,null,null,null,null,null,null,null,null,0,0,0,"idfc arbitrage plus b","MAG220","arbitrage",null,null,null,null,null,null,null,null,null,null,null,{"$f":"IFERROR(VLOOKUP(ROWS($AE$2:AE611),P611:Q2514,2,0),\"\")","v":""},null,null,null,null,{"$f":"IFERROR(VLOOKUP(ROWS($AJ$2:AJ611),O611:Q2514,3,0),\"\")","v":""},null,{"$f":"IFERROR(VLOOKUP(ROWS(AL$2:$AL611),N611:Q2514,4,0),\"\")","v":""}]
[null,null,null,null,null,null,null,null,null,null,null,null,null,0,0,0,"uti spread fund","MUT102","arbitrage",null,null,null,null,null,null,null,null,null,null,null,{"$f":"IFERROR(VLOOKUP(ROWS($AE$2:AE612),P612:Q2515,2,0),\"\")","v":""},null,null,null,null,{"$f":"IFERROR(VLOOKUP(ROWS($AJ$2:AJ612),O612:Q2515,3,0),\"\")","v":""},null,{"$f":"IFERROR(VLOOKUP(ROWS(AL$2:$AL612),N612:Q2515,4,0),\"\")","v":""}]
[null,null,null,null,null,null,null,null,null,null,null,null,null,0,0,0,"axis enhanced arbitrage fund rp","MAA586","arbitrage",null,null,null,null,null,null,null,null,null,null,null,{"$f":"IFERROR(VLOOKUP(ROWS($AE$2:AE613),P613:Q2516,2,0),\"\")","v":""},null,null,null,null,{"$f":"IFERROR(VLOOKUP(ROWS($AJ$2:AJ613),O613:Q2516,3,0),\"\")","v":""},null,{"$f":"IFERROR(VLOOKUP(ROWS(AL$2:$AL613),N613:Q2516,4,0),\"\")","v":""}]
[null,null,null,null,null,null,null,null,null,null,null,null,null,0,0,0,"hdfc arbitrage fund wp dp","MHD2147","arbitrage",null,null,null,null,null,null,null,null,null,null,null,{"$f":"IFERROR(VLOOKUP(ROWS($AE$2:AE614),P614:Q2517,2,0),\"\")","v":""},null,null,null,null,{"$f":"IFERROR(VLOOKUP(ROWS($AJ$2:AJ614),O614:Q2517,3,0),\"\")","v":""},null,{"$f":"IFERROR(VLOOKUP(ROWS(AL$2:$AL614),N614:Q2517,4,0),\"\")","v":""}]
[null,null,null,null,null,null,null,null,null,null,null,null,null,0,0,0,"idfc arbitrage inst","MAG121","arbitrage",null,null,null,null,null,null,null,null,null,null,null,{"$f":"IFERROR(VLOOKUP(ROWS($AE$2:AE615),P615:Q2518,2,0),\"\")","v":""},null,null,null,null,{"$f":"IFERROR(VLOOKUP(ROWS($AJ$2:AJ615),O615:Q2518,3,0),\"\")","v":""},null,{"$f":"IFERROR(VLOOKUP(ROWS(AL$2:$AL615),N615:Q2518,4,0),\"\")","v":""}]
[null,null,null,null,null,null,null,null,null,null,null,null,null,0,0,0,"idfc arbitrage fund regular","MAG119","arbitrage",null,null,null,null,null,null,null,null,null,null,null,{"$f":"IFERROR(VLOOKUP(ROWS($AE$2:AE616),P616:Q2519,2,0),\"\")","v":""},null,null,null,null,{"$f":"IFERROR(VLOOKUP(ROWS($AJ$2:AJ616),O616:Q2519,3,0),\"\")","v":""},null,{"$f":"IFERROR(VLOOKUP(ROWS(AL$2:$AL616),N616:Q2519,4,0),\"\")","v":""}]
[null,null,null,null,null,null,null,null,null,null,null,null,null,0,0,0,"icici pru blended plan a","MPI104","arbitrage",null,null,null,null,null,null,null,null,null,null,null,{"$f":"IFERROR(VLOOKUP(ROWS($AE$2:AE617),P617:Q2520,2,0),\"\")","v":""},null,null,null,null,{"$f":"IFERROR(VLOOKUP(ROWS($AJ$2:AJ617),O617:Q2520,3,0),\"\")","v":""},null,{"$f":"IFERROR(VLOOKUP(ROWS(AL$2:$AL617),N617:Q2520,4,0),\"\")","v":""}]
[null,null,null,null,null,null,null,null,null,null,null,null,null,0,0,0,"hdfc arbitrage fund wp","MHD228","arbitrage",null,null,null,null,null,null,null,null,null,null,null,{"$f":"IFERROR(VLOOKUP(ROWS($AE$2:AE618),P618:Q2521,2,0),\"\")","v":""},null,null,null,null,{"$f":"IFERROR(VLOOKUP(ROWS($AJ$2:AJ618),O618:Q2521,3,0),\"\")","v":""},null,{"$f":"IFERROR(VLOOKUP(ROWS(AL$2:$AL618),N618:Q2521,4,0),\"\")","v":""}]
[null,null,null,null,null,null,null,null,null,null,null,null,null,0,0,0,"jm arbitrage advantage","MJM068","arbitrage",null,null,null,null,null,null,null,null,null,null,null,{"$f":"IFERROR(VLOOKUP(ROWS($AE$2:AE619),P619:Q2522,2,0),\"\")","v":""},null,null,null,null,{"$f":"IFERROR(VLOOKUP(ROWS($AJ$2:AJ619),O619:Q2522,3,0),\"\")","v":""},null,{"$f":"IFERROR(VLOOKUP(ROWS(AL$2:$AL619),N619:Q2522,4,0),\"\")","v":""}]
[null,null,null,null,null,null,null,null,null,null,null,null,null,0,0,0,"hdfc arbitrage fund rp","MHD225","arbitrage",null,null,null,null,null,null,null,null,null,null,null,{"$f":"IFERROR(VLOOKUP(ROWS($AE$2:AE620),P620:Q2523,2,0),\"\")","v":""},null,null,null,null,{"$f":"IFERROR(VLOOKUP(ROWS($AJ$2:AJ620),O620:Q2523,3,0),\"\")","v":""},null,{"$f":"IFERROR(VLOOKUP(ROWS(AL$2:$AL620),N620:Q2523,4,0),\"\")","v":""}]
[null,null,null,null,null,null,null,null,null,null,null,null,null,0,0,0,"idfc arbitrage plus regular","MAG218","arbitrage",null,null,null,null,null,null,null,null,null,null,null,{"$f":"IFERROR(VLOOKUP(ROWS($AE$2:AE621),P621:Q2524,2,0),\"\")","v":""},null,null,null,null,{"$f":"IFERROR(VLOOKUP(ROWS($AJ$2:AJ621),O621:Q2524,3,0),\"\")","v":""},null,{"$f":"IFERROR(VLOOKUP(ROWS(AL$2:$AL621),N621:Q2524,4,0),\"\")","v":""}]
[null,null,null,null,null,null,null,null,null,null,null,null,null,0,0,0,"icici pru blended b inst ","MPI140","arbitrage",null,null,null,null,null,null,null,null,null,null,null,{"$f":"IFERROR(VLOOKUP(ROWS($AE$2:AE622),P622:Q2525,2,0),\"\")","v":""},null,null,null,null,{"$f":"IFERROR(VLOOKUP(ROWS($AJ$2:AJ622),O622:Q2525,3,0),\"\")","v":""},null,{"$f":"IFERROR(VLOOKUP(ROWS(AL$2:$AL622),N622:Q2525,4,0),\"\")","v":""}]
[null,null,null,null,null,null,null,null,null,null,null,null,null,0,0,0,"birla sl enhanced arbitrage ip","MBS470","arbitrage",null,null,null,null,null,null,null,null,null,null,null,{"$f":"IFERROR(VLOOKUP(ROWS($AE$2:AE623),P623:Q2526,2,0),\"\")","v":""},null,null,null,null,{"$f":"IFERROR(VLOOKUP(ROWS($AJ$2:AJ623),O623:Q2526,3,0),\"\")","v":""},null,{"$f":"IFERROR(VLOOKUP(ROWS(AL$2:$AL623),N623:Q2526,4,0),\"\")","v":""}]
[null,null,null,null,null,null,null,null,null,null,null,null,null,0,0,0,"dsp br balanced fund direct","MDS608","Balanced",null,null,null,null,null,null,null,null,null,null,null,{"$f":"IFERROR(VLOOKUP(ROWS($AE$2:AE624),P624:Q2527,2,0),\"\")","v":""},null,null,null,null,{"$f":"IFERROR(VLOOKUP(ROWS($AJ$2:AJ624),O624:Q2527,3,0),\"\")","v":""},null,{"$f":"IFERROR(VLOOKUP(ROWS(AL$2:$AL624),N624:Q2527,4,0),\"\")","v":""}]
[null,null,null,null,null,null,null,null,null,null,null,null,null,0,0,0,"tata balanced fund regular","MTA001","Balanced",null,null,null,null,null,null,null,null,null,null,null,{"$f":"IFERROR(VLOOKUP(ROWS($AE$2:AE625),P625:Q2528,2,0),\"\")","v":""},null,null,null,null,{"$f":"IFERROR(VLOOKUP(ROWS($AJ$2:AJ625),O625:Q2528,3,0),\"\")","v":""},null,{"$f":"IFERROR(VLOOKUP(ROWS(AL$2:$AL625),N625:Q2528,4,0),\"\")","v":""}]
[null,null,null,null,null,null,null,null,null,null,null,null,null,0,0,0,"dsp br balanced fund","MDS005","Balanced",null,null,null,null,null,null,null,null,null,null,null,{"$f":"IFERROR(VLOOKUP(ROWS($AE$2:AE626),P626:Q2529,2,0),\"\")","v":""},null,null,null,null,{"$f":"IFERROR(VLOOKUP(ROWS($AJ$2:AJ626),O626:Q2529,3,0),\"\")","v":""},null,{"$f":"IFERROR(VLOOKUP(ROWS(AL$2:$AL626),N626:Q2529,4,0),\"\")","v":""}]
[null,null,null,null,null,null,null,null,null,null,null,null,null,0,0,0,"franklin india balanced fund dp","MTE307","Balanced",null,null,null,null,null,null,null,null,null,null,null,{"$f":"IFERROR(VLOOKUP(ROWS($AE$2:AE627),P627:Q2530,2,0),\"\")","v":""},null,null,null,null,{"$f":"IFERROR(VLOOKUP(ROWS($AJ$2:AJ627),O627:Q2530,3,0),\"\")","v":""},null,{"$f":"IFERROR(VLOOKUP(ROWS(AL$2:$AL627),N627:Q2530,4,0),\"\")","v":""}]
[null,null,null,null,null,null,null,null,null,null,null,null,null,0,0,0,"franklin india balanced fund","MKP027","Balanced",null,null,null,null,null,null,null,null,null,null,null,{"$f":"IFERROR(VLOOKUP(ROWS($AE$2:AE628),P628:Q2531,2,0),\"\")","v":""},null,null,null,null,{"$f":"IFERROR(VLOOKUP(ROWS($AJ$2:AJ628),O628:Q2531,3,0),\"\")","v":""},null,{"$f":"IFERROR(VLOOKUP(ROWS(AL$2:$AL628),N628:Q2531,4,0),\"\")","v":""}]
[null,null,null,null,null,null,null,null,null,null,null,null,null,0,0,0,"l t india prudence fund","MFF103","Balanced",null,null,null,null,null,null,null,null,null,null,null,{"$f":"IFERROR(VLOOKUP(ROWS($AE$2:AE629),P629:Q2532,2,0),\"\")","v":""},null,null,null,null,{"$f":"IFERROR(VLOOKUP(ROWS($AJ$2:AJ629),O629:Q2532,3,0),\"\")","v":""},null,{"$f":"IFERROR(VLOOKUP(ROWS(AL$2:$AL629),N629:Q2532,4,0),\"\")","v":""}]
[null,null,null,null,null,null,null,null,null,null,null,null,null,0,0,0,"can robeco balance","MCA051","Balanced",null,null,null,null,null,null,null,null,null,null,null,{"$f":"IFERROR(VLOOKUP(ROWS($AE$2:AE630),P630:Q2533,2,0),\"\")","v":""},null,null,null,null,{"$f":"IFERROR(VLOOKUP(ROWS($AJ$2:AJ630),O630:Q2533,3,0),\"\")","v":""},null,{"$f":"IFERROR(VLOOKUP(ROWS(AL$2:$AL630),N630:Q2533,4,0),\"\")","v":""}]
[null,null,null,null,null,null,null,null,null,null,null,null,null,0,0,0,"sbi magnum balanced fund","MSB063","Balanced",null,null,null,null,null,null,null,null,null,null,null,{"$f":"IFERROR(VLOOKUP(ROWS($AE$2:AE631),P631:Q2534,2,0),\"\")","v":""},null,null,null,null,{"$f":"IFERROR(VLOOKUP(ROWS($AJ$2:AJ631),O631:Q2534,3,0),\"\")","v":""},null,{"$f":"IFERROR(VLOOKUP(ROWS(AL$2:$AL631),N631:Q2534,4,0),\"\")","v":""}]
[null,null,null,null,null,null,null,null,null,null,null,null,null,0,0,0,"birla sun life 95 fund","MAC001","Balanced",null,null,null,null,null,null,null,null,null,null,null,{"$f":"IFERROR(VLOOKUP(ROWS($AE$2:AE632),P632:Q2535,2,0),\"\")","v":""},null,null,null,null,{"$f":"IFERROR(VLOOKUP(ROWS($AJ$2:AJ632),O632:Q2535,3,0),\"\")","v":""},null,{"$f":"IFERROR(VLOOKUP(ROWS(AL$2:$AL632),N632:Q2535,4,0),\"\")","v":""}]
[null,null,null,null,null,null,null,null,null,null,null,null,null,0,0,0,"hdfc balanced fund","MHD002","Balanced",null,null,null,null,null,null,null,null,null,null,null,{"$f":"IFERROR(VLOOKUP(ROWS($AE$2:AE633),P633:Q2536,2,0),\"\")","v":""},null,null,null,null,{"$f":"IFERROR(VLOOKUP(ROWS($AJ$2:AJ633),O633:Q2536,3,0),\"\")","v":""},null,{"$f":"IFERROR(VLOOKUP(ROWS(AL$2:$AL633),N633:Q2536,4,0),\"\")","v":""}]
[null,null,null,null,null,null,null,null,null,null,null,null,null,0,0,0,"icici pru balanced fund","MPI011","Balanced",null,null,null,null,null,null,null,null,null,null,null,{"$f":"IFERROR(VLOOKUP(ROWS($AE$2:AE634),P634:Q2537,2,0),\"\")","v":""},null,null,null,null,{"$f":"IFERROR(VLOOKUP(ROWS($AJ$2:AJ634),O634:Q2537,3,0),\"\")","v":""},null,{"$f":"IFERROR(VLOOKUP(ROWS(AL$2:$AL634),N634:Q2537,4,0),\"\")","v":""}]
[null,null,null,null,null,null,null,null,null,null,null,null,null,0,0,0,"edelweiss absolute return fund","MEW051","Balanced",null,null,null,null,null,null,null,null,null,null,null,{"$f":"IFERROR(VLOOKUP(ROWS($AE$2:AE635),P635:Q2538,2,0),\"\")","v":""},null,null,null,null,{"$f":"IFERROR(VLOOKUP(ROWS($AJ$2:AJ635),O635:Q2538,3,0),\"\")","v":""},null,{"$f":"IFERROR(VLOOKUP(ROWS(AL$2:$AL635),N635:Q2538,4,0),\"\")","v":""}]
[null,null,null,null,null,null,null,null,null,null,null,null,null,0,0,0,"reliance rsf balanced","MRC100","Balanced",null,null,null,null,null,null,null,null,null,null,null,{"$f":"IFERROR(VLOOKUP(ROWS($AE$2:AE636),P636:Q2539,2,0),\"\")","v":""},null,null,null,null,{"$f":"IFERROR(VLOOKUP(ROWS($AJ$2:AJ636),O636:Q2539,3,0),\"\")","v":""},null,{"$f":"IFERROR(VLOOKUP(ROWS(AL$2:$AL636),N636:Q2539,4,0),\"\")","v":""}]
[null,null,null,null,null,null,null,null,null,null,null,null,null,0,0,0,"icici pru balanced adv","MPI126","Balanced",null,null,null,null,null,null,null,null,null,null,null,{"$f":"IFERROR(VLOOKUP(ROWS($AE$2:AE637),P637:Q2540,2,0),\"\")","v":""},null,null,null,null,{"$f":"IFERROR(VLOOKUP(ROWS($AJ$2:AJ637),O637:Q2540,3,0),\"\")","v":""},null,{"$f":"IFERROR(VLOOKUP(ROWS(AL$2:$AL637),N637:Q2540,4,0),\"\")","v":""}]
[null,null,null,null,null,null,null,null,null,null,null,null,null,0,0,0,"shriram equity debt opp dir","MSR003","Balanced",null,null,null,null,null,null,null,null,null,null,null,{"$f":"IFERROR(VLOOKUP(ROWS($AE$2:AE638),P638:Q2541,2,0),\"\")","v":""},null,null,null,null,{"$f":"IFERROR(VLOOKUP(ROWS($AJ$2:AJ638),O638:Q2541,3,0),\"\")","v":""},null,{"$f":"IFERROR(VLOOKUP(ROWS(AL$2:$AL638),N638:Q2541,4,0),\"\")","v":""}]
[null,null,null,null,null,null,null,null,null,null,null,null,null,0,0,0,"shriram equity debt opp reg","MSR001","Balanced",null,null,null,null,null,null,null,null,null,null,null,{"$f":"IFERROR(VLOOKUP(ROWS($AE$2:AE639),P639:Q2542,2,0),\"\")","v":""},null,null,null,null,{"$f":"IFERROR(VLOOKUP(ROWS($AJ$2:AJ639),O639:Q2542,3,0),\"\")","v":""},null,{"$f":"IFERROR(VLOOKUP(ROWS(AL$2:$AL639),N639:Q2542,4,0),\"\")","v":""}]
[null,null,null,null,null,null,null,null,null,null,null,null,null,0,0,0,"uti balanced fund","MUT019","Balanced",null,null,null,null,null,null,null,null,null,null,null,{"$f":"IFERROR(VLOOKUP(ROWS($AE$2:AE640),P640:Q2543,2,0),\"\")","v":""},null,null,null,null,{"$f":"IFERROR(VLOOKUP(ROWS($AJ$2:AJ640),O640:Q2543,3,0),\"\")","v":""},null,{"$f":"IFERROR(VLOOKUP(ROWS(AL$2:$AL640),N640:Q2543,4,0),\"\")","v":""}]
[null,null,null,null,null,null,null,null,null,null,null,null,null,0,0,0,"baroda pioneer balance","MBO012","Balanced",null,null,null,null,null,null,null,null,null,null,null,{"$f":"IFERROR(VLOOKUP(ROWS($AE$2:AE641),P641:Q2544,2,0),\"\")","v":""},null,null,null,null,{"$f":"IFERROR(VLOOKUP(ROWS($AJ$2:AJ641),O641:Q2544,3,0),\"\")","v":""},null,{"$f":"IFERROR(VLOOKUP(ROWS(AL$2:$AL641),N641:Q2544,4,0),\"\")","v":""}]
[null,null,null,null,null,null,null,null,null,null,null,null,null,1,0,{"$f":"IF(ISNUMBER(SEARCH($H$6,Q642)),MAX($P$1,P641)+1,0)","v":0},"hdfc prudence fund","MZU003","Balanced",null,null,null,null,null,null,null,null,null,null,null,{"$f":"IFERROR(VLOOKUP(ROWS($AE$2:AE642),P642:Q2545,2,0),\"\")","v":""},null,null,null,null,{"$f":"IFERROR(VLOOKUP(ROWS($AJ$2:AJ642),O642:Q2545,3,0),\"\")","v":""},null,{"$f":"IFERROR(VLOOKUP(ROWS(AL$2:$AL642),N642:Q2545,4,0),\"\")","v":""}]
[null,null,null,null,null,null,null,null,null,null,null,null,null,{"$f":"IF(ISNUMBER(SEARCH($H$16,Q643)),MAX($N$1,N642)+1,0)","v":0},{"$f":"IF(ISNUMBER(SEARCH($H$11,Q643)),MAX($O$1,O642)+1,0)","v":0},0,"principal balanced","MSF006","Balanced",null,null,null,null,null,null,null,null,null,null,null,{"$f":"IFERROR(VLOOKUP(ROWS($AE$2:AE643),P643:Q2546,2,0),\"\")","v":""},null,null,null,null,{"$f":"IFERROR(VLOOKUP(ROWS($AJ$2:AJ643),O643:Q2546,3,0),\"\")","v":""},null,{"$f":"IFERROR(VLOOKUP(ROWS(AL$2:$AL643),N643:Q2546,4,0),\"\")","v":""}]
[null,null,null,null,null,null,null,null,null,null,null,null,null,0,0,0,"lic nomura balanced c","MJB006","Balanced",null,null,null,null,null,null,null,null,null,null,null,{"$f":"IFERROR(VLOOKUP(ROWS($AE$2:AE644),P644:Q2547,2,0),\"\")","v":""},null,null,null,null,{"$f":"IFERROR(VLOOKUP(ROWS($AJ$2:AJ644),O644:Q2547,3,0),\"\")","v":""},null,{"$f":"IFERROR(VLOOKUP(ROWS(AL$2:$AL644),N644:Q2547,4,0),\"\")","v":""}]
[null,null,null,null,null,null,null,null,null,null,null,null,null,0,0,0,"escorts balanced fund","MES006","Balanced",null,null,null,null,null,null,null,null,null,null,null,{"$f":"IFERROR(VLOOKUP(ROWS($AE$2:AE645),P645:Q2548,2,0),\"\")","v":""},null,null,null,null,{"$f":"IFERROR(VLOOKUP(ROWS($AJ$2:AJ645),O645:Q2548,3,0),\"\")","v":""},null,{"$f":"IFERROR(VLOOKUP(ROWS(AL$2:$AL645),N645:Q2548,4,0),\"\")","v":""}]
[null,null,null,null,null,null,null,null,null,null,null,null,null,0,0,0,"birla sl dynamic aaf","MIN007","Balanced",null,null,null,null,null,null,null,null,null,null,null,{"$f":"IFERROR(VLOOKUP(ROWS($AE$2:AE646),P646:Q2549,2,0),\"\")","v":""},null,null,null,null,{"$f":"IFERROR(VLOOKUP(ROWS($AJ$2:AJ646),O646:Q2549,3,0),\"\")","v":""},null,{"$f":"IFERROR(VLOOKUP(ROWS(AL$2:$AL646),N646:Q2549,4,0),\"\")","v":""}]
[null,null,null,null,null,null,null,null,null,null,null,null,null,0,0,0,"jm balanced fund","MJM004","Balanced",null,null,null,null,null,null,null,null,null,null,null,{"$f":"IFERROR(VLOOKUP(ROWS($AE$2:AE647),P647:Q2550,2,0),\"\")","v":""},null,null,null,null,{"$f":"IFERROR(VLOOKUP(ROWS($AJ$2:AJ647),O647:Q2550,3,0),\"\")","v":""},null,{"$f":"IFERROR(VLOOKUP(ROWS(AL$2:$AL647),N647:Q2550,4,0),\"\")","v":""}]
[null,null,null,null,null,null,null,null,null,null,null,null,null,0,0,0,"sundaram balanced rp","MSN006","Balanced",null,null,null,null,null,null,null,null,null,null,null,{"$f":"IFERROR(VLOOKUP(ROWS($AE$2:AE648),P648:Q2551,2,0),\"\")","v":""},null,null,null,null,{"$f":"IFERROR(VLOOKUP(ROWS($AJ$2:AJ648),O648:Q2551,3,0),\"\")","v":""},null,{"$f":"IFERROR(VLOOKUP(ROWS(AL$2:$AL648),N648:Q2551,4,0),\"\")","v":""}]
[null,null,null,null,null,null,null,null,null,null,null,null,null,0,0,0,"kotak balance regular plan","MKM006","Balanced",null,null,null,null,null,null,null,null,null,null,null,{"$f":"IFERROR(VLOOKUP(ROWS($AE$2:AE649),P649:Q2552,2,0),\"\")","v":""},null,null,null,null,{"$f":"IFERROR(VLOOKUP(ROWS($AJ$2:AJ649),O649:Q2552,3,0),\"\")","v":""},null,{"$f":"IFERROR(VLOOKUP(ROWS(AL$2:$AL649),N649:Q2552,4,0),\"\")","v":""}]
[null,null,null,null,null,null,null,null,null,null,null,null,null,0,0,0,"kotak balance regular plan","MKM897","Balanced",null,null,null,null,null,null,null,null,null,null,null,{"$f":"IFERROR(VLOOKUP(ROWS($AE$2:AE650),P650:Q2553,2,0),\"\")","v":""},null,null,null,null,{"$f":"IFERROR(VLOOKUP(ROWS($AJ$2:AJ650),O650:Q2553,3,0),\"\")","v":""},null,{"$f":"IFERROR(VLOOKUP(ROWS(AL$2:$AL650),N650:Q2553,4,0),\"\")","v":""}]
[null,null,null,null,null,null,null,null,null,null,null,null,null,0,0,0,"idfc ssif investment plan b","MAG316","Debt Long Term",null,null,null,null,null,null,null,null,null,null,null,{"$f":"IFERROR(VLOOKUP(ROWS($AE$2:AE651),P651:Q2554,2,0),\"\")","v":""},null,null,null,null,{"$f":"IFERROR(VLOOKUP(ROWS($AJ$2:AJ651),O651:Q2554,3,0),\"\")","v":""},null,{"$f":"IFERROR(VLOOKUP(ROWS(AL$2:$AL651),N651:Q2554,4,0),\"\")","v":""}]
[null,null,null,null,null,null,null,null,null,null,null,null,null,0,0,0,"pramerica dynamic bond fund","MPA034","Debt Long Term",null,null,null,null,null,null,null,null,null,null,null,{"$f":"IFERROR(VLOOKUP(ROWS($AE$2:AE652),P652:Q2555,2,0),\"\")","v":""},null,null,null,null,{"$f":"IFERROR(VLOOKUP(ROWS($AJ$2:AJ652),O652:Q2555,3,0),\"\")","v":""},null,{"$f":"IFERROR(VLOOKUP(ROWS(AL$2:$AL652),N652:Q2555,4,0),\"\")","v":""}]
[null,null,null,null,null,null,null,null,null,null,null,null,null,0,0,0,"icici pru long term plan rp","MPI034","Debt Long Term",null,null,null,null,null,null,null,null,null,null,null,{"$f":"IFERROR(VLOOKUP(ROWS($AE$2:AE653),P653:Q2556,2,0),\"\")","v":""},null,null,null,null,{"$f":"IFERROR(VLOOKUP(ROWS($AJ$2:AJ653),O653:Q2556,3,0),\"\")","v":""},null,{"$f":"IFERROR(VLOOKUP(ROWS(AL$2:$AL653),N653:Q2556,4,0),\"\")","v":""}]
[null,null,null,null,null,null,null,null,null,null,null,null,null,0,0,0,"icici pru long term plan pp","MPI687","Debt Long Term",null,null,null,null,null,null,null,null,null,null,null,{"$f":"IFERROR(VLOOKUP(ROWS($AE$2:AE654),P654:Q2557,2,0),\"\")","v":""},null,null,null,null,{"$f":"IFERROR(VLOOKUP(ROWS($AJ$2:AJ654),O654:Q2557,3,0),\"\")","v":""},null,{"$f":"IFERROR(VLOOKUP(ROWS(AL$2:$AL654),N654:Q2557,4,0),\"\")","v":""}]
[null,null,null,null,null,null,null,null,null,null,null,null,null,0,0,0,"idfc dynamic bond regular plan","MAG314","Debt Long Term",null,null,null,null,null,null,null,null,null,null,null,{"$f":"IFERROR(VLOOKUP(ROWS($AE$2:AE655),P655:Q2558,2,0),\"\")","v":""},null,null,null,null,{"$f":"IFERROR(VLOOKUP(ROWS($AJ$2:AJ655),O655:Q2558,3,0),\"\")","v":""},null,{"$f":"IFERROR(VLOOKUP(ROWS(AL$2:$AL655),N655:Q2558,4,0),\"\")","v":""}]
[null,null,null,null,null,null,null,null,null,null,null,null,null,0,0,0,"icici pru long term plan","MPI689","Debt Long Term",null,null,null,null,null,null,null,null,null,null,null,{"$f":"IFERROR(VLOOKUP(ROWS($AE$2:AE656),P656:Q2559,2,0),\"\")","v":""},null,null,null,null,{"$f":"IFERROR(VLOOKUP(ROWS($AJ$2:AJ656),O656:Q2559,3,0),\"\")","v":""},null,{"$f":"IFERROR(VLOOKUP(ROWS(AL$2:$AL656),N656:Q2559,4,0),\"\")","v":""}]
[null,null,null,null,null,null,null,null,null,null,null,null,null,0,0,0,"idfc ssif investment regular","MAG001","Debt Long Term",null,null,null,null,null,null,null,null,null,null,null,{"$f":"IFERROR(VLOOKUP(ROWS($AE$2:AE657),P657:Q2560,2,0),\"\")","v":""},null,null,null,null,{"$f":"IFERROR(VLOOKUP(ROWS($AJ$2:AJ657),O657:Q2560,3,0),\"\")","v":""},null,{"$f":"IFERROR(VLOOKUP(ROWS(AL$2:$AL657),N657:Q2560,4,0),\"\")","v":""}]
[null,null,null,null,null,null,null,null,null,null,null,null,null,0,0,0,"idfc ssif investment plan f","MAG374","Debt Long Term",null,null,null,null,null,null,null,null,null,null,null,{"$f":"IFERROR(VLOOKUP(ROWS($AE$2:AE658),P658:Q2561,2,0),\"\")","v":""},null,null,null,null,{"$f":"IFERROR(VLOOKUP(ROWS($AJ$2:AJ658),O658:Q2561,3,0),\"\")","v":""},null,{"$f":"IFERROR(VLOOKUP(ROWS(AL$2:$AL658),N658:Q2561,4,0),\"\")","v":""}]
[null,null,null,null,null,null,null,null,null,null,null,null,null,0,0,0,"sundaram flexible inc rp","MSN074","Debt Long Term",null,null,null,null,null,null,null,null,null,null,null,{"$f":"IFERROR(VLOOKUP(ROWS($AE$2:AE659),P659:Q2562,2,0),\"\")","v":""},null,null,null,null,{"$f":"IFERROR(VLOOKUP(ROWS($AJ$2:AJ659),O659:Q2562,3,0),\"\")","v":""},null,{"$f":"IFERROR(VLOOKUP(ROWS(AL$2:$AL659),N659:Q2562,4,0),\"\")","v":""}]
[null,null,null,null,null,null,null,null,null,null,null,null,null,0,0,0,"icici pru dynamic bond ppp","MPI654","Debt Long Term",null,null,null,null,null,null,null,null,null,null,null,{"$f":"IFERROR(VLOOKUP(ROWS($AE$2:AE660),P660:Q2563,2,0),\"\")","v":""},null,null,null,null,{"$f":"IFERROR(VLOOKUP(ROWS($AJ$2:AJ660),O660:Q2563,3,0),\"\")","v":""},null,{"$f":"IFERROR(VLOOKUP(ROWS(AL$2:$AL660),N660:Q2563,4,0),\"\")","v":""}]
[null,null,null,null,null,null,null,null,null,null,null,null,null,0,0,0,"idfc dynamic bond plan a","MAG017","Debt Long Term",null,null,null,null,null,null,null,null,null,null,null,{"$f":"IFERROR(VLOOKUP(ROWS($AE$2:AE661),P661:Q2564,2,0),\"\")","v":""},null,null,null,null,{"$f":"IFERROR(VLOOKUP(ROWS($AJ$2:AJ661),O661:Q2564,3,0),\"\")","v":""},null,{"$f":"IFERROR(VLOOKUP(ROWS(AL$2:$AL661),N661:Q2564,4,0),\"\")","v":""}]
[null,null,null,null,null,null,null,null,null,null,null,null,null,0,0,0,"baroda pioneer dynamic bond","MBO080","Debt Long Term",null,null,null,null,null,null,null,null,null,null,null,{"$f":"IFERROR(VLOOKUP(ROWS($AE$2:AE662),P662:Q2565,2,0),\"\")","v":""},null,null,null,null,{"$f":"IFERROR(VLOOKUP(ROWS($AJ$2:AJ662),O662:Q2565,3,0),\"\")","v":""},null,{"$f":"IFERROR(VLOOKUP(ROWS(AL$2:$AL662),N662:Q2565,4,0),\"\")","v":""}]
[null,null,null,null,null,null,null,null,null,null,null,null,null,0,0,0,"icici pru income ip","MPI046","Debt Long Term",null,null,null,null,null,null,null,null,null,null,null,{"$f":"IFERROR(VLOOKUP(ROWS($AE$2:AE663),P663:Q2566,2,0),\"\")","v":""},null,null,null,null,{"$f":"IFERROR(VLOOKUP(ROWS($AJ$2:AJ663),O663:Q2566,3,0),\"\")","v":""},null,{"$f":"IFERROR(VLOOKUP(ROWS(AL$2:$AL663),N663:Q2566,4,0),\"\")","v":""}]
[null,null,null,null,null,null,null,null,null,null,null,null,null,0,0,0,"icici pru income opp rp","MPI501","Debt Long Term",null,null,null,null,null,null,null,null,null,null,null,{"$f":"IFERROR(VLOOKUP(ROWS($AE$2:AE664),P664:Q2567,2,0),\"\")","v":""},null,null,null,null,{"$f":"IFERROR(VLOOKUP(ROWS($AJ$2:AJ664),O664:Q2567,3,0),\"\")","v":""},null,{"$f":"IFERROR(VLOOKUP(ROWS(AL$2:$AL664),N664:Q2567,4,0),\"\")","v":""}]
[null,null,null,null,null,null,null,null,null,null,null,null,null,0,0,0,"icici pru income opp ip","MPI504","Debt Long Term",null,null,null,null,null,null,null,null,null,null,null,{"$f":"IFERROR(VLOOKUP(ROWS($AE$2:AE665),P665:Q2568,2,0),\"\")","v":""},null,null,null,null,{"$f":"IFERROR(VLOOKUP(ROWS($AJ$2:AJ665),O665:Q2568,3,0),\"\")","v":""},null,{"$f":"IFERROR(VLOOKUP(ROWS(AL$2:$AL665),N665:Q2568,4,0),\"\")","v":""}]
[null,null,null,null,null,null,null,null,null,null,null,null,null,0,0,0,"franklin india dynamic accrual fund","MTE002","Debt Long Term",null,null,null,null,null,null,null,null,null,null,null,{"$f":"IFERROR(VLOOKUP(ROWS($AE$2:AE666),P666:Q2569,2,0),\"\")","v":""},null,null,null,null,{"$f":"IFERROR(VLOOKUP(ROWS($AJ$2:AJ666),O666:Q2569,3,0),\"\")","v":""},null,{"$f":"IFERROR(VLOOKUP(ROWS(AL$2:$AL666),N666:Q2569,4,0),\"\")","v":""}]
[null,null,null,null,null,null,null,null,null,null,null,null,null,0,0,0,"bnp paribas flexi debt dir","MAB746","Debt Long Term",null,null,null,null,null,null,null,null,null,null,null,{"$f":"IFERROR(VLOOKUP(ROWS($AE$2:AE667),P667:Q2570,2,0),\"\")","v":""},null,null,null,null,{"$f":"IFERROR(VLOOKUP(ROWS($AJ$2:AJ667),O667:Q2570,3,0),\"\")","v":""},null,{"$f":"IFERROR(VLOOKUP(ROWS(AL$2:$AL667),N667:Q2570,4,0),\"\")","v":""}]
[null,null,null,null,null,null,null,null,null,null,null,null,null,0,0,0,"dws inflation indexed bond dir","MDE953","Debt Long Term",null,null,null,null,null,null,null,null,null,null,null,{"$f":"IFERROR(VLOOKUP(ROWS($AE$2:AE668),P668:Q2571,2,0),\"\")","v":""},null,null,null,null,{"$f":"IFERROR(VLOOKUP(ROWS($AJ$2:AJ668),O668:Q2571,3,0),\"\")","v":""},null,{"$f":"IFERROR(VLOOKUP(ROWS(AL$2:$AL668),N668:Q2571,4,0),\"\")","v":""}]
[null,null,null,null,null,null,null,null,null,null,null,null,null,0,0,0,"l t flexi bond ip","MFF011","Debt Long Term",null,null,null,null,null,null,null,null,null,null,null,{"$f":"IFERROR(VLOOKUP(ROWS($AE$2:AE669),P669:Q2572,2,0),\"\")","v":""},null,null,null,null,{"$f":"IFERROR(VLOOKUP(ROWS($AJ$2:AJ669),O669:Q2572,3,0),\"\")","v":""},null,{"$f":"IFERROR(VLOOKUP(ROWS(AL$2:$AL669),N669:Q2572,4,0),\"\")","v":""}]
[null,null,null,null,null,null,null,null,null,null,null,null,null,0,0,0,"hdfc high interest dynamic","MZU008","Debt Long Term",null,null,null,null,null,null,null,null,null,null,null,{"$f":"IFERROR(VLOOKUP(ROWS($AE$2:AE670),P670:Q2573,2,0),\"\")","v":""},null,null,null,null,{"$f":"IFERROR(VLOOKUP(ROWS($AJ$2:AJ670),O670:Q2573,3,0),\"\")","v":""},null,{"$f":"IFERROR(VLOOKUP(ROWS(AL$2:$AL670),N670:Q2573,4,0),\"\")","v":""}]
[null,null,null,null,null,null,null,null,null,null,null,null,null,0,0,0,"birla sl income plus dap ","MBS438","Debt Long Term",null,null,null,null,null,null,null,null,null,null,null,{"$f":"IFERROR(VLOOKUP(ROWS($AE$2:AE671),P671:Q2574,2,0),\"\")","v":""},null,null,null,null,{"$f":"IFERROR(VLOOKUP(ROWS($AJ$2:AJ671),O671:Q2574,3,0),\"\")","v":""},null,{"$f":"IFERROR(VLOOKUP(ROWS(AL$2:$AL671),N671:Q2574,4,0),\"\")","v":""}]
[null,null,null,null,null,null,null,null,null,null,null,null,null,0,0,0,"birla sl income plus b rp","MBS003","Debt Long Term",null,null,null,null,null,null,null,null,null,null,null,{"$f":"IFERROR(VLOOKUP(ROWS($AE$2:AE672),P672:Q2575,2,0),\"\")","v":""},null,null,null,null,{"$f":"IFERROR(VLOOKUP(ROWS($AJ$2:AJ672),O672:Q2575,3,0),\"\")","v":""},null,{"$f":"IFERROR(VLOOKUP(ROWS(AL$2:$AL672),N672:Q2575,4,0),\"\")","v":""}]
[null,null,null,null,null,null,null,null,null,null,null,null,null,0,0,0,"icici pru income","MPI005","Debt Long Term",null,null,null,null,null,null,null,null,null,null,null,{"$f":"IFERROR(VLOOKUP(ROWS($AE$2:AE673),P673:Q2576,2,0),\"\")","v":""},null,null,null,null,{"$f":"IFERROR(VLOOKUP(ROWS($AJ$2:AJ673),O673:Q2576,3,0),\"\")","v":""},null,{"$f":"IFERROR(VLOOKUP(ROWS(AL$2:$AL673),N673:Q2576,4,0),\"\")","v":""}]
[null,null,null,null,null,null,null,null,null,null,null,null,null,0,0,0,"can robeco dynamic bond rp","MCA157","Debt Long Term",null,null,null,null,null,null,null,null,null,null,null,{"$f":"IFERROR(VLOOKUP(ROWS($AE$2:AE674),P674:Q2577,2,0),\"\")","v":""},null,null,null,null,{"$f":"IFERROR(VLOOKUP(ROWS($AJ$2:AJ674),O674:Q2577,3,0),\"\")","v":""},null,{"$f":"IFERROR(VLOOKUP(ROWS(AL$2:$AL674),N674:Q2577,4,0),\"\")","v":""}]
[null,null,null,null,null,null,null,null,null,null,null,null,null,0,0,0,"idfc ssif investment plan c","MAG326","Debt Long Term",null,null,null,null,null,null,null,null,null,null,null,{"$f":"IFERROR(VLOOKUP(ROWS($AE$2:AE675),P675:Q2578,2,0),\"\")","v":""},null,null,null,null,{"$f":"IFERROR(VLOOKUP(ROWS($AJ$2:AJ675),O675:Q2578,3,0),\"\")","v":""},null,{"$f":"IFERROR(VLOOKUP(ROWS(AL$2:$AL675),N675:Q2578,4,0),\"\")","v":""}]
[null,null,null,null,null,null,null,null,null,null,null,null,null,0,0,0,"l t flexi bond regular","MFF009","Debt Long Term",null,null,null,null,null,null,null,null,null,null,null,{"$f":"IFERROR(VLOOKUP(ROWS($AE$2:AE676),P676:Q2579,2,0),\"\")","v":""},null,null,null,null,{"$f":"IFERROR(VLOOKUP(ROWS($AJ$2:AJ676),O676:Q2579,3,0),\"\")","v":""},null,{"$f":"IFERROR(VLOOKUP(ROWS(AL$2:$AL676),N676:Q2579,4,0),\"\")","v":""}]
[null,null,null,null,null,null,null,null,null,null,null,null,null,0,0,0,"principal income long term","MID051","Debt Long Term",null,null,null,null,null,null,null,null,null,null,null,{"$f":"IFERROR(VLOOKUP(ROWS($AE$2:AE677),P677:Q2580,2,0),\"\")","v":""},null,null,null,null,{"$f":"IFERROR(VLOOKUP(ROWS($AJ$2:AJ677),O677:Q2580,3,0),\"\")","v":""},null,{"$f":"IFERROR(VLOOKUP(ROWS(AL$2:$AL677),N677:Q2580,4,0),\"\")","v":""}]
[null,null,null,null,null,null,null,null,null,null,null,null,null,0,0,0,"tata dynamic bond plan b","MTA061","Debt Long Term",null,null,null,null,null,null,null,null,null,null,null,{"$f":"IFERROR(VLOOKUP(ROWS($AE$2:AE678),P678:Q2581,2,0),\"\")","v":""},null,null,null,null,{"$f":"IFERROR(VLOOKUP(ROWS($AJ$2:AJ678),O678:Q2581,3,0),\"\")","v":""},null,{"$f":"IFERROR(VLOOKUP(ROWS(AL$2:$AL678),N678:Q2581,4,0),\"\")","v":""}]
[null,null,null,null,null,null,null,null,null,null,null,null,null,0,0,0,"reliance dynamic bond","MRC075","Debt Long Term",null,null,null,null,null,null,null,null,null,null,null,{"$f":"IFERROR(VLOOKUP(ROWS($AE$2:AE679),P679:Q2582,2,0),\"\")","v":""},null,null,null,null,{"$f":"IFERROR(VLOOKUP(ROWS($AJ$2:AJ679),O679:Q2582,3,0),\"\")","v":""},null,{"$f":"IFERROR(VLOOKUP(ROWS(AL$2:$AL679),N679:Q2582,4,0),\"\")","v":""}]
[null,null,null,null,null,null,null,null,null,null,null,null,null,0,0,0,"uti bond fund","MUT021","Debt Long Term",null,null,null,null,null,null,null,null,null,null,null,{"$f":"IFERROR(VLOOKUP(ROWS($AE$2:AE680),P680:Q2583,2,0),\"\")","v":""},null,null,null,null,{"$f":"IFERROR(VLOOKUP(ROWS($AJ$2:AJ680),O680:Q2583,3,0),\"\")","v":""},null,{"$f":"IFERROR(VLOOKUP(ROWS(AL$2:$AL680),N680:Q2583,4,0),\"\")","v":""}]
[null,null,null,null,null,null,null,null,null,null,null,null,null,0,0,0,"hdfc income fund","MHD003","Debt Long Term",null,null,null,null,null,null,null,null,null,null,null,{"$f":"IFERROR(VLOOKUP(ROWS($AE$2:AE681),P681:Q2584,2,0),\"\")","v":""},null,null,null,null,{"$f":"IFERROR(VLOOKUP(ROWS($AJ$2:AJ681),O681:Q2584,3,0),\"\")","v":""},null,{"$f":"IFERROR(VLOOKUP(ROWS(AL$2:$AL681),N681:Q2584,4,0),\"\")","v":""}]
[null,null,null,null,null,null,null,null,null,null,null,null,null,0,0,0,"jpmorgan active bond ip","MJP011","Debt Long Term",null,null,null,null,null,null,null,null,null,null,null,{"$f":"IFERROR(VLOOKUP(ROWS($AE$2:AE682),P682:Q2585,2,0),\"\")","v":""},null,null,null,null,{"$f":"IFERROR(VLOOKUP(ROWS($AJ$2:AJ682),O682:Q2585,3,0),\"\")","v":""},null,{"$f":"IFERROR(VLOOKUP(ROWS(AL$2:$AL682),N682:Q2585,4,0),\"\")","v":""}]
[null,null,null,null,null,null,null,null,null,null,null,null,null,0,0,0,"can robeco income","MCA015","Debt Long Term",null,null,null,null,null,null,null,null,null,null,null,{"$f":"IFERROR(VLOOKUP(ROWS($AE$2:AE683),P683:Q2586,2,0),\"\")","v":""},null,null,null,null,{"$f":"IFERROR(VLOOKUP(ROWS($AJ$2:AJ683),O683:Q2586,3,0),\"\")","v":""},null,{"$f":"IFERROR(VLOOKUP(ROWS(AL$2:$AL683),N683:Q2586,4,0),\"\")","v":""}]
[null,null,null,null,null,null,null,null,null,null,null,null,null,0,0,0,"axis income fund reg ","MAA152","Debt Long Term",null,null,null,null,null,null,null,null,null,null,null,{"$f":"IFERROR(VLOOKUP(ROWS($AE$2:AE684),P684:Q2587,2,0),\"\")","v":""},null,null,null,null,{"$f":"IFERROR(VLOOKUP(ROWS($AJ$2:AJ684),O684:Q2587,3,0),\"\")","v":""},null,{"$f":"IFERROR(VLOOKUP(ROWS(AL$2:$AL684),N684:Q2587,4,0),\"\")","v":""}]
[null,null,null,null,null,null,null,null,null,null,null,null,null,0,0,0,"indiabulls income fund","MIM036","Debt Long Term",null,null,null,null,null,null,null,null,null,null,null,{"$f":"IFERROR(VLOOKUP(ROWS($AE$2:AE685),P685:Q2588,2,0),\"\")","v":""},null,null,null,null,{"$f":"IFERROR(VLOOKUP(ROWS($AJ$2:AJ685),O685:Q2588,3,0),\"\")","v":""},null,{"$f":"IFERROR(VLOOKUP(ROWS(AL$2:$AL685),N685:Q2588,4,0),\"\")","v":""}]
[null,null,null,null,null,null,null,null,null,null,null,null,null,0,0,0,"axis dynamic bond fund reg ","MAA105","Debt Long Term",null,null,null,null,null,null,null,null,null,null,null,{"$f":"IFERROR(VLOOKUP(ROWS($AE$2:AE686),P686:Q2589,2,0),\"\")","v":""},null,null,null,null,{"$f":"IFERROR(VLOOKUP(ROWS($AJ$2:AJ686),O686:Q2589,3,0),\"\")","v":""},null,{"$f":"IFERROR(VLOOKUP(ROWS(AL$2:$AL686),N686:Q2589,4,0),\"\")","v":""}]
[null,null,null,null,null,null,null,null,null,null,null,null,null,0,0,0,"reliance income fund","MRC002","Debt Long Term",null,null,null,null,null,null,null,null,null,null,null,{"$f":"IFERROR(VLOOKUP(ROWS($AE$2:AE687),P687:Q2590,2,0),\"\")","v":""},null,null,null,null,{"$f":"IFERROR(VLOOKUP(ROWS($AJ$2:AJ687),O687:Q2590,3,0),\"\")","v":""},null,{"$f":"IFERROR(VLOOKUP(ROWS(AL$2:$AL687),N687:Q2590,4,0),\"\")","v":""}]
[null,null,null,null,null,null,null,null,null,null,null,null,null,0,0,0,"dsp br strategic bond reg","MDS070","Debt Long Term",null,null,null,null,null,null,null,null,null,null,null,{"$f":"IFERROR(VLOOKUP(ROWS($AE$2:AE688),P688:Q2591,2,0),\"\")","v":""},null,null,null,null,{"$f":"IFERROR(VLOOKUP(ROWS($AJ$2:AJ688),O688:Q2591,3,0),\"\")","v":""},null,{"$f":"IFERROR(VLOOKUP(ROWS(AL$2:$AL688),N688:Q2591,4,0),\"\")","v":""}]
[null,null,null,null,null,null,null,null,null,null,null,null,null,0,0,0,"bnp paribas flexi debt rp","MAB006","Debt Long Term",null,null,null,null,null,null,null,null,null,null,null,{"$f":"IFERROR(VLOOKUP(ROWS($AE$2:AE689),P689:Q2592,2,0),\"\")","v":""},null,null,null,null,{"$f":"IFERROR(VLOOKUP(ROWS($AJ$2:AJ689),O689:Q2592,3,0),\"\")","v":""},null,{"$f":"IFERROR(VLOOKUP(ROWS(AL$2:$AL689),N689:Q2592,4,0),\"\")","v":""}]
[null,null,null,null,null,null,null,null,null,null,null,null,null,0,0,0,"icici pru dynamic bond rp","MPI646","Debt Long Term",null,null,null,null,null,null,null,null,null,null,null,{"$f":"IFERROR(VLOOKUP(ROWS($AE$2:AE690),P690:Q2593,2,0),\"\")","v":""},null,null,null,null,{"$f":"IFERROR(VLOOKUP(ROWS($AJ$2:AJ690),O690:Q2593,3,0),\"\")","v":""},null,{"$f":"IFERROR(VLOOKUP(ROWS(AL$2:$AL690),N690:Q2593,4,0),\"\")","v":""}]
[null,null,null,null,null,null,null,null,null,null,null,null,null,0,0,0,"dsp br strategic bond inst","MDS073","Debt Long Term",null,null,null,null,null,null,null,null,null,null,null,{"$f":"IFERROR(VLOOKUP(ROWS($AE$2:AE691),P691:Q2594,2,0),\"\")","v":""},null,null,null,null,{"$f":"IFERROR(VLOOKUP(ROWS($AJ$2:AJ691),O691:Q2594,3,0),\"\")","v":""},null,{"$f":"IFERROR(VLOOKUP(ROWS(AL$2:$AL691),N691:Q2594,4,0),\"\")","v":""}]
[null,null,null,null,null,null,null,null,null,null,null,null,null,0,0,0,"can robeco dynamic bond ip","MCA159","Debt Long Term",null,null,null,null,null,null,null,null,null,null,null,{"$f":"IFERROR(VLOOKUP(ROWS($AE$2:AE692),P692:Q2595,2,0),\"\")","v":""},null,null,null,null,{"$f":"IFERROR(VLOOKUP(ROWS($AJ$2:AJ692),O692:Q2595,3,0),\"\")","v":""},null,{"$f":"IFERROR(VLOOKUP(ROWS(AL$2:$AL692),N692:Q2595,4,0),\"\")","v":""}]
[null,null,null,null,null,null,null,null,null,null,null,null,null,0,0,0,"bnp paribas flexi debt rp a","MAB521","Debt Long Term",null,null,null,null,null,null,null,null,null,null,null,{"$f":"IFERROR(VLOOKUP(ROWS($AE$2:AE693),P693:Q2596,2,0),\"\")","v":""},null,null,null,null,{"$f":"IFERROR(VLOOKUP(ROWS($AJ$2:AJ693),O693:Q2596,3,0),\"\")","v":""},null,{"$f":"IFERROR(VLOOKUP(ROWS(AL$2:$AL693),N693:Q2596,4,0),\"\")","v":""}]
[null,null,null,null,null,null,null,null,null,null,null,null,null,0,0,0,"dws inflation indexed bond rp","MDE951","Debt Long Term",null,null,null,null,null,null,null,null,null,null,null,{"$f":"IFERROR(VLOOKUP(ROWS($AE$2:AE694),P694:Q2597,2,0),\"\")","v":""},null,null,null,null,{"$f":"IFERROR(VLOOKUP(ROWS($AJ$2:AJ694),O694:Q2597,3,0),\"\")","v":""},null,{"$f":"IFERROR(VLOOKUP(ROWS(AL$2:$AL694),N694:Q2597,4,0),\"\")","v":""}]
[null,null,null,null,null,null,null,null,null,null,null,null,null,0,0,0,"dsp br bond fund retail","MDS001","Debt Long Term",null,null,null,null,null,null,null,null,null,null,null,{"$f":"IFERROR(VLOOKUP(ROWS($AE$2:AE695),P695:Q2598,2,0),\"\")","v":""},null,null,null,null,{"$f":"IFERROR(VLOOKUP(ROWS($AJ$2:AJ695),O695:Q2598,3,0),\"\")","v":""},null,{"$f":"IFERROR(VLOOKUP(ROWS(AL$2:$AL695),N695:Q2598,4,0),\"\")","v":""}]
[null,null,null,null,null,null,null,null,null,null,null,null,null,0,0,0,"pramerica income fund reg","MPA149","Debt Long Term",null,null,null,null,null,null,null,null,null,null,null,{"$f":"IFERROR(VLOOKUP(ROWS($AE$2:AE696),P696:Q2599,2,0),\"\")","v":""},null,null,null,null,{"$f":"IFERROR(VLOOKUP(ROWS($AJ$2:AJ696),O696:Q2599,3,0),\"\")","v":""},null,{"$f":"IFERROR(VLOOKUP(ROWS(AL$2:$AL696),N696:Q2599,4,0),\"\")","v":""}]
[null,null,null,null,null,null,null,null,null,null,null,null,null,0,0,0,"kotak bond plan a regular plan","MKM010","Debt Long Term",null,null,null,null,null,null,null,null,null,null,null,{"$f":"IFERROR(VLOOKUP(ROWS($AE$2:AE697),P697:Q2600,2,0),\"\")","v":""},null,null,null,null,{"$f":"IFERROR(VLOOKUP(ROWS($AJ$2:AJ697),O697:Q2600,3,0),\"\")","v":""},null,{"$f":"IFERROR(VLOOKUP(ROWS(AL$2:$AL697),N697:Q2600,4,0),\"\")","v":""}]
[null,null,null,null,null,null,null,null,null,null,null,null,null,0,0,0,"idbi gilt fund","MIB067","Debt Long Term",null,null,null,null,null,null,null,null,null,null,null,{"$f":"IFERROR(VLOOKUP(ROWS($AE$2:AE698),P698:Q2601,2,0),\"\")","v":""},null,null,null,null,{"$f":"IFERROR(VLOOKUP(ROWS($AJ$2:AJ698),O698:Q2601,3,0),\"\")","v":""},null,{"$f":"IFERROR(VLOOKUP(ROWS(AL$2:$AL698),N698:Q2601,4,0),\"\")","v":""}]
[null,null,null,null,null,null,null,null,null,null,null,null,null,0,0,0,"kotak bond deposit plan ","MKM008","Debt Long Term",null,null,null,null,null,null,null,null,null,null,null,{"$f":"IFERROR(VLOOKUP(ROWS($AE$2:AE699),P699:Q2602,2,0),\"\")","v":""},null,null,null,null,{"$f":"IFERROR(VLOOKUP(ROWS($AJ$2:AJ699),O699:Q2602,3,0),\"\")","v":""},null,{"$f":"IFERROR(VLOOKUP(ROWS(AL$2:$AL699),N699:Q2602,4,0),\"\")","v":""}]
[null,null,null,null,null,null,null,null,null,null,null,null,null,0,0,0,"hsbc flexi debt fund","MHS159","Debt Long Term",null,null,null,null,null,null,null,null,null,null,null,{"$f":"IFERROR(VLOOKUP(ROWS($AE$2:AE700),P700:Q2603,2,0),\"\")","v":""},null,null,null,null,{"$f":"IFERROR(VLOOKUP(ROWS($AJ$2:AJ700),O700:Q2603,3,0),\"\")","v":""},null,{"$f":"IFERROR(VLOOKUP(ROWS(AL$2:$AL700),N700:Q2603,4,0),\"\")","v":""}]
[null,null,null,null,null,null,null,null,null,null,null,null,null,0,0,0,"tata dynamic bond regular plan","MTA059","Debt Long Term",null,null,null,null,null,null,null,null,null,null,null,{"$f":"IFERROR(VLOOKUP(ROWS($AE$2:AE701),P701:Q2604,2,0),\"\")","v":""},null,null,null,null,{"$f":"IFERROR(VLOOKUP(ROWS($AJ$2:AJ701),O701:Q2604,3,0),\"\")","v":""},null,{"$f":"IFERROR(VLOOKUP(ROWS(AL$2:$AL701),N701:Q2604,4,0),\"\")","v":""}]
[null,null,null,null,null,null,null,null,null,null,null,null,null,0,0,0,"sbi dynamic bond fund","MSB048","Debt Long Term",null,null,null,null,null,null,null,null,null,null,null,{"$f":"IFERROR(VLOOKUP(ROWS($AE$2:AE702),P702:Q2605,2,0),\"\")","v":""},null,null,null,null,{"$f":"IFERROR(VLOOKUP(ROWS($AJ$2:AJ702),O702:Q2605,3,0),\"\")","v":""},null,{"$f":"IFERROR(VLOOKUP(ROWS(AL$2:$AL702),N702:Q2605,4,0),\"\")","v":""}]
[null,null,null,null,null,null,null,null,null,null,null,null,null,0,0,0,"sundaram income plus","MSN013","Debt Long Term",null,null,null,null,null,null,null,null,null,null,null,{"$f":"IFERROR(VLOOKUP(ROWS($AE$2:AE703),P703:Q2606,2,0),\"\")","v":""},null,null,null,null,{"$f":"IFERROR(VLOOKUP(ROWS($AJ$2:AJ703),O703:Q2606,3,0),\"\")","v":""},null,{"$f":"IFERROR(VLOOKUP(ROWS(AL$2:$AL703),N703:Q2606,4,0),\"\")","v":""}]
[null,null,null,null,null,null,null,null,null,null,null,null,null,0,0,0,"iifl dynamic bond fund rp","MII016","Debt Long Term",null,null,null,null,null,null,null,null,null,null,null,{"$f":"IFERROR(VLOOKUP(ROWS($AE$2:AE704),P704:Q2607,2,0),\"\")","v":""},null,null,null,null,{"$f":"IFERROR(VLOOKUP(ROWS($AJ$2:AJ704),O704:Q2607,3,0),\"\")","v":""},null,{"$f":"IFERROR(VLOOKUP(ROWS(AL$2:$AL704),N704:Q2607,4,0),\"\")","v":""}]
[null,null,null,null,null,null,null,null,null,null,null,null,null,0,0,0,"jm income fund","MJM006","Debt Long Term",null,null,null,null,null,null,null,null,null,null,null,{"$f":"IFERROR(VLOOKUP(ROWS($AE$2:AE705),P705:Q2608,2,0),\"\")","v":""},null,null,null,null,{"$f":"IFERROR(VLOOKUP(ROWS($AJ$2:AJ705),O705:Q2608,3,0),\"\")","v":""},null,{"$f":"IFERROR(VLOOKUP(ROWS(AL$2:$AL705),N705:Q2608,4,0),\"\")","v":""}]
[null,null,null,null,null,null,null,null,null,null,null,null,null,0,0,{"$f":"IF(ISNUMBER(SEARCH($H$6,Q706)),MAX($P$1,P705)+1,0)","v":0},"hsbc income investment rp","MHS005","Debt Long Term",null,null,null,null,null,null,null,null,null,null,null,{"$f":"IFERROR(VLOOKUP(ROWS($AE$2:AE706),P706:Q2609,2,0),\"\")","v":""},null,null,null,null,{"$f":"IFERROR(VLOOKUP(ROWS($AJ$2:AJ706),O706:Q2609,3,0),\"\")","v":""},null,{"$f":"IFERROR(VLOOKUP(ROWS(AL$2:$AL706),N706:Q2609,4,0),\"\")","v":""}]
[null,null,null,null,null,null,null,null,null,null,null,null,null,{"$f":"IF(ISNUMBER(SEARCH($H$16,Q707)),MAX($N$1,N706)+1,0)","v":0},{"$f":"IF(ISNUMBER(SEARCH($H$11,Q707)),MAX($O$1,O706)+1,0)","v":0},0,"tata income plus plan b","MTA026","Debt Long Term",null,null,null,null,null,null,null,null,null,null,null,{"$f":"IFERROR(VLOOKUP(ROWS($AE$2:AE707),P707:Q2610,2,0),\"\")","v":""},null,null,null,null,{"$f":"IFERROR(VLOOKUP(ROWS($AJ$2:AJ707),O707:Q2610,3,0),\"\")","v":""},null,{"$f":"IFERROR(VLOOKUP(ROWS(AL$2:$AL707),N707:Q2610,4,0),\"\")","v":""}]
[null,null,null,null,null,null,null,null,null,null,null,null,null,0,0,0,"hsbc flexi debt fund rp","MHS157","Debt Long Term",null,null,null,null,null,null,null,null,null,null,null,{"$f":"IFERROR(VLOOKUP(ROWS($AE$2:AE708),P708:Q2611,2,0),\"\")","v":""},null,null,null,null,{"$f":"IFERROR(VLOOKUP(ROWS($AJ$2:AJ708),O708:Q2611,3,0),\"\")","v":""},null,{"$f":"IFERROR(VLOOKUP(ROWS(AL$2:$AL708),N708:Q2611,4,0),\"\")","v":""}]
[null,null,null,null,null,null,null,null,null,null,null,null,null,0,0,0,"baroda pioneer income","MBO002","Debt Long Term",null,null,null,null,null,null,null,null,null,null,null,{"$f":"IFERROR(VLOOKUP(ROWS($AE$2:AE709),P709:Q2612,2,0),\"\")","v":""},null,null,null,null,{"$f":"IFERROR(VLOOKUP(ROWS($AJ$2:AJ709),O709:Q2612,3,0),\"\")","v":""},null,{"$f":"IFERROR(VLOOKUP(ROWS(AL$2:$AL709),N709:Q2612,4,0),\"\")","v":""}]
[null,null,null,null,null,null,null,null,null,null,null,null,null,0,0,0,"tata income fund regular","MTA005","Debt Long Term",null,null,null,null,null,null,null,null,null,null,null,{"$f":"IFERROR(VLOOKUP(ROWS($AE$2:AE710),P710:Q2613,2,0),\"\")","v":""},null,null,null,null,{"$f":"IFERROR(VLOOKUP(ROWS($AJ$2:AJ710),O710:Q2613,3,0),\"\")","v":""},null,{"$f":"IFERROR(VLOOKUP(ROWS(AL$2:$AL710),N710:Q2613,4,0),\"\")","v":""}]
[null,null,null,null,null,null,null,null,null,null,null,null,null,0,0,0,"escorts income plan","MES001","Debt Long Term",null,null,null,null,null,null,null,null,null,null,null,{"$f":"IFERROR(VLOOKUP(ROWS($AE$2:AE711),P711:Q2614,2,0),\"\")","v":""},null,null,null,null,{"$f":"IFERROR(VLOOKUP(ROWS($AJ$2:AJ711),O711:Q2614,3,0),\"\")","v":""},null,{"$f":"IFERROR(VLOOKUP(ROWS(AL$2:$AL711),N711:Q2614,4,0),\"\")","v":""}]
[null,null,null,null,null,null,null,null,null,null,null,null,null,0,0,0,"lic nomura bond fund","MJB002","Debt Long Term",null,null,null,null,null,null,null,null,null,null,null,{"$f":"IFERROR(VLOOKUP(ROWS($AE$2:AE712),P712:Q2615,2,0),\"\")","v":""},null,null,null,null,{"$f":"IFERROR(VLOOKUP(ROWS($AJ$2:AJ712),O712:Q2615,3,0),\"\")","v":""},null,{"$f":"IFERROR(VLOOKUP(ROWS(AL$2:$AL712),N712:Q2615,4,0),\"\")","v":""}]
[null,null,null,null,null,null,null,null,null,null,null,null,null,0,0,0,"sbi magnum income fund","MSB004","Debt Long Term",null,null,null,null,null,null,null,null,null,null,null,{"$f":"IFERROR(VLOOKUP(ROWS($AE$2:AE713),P713:Q2616,2,0),\"\")","v":""},null,null,null,null,{"$f":"IFERROR(VLOOKUP(ROWS($AJ$2:AJ713),O713:Q2616,3,0),\"\")","v":""},null,{"$f":"IFERROR(VLOOKUP(ROWS(AL$2:$AL713),N713:Q2616,4,0),\"\")","v":""}]
[null,null,null,null,null,null,null,null,null,null,null,null,null,0,0,0,"union kbc dynamic bond fund","MUK014","Debt Long Term",null,null,null,null,null,null,null,null,null,null,null,{"$f":"IFERROR(VLOOKUP(ROWS($AE$2:AE714),P714:Q2617,2,0),\"\")","v":""},null,null,null,null,{"$f":"IFERROR(VLOOKUP(ROWS($AJ$2:AJ714),O714:Q2617,3,0),\"\")","v":""},null,{"$f":"IFERROR(VLOOKUP(ROWS(AL$2:$AL714),N714:Q2617,4,0),\"\")","v":""}]
[null,null,null,null,null,null,null,null,null,null,null,null,null,0,0,0,"jpmorgan active bond rp","MJP009","Debt Long Term",null,null,null,null,null,null,null,null,null,null,null,{"$f":"IFERROR(VLOOKUP(ROWS($AE$2:AE715),P715:Q2618,2,0),\"\")","v":""},null,null,null,null,{"$f":"IFERROR(VLOOKUP(ROWS($AJ$2:AJ715),O715:Q2618,3,0),\"\")","v":""},null,{"$f":"IFERROR(VLOOKUP(ROWS(AL$2:$AL715),N715:Q2618,4,0),\"\")","v":""}]
[null,null,null,null,null,null,null,null,null,null,null,null,null,0,0,0,"bnp paribas bond fund dir","MAB752","Debt Long Term",null,null,null,null,null,null,null,null,null,null,null,{"$f":"IFERROR(VLOOKUP(ROWS($AE$2:AE716),P716:Q2619,2,0),\"\")","v":""},null,null,null,null,{"$f":"IFERROR(VLOOKUP(ROWS($AJ$2:AJ716),O716:Q2619,3,0),\"\")","v":""},null,{"$f":"IFERROR(VLOOKUP(ROWS(AL$2:$AL716),N716:Q2619,4,0),\"\")","v":""}]
[null,null,null,null,null,null,null,null,null,null,null,null,null,0,0,0,"uti dynamic bond fund","MUT430","Debt Long Term",null,null,null,null,null,null,null,null,null,null,null,{"$f":"IFERROR(VLOOKUP(ROWS($AE$2:AE717),P717:Q2620,2,0),\"\")","v":""},null,null,null,null,{"$f":"IFERROR(VLOOKUP(ROWS($AJ$2:AJ717),O717:Q2620,3,0),\"\")","v":""},null,{"$f":"IFERROR(VLOOKUP(ROWS(AL$2:$AL717),N717:Q2620,4,0),\"\")","v":""}]
[null,null,null,null,null,null,null,null,null,null,null,null,null,0,0,0,"axis fixed income opp regular","MAA572","Debt Long Term",null,null,null,null,null,null,null,null,null,null,null,{"$f":"IFERROR(VLOOKUP(ROWS($AE$2:AE718),P718:Q2621,2,0),\"\")","v":""},null,null,null,null,{"$f":"IFERROR(VLOOKUP(ROWS($AJ$2:AJ718),O718:Q2621,3,0),\"\")","v":""},null,{"$f":"IFERROR(VLOOKUP(ROWS(AL$2:$AL718),N718:Q2621,4,0),\"\")","v":""}]
[null,null,null,null,null,null,null,null,null,null,null,null,null,0,0,0,"sundaram bond saver ip","MSN041","Debt Long Term",null,null,null,null,null,null,null,null,null,null,null,{"$f":"IFERROR(VLOOKUP(ROWS($AE$2:AE719),P719:Q2622,2,0),\"\")","v":""},null,null,null,null,{"$f":"IFERROR(VLOOKUP(ROWS($AJ$2:AJ719),O719:Q2622,3,0),\"\")","v":""},null,{"$f":"IFERROR(VLOOKUP(ROWS(AL$2:$AL719),N719:Q2622,4,0),\"\")","v":""}]
[null,null,null,null,null,null,null,null,null,null,null,null,null,0,0,0,"sundaram bond saver","MSN002","Debt Long Term",null,null,null,null,null,null,null,null,null,null,null,{"$f":"IFERROR(VLOOKUP(ROWS($AE$2:AE720),P720:Q2623,2,0),\"\")","v":""},null,null,null,null,{"$f":"IFERROR(VLOOKUP(ROWS($AJ$2:AJ720),O720:Q2623,3,0),\"\")","v":""},null,{"$f":"IFERROR(VLOOKUP(ROWS(AL$2:$AL720),N720:Q2623,4,0),\"\")","v":""}]
[null,null,null,null,null,null,null,null,null,null,null,null,null,0,0,0,"tata income plus regular plan","MTA023","Debt Long Term",null,null,null,null,null,null,null,null,null,null,null,{"$f":"IFERROR(VLOOKUP(ROWS($AE$2:AE721),P721:Q2624,2,0),\"\")","v":""},null,null,null,null,{"$f":"IFERROR(VLOOKUP(ROWS($AJ$2:AJ721),O721:Q2624,3,0),\"\")","v":""},null,{"$f":"IFERROR(VLOOKUP(ROWS(AL$2:$AL721),N721:Q2624,4,0),\"\")","v":""}]
[null,null,null,null,null,null,null,null,null,null,null,null,null,0,0,0,"l t triple ace bond fund","MCC002","Debt Long Term",null,null,null,null,null,null,null,null,null,null,null,{"$f":"IFERROR(VLOOKUP(ROWS($AE$2:AE722),P722:Q2625,2,0),\"\")","v":""},null,null,null,null,{"$f":"IFERROR(VLOOKUP(ROWS($AJ$2:AJ722),O722:Q2625,3,0),\"\")","v":""},null,{"$f":"IFERROR(VLOOKUP(ROWS(AL$2:$AL722),N722:Q2625,4,0),\"\")","v":""}]
[null,null,null,null,null,null,null,null,null,null,null,null,null,0,0,0,"can robeco medium term opp rp","MCA260","Debt Long Term",null,null,null,null,null,null,null,null,null,null,null,{"$f":"IFERROR(VLOOKUP(ROWS($AE$2:AE723),P723:Q2626,2,0),\"\")","v":""},null,null,null,null,{"$f":"IFERROR(VLOOKUP(ROWS($AJ$2:AJ723),O723:Q2626,3,0),\"\")","v":""},null,{"$f":"IFERROR(VLOOKUP(ROWS(AL$2:$AL723),N723:Q2626,4,0),\"\")","v":""}]
[null,null,null,null,null,null,null,null,null,null,null,null,null,0,0,0,"bnp paribas bond fund","MAB498","Debt Long Term",null,null,null,null,null,null,null,null,null,null,null,{"$f":"IFERROR(VLOOKUP(ROWS($AE$2:AE724),P724:Q2627,2,0),\"\")","v":""},null,null,null,null,{"$f":"IFERROR(VLOOKUP(ROWS($AJ$2:AJ724),O724:Q2627,3,0),\"\")","v":""},null,{"$f":"IFERROR(VLOOKUP(ROWS(AL$2:$AL724),N724:Q2627,4,0),\"\")","v":""}]
[null,null,null,null,null,null,null,null,null,null,null,null,null,0,0,0,"bnp paribas bond fund rp","MAB493","Debt Long Term",null,null,null,null,null,null,null,null,null,null,null,{"$f":"IFERROR(VLOOKUP(ROWS($AE$2:AE725),P725:Q2628,2,0),\"\")","v":""},null,null,null,null,{"$f":"IFERROR(VLOOKUP(ROWS($AJ$2:AJ725),O725:Q2628,3,0),\"\")","v":""},null,{"$f":"IFERROR(VLOOKUP(ROWS(AL$2:$AL725),N725:Q2628,4,0),\"\")","v":""}]
[null,null,null,null,null,null,null,null,null,null,null,null,null,0,0,0,"idbi dynamic bond fund","MIB047","Debt Long Term",null,null,null,null,null,null,null,null,null,null,null,{"$f":"IFERROR(VLOOKUP(ROWS($AE$2:AE726),P726:Q2629,2,0),\"\")","v":""},null,null,null,null,{"$f":"IFERROR(VLOOKUP(ROWS($AJ$2:AJ726),O726:Q2629,3,0),\"\")","v":""},null,{"$f":"IFERROR(VLOOKUP(ROWS(AL$2:$AL726),N726:Q2629,4,0),\"\")","v":""}]
[null,null,null,null,null,null,null,null,null,null,null,null,null,0,0,0,"religare invesco active income","MLI107","Debt Long Term",null,null,null,null,null,null,null,null,null,null,null,{"$f":"IFERROR(VLOOKUP(ROWS($AE$2:AE727),P727:Q2630,2,0),\"\")","v":""},null,null,null,null,{"$f":"IFERROR(VLOOKUP(ROWS($AJ$2:AJ727),O727:Q2630,3,0),\"\")","v":""},null,{"$f":"IFERROR(VLOOKUP(ROWS(AL$2:$AL727),N727:Q2630,4,0),\"\")","v":""}]
[null,null,null,null,null,null,null,null,null,null,null,null,null,0,0,0,"baroda pioneer psu bond","MBO043","Debt Long Term",null,null,null,null,null,null,null,null,null,null,null,{"$f":"IFERROR(VLOOKUP(ROWS($AE$2:AE728),P728:Q2631,2,0),\"\")","v":""},null,null,null,null,{"$f":"IFERROR(VLOOKUP(ROWS($AJ$2:AJ728),O728:Q2631,3,0),\"\")","v":""},null,{"$f":"IFERROR(VLOOKUP(ROWS(AL$2:$AL728),N728:Q2631,4,0),\"\")","v":""}]
[null,null,null,null,null,null,null,null,null,null,null,null,null,0,0,0,"taurus dynamic income fund","MCM076","Debt Long Term",null,null,null,null,null,null,null,null,null,null,null,{"$f":"IFERROR(VLOOKUP(ROWS($AE$2:AE729),P729:Q2632,2,0),\"\")","v":""},null,null,null,null,{"$f":"IFERROR(VLOOKUP(ROWS($AJ$2:AJ729),O729:Q2632,3,0),\"\")","v":""},null,{"$f":"IFERROR(VLOOKUP(ROWS(AL$2:$AL729),N729:Q2632,4,0),\"\")","v":""}]
[null,null,null,null,null,null,null,null,null,null,null,null,null,0,0,0,"religare invesco active inc b","MLI112","Debt Long Term",null,null,null,null,null,null,null,null,null,null,null,{"$f":"IFERROR(VLOOKUP(ROWS($AE$2:AE730),P730:Q2633,2,0),\"\")","v":""},null,null,null,null,{"$f":"IFERROR(VLOOKUP(ROWS($AJ$2:AJ730),O730:Q2633,3,0),\"\")","v":""},null,{"$f":"IFERROR(VLOOKUP(ROWS(AL$2:$AL730),N730:Q2633,4,0),\"\")","v":""}]
[null,null,null,null,null,null,null,null,null,null,null,null,null,0,0,0,"sahara income fund","MFI001","Debt Long Term",null,null,null,null,null,null,null,null,null,null,null,{"$f":"IFERROR(VLOOKUP(ROWS($AE$2:AE731),P731:Q2634,2,0),\"\")","v":""},null,null,null,null,{"$f":"IFERROR(VLOOKUP(ROWS($AJ$2:AJ731),O731:Q2634,3,0),\"\")","v":""},null,{"$f":"IFERROR(VLOOKUP(ROWS(AL$2:$AL731),N731:Q2634,4,0),\"\")","v":""}]
[null,null,null,null,null,null,null,null,null,null,null,null,null,0,0,0,"peerless flexible income fund","MPM036","Debt Long Term",null,null,null,null,null,null,null,null,null,null,null,{"$f":"IFERROR(VLOOKUP(ROWS($AE$2:AE732),P732:Q2635,2,0),\"\")","v":""},null,null,null,null,{"$f":"IFERROR(VLOOKUP(ROWS($AJ$2:AJ732),O732:Q2635,3,0),\"\")","v":""},null,{"$f":"IFERROR(VLOOKUP(ROWS(AL$2:$AL732),N732:Q2635,4,0),\"\")","v":""}]
[null,null,null,null,null,null,null,null,null,null,null,null,null,0,0,0,"hdfc inflation indexed bond","MMS044","Debt Long Term",null,null,null,null,null,null,null,null,null,null,null,{"$f":"IFERROR(VLOOKUP(ROWS($AE$2:AE733),P733:Q2636,2,0),\"\")","v":""},null,null,null,null,{"$f":"IFERROR(VLOOKUP(ROWS($AJ$2:AJ733),O733:Q2636,3,0),\"\")","v":""},null,{"$f":"IFERROR(VLOOKUP(ROWS(AL$2:$AL733),N733:Q2636,4,0),\"\")","v":""}]
[null,null,null,null,null,null,null,null,null,null,null,null,null,0,0,0,"dws inflation indexed bond dir","MDE867","Debt Long Term",null,null,null,null,null,null,null,null,null,null,null,{"$f":"IFERROR(VLOOKUP(ROWS($AE$2:AE734),P734:Q2637,2,0),\"\")","v":""},null,null,null,null,{"$f":"IFERROR(VLOOKUP(ROWS($AJ$2:AJ734),O734:Q2637,3,0),\"\")","v":""},null,{"$f":"IFERROR(VLOOKUP(ROWS(AL$2:$AL734),N734:Q2637,4,0),\"\")","v":""}]
[null,null,null,null,null,null,null,null,null,null,null,null,null,0,0,0,"dws inflation indexed bond rp","MDE862","Debt Long Term",null,null,null,null,null,null,null,null,null,null,null,{"$f":"IFERROR(VLOOKUP(ROWS($AE$2:AE735),P735:Q2638,2,0),\"\")","v":""},null,null,null,null,{"$f":"IFERROR(VLOOKUP(ROWS($AJ$2:AJ735),O735:Q2638,3,0),\"\")","v":""},null,{"$f":"IFERROR(VLOOKUP(ROWS(AL$2:$AL735),N735:Q2638,4,0),\"\")","v":""}]
[null,null,null,null,null,null,null,null,null,null,null,null,null,0,0,0,"sbi inflation indexed bond dir","MSB1053","Debt Long Term",null,null,null,null,null,null,null,null,null,null,null,{"$f":"IFERROR(VLOOKUP(ROWS($AE$2:AE736),P736:Q2639,2,0),\"\")","v":""},null,null,null,null,{"$f":"IFERROR(VLOOKUP(ROWS($AJ$2:AJ736),O736:Q2639,3,0),\"\")","v":""},null,{"$f":"IFERROR(VLOOKUP(ROWS(AL$2:$AL736),N736:Q2639,4,0),\"\")","v":""}]
[null,null,null,null,null,null,null,null,null,null,null,null,null,0,0,0,"axis income fund reg b ","MAA538","Debt Long Term",null,null,null,null,null,null,null,null,null,null,null,{"$f":"IFERROR(VLOOKUP(ROWS($AE$2:AE737),P737:Q2640,2,0),\"\")","v":""},null,null,null,null,{"$f":"IFERROR(VLOOKUP(ROWS($AJ$2:AJ737),O737:Q2640,3,0),\"\")","v":""},null,{"$f":"IFERROR(VLOOKUP(ROWS(AL$2:$AL737),N737:Q2640,4,0),\"\")","v":""}]
[null,null,null,null,null,null,null,null,null,null,null,null,null,0,0,0,"axis dynamic bond fund reg b ","MAA540","Debt Long Term",null,null,null,null,null,null,null,null,null,null,null,{"$f":"IFERROR(VLOOKUP(ROWS($AE$2:AE738),P738:Q2641,2,0),\"\")","v":""},null,null,null,null,{"$f":"IFERROR(VLOOKUP(ROWS($AJ$2:AJ738),O738:Q2641,3,0),\"\")","v":""},null,{"$f":"IFERROR(VLOOKUP(ROWS(AL$2:$AL738),N738:Q2641,4,0),\"\")","v":""}]
[null,null,null,null,null,null,null,null,null,null,null,null,null,0,0,0,"sundaram flexible inc ip","MSN079","Debt Long Term",null,null,null,null,null,null,null,null,null,null,null,{"$f":"IFERROR(VLOOKUP(ROWS($AE$2:AE739),P739:Q2642,2,0),\"\")","v":""},null,null,null,null,{"$f":"IFERROR(VLOOKUP(ROWS($AJ$2:AJ739),O739:Q2642,3,0),\"\")","v":""},null,{"$f":"IFERROR(VLOOKUP(ROWS(AL$2:$AL739),N739:Q2642,4,0),\"\")","v":""}]
[null,null,null,null,null,null,null,null,null,null,null,null,null,0,0,0,"sbi inflation indexed bond reg","MSB1051","Debt Long Term",null,null,null,null,null,null,null,null,null,null,null,{"$f":"IFERROR(VLOOKUP(ROWS($AE$2:AE740),P740:Q2643,2,0),\"\")","v":""},null,null,null,null,{"$f":"IFERROR(VLOOKUP(ROWS($AJ$2:AJ740),O740:Q2643,3,0),\"\")","v":""},null,{"$f":"IFERROR(VLOOKUP(ROWS(AL$2:$AL740),N740:Q2643,4,0),\"\")","v":""}]
[null,null,null,null,null,null,null,null,null,null,null,null,null,0,0,0,"icici pru dynamic bond pp","MPI650","Debt Long Term",null,null,null,null,null,null,null,null,null,null,null,{"$f":"IFERROR(VLOOKUP(ROWS($AE$2:AE741),P741:Q2644,2,0),\"\")","v":""},null,null,null,null,{"$f":"IFERROR(VLOOKUP(ROWS($AJ$2:AJ741),O741:Q2644,3,0),\"\")","v":""},null,{"$f":"IFERROR(VLOOKUP(ROWS(AL$2:$AL741),N741:Q2644,4,0),\"\")","v":""}]
[null,null,null,null,null,null,null,null,null,null,null,null,null,0,0,0,"birla sl dynamic bond rp","MBS071","Debt Short Term",null,null,null,null,null,null,null,null,null,null,null,{"$f":"IFERROR(VLOOKUP(ROWS($AE$2:AE742),P742:Q2645,2,0),\"\")","v":""},null,null,null,null,{"$f":"IFERROR(VLOOKUP(ROWS($AJ$2:AJ742),O742:Q2645,3,0),\"\")","v":""},null,{"$f":"IFERROR(VLOOKUP(ROWS(AL$2:$AL742),N742:Q2645,4,0),\"\")","v":""}]
[null,null,null,null,null,null,null,null,null,null,null,null,null,0,0,0,"franklin i stif inst ","MTE080","Debt Short Term",null,null,null,null,null,null,null,null,null,null,null,{"$f":"IFERROR(VLOOKUP(ROWS($AE$2:AE743),P743:Q2646,2,0),\"\")","v":""},null,null,null,null,{"$f":"IFERROR(VLOOKUP(ROWS($AJ$2:AJ743),O743:Q2646,3,0),\"\")","v":""},null,{"$f":"IFERROR(VLOOKUP(ROWS(AL$2:$AL743),N743:Q2646,4,0),\"\")","v":""}]
[null,null,null,null,null,null,null,null,null,null,null,null,null,0,0,0,"kotak medium term regular","MKM807","Debt Short Term",null,null,null,null,null,null,null,null,null,null,null,{"$f":"IFERROR(VLOOKUP(ROWS($AE$2:AE744),P744:Q2647,2,0),\"\")","v":""},null,null,null,null,{"$f":"IFERROR(VLOOKUP(ROWS($AJ$2:AJ744),O744:Q2647,3,0),\"\")","v":""},null,{"$f":"IFERROR(VLOOKUP(ROWS(AL$2:$AL744),N744:Q2647,4,0),\"\")","v":""}]
[null,null,null,null,null,null,null,null,null,null,null,null,null,0,0,0,"dws banking psu debt dir","MDE576","Debt Short Term",null,null,null,null,null,null,null,null,null,null,null,{"$f":"IFERROR(VLOOKUP(ROWS($AE$2:AE745),P745:Q2648,2,0),\"\")","v":""},null,null,null,null,{"$f":"IFERROR(VLOOKUP(ROWS($AJ$2:AJ745),O745:Q2648,3,0),\"\")","v":""},null,{"$f":"IFERROR(VLOOKUP(ROWS(AL$2:$AL745),N745:Q2648,4,0),\"\")","v":""}]
[null,null,null,null,null,null,null,null,null,null,null,null,null,0,0,0,"birla sl treasury optimizer dap ","MBS467","Debt Short Term",null,null,null,null,null,null,null,null,null,null,null,{"$f":"IFERROR(VLOOKUP(ROWS($AE$2:AE746),P746:Q2649,2,0),\"\")","v":""},null,null,null,null,{"$f":"IFERROR(VLOOKUP(ROWS($AJ$2:AJ746),O746:Q2649,3,0),\"\")","v":""},null,{"$f":"IFERROR(VLOOKUP(ROWS(AL$2:$AL746),N746:Q2649,4,0),\"\")","v":""}]
[null,null,null,null,null,null,null,null,null,null,null,null,null,0,0,0,"birla sl treasury optimizer reg","MBS351","Debt Short Term",null,null,null,null,null,null,null,null,null,null,null,{"$f":"IFERROR(VLOOKUP(ROWS($AE$2:AE747),P747:Q2650,2,0),\"\")","v":""},null,null,null,null,{"$f":"IFERROR(VLOOKUP(ROWS($AJ$2:AJ747),O747:Q2650,3,0),\"\")","v":""},null,{"$f":"IFERROR(VLOOKUP(ROWS(AL$2:$AL747),N747:Q2650,4,0),\"\")","v":""}]
[null,null,null,null,null,null,null,null,null,null,null,null,null,0,0,0,"birla sl treasury optimizer rp","MAC029","Debt Short Term",null,null,null,null,null,null,null,null,null,null,null,{"$f":"IFERROR(VLOOKUP(ROWS($AE$2:AE748),P748:Q2651,2,0),\"\")","v":""},null,null,null,null,{"$f":"IFERROR(VLOOKUP(ROWS($AJ$2:AJ748),O748:Q2651,3,0),\"\")","v":""},null,{"$f":"IFERROR(VLOOKUP(ROWS(AL$2:$AL748),N748:Q2651,4,0),\"\")","v":""}]
[null,null,null,null,null,null,null,null,null,null,null,null,null,0,0,0,"jpmorgan bank psu debt dir","MJP205","Debt Short Term",null,null,null,null,null,null,null,null,null,null,null,{"$f":"IFERROR(VLOOKUP(ROWS($AE$2:AE749),P749:Q2652,2,0),\"\")","v":""},null,null,null,null,{"$f":"IFERROR(VLOOKUP(ROWS($AJ$2:AJ749),O749:Q2652,3,0),\"\")","v":""},null,{"$f":"IFERROR(VLOOKUP(ROWS(AL$2:$AL749),N749:Q2652,4,0),\"\")","v":""}]
[null,null,null,null,null,null,null,null,null,null,null,null,null,0,0,0,"dws banking psu debt rp","MDE574","Debt Short Term",null,null,null,null,null,null,null,null,null,null,null,{"$f":"IFERROR(VLOOKUP(ROWS($AE$2:AE750),P750:Q2653,2,0),\"\")","v":""},null,null,null,null,{"$f":"IFERROR(VLOOKUP(ROWS($AJ$2:AJ750),O750:Q2653,3,0),\"\")","v":""},null,{"$f":"IFERROR(VLOOKUP(ROWS(AL$2:$AL750),N750:Q2653,4,0),\"\")","v":""}]
[null,null,null,null,null,null,null,null,null,null,null,null,null,{"$f":"IF(ISNUMBER(SEARCH($H$16,Q751)),MAX($N$1,N750)+1,0)","v":0},{"$f":"IF(ISNUMBER(SEARCH($H$11,Q751)),MAX($O$1,O750)+1,0)","v":0},{"$f":"IF(ISNUMBER(SEARCH($H$6,Q751)),MAX($P$1,P750)+1,0)","v":0},"indiabulls short term fund dir","MIM065","Debt Short Term",null,null,null,null,null,null,null,null,null,null,null,{"$f":"IFERROR(VLOOKUP(ROWS($AE$2:AE751),P751:Q2654,2,0),\"\")","v":""},null,null,null,null,{"$f":"IFERROR(VLOOKUP(ROWS($AJ$2:AJ751),O751:Q2654,3,0),\"\")","v":""},null,{"$f":"IFERROR(VLOOKUP(ROWS(AL$2:$AL751),N751:Q2654,4,0),\"\")","v":""}]
[null,null,null,null,null,null,null,null,null,null,null,null,null,0,0,0,"dsp banking psu debt dir","MDS869","Debt Short Term",null,null,null,null,null,null,null,null,null,null,null,{"$f":"IFERROR(VLOOKUP(ROWS($AE$2:AE752),P752:Q2655,2,0),\"\")","v":""},null,null,null,null,{"$f":"IFERROR(VLOOKUP(ROWS($AJ$2:AJ752),O752:Q2655,3,0),\"\")","v":""},null,{"$f":"IFERROR(VLOOKUP(ROWS(AL$2:$AL752),N752:Q2655,4,0),\"\")","v":""}]
[null,null,null,null,null,null,null,null,null,null,null,null,null,0,0,0,"idfc ssif mtp plan f","MAG376","Debt Short Term",null,null,null,null,null,null,null,null,null,null,null,{"$f":"IFERROR(VLOOKUP(ROWS($AE$2:AE753),P753:Q2656,2,0),\"\")","v":""},null,null,null,null,{"$f":"IFERROR(VLOOKUP(ROWS($AJ$2:AJ753),O753:Q2656,3,0),\"\")","v":""},null,{"$f":"IFERROR(VLOOKUP(ROWS(AL$2:$AL753),N753:Q2656,4,0),\"\")","v":""}]
[null,null,null,null,null,null,null,null,null,null,null,null,null,0,0,0,"jpmorgan bank psu debt reg","MJP198","Debt Short Term",null,null,null,null,null,null,null,null,null,null,null,{"$f":"IFERROR(VLOOKUP(ROWS($AE$2:AE754),P754:Q2657,2,0),\"\")","v":""},null,null,null,null,{"$f":"IFERROR(VLOOKUP(ROWS($AJ$2:AJ754),O754:Q2657,3,0),\"\")","v":""},null,{"$f":"IFERROR(VLOOKUP(ROWS(AL$2:$AL754),N754:Q2657,4,0),\"\")","v":""}]
[null,null,null,null,null,null,null,null,null,null,null,null,null,0,0,0,"birla sl short term fund dap ","MBS437","Debt Short Term",null,null,null,null,null,null,null,null,null,null,null,{"$f":"IFERROR(VLOOKUP(ROWS($AE$2:AE755),P755:Q2658,2,0),\"\")","v":""},null,null,null,null,{"$f":"IFERROR(VLOOKUP(ROWS($AJ$2:AJ755),O755:Q2658,3,0),\"\")","v":""},null,{"$f":"IFERROR(VLOOKUP(ROWS(AL$2:$AL755),N755:Q2658,4,0),\"\")","v":""}]
[null,null,null,null,null,null,null,null,null,null,null,null,null,0,0,0,"kotak low duration standard","MAI049","Debt Short Term",null,null,null,null,null,null,null,null,null,null,null,{"$f":"IFERROR(VLOOKUP(ROWS($AE$2:AE756),P756:Q2659,2,0),\"\")","v":""},null,null,null,null,{"$f":"IFERROR(VLOOKUP(ROWS($AJ$2:AJ756),O756:Q2659,3,0),\"\")","v":""},null,{"$f":"IFERROR(VLOOKUP(ROWS(AL$2:$AL756),N756:Q2659,4,0),\"\")","v":""}]
[null,null,null,null,null,null,null,null,null,null,null,null,null,0,0,0,"idfc ssif mtp inst b","MAG312","Debt Short Term",null,null,null,null,null,null,null,null,null,null,null,{"$f":"IFERROR(VLOOKUP(ROWS($AE$2:AE757),P757:Q2660,2,0),\"\")","v":""},null,null,null,null,{"$f":"IFERROR(VLOOKUP(ROWS($AJ$2:AJ757),O757:Q2660,3,0),\"\")","v":""},null,{"$f":"IFERROR(VLOOKUP(ROWS(AL$2:$AL757),N757:Q2660,4,0),\"\")","v":""}]
[null,null,null,null,null,null,null,null,null,null,null,null,null,0,0,0,"dws premier bond prem plus","MDE249","Debt Short Term",null,null,null,null,null,null,null,null,null,null,null,{"$f":"IFERROR(VLOOKUP(ROWS($AE$2:AE758),P758:Q2661,2,0),\"\")","v":""},null,null,null,null,{"$f":"IFERROR(VLOOKUP(ROWS($AJ$2:AJ758),O758:Q2661,3,0),\"\")","v":""},null,{"$f":"IFERROR(VLOOKUP(ROWS(AL$2:$AL758),N758:Q2661,4,0),\"\")","v":""}]
[null,null,null,null,null,null,null,null,null,null,null,null,null,0,0,0,"icici pru short term plan ip","MPI043","Debt Short Term",null,null,null,null,null,null,null,null,null,null,null,{"$f":"IFERROR(VLOOKUP(ROWS($AE$2:AE759),P759:Q2662,2,0),\"\")","v":""},null,null,null,null,{"$f":"IFERROR(VLOOKUP(ROWS($AJ$2:AJ759),O759:Q2662,3,0),\"\")","v":""},null,{"$f":"IFERROR(VLOOKUP(ROWS(AL$2:$AL759),N759:Q2662,4,0),\"\")","v":""}]
[null,null,null,null,null,null,null,null,null,null,null,null,null,0,0,0,"hdfc medium term opport ","MHD686","Debt Short Term",null,null,null,null,null,null,null,null,null,null,null,{"$f":"IFERROR(VLOOKUP(ROWS($AE$2:AE760),P760:Q2663,2,0),\"\")","v":""},null,null,null,null,{"$f":"IFERROR(VLOOKUP(ROWS($AJ$2:AJ760),O760:Q2663,3,0),\"\")","v":""},null,{"$f":"IFERROR(VLOOKUP(ROWS(AL$2:$AL760),N760:Q2663,4,0),\"\")","v":""}]
[null,null,null,null,null,null,null,null,null,null,null,null,null,0,0,0,"idfc ssif stp plan d","MAG111","Debt Short Term",null,null,null,null,null,null,null,null,null,null,null,{"$f":"IFERROR(VLOOKUP(ROWS($AE$2:AE761),P761:Q2664,2,0),\"\")","v":""},null,null,null,null,{"$f":"IFERROR(VLOOKUP(ROWS($AJ$2:AJ761),O761:Q2664,3,0),\"\")","v":""},null,{"$f":"IFERROR(VLOOKUP(ROWS(AL$2:$AL761),N761:Q2664,4,0),\"\")","v":""}]
[null,null,null,null,null,null,null,null,null,null,null,null,null,0,0,0,"idfc ssif mtp regular","MAG045","Debt Short Term",null,null,null,null,null,null,null,null,null,null,null,{"$f":"IFERROR(VLOOKUP(ROWS($AE$2:AE762),P762:Q2665,2,0),\"\")","v":""},null,null,null,null,{"$f":"IFERROR(VLOOKUP(ROWS($AJ$2:AJ762),O762:Q2665,3,0),\"\")","v":""},null,{"$f":"IFERROR(VLOOKUP(ROWS(AL$2:$AL762),N762:Q2665,4,0),\"\")","v":""}]
[null,null,null,null,null,null,null,null,null,null,null,null,null,0,0,0,"kotak low duration retail","MAI045","Debt Short Term",null,null,null,null,null,null,null,null,null,null,null,{"$f":"IFERROR(VLOOKUP(ROWS($AE$2:AE763),P763:Q2666,2,0),\"\")","v":""},null,null,null,null,{"$f":"IFERROR(VLOOKUP(ROWS($AJ$2:AJ763),O763:Q2666,3,0),\"\")","v":""},null,{"$f":"IFERROR(VLOOKUP(ROWS(AL$2:$AL763),N763:Q2666,4,0),\"\")","v":""}]
[null,null,null,null,null,null,null,null,null,null,null,null,null,0,0,0,"birla sl short term fund","MAC003","Debt Short Term",null,null,null,null,null,null,null,null,null,null,null,{"$f":"IFERROR(VLOOKUP(ROWS($AE$2:AE764),P764:Q2667,2,0),\"\")","v":""},null,null,null,null,{"$f":"IFERROR(VLOOKUP(ROWS($AJ$2:AJ764),O764:Q2667,3,0),\"\")","v":""},null,{"$f":"IFERROR(VLOOKUP(ROWS(AL$2:$AL764),N764:Q2667,4,0),\"\")","v":""}]
[null,null,null,null,null,null,null,null,null,null,null,null,null,0,0,0,"icici pru banking psu debt pp","MPI771","Debt Short Term",null,null,null,null,null,null,null,null,null,null,null,{"$f":"IFERROR(VLOOKUP(ROWS($AE$2:AE765),P765:Q2668,2,0),\"\")","v":""},null,null,null,null,{"$f":"IFERROR(VLOOKUP(ROWS($AJ$2:AJ765),O765:Q2668,3,0),\"\")","v":""},null,{"$f":"IFERROR(VLOOKUP(ROWS(AL$2:$AL765),N765:Q2668,4,0),\"\")","v":""}]
[null,null,null,null,null,null,null,null,null,null,null,null,null,0,0,0,"bnp paribas short term inc dir","MAB733","Debt Short Term",null,null,null,null,null,null,null,null,null,null,null,{"$f":"IFERROR(VLOOKUP(ROWS($AE$2:AE766),P766:Q2669,2,0),\"\")","v":""},null,null,null,null,{"$f":"IFERROR(VLOOKUP(ROWS($AJ$2:AJ766),O766:Q2669,3,0),\"\")","v":""},null,{"$f":"IFERROR(VLOOKUP(ROWS(AL$2:$AL766),N766:Q2669,4,0),\"\")","v":""}]
[null,null,null,null,null,null,null,null,null,null,null,null,null,0,0,0,"reliance short term fund","MRC017","Debt Short Term",null,null,null,null,null,null,null,null,null,null,null,{"$f":"IFERROR(VLOOKUP(ROWS($AE$2:AE767),P767:Q2670,2,0),\"\")","v":""},null,null,null,null,{"$f":"IFERROR(VLOOKUP(ROWS($AJ$2:AJ767),O767:Q2670,3,0),\"\")","v":""},null,{"$f":"IFERROR(VLOOKUP(ROWS(AL$2:$AL767),N767:Q2670,4,0),\"\")","v":""}]
[null,null,null,null,null,null,null,null,null,null,null,null,null,0,0,0,"boi axa stif ip","MBA040","Debt Short Term",null,null,null,null,null,null,null,null,null,null,null,{"$f":"IFERROR(VLOOKUP(ROWS($AE$2:AE768),P768:Q2671,2,0),\"\")","v":""},null,null,null,null,{"$f":"IFERROR(VLOOKUP(ROWS($AJ$2:AJ768),O768:Q2671,3,0),\"\")","v":""},null,{"$f":"IFERROR(VLOOKUP(ROWS(AL$2:$AL768),N768:Q2671,4,0),\"\")","v":""}]
[null,null,null,null,null,null,null,null,null,null,null,null,null,0,0,0,"dsp banking psu debt reg","MDS863","Debt Short Term",null,null,null,null,null,null,null,null,null,null,null,{"$f":"IFERROR(VLOOKUP(ROWS($AE$2:AE769),P769:Q2672,2,0),\"\")","v":""},null,null,null,null,{"$f":"IFERROR(VLOOKUP(ROWS($AJ$2:AJ769),O769:Q2672,3,0),\"\")","v":""},null,{"$f":"IFERROR(VLOOKUP(ROWS(AL$2:$AL769),N769:Q2672,4,0),\"\")","v":""}]
[null,null,null,null,null,null,null,null,null,null,null,null,null,0,0,0,"icici pru short term plan","MPI030","Debt Short Term",null,null,null,null,null,null,null,null,null,null,null,{"$f":"IFERROR(VLOOKUP(ROWS($AE$2:AE770),P770:Q2673,2,0),\"\")","v":""},null,null,null,null,{"$f":"IFERROR(VLOOKUP(ROWS($AJ$2:AJ770),O770:Q2673,3,0),\"\")","v":""},null,{"$f":"IFERROR(VLOOKUP(ROWS(AL$2:$AL770),N770:Q2673,4,0),\"\")","v":""}]
[null,null,null,null,null,null,null,null,null,null,null,null,null,0,0,0,"hsbc income stp inst plan","MHS017","Debt Short Term",null,null,null,null,null,null,null,null,null,null,null,{"$f":"IFERROR(VLOOKUP(ROWS($AE$2:AE771),P771:Q2674,2,0),\"\")","v":""},null,null,null,null,{"$f":"IFERROR(VLOOKUP(ROWS($AJ$2:AJ771),O771:Q2674,3,0),\"\")","v":""},null,{"$f":"IFERROR(VLOOKUP(ROWS(AL$2:$AL771),N771:Q2674,4,0),\"\")","v":""}]
[null,null,null,null,null,null,null,null,null,null,null,null,null,0,0,0,"hsbc income stp inst plus","MHS296","Debt Short Term",null,null,null,null,null,null,null,null,null,null,null,{"$f":"IFERROR(VLOOKUP(ROWS($AE$2:AE772),P772:Q2675,2,0),\"\")","v":""},null,null,null,null,{"$f":"IFERROR(VLOOKUP(ROWS($AJ$2:AJ772),O772:Q2675,3,0),\"\")","v":""},null,{"$f":"IFERROR(VLOOKUP(ROWS(AL$2:$AL772),N772:Q2675,4,0),\"\")","v":""}]
[null,null,null,null,null,null,null,null,null,null,null,null,null,0,0,0,"hdfc short term opportunities","MHD677","Debt Short Term",null,null,null,null,null,null,null,null,null,null,null,{"$f":"IFERROR(VLOOKUP(ROWS($AE$2:AE773),P773:Q2676,2,0),\"\")","v":""},null,null,null,null,{"$f":"IFERROR(VLOOKUP(ROWS($AJ$2:AJ773),O773:Q2676,3,0),\"\")","v":""},null,{"$f":"IFERROR(VLOOKUP(ROWS(AL$2:$AL773),N773:Q2676,4,0),\"\")","v":""}]
[null,null,null,null,null,null,null,null,null,null,null,null,null,0,0,0,"bnp paribas medium term inc rp","MAB853","Debt Short Term",null,null,null,null,null,null,null,null,null,null,null,{"$f":"IFERROR(VLOOKUP(ROWS($AE$2:AE774),P774:Q2677,2,0),\"\")","v":""},null,null,null,null,{"$f":"IFERROR(VLOOKUP(ROWS($AJ$2:AJ774),O774:Q2677,3,0),\"\")","v":""},null,{"$f":"IFERROR(VLOOKUP(ROWS(AL$2:$AL774),N774:Q2677,4,0),\"\")","v":""}]
[null,null,null,null,null,null,null,null,null,null,null,null,null,0,0,0,"edelweiss short term income rp","MEW031","Debt Short Term",null,null,null,null,null,null,null,null,null,null,null,{"$f":"IFERROR(VLOOKUP(ROWS($AE$2:AE775),P775:Q2678,2,0),\"\")","v":""},null,null,null,null,{"$f":"IFERROR(VLOOKUP(ROWS($AJ$2:AJ775),O775:Q2678,3,0),\"\")","v":""},null,{"$f":"IFERROR(VLOOKUP(ROWS(AL$2:$AL775),N775:Q2678,4,0),\"\")","v":""}]
[null,null,null,null,null,null,null,null,null,null,null,null,null,0,0,0,"dsp br short term fund","MDS016","Debt Short Term",null,null,null,null,null,null,null,null,null,null,null,{"$f":"IFERROR(VLOOKUP(ROWS($AE$2:AE776),P776:Q2679,2,0),\"\")","v":""},null,null,null,null,{"$f":"IFERROR(VLOOKUP(ROWS($AJ$2:AJ776),O776:Q2679,3,0),\"\")","v":""},null,{"$f":"IFERROR(VLOOKUP(ROWS(AL$2:$AL776),N776:Q2679,4,0),\"\")","v":""}]
[null,null,null,null,null,null,null,null,null,null,null,null,null,0,0,0,"jpmorgan short term income","MJP034","Debt Short Term",null,null,null,null,null,null,null,null,null,null,null,{"$f":"IFERROR(VLOOKUP(ROWS($AE$2:AE777),P777:Q2680,2,0),\"\")","v":""},null,null,null,null,{"$f":"IFERROR(VLOOKUP(ROWS($AJ$2:AJ777),O777:Q2680,3,0),\"\")","v":""},null,{"$f":"IFERROR(VLOOKUP(ROWS(AL$2:$AL777),N777:Q2680,4,0),\"\")","v":""}]
[null,null,null,null,null,null,null,null,null,null,null,null,null,0,0,0,"dws short maturity rp","MDE005","Debt Short Term",null,null,null,null,null,null,null,null,null,null,null,{"$f":"IFERROR(VLOOKUP(ROWS($AE$2:AE778),P778:Q2681,2,0),\"\")","v":""},null,null,null,null,{"$f":"IFERROR(VLOOKUP(ROWS($AJ$2:AJ778),O778:Q2681,3,0),\"\")","v":""},null,{"$f":"IFERROR(VLOOKUP(ROWS(AL$2:$AL778),N778:Q2681,4,0),\"\")","v":""}]
[null,null,null,null,null,null,null,null,null,null,null,null,null,0,0,0,"idbi debt opportunities fund rp","MIB174","Debt Short Term",null,null,null,null,null,null,null,null,null,null,null,{"$f":"IFERROR(VLOOKUP(ROWS($AE$2:AE779),P779:Q2682,2,0),\"\")","v":""},null,null,null,null,{"$f":"IFERROR(VLOOKUP(ROWS($AJ$2:AJ779),O779:Q2682,3,0),\"\")","v":""},null,{"$f":"IFERROR(VLOOKUP(ROWS(AL$2:$AL779),N779:Q2682,4,0),\"\")","v":""}]
[null,null,null,null,null,null,null,null,null,null,null,null,null,0,0,0,"sbi short horizon debt stf rp","MSB104","Debt Short Term",null,null,null,null,null,null,null,null,null,null,null,{"$f":"IFERROR(VLOOKUP(ROWS($AE$2:AE780),P780:Q2683,2,0),\"\")","v":""},null,null,null,null,{"$f":"IFERROR(VLOOKUP(ROWS($AJ$2:AJ780),O780:Q2683,3,0),\"\")","v":""},null,{"$f":"IFERROR(VLOOKUP(ROWS(AL$2:$AL780),N780:Q2683,4,0),\"\")","v":""}]
[null,null,null,null,null,null,null,null,null,null,null,null,null,0,0,0,"sbi short term debt rp","MSB108","Debt Short Term",null,null,null,null,null,null,null,null,null,null,null,{"$f":"IFERROR(VLOOKUP(ROWS($AE$2:AE781),P781:Q2684,2,0),\"\")","v":""},null,null,null,null,{"$f":"IFERROR(VLOOKUP(ROWS($AJ$2:AJ781),O781:Q2684,3,0),\"\")","v":""},null,{"$f":"IFERROR(VLOOKUP(ROWS(AL$2:$AL781),N781:Q2684,4,0),\"\")","v":""}]
[null,null,null,null,null,null,null,null,null,null,null,null,null,0,0,0,"tata short term bond fund regular","MTA020","Debt Short Term",null,null,null,null,null,null,null,null,null,null,null,{"$f":"IFERROR(VLOOKUP(ROWS($AE$2:AE782),P782:Q2685,2,0),\"\")","v":""},null,null,null,null,{"$f":"IFERROR(VLOOKUP(ROWS($AJ$2:AJ782),O782:Q2685,3,0),\"\")","v":""},null,{"$f":"IFERROR(VLOOKUP(ROWS(AL$2:$AL782),N782:Q2685,4,0),\"\")","v":""}]
[null,null,null,null,null,null,null,null,null,null,null,null,null,0,0,0,"icici pru banking psu debt rp","MPI768","Debt Short Term",null,null,null,null,null,null,null,null,null,null,null,{"$f":"IFERROR(VLOOKUP(ROWS($AE$2:AE783),P783:Q2686,2,0),\"\")","v":""},null,null,null,null,{"$f":"IFERROR(VLOOKUP(ROWS($AJ$2:AJ783),O783:Q2686,3,0),\"\")","v":""},null,{"$f":"IFERROR(VLOOKUP(ROWS(AL$2:$AL783),N783:Q2686,4,0),\"\")","v":""}]
[null,null,null,null,null,null,null,null,null,null,null,null,null,0,0,0,"idfc ssif stp plan c","MAG069","Debt Short Term",null,null,null,null,null,null,null,null,null,null,null,{"$f":"IFERROR(VLOOKUP(ROWS($AE$2:AE784),P784:Q2687,2,0),\"\")","v":""},null,null,null,null,{"$f":"IFERROR(VLOOKUP(ROWS($AJ$2:AJ784),O784:Q2687,3,0),\"\")","v":""},null,{"$f":"IFERROR(VLOOKUP(ROWS(AL$2:$AL784),N784:Q2687,4,0),\"\")","v":""}]
[null,null,null,null,null,null,null,null,null,null,null,null,null,0,0,0,"icici pru banking psu debt","MPI726","Debt Short Term",null,null,null,null,null,null,null,null,null,null,null,{"$f":"IFERROR(VLOOKUP(ROWS($AE$2:AE785),P785:Q2688,2,0),\"\")","v":""},null,null,null,null,{"$f":"IFERROR(VLOOKUP(ROWS($AJ$2:AJ785),O785:Q2688,3,0),\"\")","v":""},null,{"$f":"IFERROR(VLOOKUP(ROWS(AL$2:$AL785),N785:Q2688,4,0),\"\")","v":""}]
[null,null,null,null,null,null,null,null,null,null,null,null,null,0,0,0,"idfc ssif stp inst b","MAG024","Debt Short Term",null,null,null,null,null,null,null,null,null,null,null,{"$f":"IFERROR(VLOOKUP(ROWS($AE$2:AE786),P786:Q2689,2,0),\"\")","v":""},null,null,null,null,{"$f":"IFERROR(VLOOKUP(ROWS($AJ$2:AJ786),O786:Q2689,3,0),\"\")","v":""},null,{"$f":"IFERROR(VLOOKUP(ROWS(AL$2:$AL786),N786:Q2689,4,0),\"\")","v":""}]
[null,null,null,null,null,null,null,null,null,null,null,null,null,0,0,0,"idfc ssif stp regular plan","MAG003","Debt Short Term",null,null,null,null,null,null,null,null,null,null,null,{"$f":"IFERROR(VLOOKUP(ROWS($AE$2:AE787),P787:Q2690,2,0),\"\")","v":""},null,null,null,null,{"$f":"IFERROR(VLOOKUP(ROWS($AJ$2:AJ787),O787:Q2690,3,0),\"\")","v":""},null,{"$f":"IFERROR(VLOOKUP(ROWS(AL$2:$AL787),N787:Q2690,4,0),\"\")","v":""}]
[null,null,null,null,null,null,null,null,null,null,null,null,null,0,0,0,"kotak bond short term plan regular","MKM038","Debt Short Term",null,null,null,null,null,null,null,null,null,null,null,{"$f":"IFERROR(VLOOKUP(ROWS($AE$2:AE788),P788:Q2691,2,0),\"\")","v":""},null,null,null,null,{"$f":"IFERROR(VLOOKUP(ROWS($AJ$2:AJ788),O788:Q2691,3,0),\"\")","v":""},null,{"$f":"IFERROR(VLOOKUP(ROWS(AL$2:$AL788),N788:Q2691,4,0),\"\")","v":""}]
[null,null,null,null,null,null,null,null,null,null,null,null,null,0,0,0,"hdfc high interest stp","MZU026","Debt Short Term",null,null,null,null,null,null,null,null,null,null,null,{"$f":"IFERROR(VLOOKUP(ROWS($AE$2:AE789),P789:Q2692,2,0),\"\")","v":""},null,null,null,null,{"$f":"IFERROR(VLOOKUP(ROWS($AJ$2:AJ789),O789:Q2692,3,0),\"\")","v":""},null,{"$f":"IFERROR(VLOOKUP(ROWS(AL$2:$AL789),N789:Q2692,4,0),\"\")","v":""}]
[null,null,null,null,null,null,null,null,null,null,null,null,null,0,0,0,"sundaram debt stp ap","MSN015","Debt Short Term",null,null,null,null,null,null,null,null,null,null,null,{"$f":"IFERROR(VLOOKUP(ROWS($AE$2:AE790),P790:Q2693,2,0),\"\")","v":""},null,null,null,null,{"$f":"IFERROR(VLOOKUP(ROWS($AJ$2:AJ790),O790:Q2693,3,0),\"\")","v":""},null,{"$f":"IFERROR(VLOOKUP(ROWS(AL$2:$AL790),N790:Q2693,4,0),\"\")","v":""}]
[null,null,null,null,null,null,null,null,null,null,null,null,null,0,0,0,"bnp paribas short term inc","MAB014","Debt Short Term",null,null,null,null,null,null,null,null,null,null,null,{"$f":"IFERROR(VLOOKUP(ROWS($AE$2:AE791),P791:Q2694,2,0),\"\")","v":""},null,null,null,null,{"$f":"IFERROR(VLOOKUP(ROWS($AJ$2:AJ791),O791:Q2694,3,0),\"\")","v":""},null,{"$f":"IFERROR(VLOOKUP(ROWS(AL$2:$AL791),N791:Q2694,4,0),\"\")","v":""}]
[null,null,null,null,null,null,null,null,null,null,null,null,null,0,0,0,"axis short term fund rp","MAA022","Debt Short Term",null,null,null,null,null,null,null,null,null,null,null,{"$f":"IFERROR(VLOOKUP(ROWS($AE$2:AE792),P792:Q2695,2,0),\"\")","v":""},null,null,null,null,{"$f":"IFERROR(VLOOKUP(ROWS($AJ$2:AJ792),O792:Q2695,3,0),\"\")","v":""},null,{"$f":"IFERROR(VLOOKUP(ROWS(AL$2:$AL792),N792:Q2695,4,0),\"\")","v":""}]
[null,null,null,null,null,null,null,null,null,null,null,null,null,0,0,0,"bnp paribas short term inc rp","MAB012","Debt Short Term",null,null,null,null,null,null,null,null,null,null,null,{"$f":"IFERROR(VLOOKUP(ROWS($AE$2:AE793),P793:Q2696,2,0),\"\")","v":""},null,null,null,null,{"$f":"IFERROR(VLOOKUP(ROWS($AJ$2:AJ793),O793:Q2696,3,0),\"\")","v":""},null,{"$f":"IFERROR(VLOOKUP(ROWS(AL$2:$AL793),N793:Q2696,4,0),\"\")","v":""}]
[null,null,null,null,null,null,null,null,null,null,null,null,null,0,0,0,"principal income short term","MID054","Debt Short Term",null,null,null,null,null,null,null,null,null,null,null,{"$f":"IFERROR(VLOOKUP(ROWS($AE$2:AE794),P794:Q2697,2,0),\"\")","v":""},null,null,null,null,{"$f":"IFERROR(VLOOKUP(ROWS($AJ$2:AJ794),O794:Q2697,3,0),\"\")","v":""},null,{"$f":"IFERROR(VLOOKUP(ROWS(AL$2:$AL794),N794:Q2697,4,0),\"\")","v":""}]
[null,null,null,null,null,null,null,null,null,null,null,null,null,0,0,0,"boi axa stif rp","MBA037","Debt Short Term",null,null,null,null,null,null,null,null,null,null,null,{"$f":"IFERROR(VLOOKUP(ROWS($AE$2:AE795),P795:Q2698,2,0),\"\")","v":""},null,null,null,null,{"$f":"IFERROR(VLOOKUP(ROWS($AJ$2:AJ795),O795:Q2698,3,0),\"\")","v":""},null,{"$f":"IFERROR(VLOOKUP(ROWS(AL$2:$AL795),N795:Q2698,4,0),\"\")","v":""}]
[null,null,null,null,null,null,null,null,null,null,null,null,null,0,0,0,"l t short term income","MFF091","Debt Short Term",null,null,null,null,null,null,null,null,null,null,null,{"$f":"IFERROR(VLOOKUP(ROWS($AE$2:AE796),P796:Q2699,2,0),\"\")","v":""},null,null,null,null,{"$f":"IFERROR(VLOOKUP(ROWS($AJ$2:AJ796),O796:Q2699,3,0),\"\")","v":""},null,{"$f":"IFERROR(VLOOKUP(ROWS(AL$2:$AL796),N796:Q2699,4,0),\"\")","v":""}]
[null,null,null,null,null,null,null,null,null,null,null,null,null,0,0,0,"idfc ssif stp plan f","MAG372","Debt Short Term",null,null,null,null,null,null,null,null,null,null,null,{"$f":"IFERROR(VLOOKUP(ROWS($AE$2:AE797),P797:Q2700,2,0),\"\")","v":""},null,null,null,null,{"$f":"IFERROR(VLOOKUP(ROWS($AJ$2:AJ797),O797:Q2700,3,0),\"\")","v":""},null,{"$f":"IFERROR(VLOOKUP(ROWS(AL$2:$AL797),N797:Q2700,4,0),\"\")","v":""}]
[null,null,null,null,null,null,null,null,null,null,null,null,null,0,0,0,"l t short term opport ","MCC206","Debt Short Term",null,null,null,null,null,null,null,null,null,null,null,{"$f":"IFERROR(VLOOKUP(ROWS($AE$2:AE798),P798:Q2701,2,0),\"\")","v":""},null,null,null,null,{"$f":"IFERROR(VLOOKUP(ROWS($AJ$2:AJ798),O798:Q2701,3,0),\"\")","v":""},null,{"$f":"IFERROR(VLOOKUP(ROWS(AL$2:$AL798),N798:Q2701,4,0),\"\")","v":""}]
[null,null,null,null,null,null,null,null,null,null,null,null,null,0,0,0,"axis short term fund reg ","MAA013","Debt Short Term",null,null,null,null,null,null,null,null,null,null,null,{"$f":"IFERROR(VLOOKUP(ROWS($AE$2:AE799),P799:Q2702,2,0),\"\")","v":""},null,null,null,null,{"$f":"IFERROR(VLOOKUP(ROWS($AJ$2:AJ799),O799:Q2702,3,0),\"\")","v":""},null,{"$f":"IFERROR(VLOOKUP(ROWS(AL$2:$AL799),N799:Q2702,4,0),\"\")","v":""}]
[null,null,null,null,null,null,null,null,null,null,null,null,null,0,0,0,"uti short term income rp","MUT048","Debt Short Term",null,null,null,null,null,null,null,null,null,null,null,{"$f":"IFERROR(VLOOKUP(ROWS($AE$2:AE800),P800:Q2703,2,0),\"\")","v":""},null,null,null,null,{"$f":"IFERROR(VLOOKUP(ROWS($AJ$2:AJ800),O800:Q2703,3,0),\"\")","v":""},null,{"$f":"IFERROR(VLOOKUP(ROWS(AL$2:$AL800),N800:Q2703,4,0),\"\")","v":""}]
[null,null,null,null,null,null,null,null,null,null,null,null,null,0,0,0,"edelweiss short term income ip","MEW033","Debt Short Term",null,null,null,null,null,null,null,null,null,null,null,{"$f":"IFERROR(VLOOKUP(ROWS($AE$2:AE801),P801:Q2704,2,0),\"\")","v":""},null,null,null,null,{"$f":"IFERROR(VLOOKUP(ROWS($AJ$2:AJ801),O801:Q2704,3,0),\"\")","v":""},null,{"$f":"IFERROR(VLOOKUP(ROWS(AL$2:$AL801),N801:Q2704,4,0),\"\")","v":""}]
[null,null,null,null,null,null,null,null,null,null,null,null,null,0,0,0,"uti short term income ip","MUT056","Debt Short Term",null,null,null,null,null,null,null,null,null,null,null,{"$f":"IFERROR(VLOOKUP(ROWS($AE$2:AE802),P802:Q2705,2,0),\"\")","v":""},null,null,null,null,{"$f":"IFERROR(VLOOKUP(ROWS($AJ$2:AJ802),O802:Q2705,3,0),\"\")","v":""},null,{"$f":"IFERROR(VLOOKUP(ROWS(AL$2:$AL802),N802:Q2705,4,0),\"\")","v":""}]
[null,null,null,null,null,null,null,null,null,null,null,null,null,0,0,0,"baroda pioneer short term bond","MBO048","Debt Short Term",null,null,null,null,null,null,null,null,null,null,null,{"$f":"IFERROR(VLOOKUP(ROWS($AE$2:AE803),P803:Q2706,2,0),\"\")","v":""},null,null,null,null,{"$f":"IFERROR(VLOOKUP(ROWS($AJ$2:AJ803),O803:Q2706,3,0),\"\")","v":""},null,{"$f":"IFERROR(VLOOKUP(ROWS(AL$2:$AL803),N803:Q2706,4,0),\"\")","v":""}]
[null,null,null,null,null,null,null,null,null,null,null,null,null,0,0,0,"religare invesco mtbf","MLI384","Debt Short Term",null,null,null,null,null,null,null,null,null,null,null,{"$f":"IFERROR(VLOOKUP(ROWS($AE$2:AE804),P804:Q2707,2,0),\"\")","v":""},null,null,null,null,{"$f":"IFERROR(VLOOKUP(ROWS($AJ$2:AJ804),O804:Q2707,3,0),\"\")","v":""},null,{"$f":"IFERROR(VLOOKUP(ROWS(AL$2:$AL804),N804:Q2707,4,0),\"\")","v":""}]
[null,null,null,null,null,null,null,null,null,null,null,null,null,0,0,0,"hsbc income fund stp rp","MHS003","Debt Short Term",null,null,null,null,null,null,null,null,null,null,null,{"$f":"IFERROR(VLOOKUP(ROWS($AE$2:AE805),P805:Q2708,2,0),\"\")","v":""},null,null,null,null,{"$f":"IFERROR(VLOOKUP(ROWS($AJ$2:AJ805),O805:Q2708,3,0),\"\")","v":""},null,{"$f":"IFERROR(VLOOKUP(ROWS(AL$2:$AL805),N805:Q2708,4,0),\"\")","v":""}]
[null,null,null,null,null,null,null,null,null,null,null,null,null,0,0,0,"franklin i bank psu debt","MTE390","Debt Short Term",null,null,null,null,null,null,null,null,null,null,null,{"$f":"IFERROR(VLOOKUP(ROWS($AE$2:AE806),P806:Q2709,2,0),\"\")","v":""},null,null,null,null,{"$f":"IFERROR(VLOOKUP(ROWS($AJ$2:AJ806),O806:Q2709,3,0),\"\")","v":""},null,{"$f":"IFERROR(VLOOKUP(ROWS(AL$2:$AL806),N806:Q2709,4,0),\"\")","v":""}]
[null,null,null,null,null,null,null,null,null,null,null,null,null,0,0,0,"can robeco short term ip","MCA155","Debt Short Term",null,null,null,null,null,null,null,null,null,null,null,{"$f":"IFERROR(VLOOKUP(ROWS($AE$2:AE807),P807:Q2710,2,0),\"\")","v":""},null,null,null,null,{"$f":"IFERROR(VLOOKUP(ROWS($AJ$2:AJ807),O807:Q2710,3,0),\"\")","v":""},null,{"$f":"IFERROR(VLOOKUP(ROWS(AL$2:$AL807),N807:Q2710,4,0),\"\")","v":""}]
[null,null,null,null,null,null,null,null,null,null,null,null,null,0,0,0,"can robeco short term rp","MCA153","Debt Short Term",null,null,null,null,null,null,null,null,null,null,null,{"$f":"IFERROR(VLOOKUP(ROWS($AE$2:AE808),P808:Q2711,2,0),\"\")","v":""},null,null,null,null,{"$f":"IFERROR(VLOOKUP(ROWS($AJ$2:AJ808),O808:Q2711,3,0),\"\")","v":""},null,{"$f":"IFERROR(VLOOKUP(ROWS(AL$2:$AL808),N808:Q2711,4,0),\"\")","v":""}]
[null,null,null,null,null,null,null,null,null,null,null,null,null,0,0,0,"religare invesco stf plan b","MLI028","Debt Short Term",null,null,null,null,null,null,null,null,null,null,null,{"$f":"IFERROR(VLOOKUP(ROWS($AE$2:AE809),P809:Q2712,2,0),\"\")","v":""},null,null,null,null,{"$f":"IFERROR(VLOOKUP(ROWS($AJ$2:AJ809),O809:Q2712,3,0),\"\")","v":""},null,{"$f":"IFERROR(VLOOKUP(ROWS(AL$2:$AL809),N809:Q2712,4,0),\"\")","v":""}]
[null,null,null,null,null,null,null,null,null,null,null,null,null,0,0,0,"indiabulls short term fund reg","MIM060","Debt Short Term",null,null,null,null,null,null,null,null,null,null,null,{"$f":"IFERROR(VLOOKUP(ROWS($AE$2:AE810),P810:Q2713,2,0),\"\")","v":""},null,null,null,null,{"$f":"IFERROR(VLOOKUP(ROWS($AJ$2:AJ810),O810:Q2713,3,0),\"\")","v":""},null,{"$f":"IFERROR(VLOOKUP(ROWS(AL$2:$AL810),N810:Q2713,4,0),\"\")","v":""}]
[null,null,null,null,null,null,null,null,null,null,null,null,null,0,0,0,"religare invesco stf fund","MLI025","Debt Short Term",null,null,null,null,null,null,null,null,null,null,null,{"$f":"IFERROR(VLOOKUP(ROWS($AE$2:AE811),P811:Q2714,2,0),\"\")","v":""},null,null,null,null,{"$f":"IFERROR(VLOOKUP(ROWS($AJ$2:AJ811),O811:Q2714,3,0),\"\")","v":""},null,{"$f":"IFERROR(VLOOKUP(ROWS(AL$2:$AL811),N811:Q2714,4,0),\"\")","v":""}]
[null,null,null,null,null,null,null,null,null,null,null,null,null,0,0,0,"idbi short term bond fund","MIB030","Debt Short Term",null,null,null,null,null,null,null,null,null,null,null,{"$f":"IFERROR(VLOOKUP(ROWS($AE$2:AE812),P812:Q2715,2,0),\"\")","v":""},null,null,null,null,{"$f":"IFERROR(VLOOKUP(ROWS($AJ$2:AJ812),O812:Q2715,3,0),\"\")","v":""},null,{"$f":"IFERROR(VLOOKUP(ROWS(AL$2:$AL812),N812:Q2715,4,0),\"\")","v":""}]
[null,null,null,null,null,null,null,null,null,null,null,null,null,0,0,0,"dws premier bond rp","MDE007","Debt Short Term",null,null,null,null,null,null,null,null,null,null,null,{"$f":"IFERROR(VLOOKUP(ROWS($AE$2:AE813),P813:Q2716,2,0),\"\")","v":""},null,null,null,null,{"$f":"IFERROR(VLOOKUP(ROWS($AJ$2:AJ813),O813:Q2716,3,0),\"\")","v":""},null,{"$f":"IFERROR(VLOOKUP(ROWS(AL$2:$AL813),N813:Q2716,4,0),\"\")","v":""}]
[null,null,null,null,null,null,null,null,null,null,null,null,null,0,0,0,"uti banking psu debt dir","MUT1089","Debt Short Term",null,null,null,null,null,null,null,null,null,null,null,{"$f":"IFERROR(VLOOKUP(ROWS($AE$2:AE814),P814:Q2717,2,0),\"\")","v":""},null,null,null,null,{"$f":"IFERROR(VLOOKUP(ROWS($AJ$2:AJ814),O814:Q2717,3,0),\"\")","v":""},null,{"$f":"IFERROR(VLOOKUP(ROWS(AL$2:$AL814),N814:Q2717,4,0),\"\")","v":""}]
[null,null,null,null,null,null,null,null,null,null,null,null,null,{"$f":"IF(ISNUMBER(SEARCH($H$16,Q815)),MAX($N$1,N814)+1,0)","v":0},{"$f":"IF(ISNUMBER(SEARCH($H$11,Q815)),MAX($O$1,O814)+1,0)","v":0},{"$f":"IF(ISNUMBER(SEARCH($H$6,Q815)),MAX($P$1,P814)+1,0)","v":0},"peerless short term fund","MPM027","Debt Short Term",null,null,null,null,null,null,null,null,null,null,null,{"$f":"IFERROR(VLOOKUP(ROWS($AE$2:AE815),P815:Q2718,2,0),\"\")","v":""},null,null,null,null,{"$f":"IFERROR(VLOOKUP(ROWS($AJ$2:AJ815),O815:Q2718,3,0),\"\")","v":""},null,{"$f":"IFERROR(VLOOKUP(ROWS(AL$2:$AL815),N815:Q2718,4,0),\"\")","v":""}]
[null,null,null,null,null,null,null,null,null,null,null,null,null,0,0,0,"peerless short term fund","MPM096","Debt Short Term",null,null,null,null,null,null,null,null,null,null,null,{"$f":"IFERROR(VLOOKUP(ROWS($AE$2:AE816),P816:Q2719,2,0),\"\")","v":""},null,null,null,null,{"$f":"IFERROR(VLOOKUP(ROWS($AJ$2:AJ816),O816:Q2719,3,0),\"\")","v":""},null,{"$f":"IFERROR(VLOOKUP(ROWS(AL$2:$AL816),N816:Q2719,4,0),\"\")","v":""}]
[null,null,null,null,null,null,null,null,null,null,null,null,null,0,0,0,"religare invesco bank debt dir","MLI582","Debt Short Term",null,null,null,null,null,null,null,null,null,null,null,{"$f":"IFERROR(VLOOKUP(ROWS($AE$2:AE817),P817:Q2720,2,0),\"\")","v":""},null,null,null,null,{"$f":"IFERROR(VLOOKUP(ROWS($AJ$2:AJ817),O817:Q2720,3,0),\"\")","v":""},null,{"$f":"IFERROR(VLOOKUP(ROWS(AL$2:$AL817),N817:Q2720,4,0),\"\")","v":""}]
[null,null,null,null,null,null,null,null,null,null,null,null,null,0,0,0,"uti banking psu debt reg","MUT1087","Debt Short Term",null,null,null,null,null,null,null,null,null,null,null,{"$f":"IFERROR(VLOOKUP(ROWS($AE$2:AE818),P818:Q2721,2,0),\"\")","v":""},null,null,null,null,{"$f":"IFERROR(VLOOKUP(ROWS($AJ$2:AJ818),O818:Q2721,3,0),\"\")","v":""},null,{"$f":"IFERROR(VLOOKUP(ROWS(AL$2:$AL818),N818:Q2721,4,0),\"\")","v":""}]
[null,null,null,null,null,null,null,null,null,null,null,null,null,0,0,0,"jm short term plan","MJM026","Debt Short Term",null,null,null,null,null,null,null,null,null,null,null,{"$f":"IFERROR(VLOOKUP(ROWS($AE$2:AE819),P819:Q2722,2,0),\"\")","v":""},null,null,null,null,{"$f":"IFERROR(VLOOKUP(ROWS($AJ$2:AJ819),O819:Q2722,3,0),\"\")","v":""},null,{"$f":"IFERROR(VLOOKUP(ROWS(AL$2:$AL819),N819:Q2722,4,0),\"\")","v":""}]
[null,null,null,null,null,null,null,null,null,null,null,null,null,0,0,0,"dws short maturity ip","MDE246","Debt Short Term",null,null,null,null,null,null,null,null,null,null,null,{"$f":"IFERROR(VLOOKUP(ROWS($AE$2:AE820),P820:Q2723,2,0),\"\")","v":""},null,null,null,null,{"$f":"IFERROR(VLOOKUP(ROWS($AJ$2:AJ820),O820:Q2723,3,0),\"\")","v":""},null,{"$f":"IFERROR(VLOOKUP(ROWS(AL$2:$AL820),N820:Q2723,4,0),\"\")","v":""}]
[null,null,null,null,null,null,null,null,null,null,null,null,null,0,0,0,"principal debt savings fund rp","MID059","Debt Short Term",null,null,null,null,null,null,null,null,null,null,null,{"$f":"IFERROR(VLOOKUP(ROWS($AE$2:AE821),P821:Q2724,2,0),\"\")","v":""},null,null,null,null,{"$f":"IFERROR(VLOOKUP(ROWS($AJ$2:AJ821),O821:Q2724,3,0),\"\")","v":""},null,{"$f":"IFERROR(VLOOKUP(ROWS(AL$2:$AL821),N821:Q2724,4,0),\"\")","v":""}]
[null,null,null,null,null,null,null,null,null,null,null,null,null,0,0,0,"dws short maturity rp","MDE332","Debt Short Term",null,null,null,null,null,null,null,null,null,null,null,{"$f":"IFERROR(VLOOKUP(ROWS($AE$2:AE822),P822:Q2725,2,0),\"\")","v":""},null,null,null,null,{"$f":"IFERROR(VLOOKUP(ROWS($AJ$2:AJ822),O822:Q2725,3,0),\"\")","v":""},null,{"$f":"IFERROR(VLOOKUP(ROWS(AL$2:$AL822),N822:Q2725,4,0),\"\")","v":""}]
[null,null,null,null,null,null,null,null,null,null,null,null,null,0,0,0,"mirae short term bond rp","MMA074","Debt Short Term",null,null,null,null,null,null,null,null,null,null,null,{"$f":"IFERROR(VLOOKUP(ROWS($AE$2:AE823),P823:Q2726,2,0),\"\")","v":""},null,null,null,null,{"$f":"IFERROR(VLOOKUP(ROWS($AJ$2:AJ823),O823:Q2726,3,0),\"\")","v":""},null,{"$f":"IFERROR(VLOOKUP(ROWS(AL$2:$AL823),N823:Q2726,4,0),\"\")","v":""}]
[null,null,null,null,null,null,null,null,null,null,null,null,null,0,0,0,"jm short term plan reg","MJM020","Debt Short Term",null,null,null,null,null,null,null,null,null,null,null,{"$f":"IFERROR(VLOOKUP(ROWS($AE$2:AE824),P824:Q2727,2,0),\"\")","v":""},null,null,null,null,{"$f":"IFERROR(VLOOKUP(ROWS($AJ$2:AJ824),O824:Q2727,3,0),\"\")","v":""},null,{"$f":"IFERROR(VLOOKUP(ROWS(AL$2:$AL824),N824:Q2727,4,0),\"\")","v":""}]
[null,null,null,null,null,null,null,null,null,null,null,null,null,0,0,0,"kotak flexi debt plan a regular","MKM255","Debt Short Term",null,null,null,null,null,null,null,null,null,null,null,{"$f":"IFERROR(VLOOKUP(ROWS($AE$2:AE825),P825:Q2728,2,0),\"\")","v":""},null,null,null,null,{"$f":"IFERROR(VLOOKUP(ROWS($AJ$2:AJ825),O825:Q2728,3,0),\"\")","v":""},null,{"$f":"IFERROR(VLOOKUP(ROWS(AL$2:$AL825),N825:Q2728,4,0),\"\")","v":""}]
[null,null,null,null,null,null,null,null,null,null,null,null,null,0,0,0,"pramerica short term income","MPA015","Debt Short Term",null,null,null,null,null,null,null,null,null,null,null,{"$f":"IFERROR(VLOOKUP(ROWS($AE$2:AE826),P826:Q2729,2,0),\"\")","v":""},null,null,null,null,{"$f":"IFERROR(VLOOKUP(ROWS($AJ$2:AJ826),O826:Q2729,3,0),\"\")","v":""},null,{"$f":"IFERROR(VLOOKUP(ROWS(AL$2:$AL826),N826:Q2729,4,0),\"\")","v":""}]
[null,null,null,null,null,null,null,null,null,null,null,null,null,0,0,0,"dws premier bond ip","MDE242","Debt Short Term",null,null,null,null,null,null,null,null,null,null,null,{"$f":"IFERROR(VLOOKUP(ROWS($AE$2:AE827),P827:Q2730,2,0),\"\")","v":""},null,null,null,null,{"$f":"IFERROR(VLOOKUP(ROWS($AJ$2:AJ827),O827:Q2730,3,0),\"\")","v":""},null,{"$f":"IFERROR(VLOOKUP(ROWS(AL$2:$AL827),N827:Q2730,4,0),\"\")","v":""}]
[null,null,null,null,null,null,null,null,null,null,null,null,null,0,0,0,"kotak flexi debt regular plan","MKM071","Debt Short Term",null,null,null,null,null,null,null,null,null,null,null,{"$f":"IFERROR(VLOOKUP(ROWS($AE$2:AE828),P828:Q2731,2,0),\"\")","v":""},null,null,null,null,{"$f":"IFERROR(VLOOKUP(ROWS($AJ$2:AJ828),O828:Q2731,3,0),\"\")","v":""},null,{"$f":"IFERROR(VLOOKUP(ROWS(AL$2:$AL828),N828:Q2731,4,0),\"\")","v":""}]
[null,null,null,null,null,null,null,null,null,null,null,null,null,0,0,0,"religare invesco bank debt","MLI539","Debt Short Term",null,null,null,null,null,null,null,null,null,null,null,{"$f":"IFERROR(VLOOKUP(ROWS($AE$2:AE829),P829:Q2732,2,0),\"\")","v":""},null,null,null,null,{"$f":"IFERROR(VLOOKUP(ROWS($AJ$2:AJ829),O829:Q2732,3,0),\"\")","v":""},null,{"$f":"IFERROR(VLOOKUP(ROWS(AL$2:$AL829),N829:Q2732,4,0),\"\")","v":""}]
[null,null,null,null,null,null,null,null,null,null,null,null,null,0,0,0,"sahara short term bond","MFI057","Debt Short Term",null,null,null,null,null,null,null,null,null,null,null,{"$f":"IFERROR(VLOOKUP(ROWS($AE$2:AE830),P830:Q2733,2,0),\"\")","v":""},null,null,null,null,{"$f":"IFERROR(VLOOKUP(ROWS($AJ$2:AJ830),O830:Q2733,3,0),\"\")","v":""},null,{"$f":"IFERROR(VLOOKUP(ROWS(AL$2:$AL830),N830:Q2733,4,0),\"\")","v":""}]
[null,null,null,null,null,null,null,null,null,null,null,null,null,0,0,0,"gs short term fund","MBM027","Debt Short Term",null,null,null,null,null,null,null,null,null,null,null,{"$f":"IFERROR(VLOOKUP(ROWS($AE$2:AE831),P831:Q2734,2,0),\"\")","v":""},null,null,null,null,{"$f":"IFERROR(VLOOKUP(ROWS($AJ$2:AJ831),O831:Q2734,3,0),\"\")","v":""},null,{"$f":"IFERROR(VLOOKUP(ROWS(AL$2:$AL831),N831:Q2734,4,0),\"\")","v":""}]
[null,null,null,null,null,null,null,null,null,null,null,null,null,0,0,0,"dws corporate debt opp reg","MDE1292","Debt Short Term",null,null,null,null,null,null,null,null,null,null,null,{"$f":"IFERROR(VLOOKUP(ROWS($AE$2:AE832),P832:Q2735,2,0),\"\")","v":""},null,null,null,null,{"$f":"IFERROR(VLOOKUP(ROWS($AJ$2:AJ832),O832:Q2735,3,0),\"\")","v":""},null,{"$f":"IFERROR(VLOOKUP(ROWS(AL$2:$AL832),N832:Q2735,4,0),\"\")","v":""}]
[null,null,null,null,null,null,null,null,null,null,null,null,null,0,0,0,"dws corporate debt opp dir","MDE1298","Debt Short Term",null,null,null,null,null,null,null,null,null,null,null,{"$f":"IFERROR(VLOOKUP(ROWS($AE$2:AE833),P833:Q2736,2,0),\"\")","v":""},null,null,null,null,{"$f":"IFERROR(VLOOKUP(ROWS($AJ$2:AJ833),O833:Q2736,3,0),\"\")","v":""},null,{"$f":"IFERROR(VLOOKUP(ROWS(AL$2:$AL833),N833:Q2736,4,0),\"\")","v":""}]
[null,null,null,null,null,null,null,null,null,null,null,null,null,0,0,0,"jpmorgan corporate debt opp rp","MJP288","Debt Short Term",null,null,null,null,null,null,null,null,null,null,null,{"$f":"IFERROR(VLOOKUP(ROWS($AE$2:AE834),P834:Q2737,2,0),\"\")","v":""},null,null,null,null,{"$f":"IFERROR(VLOOKUP(ROWS($AJ$2:AJ834),O834:Q2737,3,0),\"\")","v":""},null,{"$f":"IFERROR(VLOOKUP(ROWS(AL$2:$AL834),N834:Q2737,4,0),\"\")","v":""}]
[null,null,null,null,null,null,null,null,null,null,null,null,null,0,0,0,"bnp paribas short term inc ipp","MAB029","Debt Short Term",null,null,null,null,null,null,null,null,null,null,null,{"$f":"IFERROR(VLOOKUP(ROWS($AE$2:AE835),P835:Q2738,2,0),\"\")","v":""},null,null,null,null,{"$f":"IFERROR(VLOOKUP(ROWS($AJ$2:AJ835),O835:Q2738,3,0),\"\")","v":""},null,{"$f":"IFERROR(VLOOKUP(ROWS(AL$2:$AL835),N835:Q2738,4,0),\"\")","v":""}]
[null,null,null,null,null,null,null,null,null,null,null,null,null,0,0,0,"jpmorgan bank psu debt reg b ","MJP199","Debt Short Term",null,null,null,null,null,null,null,null,null,null,null,{"$f":"IFERROR(VLOOKUP(ROWS($AE$2:AE836),P836:Q2739,2,0),\"\")","v":""},null,null,null,null,{"$f":"IFERROR(VLOOKUP(ROWS($AJ$2:AJ836),O836:Q2739,3,0),\"\")","v":""},null,{"$f":"IFERROR(VLOOKUP(ROWS(AL$2:$AL836),N836:Q2739,4,0),\"\")","v":""}]
[null,null,null,null,null,null,null,null,null,null,null,null,null,0,0,0,"hdfc corporate debt opp dir","MHD1999","Credit Oppur.",null,null,null,null,null,null,null,null,null,null,null,{"$f":"IFERROR(VLOOKUP(ROWS($AE$2:AE837),P837:Q2740,2,0),\"\")","v":""},null,null,null,null,{"$f":"IFERROR(VLOOKUP(ROWS($AJ$2:AJ837),O837:Q2740,3,0),\"\")","v":""},null,{"$f":"IFERROR(VLOOKUP(ROWS(AL$2:$AL837),N837:Q2740,4,0),\"\")","v":""}]
[null,null,null,null,null,null,null,null,null,null,null,null,null,0,0,0,"franklin india iba","MKP009","Credit Oppur.",null,null,null,null,null,null,null,null,null,null,null,{"$f":"IFERROR(VLOOKUP(ROWS($AE$2:AE838),P838:Q2741,2,0),\"\")","v":""},null,null,null,null,{"$f":"IFERROR(VLOOKUP(ROWS($AJ$2:AJ838),O838:Q2741,3,0),\"\")","v":""},null,{"$f":"IFERROR(VLOOKUP(ROWS(AL$2:$AL838),N838:Q2741,4,0),\"\")","v":""}]
[null,null,null,null,null,null,null,null,null,null,null,null,null,0,0,0,"reliance corporate bond fund","MRC1590","Credit Oppur.",null,null,null,null,null,null,null,null,null,null,null,{"$f":"IFERROR(VLOOKUP(ROWS($AE$2:AE839),P839:Q2742,2,0),\"\")","v":""},null,null,null,null,{"$f":"IFERROR(VLOOKUP(ROWS($AJ$2:AJ839),O839:Q2742,3,0),\"\")","v":""},null,{"$f":"IFERROR(VLOOKUP(ROWS(AL$2:$AL839),N839:Q2742,4,0),\"\")","v":""}]
[null,null,null,null,null,null,null,null,null,null,null,null,null,0,0,0,"icici pru corporate bond c","MPI102","Credit Oppur.",null,null,null,null,null,null,null,null,null,null,null,{"$f":"IFERROR(VLOOKUP(ROWS($AE$2:AE840),P840:Q2743,2,0),\"\")","v":""},null,null,null,null,{"$f":"IFERROR(VLOOKUP(ROWS($AJ$2:AJ840),O840:Q2743,3,0),\"\")","v":""},null,{"$f":"IFERROR(VLOOKUP(ROWS(AL$2:$AL840),N840:Q2743,4,0),\"\")","v":""}]
[null,null,null,null,null,null,null,null,null,null,null,null,null,0,0,0,"dsp br income oppor fund ip","MDS043","Credit Oppur.",null,null,null,null,null,null,null,null,null,null,null,{"$f":"IFERROR(VLOOKUP(ROWS($AE$2:AE841),P841:Q2744,2,0),\"\")","v":""},null,null,null,null,{"$f":"IFERROR(VLOOKUP(ROWS($AJ$2:AJ841),O841:Q2744,3,0),\"\")","v":""},null,{"$f":"IFERROR(VLOOKUP(ROWS(AL$2:$AL841),N841:Q2744,4,0),\"\")","v":""}]
[null,null,null,null,null,null,null,null,null,null,null,null,null,0,0,0,"hdfc corporate debt opp reg","MHD1997","Credit Oppur.",null,null,null,null,null,null,null,null,null,null,null,{"$f":"IFERROR(VLOOKUP(ROWS($AE$2:AE842),P842:Q2745,2,0),\"\")","v":""},null,null,null,null,{"$f":"IFERROR(VLOOKUP(ROWS($AJ$2:AJ842),O842:Q2745,3,0),\"\")","v":""},null,{"$f":"IFERROR(VLOOKUP(ROWS(AL$2:$AL842),N842:Q2745,4,0),\"\")","v":""}]
[null,null,null,null,null,null,null,null,null,null,null,null,null,0,0,0,"franklin i st income retail","MKP047","Credit Oppur.",null,null,null,null,null,null,null,null,null,null,null,{"$f":"IFERROR(VLOOKUP(ROWS($AE$2:AE843),P843:Q2746,2,0),\"\")","v":""},null,null,null,null,{"$f":"IFERROR(VLOOKUP(ROWS($AJ$2:AJ843),O843:Q2746,3,0),\"\")","v":""},null,{"$f":"IFERROR(VLOOKUP(ROWS(AL$2:$AL843),N843:Q2746,4,0),\"\")","v":""}]
[null,null,null,null,null,null,null,null,null,null,null,null,null,0,0,0,"franklin india income oppor ","MTE272","Credit Oppur.",null,null,null,null,null,null,null,null,null,null,null,{"$f":"IFERROR(VLOOKUP(ROWS($AE$2:AE844),P844:Q2747,2,0),\"\")","v":""},null,null,null,null,{"$f":"IFERROR(VLOOKUP(ROWS($AJ$2:AJ844),O844:Q2747,3,0),\"\")","v":""},null,{"$f":"IFERROR(VLOOKUP(ROWS(AL$2:$AL844),N844:Q2747,4,0),\"\")","v":""}]
[null,null,null,null,null,null,null,null,null,null,null,null,null,0,0,0,"icici pru corporate bond","MPI098","Credit Oppur.",null,null,null,null,null,null,null,null,null,null,null,{"$f":"IFERROR(VLOOKUP(ROWS($AE$2:AE845),P845:Q2748,2,0),\"\")","v":""},null,null,null,null,{"$f":"IFERROR(VLOOKUP(ROWS($AJ$2:AJ845),O845:Q2748,3,0),\"\")","v":""},null,{"$f":"IFERROR(VLOOKUP(ROWS(AL$2:$AL845),N845:Q2748,4,0),\"\")","v":""}]
[null,null,null,null,null,null,null,null,null,null,null,null,null,0,0,0,"pramerica credit opp fund","MPA031","Credit Oppur.",null,null,null,null,null,null,null,null,null,null,null,{"$f":"IFERROR(VLOOKUP(ROWS($AE$2:AE846),P846:Q2749,2,0),\"\")","v":""},null,null,null,null,{"$f":"IFERROR(VLOOKUP(ROWS($AJ$2:AJ846),O846:Q2749,3,0),\"\")","v":""},null,{"$f":"IFERROR(VLOOKUP(ROWS(AL$2:$AL846),N846:Q2749,4,0),\"\")","v":""}]
[null,null,null,null,null,null,null,null,null,null,null,null,null,0,0,0,"birla sl medium term ip","MBS454","Credit Oppur.",null,null,null,null,null,null,null,null,null,null,null,{"$f":"IFERROR(VLOOKUP(ROWS($AE$2:AE847),P847:Q2750,2,0),\"\")","v":""},null,null,null,null,{"$f":"IFERROR(VLOOKUP(ROWS($AJ$2:AJ847),O847:Q2750,3,0),\"\")","v":""},null,{"$f":"IFERROR(VLOOKUP(ROWS(AL$2:$AL847),N847:Q2750,4,0),\"\")","v":""}]
[null,null,null,null,null,null,null,null,null,null,null,null,null,0,0,0,"birla sl medium term rp","MBS448","Credit Oppur.",null,null,null,null,null,null,null,null,null,null,null,{"$f":"IFERROR(VLOOKUP(ROWS($AE$2:AE848),P848:Q2751,2,0),\"\")","v":""},null,null,null,null,{"$f":"IFERROR(VLOOKUP(ROWS($AJ$2:AJ848),O848:Q2751,3,0),\"\")","v":""},null,{"$f":"IFERROR(VLOOKUP(ROWS(AL$2:$AL848),N848:Q2751,4,0),\"\")","v":""}]
[null,null,null,null,null,null,null,null,null,null,null,null,null,0,0,0,"franklin corporate bond opp ","MTE285","Credit Oppur.",null,null,null,null,null,null,null,null,null,null,null,{"$f":"IFERROR(VLOOKUP(ROWS($AE$2:AE849),P849:Q2752,2,0),\"\")","v":""},null,null,null,null,{"$f":"IFERROR(VLOOKUP(ROWS($AJ$2:AJ849),O849:Q2752,3,0),\"\")","v":""},null,{"$f":"IFERROR(VLOOKUP(ROWS(AL$2:$AL849),N849:Q2752,4,0),\"\")","v":""}]
[null,null,null,null,null,null,null,null,null,null,null,null,null,0,0,0,"icici pru corporate bond b","MPI100","Credit Oppur.",null,null,null,null,null,null,null,null,null,null,null,{"$f":"IFERROR(VLOOKUP(ROWS($AE$2:AE850),P850:Q2753,2,0),\"\")","v":""},null,null,null,null,{"$f":"IFERROR(VLOOKUP(ROWS($AJ$2:AJ850),O850:Q2753,3,0),\"\")","v":""},null,{"$f":"IFERROR(VLOOKUP(ROWS(AL$2:$AL850),N850:Q2753,4,0),\"\")","v":""}]
[null,null,null,null,null,null,null,null,null,null,null,null,null,0,0,0,"l t income opportunities rp","MCC119","Credit Oppur.",null,null,null,null,null,null,null,null,null,null,null,{"$f":"IFERROR(VLOOKUP(ROWS($AE$2:AE851),P851:Q2754,2,0),\"\")","v":""},null,null,null,null,{"$f":"IFERROR(VLOOKUP(ROWS($AJ$2:AJ851),O851:Q2754,3,0),\"\")","v":""},null,{"$f":"IFERROR(VLOOKUP(ROWS(AL$2:$AL851),N851:Q2754,4,0),\"\")","v":""}]
[null,null,null,null,null,null,null,null,null,null,null,null,null,0,0,0,"l t income opportunities ip","MCC123","Credit Oppur.",null,null,null,null,null,null,null,null,null,null,null,{"$f":"IFERROR(VLOOKUP(ROWS($AE$2:AE852),P852:Q2755,2,0),\"\")","v":""},null,null,null,null,{"$f":"IFERROR(VLOOKUP(ROWS($AJ$2:AJ852),O852:Q2755,3,0),\"\")","v":""},null,{"$f":"IFERROR(VLOOKUP(ROWS(AL$2:$AL852),N852:Q2755,4,0),\"\")","v":""}]
[null,null,null,null,null,null,null,null,null,null,null,null,null,0,0,0,"icici pru regular savings fund","MPI789","Credit Oppur.",null,null,null,null,null,null,null,null,null,null,null,{"$f":"IFERROR(VLOOKUP(ROWS($AE$2:AE853),P853:Q2756,2,0),\"\")","v":""},null,null,null,null,{"$f":"IFERROR(VLOOKUP(ROWS($AJ$2:AJ853),O853:Q2756,3,0),\"\")","v":""},null,{"$f":"IFERROR(VLOOKUP(ROWS(AL$2:$AL853),N853:Q2756,4,0),\"\")","v":""}]
[null,null,null,null,null,null,null,null,null,null,null,null,null,0,0,0,"dsp br income oppor fund rp","MDS027","Credit Oppur.",null,null,null,null,null,null,null,null,null,null,null,{"$f":"IFERROR(VLOOKUP(ROWS($AE$2:AE854),P854:Q2757,2,0),\"\")","v":""},null,null,null,null,{"$f":"IFERROR(VLOOKUP(ROWS($AJ$2:AJ854),O854:Q2757,3,0),\"\")","v":""},null,{"$f":"IFERROR(VLOOKUP(ROWS(AL$2:$AL854),N854:Q2757,4,0),\"\")","v":""}]
[null,null,null,null,null,null,null,null,null,null,null,null,null,0,0,0,"hdfc short term plan","MHD017","Credit Oppur.",null,null,null,null,null,null,null,null,null,null,null,{"$f":"IFERROR(VLOOKUP(ROWS($AE$2:AE855),P855:Q2758,2,0),\"\")","v":""},null,null,null,null,{"$f":"IFERROR(VLOOKUP(ROWS($AJ$2:AJ855),O855:Q2758,3,0),\"\")","v":""},null,{"$f":"IFERROR(VLOOKUP(ROWS(AL$2:$AL855),N855:Q2758,4,0),\"\")","v":""}]
[null,null,null,null,null,null,null,null,null,null,null,null,null,0,0,0,"uti income opportunities fund","MUT601","Credit Oppur.",null,null,null,null,null,null,null,null,null,null,null,{"$f":"IFERROR(VLOOKUP(ROWS($AE$2:AE856),P856:Q2759,2,0),\"\")","v":""},null,null,null,null,{"$f":"IFERROR(VLOOKUP(ROWS($AJ$2:AJ856),O856:Q2759,3,0),\"\")","v":""},null,{"$f":"IFERROR(VLOOKUP(ROWS(AL$2:$AL856),N856:Q2759,4,0),\"\")","v":""}]
[null,null,null,null,null,null,null,null,null,null,null,null,null,0,0,0,"reliance rsf debt ip","MRC534","Credit Oppur.",null,null,null,null,null,null,null,null,null,null,null,{"$f":"IFERROR(VLOOKUP(ROWS($AE$2:AE857),P857:Q2760,2,0),\"\")","v":""},null,null,null,null,{"$f":"IFERROR(VLOOKUP(ROWS($AJ$2:AJ857),O857:Q2760,3,0),\"\")","v":""},null,{"$f":"IFERROR(VLOOKUP(ROWS(AL$2:$AL857),N857:Q2760,4,0),\"\")","v":""}]
[null,null,null,null,null,null,null,null,null,null,null,null,null,0,0,0,"birla sl short term opp rp","MBS039","Credit Oppur.",null,null,null,null,null,null,null,null,null,null,null,{"$f":"IFERROR(VLOOKUP(ROWS($AE$2:AE858),P858:Q2761,2,0),\"\")","v":""},null,null,null,null,{"$f":"IFERROR(VLOOKUP(ROWS($AJ$2:AJ858),O858:Q2761,3,0),\"\")","v":""},null,{"$f":"IFERROR(VLOOKUP(ROWS(AL$2:$AL858),N858:Q2761,4,0),\"\")","v":""}]
[null,null,null,null,null,null,null,null,null,null,null,null,null,0,0,0,"birla sl short term opp ip","MBS348","Credit Oppur.",null,null,null,null,null,null,null,null,null,null,null,{"$f":"IFERROR(VLOOKUP(ROWS($AE$2:AE859),P859:Q2762,2,0),\"\")","v":""},null,null,null,null,{"$f":"IFERROR(VLOOKUP(ROWS($AJ$2:AJ859),O859:Q2762,3,0),\"\")","v":""},null,{"$f":"IFERROR(VLOOKUP(ROWS(AL$2:$AL859),N859:Q2762,4,0),\"\")","v":""}]
[null,null,null,null,null,null,null,null,null,null,null,null,null,0,0,0,"reliance rsf debt rp","MRC099","Credit Oppur.",null,null,null,null,null,null,null,null,null,null,null,{"$f":"IFERROR(VLOOKUP(ROWS($AE$2:AE860),P860:Q2763,2,0),\"\")","v":""},null,null,null,null,{"$f":"IFERROR(VLOOKUP(ROWS($AJ$2:AJ860),O860:Q2763,3,0),\"\")","v":""},null,{"$f":"IFERROR(VLOOKUP(ROWS(AL$2:$AL860),N860:Q2763,4,0),\"\")","v":""}]
[null,null,null,null,null,null,null,null,null,null,null,null,null,0,0,0,"kotak income opportunities rp","MKM334","Credit Oppur.",null,null,null,null,null,null,null,null,null,null,null,{"$f":"IFERROR(VLOOKUP(ROWS($AE$2:AE861),P861:Q2764,2,0),\"\")","v":""},null,null,null,null,{"$f":"IFERROR(VLOOKUP(ROWS($AJ$2:AJ861),O861:Q2764,3,0),\"\")","v":""},null,{"$f":"IFERROR(VLOOKUP(ROWS(AL$2:$AL861),N861:Q2764,4,0),\"\")","v":""}]
[null,null,null,null,null,null,null,null,null,null,null,null,null,0,0,0,"religare corporate bond opp rp","MLI895","Credit Oppur.",null,null,null,null,null,null,null,null,null,null,null,{"$f":"IFERROR(VLOOKUP(ROWS($AE$2:AE862),P862:Q2765,2,0),\"\")","v":""},null,null,null,null,{"$f":"IFERROR(VLOOKUP(ROWS($AJ$2:AJ862),O862:Q2765,3,0),\"\")","v":""},null,{"$f":"IFERROR(VLOOKUP(ROWS(AL$2:$AL862),N862:Q2765,4,0),\"\")","v":""}]
[null,null,null,null,null,null,null,null,null,null,null,null,null,0,0,0,"birla sl corporate bond fund rp","MBS2049","Credit Oppur.",null,null,null,null,null,null,null,null,null,null,null,{"$f":"IFERROR(VLOOKUP(ROWS($AE$2:AE863),P863:Q2766,2,0),\"\")","v":""},null,null,null,null,{"$f":"IFERROR(VLOOKUP(ROWS($AJ$2:AJ863),O863:Q2766,3,0),\"\")","v":""},null,{"$f":"IFERROR(VLOOKUP(ROWS(AL$2:$AL863),N863:Q2766,4,0),\"\")","v":""}]
[null,null,null,null,null,null,null,null,null,null,null,null,null,0,0,0,"escorts short term debt fund","MES020","Floating debt short term",null,null,null,null,null,null,null,null,null,null,null,{"$f":"IFERROR(VLOOKUP(ROWS($AE$2:AE864),P864:Q2767,2,0),\"\")","v":""},null,null,null,null,{"$f":"IFERROR(VLOOKUP(ROWS($AJ$2:AJ864),O864:Q2767,3,0),\"\")","v":""},null,{"$f":"IFERROR(VLOOKUP(ROWS(AL$2:$AL864),N864:Q2767,4,0),\"\")","v":""}]
[null,null,null,null,null,null,null,null,null,null,null,null,null,0,0,0,"can robeco savings plus stp","MCA250","Floating debt short term",null,null,null,null,null,null,null,null,null,null,null,{"$f":"IFERROR(VLOOKUP(ROWS($AE$2:AE865),P865:Q2768,2,0),\"\")","v":""},null,null,null,null,{"$f":"IFERROR(VLOOKUP(ROWS($AJ$2:AJ865),O865:Q2768,3,0),\"\")","v":""},null,{"$f":"IFERROR(VLOOKUP(ROWS(AL$2:$AL865),N865:Q2768,4,0),\"\")","v":""}]
[null,null,null,null,null,null,null,null,null,null,null,null,null,0,0,0,"can robeco savings plus stp","MCA031","Floating debt short term",null,null,null,null,null,null,null,null,null,null,null,{"$f":"IFERROR(VLOOKUP(ROWS($AE$2:AE866),P866:Q2769,2,0),\"\")","v":""},null,null,null,null,{"$f":"IFERROR(VLOOKUP(ROWS($AJ$2:AJ866),O866:Q2769,3,0),\"\")","v":""},null,{"$f":"IFERROR(VLOOKUP(ROWS(AL$2:$AL866),N866:Q2769,4,0),\"\")","v":""}]
[null,null,null,null,null,null,null,null,null,null,null,null,null,0,0,0,"sbi savings fund","MSB053","Floating debt short term",null,null,null,null,null,null,null,null,null,null,null,{"$f":"IFERROR(VLOOKUP(ROWS($AE$2:AE867),P867:Q2770,2,0),\"\")","v":""},null,null,null,null,{"$f":"IFERROR(VLOOKUP(ROWS($AJ$2:AJ867),O867:Q2770,3,0),\"\")","v":""},null,{"$f":"IFERROR(VLOOKUP(ROWS(AL$2:$AL867),N867:Q2770,4,0),\"\")","v":""}]
[null,null,null,null,null,null,null,null,null,null,null,null,null,0,0,0,"l t floating rate fund","MCC045","Floating debt short term",null,null,null,null,null,null,null,null,null,null,null,{"$f":"IFERROR(VLOOKUP(ROWS($AE$2:AE868),P868:Q2771,2,0),\"\")","v":""},null,null,null,null,{"$f":"IFERROR(VLOOKUP(ROWS($AJ$2:AJ868),O868:Q2771,3,0),\"\")","v":""},null,{"$f":"IFERROR(VLOOKUP(ROWS(AL$2:$AL868),N868:Q2771,4,0),\"\")","v":""}]
[null,null,null,null,null,null,null,null,null,null,null,null,null,0,0,0,"pramerica short term floating","MPA037","Floating debt short term",null,null,null,null,null,null,null,null,null,null,null,{"$f":"IFERROR(VLOOKUP(ROWS($AE$2:AE869),P869:Q2772,2,0),\"\")","v":""},null,null,null,null,{"$f":"IFERROR(VLOOKUP(ROWS($AJ$2:AJ869),O869:Q2772,3,0),\"\")","v":""},null,{"$f":"IFERROR(VLOOKUP(ROWS(AL$2:$AL869),N869:Q2772,4,0),\"\")","v":""}]
[null,null,null,null,null,null,null,null,null,null,null,null,null,0,0,0,"jm floater st fund","MJM033","Floating debt short term",null,null,null,null,null,null,null,null,null,null,null,{"$f":"IFERROR(VLOOKUP(ROWS($AE$2:AE870),P870:Q2773,2,0),\"\")","v":""},null,null,null,null,{"$f":"IFERROR(VLOOKUP(ROWS($AJ$2:AJ870),O870:Q2773,3,0),\"\")","v":""},null,{"$f":"IFERROR(VLOOKUP(ROWS(AL$2:$AL870),N870:Q2773,4,0),\"\")","v":""}]
[null,null,null,null,null,null,null,null,null,null,null,null,null,0,0,0,"franklin i savings plus sip","MTE119","Floating Rate Debt - Long Term",null,null,null,null,null,null,null,null,null,null,null,{"$f":"IFERROR(VLOOKUP(ROWS($AE$2:AE871),P871:Q2774,2,0),\"\")","v":""},null,null,null,null,{"$f":"IFERROR(VLOOKUP(ROWS($AJ$2:AJ871),O871:Q2774,3,0),\"\")","v":""},null,{"$f":"IFERROR(VLOOKUP(ROWS(AL$2:$AL871),N871:Q2774,4,0),\"\")","v":""}]
[null,null,null,null,null,null,null,null,null,null,null,null,null,0,0,0,"sbi corporate bond fund","MSB055","Floating Rate Debt - Long Term",null,null,null,null,null,null,null,null,null,null,null,{"$f":"IFERROR(VLOOKUP(ROWS($AE$2:AE872),P872:Q2775,2,0),\"\")","v":""},null,null,null,null,{"$f":"IFERROR(VLOOKUP(ROWS($AJ$2:AJ872),O872:Q2775,3,0),\"\")","v":""},null,{"$f":"IFERROR(VLOOKUP(ROWS(AL$2:$AL872),N872:Q2775,4,0),\"\")","v":""}]
[null,null,null,null,null,null,null,null,null,null,null,null,null,0,0,0,"jm floater ltf premium","MJM057","Floating Rate Debt - Long Term",null,null,null,null,null,null,null,null,null,null,null,{"$f":"IFERROR(VLOOKUP(ROWS($AE$2:AE873),P873:Q2776,2,0),\"\")","v":""},null,null,null,null,{"$f":"IFERROR(VLOOKUP(ROWS($AJ$2:AJ873),O873:Q2776,3,0),\"\")","v":""},null,{"$f":"IFERROR(VLOOKUP(ROWS(AL$2:$AL873),N873:Q2776,4,0),\"\")","v":""}]
[null,null,null,null,null,null,null,null,null,null,null,null,null,0,0,0,"jm floater long term fund","MJM035","Floating Rate Debt - Long Term",null,null,null,null,null,null,null,null,null,null,null,{"$f":"IFERROR(VLOOKUP(ROWS($AE$2:AE874),P874:Q2777,2,0),\"\")","v":""},null,null,null,null,{"$f":"IFERROR(VLOOKUP(ROWS($AJ$2:AJ874),O874:Q2777,3,0),\"\")","v":""},null,{"$f":"IFERROR(VLOOKUP(ROWS(AL$2:$AL874),N874:Q2777,4,0),\"\")","v":""}]
[null,null,null,null,null,null,null,null,null,null,null,null,null,0,0,0,"franklin i savings plus rp","MTE019","Floating Rate Debt - Long Term",null,null,null,null,null,null,null,null,null,null,null,{"$f":"IFERROR(VLOOKUP(ROWS($AE$2:AE875),P875:Q2778,2,0),\"\")","v":""},null,null,null,null,{"$f":"IFERROR(VLOOKUP(ROWS($AJ$2:AJ875),O875:Q2778,3,0),\"\")","v":""},null,{"$f":"IFERROR(VLOOKUP(ROWS(AL$2:$AL875),N875:Q2778,4,0),\"\")","v":""}]
[null,null,null,null,null,null,null,null,null,null,null,null,null,0,0,0,"franklin i savings plus ip","MTE088","Floating Rate Debt - Long Term",null,null,null,null,null,null,null,null,null,null,null,{"$f":"IFERROR(VLOOKUP(ROWS($AE$2:AE876),P876:Q2779,2,0),\"\")","v":""},null,null,null,null,{"$f":"IFERROR(VLOOKUP(ROWS($AJ$2:AJ876),O876:Q2779,3,0),\"\")","v":""},null,{"$f":"IFERROR(VLOOKUP(ROWS(AL$2:$AL876),N876:Q2779,4,0),\"\")","v":""}]
[null,null,null,null,null,null,null,null,null,null,null,null,null,0,0,0,"hdfc floating rate inc ltp","MHD022","Floating Rate Debt - Long Term",null,null,null,null,null,null,null,null,null,null,null,{"$f":"IFERROR(VLOOKUP(ROWS($AE$2:AE877),P877:Q2780,2,0),\"\")","v":""},null,null,null,null,{"$f":"IFERROR(VLOOKUP(ROWS($AJ$2:AJ877),O877:Q2780,3,0),\"\")","v":""},null,{"$f":"IFERROR(VLOOKUP(ROWS(AL$2:$AL877),N877:Q2780,4,0),\"\")","v":""}]
[null,null,null,null,null,null,null,null,null,null,null,null,null,0,0,0,"tata floating rate ltp","MTA068","Floating Rate Debt - Long Term",null,null,null,null,null,null,null,null,null,null,null,{"$f":"IFERROR(VLOOKUP(ROWS($AE$2:AE878),P878:Q2781,2,0),\"\")","v":""},null,null,null,null,{"$f":"IFERROR(VLOOKUP(ROWS($AJ$2:AJ878),O878:Q2781,3,0),\"\")","v":""},null,{"$f":"IFERROR(VLOOKUP(ROWS(AL$2:$AL878),N878:Q2781,4,0),\"\")","v":""}]
[null,null,null,null,null,null,null,null,null,null,null,null,null,{"$f":"IF(ISNUMBER(SEARCH($H$16,Q879)),MAX($N$1,N878)+1,0)","v":0},{"$f":"IF(ISNUMBER(SEARCH($H$11,Q879)),MAX($O$1,O878)+1,0)","v":0},{"$f":"IF(ISNUMBER(SEARCH($H$6,Q879)),MAX($P$1,P878)+1,0)","v":0},"kotak corporate bond institutional","MAI029","Ultra Short term debt",null,null,null,null,null,null,null,null,null,null,null,{"$f":"IFERROR(VLOOKUP(ROWS($AE$2:AE879),P879:Q2782,2,0),\"\")","v":""},null,null,null,null,{"$f":"IFERROR(VLOOKUP(ROWS($AJ$2:AJ879),O879:Q2782,3,0),\"\")","v":""},null,{"$f":"IFERROR(VLOOKUP(ROWS(AL$2:$AL879),N879:Q2782,4,0),\"\")","v":""}]
[null,null,null,null,null,null,null,null,null,null,null,null,null,0,0,0,"kotak corporate bond retail","MAI023","Ultra Short term debt",null,null,null,null,null,null,null,null,null,null,null,{"$f":"IFERROR(VLOOKUP(ROWS($AE$2:AE880),P880:Q2783,2,0),\"\")","v":""},null,null,null,null,{"$f":"IFERROR(VLOOKUP(ROWS($AJ$2:AJ880),O880:Q2783,3,0),\"\")","v":""},null,{"$f":"IFERROR(VLOOKUP(ROWS(AL$2:$AL880),N880:Q2783,4,0),\"\")","v":""}]
[null,null,null,null,null,null,null,null,null,null,null,null,null,0,0,0,"kotak corporate bond standard","MAI035","Ultra Short term debt",null,null,null,null,null,null,null,null,null,null,null,{"$f":"IFERROR(VLOOKUP(ROWS($AE$2:AE881),P881:Q2784,2,0),\"\")","v":""},null,null,null,null,{"$f":"IFERROR(VLOOKUP(ROWS($AJ$2:AJ881),O881:Q2784,3,0),\"\")","v":""},null,{"$f":"IFERROR(VLOOKUP(ROWS(AL$2:$AL881),N881:Q2784,4,0),\"\")","v":""}]
[null,null,null,null,null,null,null,null,null,null,null,null,null,0,0,0,"taurus ustbf ip","MCM035","Ultra Short term debt",null,null,null,null,null,null,null,null,null,null,null,{"$f":"IFERROR(VLOOKUP(ROWS($AE$2:AE882),P882:Q2785,2,0),\"\")","v":""},null,null,null,null,{"$f":"IFERROR(VLOOKUP(ROWS($AJ$2:AJ882),O882:Q2785,3,0),\"\")","v":""},null,{"$f":"IFERROR(VLOOKUP(ROWS(AL$2:$AL882),N882:Q2785,4,0),\"\")","v":""}]
[null,null,null,null,null,null,null,null,null,null,null,null,null,0,0,0,"franklin i low duration","MTE280","Ultra Short term debt",null,null,null,null,null,null,null,null,null,null,null,{"$f":"IFERROR(VLOOKUP(ROWS($AE$2:AE883),P883:Q2786,2,0),\"\")","v":""},null,null,null,null,{"$f":"IFERROR(VLOOKUP(ROWS($AJ$2:AJ883),O883:Q2786,3,0),\"\")","v":""},null,{"$f":"IFERROR(VLOOKUP(ROWS(AL$2:$AL883),N883:Q2786,4,0),\"\")","v":""}]
[null,null,null,null,null,null,null,null,null,null,null,null,null,0,0,0,"franklin usbf sip","MTE188","Ultra Short term debt",null,null,null,null,null,null,null,null,null,null,null,{"$f":"IFERROR(VLOOKUP(ROWS($AE$2:AE884),P884:Q2787,2,0),\"\")","v":""},null,null,null,null,{"$f":"IFERROR(VLOOKUP(ROWS($AJ$2:AJ884),O884:Q2787,3,0),\"\")","v":""},null,{"$f":"IFERROR(VLOOKUP(ROWS(AL$2:$AL884),N884:Q2787,4,0),\"\")","v":""}]
[null,null,null,null,null,null,null,null,null,null,null,null,null,0,0,0,"principal dof corporate bond","MID076","Ultra Short term debt",null,null,null,null,null,null,null,null,null,null,null,{"$f":"IFERROR(VLOOKUP(ROWS($AE$2:AE885),P885:Q2788,2,0),\"\")","v":""},null,null,null,null,{"$f":"IFERROR(VLOOKUP(ROWS($AJ$2:AJ885),O885:Q2788,3,0),\"\")","v":""},null,{"$f":"IFERROR(VLOOKUP(ROWS(AL$2:$AL885),N885:Q2788,4,0),\"\")","v":""}]
[null,null,null,null,null,null,null,null,null,null,null,null,null,0,0,0,"hdfc banking psu debt reg","MHD2059","Ultra Short term debt",null,null,null,null,null,null,null,null,null,null,null,{"$f":"IFERROR(VLOOKUP(ROWS($AE$2:AE886),P886:Q2789,2,0),\"\")","v":""},null,null,null,null,{"$f":"IFERROR(VLOOKUP(ROWS($AJ$2:AJ886),O886:Q2789,3,0),\"\")","v":""},null,{"$f":"IFERROR(VLOOKUP(ROWS(AL$2:$AL886),N886:Q2789,4,0),\"\")","v":""}]
[null,null,null,null,null,null,null,null,null,null,null,null,null,0,0,0,"reliance floating rate","MRC068","Ultra Short term debt",null,null,null,null,null,null,null,null,null,null,null,{"$f":"IFERROR(VLOOKUP(ROWS($AE$2:AE887),P887:Q2790,2,0),\"\")","v":""},null,null,null,null,{"$f":"IFERROR(VLOOKUP(ROWS($AJ$2:AJ887),O887:Q2790,3,0),\"\")","v":""},null,{"$f":"IFERROR(VLOOKUP(ROWS(AL$2:$AL887),N887:Q2790,4,0),\"\")","v":""}]
[null,null,null,null,null,null,null,null,null,null,null,null,null,0,0,0,"sbi treasury advtantage dir","MSA033","Ultra Short term debt",null,null,null,null,null,null,null,null,null,null,null,{"$f":"IFERROR(VLOOKUP(ROWS($AE$2:AE888),P888:Q2791,2,0),\"\")","v":""},null,null,null,null,{"$f":"IFERROR(VLOOKUP(ROWS($AJ$2:AJ888),O888:Q2791,3,0),\"\")","v":""},null,{"$f":"IFERROR(VLOOKUP(ROWS(AL$2:$AL888),N888:Q2791,4,0),\"\")","v":""}]
[null,null,null,null,null,null,null,null,null,null,null,null,null,0,0,0,"dws cash oppor rp","MDE065","Ultra Short term debt",null,null,null,null,null,null,null,null,null,null,null,{"$f":"IFERROR(VLOOKUP(ROWS($AE$2:AE889),P889:Q2792,2,0),\"\")","v":""},null,null,null,null,{"$f":"IFERROR(VLOOKUP(ROWS($AJ$2:AJ889),O889:Q2792,3,0),\"\")","v":""},null,{"$f":"IFERROR(VLOOKUP(ROWS(AL$2:$AL889),N889:Q2792,4,0),\"\")","v":""}]
[null,null,null,null,null,null,null,null,null,null,null,null,null,0,0,0,"tata treasury manager ship","MTA173","Ultra Short term debt",null,null,null,null,null,null,null,null,null,null,null,{"$f":"IFERROR(VLOOKUP(ROWS($AE$2:AE890),P890:Q2793,2,0),\"\")","v":""},null,null,null,null,{"$f":"IFERROR(VLOOKUP(ROWS($AJ$2:AJ890),O890:Q2793,3,0),\"\")","v":""},null,{"$f":"IFERROR(VLOOKUP(ROWS(AL$2:$AL890),N890:Q2793,4,0),\"\")","v":""}]
[null,null,null,null,null,null,null,null,null,null,null,null,null,0,0,0,"franklin usbf ip","MTE186","Ultra Short term debt",null,null,null,null,null,null,null,null,null,null,null,{"$f":"IFERROR(VLOOKUP(ROWS($AE$2:AE891),P891:Q2794,2,0),\"\")","v":""},null,null,null,null,{"$f":"IFERROR(VLOOKUP(ROWS($AJ$2:AJ891),O891:Q2794,3,0),\"\")","v":""},null,{"$f":"IFERROR(VLOOKUP(ROWS(AL$2:$AL891),N891:Q2794,4,0),\"\")","v":""}]
[null,null,null,null,null,null,null,null,null,null,null,null,null,0,0,0,"icici pru ultra short term","MPI670","Ultra Short term debt",null,null,null,null,null,null,null,null,null,null,null,{"$f":"IFERROR(VLOOKUP(ROWS($AE$2:AE892),P892:Q2795,2,0),\"\")","v":""},null,null,null,null,{"$f":"IFERROR(VLOOKUP(ROWS($AJ$2:AJ892),O892:Q2795,3,0),\"\")","v":""},null,{"$f":"IFERROR(VLOOKUP(ROWS(AL$2:$AL892),N892:Q2795,4,0),\"\")","v":""}]
[null,null,null,null,null,null,null,null,null,null,null,null,null,0,0,0,"icici pru ultra stp rp","MPI658","Ultra Short term debt",null,null,null,null,null,null,null,null,null,null,null,{"$f":"IFERROR(VLOOKUP(ROWS($AE$2:AE893),P893:Q2796,2,0),\"\")","v":""},null,null,null,null,{"$f":"IFERROR(VLOOKUP(ROWS($AJ$2:AJ893),O893:Q2796,3,0),\"\")","v":""},null,{"$f":"IFERROR(VLOOKUP(ROWS(AL$2:$AL893),N893:Q2796,4,0),\"\")","v":""}]
[null,null,null,null,null,null,null,null,null,null,null,null,null,0,0,0,"dws ultra short term fund","MDE194","Ultra Short term debt",null,null,null,null,null,null,null,null,null,null,null,{"$f":"IFERROR(VLOOKUP(ROWS($AE$2:AE894),P894:Q2797,2,0),\"\")","v":""},null,null,null,null,{"$f":"IFERROR(VLOOKUP(ROWS($AJ$2:AJ894),O894:Q2797,3,0),\"\")","v":""},null,{"$f":"IFERROR(VLOOKUP(ROWS(AL$2:$AL894),N894:Q2797,4,0),\"\")","v":""}]
[null,null,null,null,null,null,null,null,null,null,null,null,null,0,0,0,"sbi treasury advantage","MSA014","Ultra Short term debt",null,null,null,null,null,null,null,null,null,null,null,{"$f":"IFERROR(VLOOKUP(ROWS($AE$2:AE895),P895:Q2798,2,0),\"\")","v":""},null,null,null,null,{"$f":"IFERROR(VLOOKUP(ROWS($AJ$2:AJ895),O895:Q2798,3,0),\"\")","v":""},null,{"$f":"IFERROR(VLOOKUP(ROWS(AL$2:$AL895),N895:Q2798,4,0),\"\")","v":""}]
[null,null,null,null,null,null,null,null,null,null,null,null,null,0,0,0,"taurus ustbf sip","MCM038","Ultra Short term debt",null,null,null,null,null,null,null,null,null,null,null,{"$f":"IFERROR(VLOOKUP(ROWS($AE$2:AE896),P896:Q2799,2,0),\"\")","v":""},null,null,null,null,{"$f":"IFERROR(VLOOKUP(ROWS($AJ$2:AJ896),O896:Q2799,3,0),\"\")","v":""},null,{"$f":"IFERROR(VLOOKUP(ROWS(AL$2:$AL896),N896:Q2799,4,0),\"\")","v":""}]
[null,null,null,null,null,null,null,null,null,null,null,null,null,0,0,0,"birla sl saving fund dap ","MBS466","Ultra Short term debt",null,null,null,null,null,null,null,null,null,null,null,{"$f":"IFERROR(VLOOKUP(ROWS($AE$2:AE897),P897:Q2800,2,0),\"\")","v":""},null,null,null,null,{"$f":"IFERROR(VLOOKUP(ROWS($AJ$2:AJ897),O897:Q2800,3,0),\"\")","v":""},null,{"$f":"IFERROR(VLOOKUP(ROWS(AL$2:$AL897),N897:Q2800,4,0),\"\")","v":""}]
[null,null,null,null,null,null,null,null,null,null,null,null,null,0,0,0,"birla sl saving fund ip","MBS037","Ultra Short term debt",null,null,null,null,null,null,null,null,null,null,null,{"$f":"IFERROR(VLOOKUP(ROWS($AE$2:AE898),P898:Q2801,2,0),\"\")","v":""},null,null,null,null,{"$f":"IFERROR(VLOOKUP(ROWS($AJ$2:AJ898),O898:Q2801,3,0),\"\")","v":""},null,{"$f":"IFERROR(VLOOKUP(ROWS(AL$2:$AL898),N898:Q2801,4,0),\"\")","v":""}]
[null,null,null,null,null,null,null,null,null,null,null,null,null,0,0,0,"birla sl saving fund rp","MBS024","Ultra Short term debt",null,null,null,null,null,null,null,null,null,null,null,{"$f":"IFERROR(VLOOKUP(ROWS($AE$2:AE899),P899:Q2802,2,0),\"\")","v":""},null,null,null,null,{"$f":"IFERROR(VLOOKUP(ROWS($AJ$2:AJ899),O899:Q2802,3,0),\"\")","v":""},null,{"$f":"IFERROR(VLOOKUP(ROWS(AL$2:$AL899),N899:Q2802,4,0),\"\")","v":""}]
[null,null,null,null,null,null,null,null,null,null,null,null,null,0,0,0,"baroda pioneer taf plan a","MBO038","Ultra Short term debt",null,null,null,null,null,null,null,null,null,null,null,{"$f":"IFERROR(VLOOKUP(ROWS($AE$2:AE900),P900:Q2803,2,0),\"\")","v":""},null,null,null,null,{"$f":"IFERROR(VLOOKUP(ROWS($AJ$2:AJ900),O900:Q2803,3,0),\"\")","v":""},null,{"$f":"IFERROR(VLOOKUP(ROWS(AL$2:$AL900),N900:Q2803,4,0),\"\")","v":""}]
[null,null,null,null,null,null,null,null,null,null,null,null,null,0,0,0,"icici pru ultra stp sp+","MPI676","Ultra Short term debt",null,null,null,null,null,null,null,null,null,null,null,{"$f":"IFERROR(VLOOKUP(ROWS($AE$2:AE901),P901:Q2804,2,0),\"\")","v":""},null,null,null,null,{"$f":"IFERROR(VLOOKUP(ROWS($AJ$2:AJ901),O901:Q2804,3,0),\"\")","v":""},null,{"$f":"IFERROR(VLOOKUP(ROWS(AL$2:$AL901),N901:Q2804,4,0),\"\")","v":""}]
[null,null,null,null,null,null,null,null,null,null,null,null,null,0,0,0,"icici pru ultra stp pp","MPI664","Ultra Short term debt",null,null,null,null,null,null,null,null,null,null,null,{"$f":"IFERROR(VLOOKUP(ROWS($AE$2:AE902),P902:Q2805,2,0),\"\")","v":""},null,null,null,null,{"$f":"IFERROR(VLOOKUP(ROWS($AJ$2:AJ902),O902:Q2805,3,0),\"\")","v":""},null,{"$f":"IFERROR(VLOOKUP(ROWS(AL$2:$AL902),N902:Q2805,4,0),\"\")","v":""}]
[null,null,null,null,null,null,null,null,null,null,null,null,null,0,0,0,"birla sl frf ltp reg ","MBS460","Ultra Short term debt",null,null,null,null,null,null,null,null,null,null,null,{"$f":"IFERROR(VLOOKUP(ROWS($AE$2:AE903),P903:Q2806,2,0),\"\")","v":""},null,null,null,null,{"$f":"IFERROR(VLOOKUP(ROWS($AJ$2:AJ903),O903:Q2806,3,0),\"\")","v":""},null,{"$f":"IFERROR(VLOOKUP(ROWS(AL$2:$AL903),N903:Q2806,4,0),\"\")","v":""}]
[null,null,null,null,null,null,null,null,null,null,null,null,null,0,0,0,"birla sl frf ltp rp","MBS043","Ultra Short term debt",null,null,null,null,null,null,null,null,null,null,null,{"$f":"IFERROR(VLOOKUP(ROWS($AE$2:AE904),P904:Q2807,2,0),\"\")","v":""},null,null,null,null,{"$f":"IFERROR(VLOOKUP(ROWS($AJ$2:AJ904),O904:Q2807,3,0),\"\")","v":""},null,{"$f":"IFERROR(VLOOKUP(ROWS(AL$2:$AL904),N904:Q2807,4,0),\"\")","v":""}]
[null,null,null,null,null,null,null,null,null,null,null,null,null,0,0,0,"reliance medium term fund","MRC010","Ultra Short term debt",null,null,null,null,null,null,null,null,null,null,null,{"$f":"IFERROR(VLOOKUP(ROWS($AE$2:AE905),P905:Q2808,2,0),\"\")","v":""},null,null,null,null,{"$f":"IFERROR(VLOOKUP(ROWS($AJ$2:AJ905),O905:Q2808,3,0),\"\")","v":""},null,{"$f":"IFERROR(VLOOKUP(ROWS(AL$2:$AL905),N905:Q2808,4,0),\"\")","v":""}]
[null,null,null,null,null,null,null,null,null,null,null,null,null,0,0,0,"hdfc floating rate inc stp wp","MHD247","Ultra Short term debt",null,null,null,null,null,null,null,null,null,null,null,{"$f":"IFERROR(VLOOKUP(ROWS($AE$2:AE906),P906:Q2809,2,0),\"\")","v":""},null,null,null,null,{"$f":"IFERROR(VLOOKUP(ROWS($AJ$2:AJ906),O906:Q2809,3,0),\"\")","v":""},null,{"$f":"IFERROR(VLOOKUP(ROWS(AL$2:$AL906),N906:Q2809,4,0),\"\")","v":""}]
[null,null,null,null,null,null,null,null,null,null,null,null,null,0,0,0,"taurus short term income","MCM006","Ultra Short term debt",null,null,null,null,null,null,null,null,null,null,null,{"$f":"IFERROR(VLOOKUP(ROWS($AE$2:AE907),P907:Q2810,2,0),\"\")","v":""},null,null,null,null,{"$f":"IFERROR(VLOOKUP(ROWS($AJ$2:AJ907),O907:Q2810,3,0),\"\")","v":""},null,{"$f":"IFERROR(VLOOKUP(ROWS(AL$2:$AL907),N907:Q2810,4,0),\"\")","v":""}]
[null,null,null,null,null,null,null,null,null,null,null,null,null,0,0,0,"icici pru flexi income","MPI036","Ultra Short term debt",null,null,null,null,null,null,null,null,null,null,null,{"$f":"IFERROR(VLOOKUP(ROWS($AE$2:AE908),P908:Q2811,2,0),\"\")","v":""},null,null,null,null,{"$f":"IFERROR(VLOOKUP(ROWS($AJ$2:AJ908),O908:Q2811,3,0),\"\")","v":""},null,{"$f":"IFERROR(VLOOKUP(ROWS(AL$2:$AL908),N908:Q2811,4,0),\"\")","v":""}]
[null,null,null,null,null,null,null,null,null,null,null,null,null,0,0,0,"dws low duration fund ip","MDE052","Ultra Short term debt",null,null,null,null,null,null,null,null,null,null,null,{"$f":"IFERROR(VLOOKUP(ROWS($AE$2:AE909),P909:Q2812,2,0),\"\")","v":""},null,null,null,null,{"$f":"IFERROR(VLOOKUP(ROWS($AJ$2:AJ909),O909:Q2812,3,0),\"\")","v":""},null,{"$f":"IFERROR(VLOOKUP(ROWS(AL$2:$AL909),N909:Q2812,4,0),\"\")","v":""}]
[null,null,null,null,null,null,null,null,null,null,null,null,null,0,0,0,"indiabulls ultra short term","MIM006","Ultra Short term debt",null,null,null,null,null,null,null,null,null,null,null,{"$f":"IFERROR(VLOOKUP(ROWS($AE$2:AE910),P910:Q2813,2,0),\"\")","v":""},null,null,null,null,{"$f":"IFERROR(VLOOKUP(ROWS($AJ$2:AJ910),O910:Q2813,3,0),\"\")","v":""},null,{"$f":"IFERROR(VLOOKUP(ROWS(AL$2:$AL910),N910:Q2813,4,0),\"\")","v":""}]
[null,null,null,null,null,null,null,null,null,null,null,null,null,0,0,0,"kotak treasury advantage regular","MKM065","Ultra Short term debt",null,null,null,null,null,null,null,null,null,null,null,{"$f":"IFERROR(VLOOKUP(ROWS($AE$2:AE911),P911:Q2814,2,0),\"\")","v":""},null,null,null,null,{"$f":"IFERROR(VLOOKUP(ROWS($AJ$2:AJ911),O911:Q2814,3,0),\"\")","v":""},null,{"$f":"IFERROR(VLOOKUP(ROWS(AL$2:$AL911),N911:Q2814,4,0),\"\")","v":""}]
[null,null,null,null,null,null,null,null,null,null,null,null,null,0,0,0,"bnp paribas money plus dir","MAB742","Ultra Short term debt",null,null,null,null,null,null,null,null,null,null,null,{"$f":"IFERROR(VLOOKUP(ROWS($AE$2:AE912),P912:Q2815,2,0),\"\")","v":""},null,null,null,null,{"$f":"IFERROR(VLOOKUP(ROWS($AJ$2:AJ912),O912:Q2815,3,0),\"\")","v":""},null,{"$f":"IFERROR(VLOOKUP(ROWS(AL$2:$AL912),N912:Q2815,4,0),\"\")","v":""}]
[null,null,null,null,null,null,null,null,null,null,null,null,null,0,0,0,"uti treasury advtg inst","MUT119","Ultra Short term debt",null,null,null,null,null,null,null,null,null,null,null,{"$f":"IFERROR(VLOOKUP(ROWS($AE$2:AE913),P913:Q2816,2,0),\"\")","v":""},null,null,null,null,{"$f":"IFERROR(VLOOKUP(ROWS($AJ$2:AJ913),O913:Q2816,3,0),\"\")","v":""},null,{"$f":"IFERROR(VLOOKUP(ROWS(AL$2:$AL913),N913:Q2816,4,0),\"\")","v":""}]
[null,null,null,null,null,null,null,null,null,null,null,null,null,0,0,0,"idfc ultra short term fund rp","MAG098","Ultra Short term debt",null,null,null,null,null,null,null,null,null,null,null,{"$f":"IFERROR(VLOOKUP(ROWS($AE$2:AE914),P914:Q2817,2,0),\"\")","v":""},null,null,null,null,{"$f":"IFERROR(VLOOKUP(ROWS($AJ$2:AJ914),O914:Q2817,3,0),\"\")","v":""},null,{"$f":"IFERROR(VLOOKUP(ROWS(AL$2:$AL914),N914:Q2817,4,0),\"\")","v":""}]
[null,null,null,null,null,null,null,null,null,null,null,null,null,0,0,0,"franklin usbf rp","MTE184","Ultra Short term debt",null,null,null,null,null,null,null,null,null,null,null,{"$f":"IFERROR(VLOOKUP(ROWS($AE$2:AE915),P915:Q2818,2,0),\"\")","v":""},null,null,null,null,{"$f":"IFERROR(VLOOKUP(ROWS($AJ$2:AJ915),O915:Q2818,3,0),\"\")","v":""},null,{"$f":"IFERROR(VLOOKUP(ROWS(AL$2:$AL915),N915:Q2818,4,0),\"\")","v":""}]
[null,null,null,null,null,null,null,null,null,null,null,null,null,0,0,0,"boi axa treasury adv rp","MBA013","Ultra Short term debt",null,null,null,null,null,null,null,null,null,null,null,{"$f":"IFERROR(VLOOKUP(ROWS($AE$2:AE916),P916:Q2819,2,0),\"\")","v":""},null,null,null,null,{"$f":"IFERROR(VLOOKUP(ROWS($AJ$2:AJ916),O916:Q2819,3,0),\"\")","v":""},null,{"$f":"IFERROR(VLOOKUP(ROWS(AL$2:$AL916),N916:Q2819,4,0),\"\")","v":""}]
[null,null,null,null,null,null,null,null,null,null,null,null,null,0,0,0,"can robeco treasury adv rp","MCA099","Ultra Short term debt",null,null,null,null,null,null,null,null,null,null,null,{"$f":"IFERROR(VLOOKUP(ROWS($AE$2:AE917),P917:Q2820,2,0),\"\")","v":""},null,null,null,null,{"$f":"IFERROR(VLOOKUP(ROWS($AJ$2:AJ917),O917:Q2820,3,0),\"\")","v":""},null,{"$f":"IFERROR(VLOOKUP(ROWS(AL$2:$AL917),N917:Q2820,4,0),\"\")","v":""}]
[null,null,null,null,null,null,null,null,null,null,null,null,null,0,0,0,"boi axa treasury adv ip","MBA017","Ultra Short term debt",null,null,null,null,null,null,null,null,null,null,null,{"$f":"IFERROR(VLOOKUP(ROWS($AE$2:AE918),P918:Q2821,2,0),\"\")","v":""},null,null,null,null,{"$f":"IFERROR(VLOOKUP(ROWS($AJ$2:AJ918),O918:Q2821,3,0),\"\")","v":""},null,{"$f":"IFERROR(VLOOKUP(ROWS(AL$2:$AL918),N918:Q2821,4,0),\"\")","v":""}]
[null,null,null,null,null,null,null,null,null,null,null,null,null,0,0,0,"idfc mmf investment plan rp","MAG077","Ultra Short term debt",null,null,null,null,null,null,null,null,null,null,null,{"$f":"IFERROR(VLOOKUP(ROWS($AE$2:AE919),P919:Q2822,2,0),\"\")","v":""},null,null,null,null,{"$f":"IFERROR(VLOOKUP(ROWS($AJ$2:AJ919),O919:Q2822,3,0),\"\")","v":""},null,{"$f":"IFERROR(VLOOKUP(ROWS(AL$2:$AL919),N919:Q2822,4,0),\"\")","v":""}]
[null,null,null,null,null,null,null,null,null,null,null,null,null,0,0,0,"jpmorgan treasury sip","MJP026","Ultra Short term debt",null,null,null,null,null,null,null,null,null,null,null,{"$f":"IFERROR(VLOOKUP(ROWS($AE$2:AE920),P920:Q2823,2,0),\"\")","v":""},null,null,null,null,{"$f":"IFERROR(VLOOKUP(ROWS($AJ$2:AJ920),O920:Q2823,3,0),\"\")","v":""},null,{"$f":"IFERROR(VLOOKUP(ROWS(AL$2:$AL920),N920:Q2823,4,0),\"\")","v":""}]
[null,null,null,null,null,null,null,null,null,null,null,null,null,0,0,0,"idfc mmf investment plan a","MAG074","Ultra Short term debt",null,null,null,null,null,null,null,null,null,null,null,{"$f":"IFERROR(VLOOKUP(ROWS($AE$2:AE921),P921:Q2824,2,0),\"\")","v":""},null,null,null,null,{"$f":"IFERROR(VLOOKUP(ROWS($AJ$2:AJ921),O921:Q2824,3,0),\"\")","v":""},null,{"$f":"IFERROR(VLOOKUP(ROWS(AL$2:$AL921),N921:Q2824,4,0),\"\")","v":""}]
[null,null,null,null,null,null,null,null,null,null,null,null,null,0,0,0,"axis banking debt fund","MAA165","Ultra Short term debt",null,null,null,null,null,null,null,null,null,null,null,{"$f":"IFERROR(VLOOKUP(ROWS($AE$2:AE922),P922:Q2825,2,0),\"\")","v":""},null,null,null,null,{"$f":"IFERROR(VLOOKUP(ROWS($AJ$2:AJ922),O922:Q2825,3,0),\"\")","v":""},null,{"$f":"IFERROR(VLOOKUP(ROWS(AL$2:$AL922),N922:Q2825,4,0),\"\")","v":""}]
[null,null,null,null,null,null,null,null,null,null,null,null,null,0,0,0,"kotak banking psu debt dir","MKM551","Ultra Short term debt",null,null,null,null,null,null,null,null,null,null,null,{"$f":"IFERROR(VLOOKUP(ROWS($AE$2:AE923),P923:Q2826,2,0),\"\")","v":""},null,null,null,null,{"$f":"IFERROR(VLOOKUP(ROWS($AJ$2:AJ923),O923:Q2826,3,0),\"\")","v":""},null,{"$f":"IFERROR(VLOOKUP(ROWS(AL$2:$AL923),N923:Q2826,4,0),\"\")","v":""}]
[null,null,null,null,null,null,null,null,null,null,null,null,null,0,0,0,"can robeco treasury adv ip","MCA055","Ultra Short term debt",null,null,null,null,null,null,null,null,null,null,null,{"$f":"IFERROR(VLOOKUP(ROWS($AE$2:AE924),P924:Q2827,2,0),\"\")","v":""},null,null,null,null,{"$f":"IFERROR(VLOOKUP(ROWS($AJ$2:AJ924),O924:Q2827,3,0),\"\")","v":""},null,{"$f":"IFERROR(VLOOKUP(ROWS(AL$2:$AL924),N924:Q2827,4,0),\"\")","v":""}]
[null,null,null,null,null,null,null,null,null,null,null,null,null,0,0,0,"pramerica treasury advantage","MPA027","Ultra Short term debt",null,null,null,null,null,null,null,null,null,null,null,{"$f":"IFERROR(VLOOKUP(ROWS($AE$2:AE925),P925:Q2828,2,0),\"\")","v":""},null,null,null,null,{"$f":"IFERROR(VLOOKUP(ROWS($AJ$2:AJ925),O925:Q2828,3,0),\"\")","v":""},null,{"$f":"IFERROR(VLOOKUP(ROWS(AL$2:$AL925),N925:Q2828,4,0),\"\")","v":""}]
[null,null,null,null,null,null,null,null,null,null,null,null,null,0,0,0,"idfc banking debt fund regular","MAG839","Ultra Short term debt",null,null,null,null,null,null,null,null,null,null,null,{"$f":"IFERROR(VLOOKUP(ROWS($AE$2:AE926),P926:Q2829,2,0),\"\")","v":""},null,null,null,null,{"$f":"IFERROR(VLOOKUP(ROWS($AJ$2:AJ926),O926:Q2829,3,0),\"\")","v":""},null,{"$f":"IFERROR(VLOOKUP(ROWS(AL$2:$AL926),N926:Q2829,4,0),\"\")","v":""}]
[null,null,null,null,null,null,null,null,null,null,null,null,null,0,0,0,"religare invesco credit opp","MLI343","Ultra Short term debt",null,null,null,null,null,null,null,null,null,null,null,{"$f":"IFERROR(VLOOKUP(ROWS($AE$2:AE927),P927:Q2830,2,0),\"\")","v":""},null,null,null,null,{"$f":"IFERROR(VLOOKUP(ROWS($AJ$2:AJ927),O927:Q2830,3,0),\"\")","v":""},null,{"$f":"IFERROR(VLOOKUP(ROWS(AL$2:$AL927),N927:Q2830,4,0),\"\")","v":""}]
[null,null,null,null,null,null,null,null,null,null,null,null,null,0,0,0,"sbi shdf ustbf ip","MSB099","Ultra Short term debt",null,null,null,null,null,null,null,null,null,null,null,{"$f":"IFERROR(VLOOKUP(ROWS($AE$2:AE928),P928:Q2831,2,0),\"\")","v":""},null,null,null,null,{"$f":"IFERROR(VLOOKUP(ROWS($AJ$2:AJ928),O928:Q2831,3,0),\"\")","v":""},null,{"$f":"IFERROR(VLOOKUP(ROWS(AL$2:$AL928),N928:Q2831,4,0),\"\")","v":""}]
[null,null,null,null,null,null,null,null,null,null,null,null,null,0,0,0,"sbi ultra short term bond rp","MSB094","Ultra Short term debt",null,null,null,null,null,null,null,null,null,null,null,{"$f":"IFERROR(VLOOKUP(ROWS($AE$2:AE929),P929:Q2832,2,0),\"\")","v":""},null,null,null,null,{"$f":"IFERROR(VLOOKUP(ROWS($AJ$2:AJ929),O929:Q2832,3,0),\"\")","v":""},null,{"$f":"IFERROR(VLOOKUP(ROWS(AL$2:$AL929),N929:Q2832,4,0),\"\")","v":""}]
[null,null,null,null,null,null,null,null,null,null,null,null,null,0,0,0,"tata floater fund","MTA137","Ultra Short term debt",null,null,null,null,null,null,null,null,null,null,null,{"$f":"IFERROR(VLOOKUP(ROWS($AE$2:AE930),P930:Q2833,2,0),\"\")","v":""},null,null,null,null,{"$f":"IFERROR(VLOOKUP(ROWS($AJ$2:AJ930),O930:Q2833,3,0),\"\")","v":""},null,{"$f":"IFERROR(VLOOKUP(ROWS(AL$2:$AL930),N930:Q2833,4,0),\"\")","v":""}]
[null,null,null,null,null,null,null,null,null,null,null,null,null,0,0,0,"sundaram flexi inc stp ip","MSN070","Ultra Short term debt",null,null,null,null,null,null,null,null,null,null,null,{"$f":"IFERROR(VLOOKUP(ROWS($AE$2:AE931),P931:Q2834,2,0),\"\")","v":""},null,null,null,null,{"$f":"IFERROR(VLOOKUP(ROWS($AJ$2:AJ931),O931:Q2834,3,0),\"\")","v":""},null,{"$f":"IFERROR(VLOOKUP(ROWS(AL$2:$AL931),N931:Q2834,4,0),\"\")","v":""}]
[null,null,null,null,null,null,null,null,null,null,null,null,null,0,0,0,"kotak banking psu debt rp","MKM001","Ultra Short term debt",null,null,null,null,null,null,null,null,null,null,null,{"$f":"IFERROR(VLOOKUP(ROWS($AE$2:AE932),P932:Q2835,2,0),\"\")","v":""},null,null,null,null,{"$f":"IFERROR(VLOOKUP(ROWS($AJ$2:AJ932),O932:Q2835,3,0),\"\")","v":""},null,{"$f":"IFERROR(VLOOKUP(ROWS(AL$2:$AL932),N932:Q2835,4,0),\"\")","v":""}]
[null,null,null,null,null,null,null,null,null,null,null,null,null,0,0,0,"hdfc cmf treasury advan dir","MHD1182","Ultra Short term debt",null,null,null,null,null,null,null,null,null,null,null,{"$f":"IFERROR(VLOOKUP(ROWS($AE$2:AE933),P933:Q2836,2,0),\"\")","v":""},null,null,null,null,{"$f":"IFERROR(VLOOKUP(ROWS($AJ$2:AJ933),O933:Q2836,3,0),\"\")","v":""},null,{"$f":"IFERROR(VLOOKUP(ROWS(AL$2:$AL933),N933:Q2836,4,0),\"\")","v":""}]
[null,null,null,null,null,null,null,null,null,null,null,null,null,0,0,0,"hdfc floating rate inc stp rp","MHD024","Ultra Short term debt",null,null,null,null,null,null,null,null,null,null,null,{"$f":"IFERROR(VLOOKUP(ROWS($AE$2:AE934),P934:Q2837,2,0),\"\")","v":""},null,null,null,null,{"$f":"IFERROR(VLOOKUP(ROWS($AJ$2:AJ934),O934:Q2837,3,0),\"\")","v":""},null,{"$f":"IFERROR(VLOOKUP(ROWS(AL$2:$AL934),N934:Q2837,4,0),\"\")","v":""}]
[null,null,null,null,null,null,null,null,null,null,null,null,null,0,0,0,"edelweiss ultra stbf ip","MEW025","Ultra Short term debt",null,null,null,null,null,null,null,null,null,null,null,{"$f":"IFERROR(VLOOKUP(ROWS($AE$2:AE935),P935:Q2838,2,0),\"\")","v":""},null,null,null,null,{"$f":"IFERROR(VLOOKUP(ROWS($AJ$2:AJ935),O935:Q2838,3,0),\"\")","v":""},null,{"$f":"IFERROR(VLOOKUP(ROWS(AL$2:$AL935),N935:Q2838,4,0),\"\")","v":""}]
[null,null,null,null,null,null,null,null,null,null,null,null,null,0,0,0,"hdfc cmf treasury advan wp","MHD064","Ultra Short term debt",null,null,null,null,null,null,null,null,null,null,null,{"$f":"IFERROR(VLOOKUP(ROWS($AE$2:AE936),P936:Q2839,2,0),\"\")","v":""},null,null,null,null,{"$f":"IFERROR(VLOOKUP(ROWS($AJ$2:AJ936),O936:Q2839,3,0),\"\")","v":""},null,{"$f":"IFERROR(VLOOKUP(ROWS(AL$2:$AL936),N936:Q2839,4,0),\"\")","v":""}]
[null,null,null,null,null,null,null,null,null,null,null,null,null,0,0,0,"dsp br money manager ip","MDS053","Ultra Short term debt",null,null,null,null,null,null,null,null,null,null,null,{"$f":"IFERROR(VLOOKUP(ROWS($AE$2:AE937),P937:Q2840,2,0),\"\")","v":""},null,null,null,null,{"$f":"IFERROR(VLOOKUP(ROWS($AJ$2:AJ937),O937:Q2840,3,0),\"\")","v":""},null,{"$f":"IFERROR(VLOOKUP(ROWS(AL$2:$AL937),N937:Q2840,4,0),\"\")","v":""}]
[null,null,null,null,null,null,null,null,null,null,null,null,null,0,0,0,"l t ultra short term fund","MCC021","Ultra Short term debt",null,null,null,null,null,null,null,null,null,null,null,{"$f":"IFERROR(VLOOKUP(ROWS($AE$2:AE938),P938:Q2841,2,0),\"\")","v":""},null,null,null,null,{"$f":"IFERROR(VLOOKUP(ROWS($AJ$2:AJ938),O938:Q2841,3,0),\"\")","v":""},null,{"$f":"IFERROR(VLOOKUP(ROWS(AL$2:$AL938),N938:Q2841,4,0),\"\")","v":""}]
[null,null,null,null,null,null,null,null,null,null,null,null,null,0,0,0,"tata treasury manager rip","MTA167","Ultra Short term debt",null,null,null,null,null,null,null,null,null,null,null,{"$f":"IFERROR(VLOOKUP(ROWS($AE$2:AE939),P939:Q2842,2,0),\"\")","v":""},null,null,null,null,{"$f":"IFERROR(VLOOKUP(ROWS($AJ$2:AJ939),O939:Q2842,3,0),\"\")","v":""},null,{"$f":"IFERROR(VLOOKUP(ROWS(AL$2:$AL939),N939:Q2842,4,0),\"\")","v":""}]
[null,null,null,null,null,null,null,null,null,null,null,null,null,0,0,0,"tata treasury manager regular plan","MTA169","Ultra Short term debt",null,null,null,null,null,null,null,null,null,null,null,{"$f":"IFERROR(VLOOKUP(ROWS($AE$2:AE940),P940:Q2843,2,0),\"\")","v":""},null,null,null,null,{"$f":"IFERROR(VLOOKUP(ROWS($AJ$2:AJ940),O940:Q2843,3,0),\"\")","v":""},null,{"$f":"IFERROR(VLOOKUP(ROWS(AL$2:$AL940),N940:Q2843,4,0),\"\")","v":""}]
[null,null,null,null,null,null,null,null,null,null,null,null,null,0,0,0,"idfc mmf treasury plan ip b","MAG039","Ultra Short term debt",null,null,null,null,null,null,null,null,null,null,null,{"$f":"IFERROR(VLOOKUP(ROWS($AE$2:AE941),P941:Q2844,2,0),\"\")","v":""},null,null,null,null,{"$f":"IFERROR(VLOOKUP(ROWS($AJ$2:AJ941),O941:Q2844,3,0),\"\")","v":""},null,{"$f":"IFERROR(VLOOKUP(ROWS(AL$2:$AL941),N941:Q2844,4,0),\"\")","v":""}]
[null,null,null,null,null,null,null,null,null,null,null,null,null,0,0,0,"jm money manager fund spp","MJM074","Ultra Short term debt",null,null,null,null,null,null,null,null,null,null,null,{"$f":"IFERROR(VLOOKUP(ROWS($AE$2:AE942),P942:Q2845,2,0),\"\")","v":""},null,null,null,null,{"$f":"IFERROR(VLOOKUP(ROWS($AJ$2:AJ942),O942:Q2845,3,0),\"\")","v":""},null,{"$f":"IFERROR(VLOOKUP(ROWS(AL$2:$AL942),N942:Q2845,4,0),\"\")","v":""}]
[null,null,null,null,null,null,null,null,null,null,null,null,null,{"$f":"IF(ISNUMBER(SEARCH($H$16,Q943)),MAX($N$1,N942)+1,0)","v":0},{"$f":"IF(ISNUMBER(SEARCH($H$11,Q943)),MAX($O$1,O942)+1,0)","v":0},{"$f":"IF(ISNUMBER(SEARCH($H$6,Q943)),MAX($P$1,P942)+1,0)","v":0},"principal bank cd fund","MID138","Ultra Short term debt",null,null,null,null,null,null,null,null,null,null,null,{"$f":"IFERROR(VLOOKUP(ROWS($AE$2:AE943),P943:Q2846,2,0),\"\")","v":""},null,null,null,null,{"$f":"IFERROR(VLOOKUP(ROWS($AJ$2:AJ943),O943:Q2846,3,0),\"\")","v":""},null,{"$f":"IFERROR(VLOOKUP(ROWS(AL$2:$AL943),N943:Q2846,4,0),\"\")","v":""}]
[null,null,null,null,null,null,null,null,null,null,null,null,null,0,0,0,"idfc mmf treasury plan c sip","MAG056","Ultra Short term debt",null,null,null,null,null,null,null,null,null,null,null,{"$f":"IFERROR(VLOOKUP(ROWS($AE$2:AE944),P944:Q2847,2,0),\"\")","v":""},null,null,null,null,{"$f":"IFERROR(VLOOKUP(ROWS($AJ$2:AJ944),O944:Q2847,3,0),\"\")","v":""},null,{"$f":"IFERROR(VLOOKUP(ROWS(AL$2:$AL944),N944:Q2847,4,0),\"\")","v":""}]
[null,null,null,null,null,null,null,null,null,null,null,null,null,0,0,0,"dws ultra short term fund pp","MDE349","Ultra Short term debt",null,null,null,null,null,null,null,null,null,null,null,{"$f":"IFERROR(VLOOKUP(ROWS($AE$2:AE945),P945:Q2848,2,0),\"\")","v":""},null,null,null,null,{"$f":"IFERROR(VLOOKUP(ROWS($AJ$2:AJ945),O945:Q2848,3,0),\"\")","v":""},null,{"$f":"IFERROR(VLOOKUP(ROWS(AL$2:$AL945),N945:Q2848,4,0),\"\")","v":""}]
[null,null,null,null,null,null,null,null,null,null,null,null,null,0,0,0,"idfc mmf treasury plan rp","MAG020","Ultra Short term debt",null,null,null,null,null,null,null,null,null,null,null,{"$f":"IFERROR(VLOOKUP(ROWS($AE$2:AE946),P946:Q2849,2,0),\"\")","v":""},null,null,null,null,{"$f":"IFERROR(VLOOKUP(ROWS($AJ$2:AJ946),O946:Q2849,3,0),\"\")","v":""},null,{"$f":"IFERROR(VLOOKUP(ROWS(AL$2:$AL946),N946:Q2849,4,0),\"\")","v":""}]
[null,null,null,null,null,null,null,null,null,null,null,null,null,0,0,0,"jm money manager fund rp","MJM070","Ultra Short term debt",null,null,null,null,null,null,null,null,null,null,null,{"$f":"IFERROR(VLOOKUP(ROWS($AE$2:AE947),P947:Q2850,2,0),\"\")","v":""},null,null,null,null,{"$f":"IFERROR(VLOOKUP(ROWS($AJ$2:AJ947),O947:Q2850,3,0),\"\")","v":""},null,{"$f":"IFERROR(VLOOKUP(ROWS(AL$2:$AL947),N947:Q2850,4,0),\"\")","v":""}]
[null,null,null,null,null,null,null,null,null,null,null,null,null,0,0,0,"reliance money mgr ip","MRC129","Ultra Short term debt",null,null,null,null,null,null,null,null,null,null,null,{"$f":"IFERROR(VLOOKUP(ROWS($AE$2:AE948),P948:Q2851,2,0),\"\")","v":""},null,null,null,null,{"$f":"IFERROR(VLOOKUP(ROWS($AJ$2:AJ948),O948:Q2851,3,0),\"\")","v":""},null,{"$f":"IFERROR(VLOOKUP(ROWS(AL$2:$AL948),N948:Q2851,4,0),\"\")","v":""}]
[null,null,null,null,null,null,null,null,null,null,null,null,null,0,0,0,"icici pru savings fund plan","MPI119","Ultra Short term debt",null,null,null,null,null,null,null,null,null,null,null,{"$f":"IFERROR(VLOOKUP(ROWS($AE$2:AE949),P949:Q2852,2,0),\"\")","v":""},null,null,null,null,{"$f":"IFERROR(VLOOKUP(ROWS($AJ$2:AJ949),O949:Q2852,3,0),\"\")","v":""},null,{"$f":"IFERROR(VLOOKUP(ROWS(AL$2:$AL949),N949:Q2852,4,0),\"\")","v":""}]
[null,null,null,null,null,null,null,null,null,null,null,null,null,0,0,0,"uti floating rate stp retail","MIL034","Ultra Short term debt",null,null,null,null,null,null,null,null,null,null,null,{"$f":"IFERROR(VLOOKUP(ROWS($AE$2:AE950),P950:Q2853,2,0),\"\")","v":""},null,null,null,null,{"$f":"IFERROR(VLOOKUP(ROWS($AJ$2:AJ950),O950:Q2853,3,0),\"\")","v":""},null,{"$f":"IFERROR(VLOOKUP(ROWS(AL$2:$AL950),N950:Q2853,4,0),\"\")","v":""}]
[null,null,null,null,null,null,null,null,null,null,null,null,null,0,0,0,"hsbc ultra short term bond","MHS061","Ultra Short term debt",null,null,null,null,null,null,null,null,null,null,null,{"$f":"IFERROR(VLOOKUP(ROWS($AE$2:AE951),P951:Q2854,2,0),\"\")","v":""},null,null,null,null,{"$f":"IFERROR(VLOOKUP(ROWS($AJ$2:AJ951),O951:Q2854,3,0),\"\")","v":""},null,{"$f":"IFERROR(VLOOKUP(ROWS(AL$2:$AL951),N951:Q2854,4,0),\"\")","v":""}]
[null,null,null,null,null,null,null,null,null,null,null,null,null,0,0,0,"l t ultra short term fund rp","MCC004","Ultra Short term debt",null,null,null,null,null,null,null,null,null,null,null,{"$f":"IFERROR(VLOOKUP(ROWS($AE$2:AE952),P952:Q2855,2,0),\"\")","v":""},null,null,null,null,{"$f":"IFERROR(VLOOKUP(ROWS($AJ$2:AJ952),O952:Q2855,3,0),\"\")","v":""},null,{"$f":"IFERROR(VLOOKUP(ROWS(AL$2:$AL952),N952:Q2855,4,0),\"\")","v":""}]
[null,null,null,null,null,null,null,null,null,null,null,null,null,0,0,0,"sundaram ultra stf sip","MSN115","Ultra Short term debt",null,null,null,null,null,null,null,null,null,null,null,{"$f":"IFERROR(VLOOKUP(ROWS($AE$2:AE953),P953:Q2856,2,0),\"\")","v":""},null,null,null,null,{"$f":"IFERROR(VLOOKUP(ROWS($AJ$2:AJ953),O953:Q2856,3,0),\"\")","v":""},null,{"$f":"IFERROR(VLOOKUP(ROWS(AL$2:$AL953),N953:Q2856,4,0),\"\")","v":""}]
[null,null,null,null,null,null,null,null,null,null,null,null,null,0,0,0,"bnp paribas money plus rp","MAB035","Ultra Short term debt",null,null,null,null,null,null,null,null,null,null,null,{"$f":"IFERROR(VLOOKUP(ROWS($AE$2:AE954),P954:Q2857,2,0),\"\")","v":""},null,null,null,null,{"$f":"IFERROR(VLOOKUP(ROWS($AJ$2:AJ954),O954:Q2857,3,0),\"\")","v":""},null,{"$f":"IFERROR(VLOOKUP(ROWS(AL$2:$AL954),N954:Q2857,4,0),\"\")","v":""}]
[null,null,null,null,null,null,null,null,null,null,null,null,null,0,0,0,"idfc mmf treasury plan f","MAG370","Ultra Short term debt",null,null,null,null,null,null,null,null,null,null,null,{"$f":"IFERROR(VLOOKUP(ROWS($AE$2:AE955),P955:Q2858,2,0),\"\")","v":""},null,null,null,null,{"$f":"IFERROR(VLOOKUP(ROWS($AJ$2:AJ955),O955:Q2858,3,0),\"\")","v":""},null,{"$f":"IFERROR(VLOOKUP(ROWS(AL$2:$AL955),N955:Q2858,4,0),\"\")","v":""}]
[null,null,null,null,null,null,null,null,null,null,null,null,null,0,0,0,"can robeco treasury adv rp","MCA025","Ultra Short term debt",null,null,null,null,null,null,null,null,null,null,null,{"$f":"IFERROR(VLOOKUP(ROWS($AE$2:AE956),P956:Q2859,2,0),\"\")","v":""},null,null,null,null,{"$f":"IFERROR(VLOOKUP(ROWS($AJ$2:AJ956),O956:Q2859,3,0),\"\")","v":""},null,{"$f":"IFERROR(VLOOKUP(ROWS(AL$2:$AL956),N956:Q2859,4,0),\"\")","v":""}]
[null,null,null,null,null,null,null,null,null,null,null,null,null,0,0,0,"uti floating rate stp ip","MUT405","Ultra Short term debt",null,null,null,null,null,null,null,null,null,null,null,{"$f":"IFERROR(VLOOKUP(ROWS($AE$2:AE957),P957:Q2860,2,0),\"\")","v":""},null,null,null,null,{"$f":"IFERROR(VLOOKUP(ROWS($AJ$2:AJ957),O957:Q2860,3,0),\"\")","v":""},null,{"$f":"IFERROR(VLOOKUP(ROWS(AL$2:$AL957),N957:Q2860,4,0),\"\")","v":""}]
[null,null,null,null,null,null,null,null,null,null,null,null,null,0,0,0,"religare invesco ultra stf","MLI016","Ultra Short term debt",null,null,null,null,null,null,null,null,null,null,null,{"$f":"IFERROR(VLOOKUP(ROWS($AE$2:AE958),P958:Q2861,2,0),\"\")","v":""},null,null,null,null,{"$f":"IFERROR(VLOOKUP(ROWS($AJ$2:AJ958),O958:Q2861,3,0),\"\")","v":""},null,{"$f":"IFERROR(VLOOKUP(ROWS(AL$2:$AL958),N958:Q2861,4,0),\"\")","v":""}]
[null,null,null,null,null,null,null,null,null,null,null,null,null,0,0,0,"jm money manager fund sp","MJM072","Ultra Short term debt",null,null,null,null,null,null,null,null,null,null,null,{"$f":"IFERROR(VLOOKUP(ROWS($AE$2:AE959),P959:Q2862,2,0),\"\")","v":""},null,null,null,null,{"$f":"IFERROR(VLOOKUP(ROWS($AJ$2:AJ959),O959:Q2862,3,0),\"\")","v":""},null,{"$f":"IFERROR(VLOOKUP(ROWS(AL$2:$AL959),N959:Q2862,4,0),\"\")","v":""}]
[null,null,null,null,null,null,null,null,null,null,null,null,null,0,0,0,"hsbc floating rate fund ltp","MHS045","Ultra Short term debt",null,null,null,null,null,null,null,null,null,null,null,{"$f":"IFERROR(VLOOKUP(ROWS($AE$2:AE960),P960:Q2863,2,0),\"\")","v":""},null,null,null,null,{"$f":"IFERROR(VLOOKUP(ROWS($AJ$2:AJ960),O960:Q2863,3,0),\"\")","v":""},null,{"$f":"IFERROR(VLOOKUP(ROWS(AL$2:$AL960),N960:Q2863,4,0),\"\")","v":""}]
[null,null,null,null,null,null,null,null,null,null,null,null,null,0,0,0,"dws treasury investment rp","MDE269","Ultra Short term debt",null,null,null,null,null,null,null,null,null,null,null,{"$f":"IFERROR(VLOOKUP(ROWS($AE$2:AE961),P961:Q2864,2,0),\"\")","v":""},null,null,null,null,{"$f":"IFERROR(VLOOKUP(ROWS($AJ$2:AJ961),O961:Q2864,3,0),\"\")","v":""},null,{"$f":"IFERROR(VLOOKUP(ROWS(AL$2:$AL961),N961:Q2864,4,0),\"\")","v":""}]
[null,null,null,null,null,null,null,null,null,null,null,null,null,0,0,0,"birla sun life cash manager","MAC005","Ultra Short term debt",null,null,null,null,null,null,null,null,null,null,null,{"$f":"IFERROR(VLOOKUP(ROWS($AE$2:AE962),P962:Q2865,2,0),\"\")","v":""},null,null,null,null,{"$f":"IFERROR(VLOOKUP(ROWS($AJ$2:AJ962),O962:Q2865,3,0),\"\")","v":""},null,{"$f":"IFERROR(VLOOKUP(ROWS(AL$2:$AL962),N962:Q2865,4,0),\"\")","v":""}]
[null,null,null,null,null,null,null,null,null,null,null,null,null,0,0,0,"axis treasury advantage reg ","MAA005","Ultra Short term debt",null,null,null,null,null,null,null,null,null,null,null,{"$f":"IFERROR(VLOOKUP(ROWS($AE$2:AE963),P963:Q2866,2,0),\"\")","v":""},null,null,null,null,{"$f":"IFERROR(VLOOKUP(ROWS($AJ$2:AJ963),O963:Q2866,3,0),\"\")","v":""},null,{"$f":"IFERROR(VLOOKUP(ROWS(AL$2:$AL963),N963:Q2866,4,0),\"\")","v":""}]
[null,null,null,null,null,null,null,null,null,null,null,null,null,0,0,0,"icici pru savings fund a","MPI092","Ultra Short term debt",null,null,null,null,null,null,null,null,null,null,null,{"$f":"IFERROR(VLOOKUP(ROWS($AE$2:AE964),P964:Q2867,2,0),\"\")","v":""},null,null,null,null,{"$f":"IFERROR(VLOOKUP(ROWS($AJ$2:AJ964),O964:Q2867,3,0),\"\")","v":""},null,{"$f":"IFERROR(VLOOKUP(ROWS(AL$2:$AL964),N964:Q2867,4,0),\"\")","v":""}]
[null,null,null,null,null,null,null,null,null,null,null,null,null,0,0,0,"taurus ustbf rp","MCM032","Ultra Short term debt",null,null,null,null,null,null,null,null,null,null,null,{"$f":"IFERROR(VLOOKUP(ROWS($AE$2:AE965),P965:Q2868,2,0),\"\")","v":""},null,null,null,null,{"$f":"IFERROR(VLOOKUP(ROWS($AJ$2:AJ965),O965:Q2868,3,0),\"\")","v":""},null,{"$f":"IFERROR(VLOOKUP(ROWS(AL$2:$AL965),N965:Q2868,4,0),\"\")","v":""}]
[null,null,null,null,null,null,null,null,null,null,null,null,null,0,0,0,"uti treasury advtg rp","MIL001","Ultra Short term debt",null,null,null,null,null,null,null,null,null,null,null,{"$f":"IFERROR(VLOOKUP(ROWS($AE$2:AE966),P966:Q2869,2,0),\"\")","v":""},null,null,null,null,{"$f":"IFERROR(VLOOKUP(ROWS($AJ$2:AJ966),O966:Q2869,3,0),\"\")","v":""},null,{"$f":"IFERROR(VLOOKUP(ROWS(AL$2:$AL966),N966:Q2869,4,0),\"\")","v":""}]
[null,null,null,null,null,null,null,null,null,null,null,null,null,0,0,0,"icici pru savings fund b","MPI048","Ultra Short term debt",null,null,null,null,null,null,null,null,null,null,null,{"$f":"IFERROR(VLOOKUP(ROWS($AE$2:AE967),P967:Q2870,2,0),\"\")","v":""},null,null,null,null,{"$f":"IFERROR(VLOOKUP(ROWS($AJ$2:AJ967),O967:Q2870,3,0),\"\")","v":""},null,{"$f":"IFERROR(VLOOKUP(ROWS(AL$2:$AL967),N967:Q2870,4,0),\"\")","v":""}]
[null,null,null,null,null,null,null,null,null,null,null,null,null,0,0,0,"union kbc ultra stdf","MUK016","Ultra Short term debt",null,null,null,null,null,null,null,null,null,null,null,{"$f":"IFERROR(VLOOKUP(ROWS($AE$2:AE968),P968:Q2871,2,0),\"\")","v":""},null,null,null,null,{"$f":"IFERROR(VLOOKUP(ROWS($AJ$2:AJ968),O968:Q2871,3,0),\"\")","v":""},null,{"$f":"IFERROR(VLOOKUP(ROWS(AL$2:$AL968),N968:Q2871,4,0),\"\")","v":""}]
[null,null,null,null,null,null,null,null,null,null,null,null,null,0,0,0,"lic nomura savings plus fund","MJB023","Ultra Short term debt",null,null,null,null,null,null,null,null,null,null,null,{"$f":"IFERROR(VLOOKUP(ROWS($AE$2:AE969),P969:Q2872,2,0),\"\")","v":""},null,null,null,null,{"$f":"IFERROR(VLOOKUP(ROWS($AJ$2:AJ969),O969:Q2872,3,0),\"\")","v":""},null,{"$f":"IFERROR(VLOOKUP(ROWS(AL$2:$AL969),N969:Q2872,4,0),\"\")","v":""}]
[null,null,null,null,null,null,null,null,null,null,null,null,null,0,0,0,"pramerica ultra short term bond","MPA006","Ultra Short term debt",null,null,null,null,null,null,null,null,null,null,null,{"$f":"IFERROR(VLOOKUP(ROWS($AE$2:AE970),P970:Q2873,2,0),\"\")","v":""},null,null,null,null,{"$f":"IFERROR(VLOOKUP(ROWS($AJ$2:AJ970),O970:Q2873,3,0),\"\")","v":""},null,{"$f":"IFERROR(VLOOKUP(ROWS(AL$2:$AL970),N970:Q2873,4,0),\"\")","v":""}]
[null,null,null,null,null,null,null,null,null,null,null,null,null,0,0,0,"reliance money mgr rp","MRC123","Ultra Short term debt",null,null,null,null,null,null,null,null,null,null,null,{"$f":"IFERROR(VLOOKUP(ROWS($AE$2:AE971),P971:Q2874,2,0),\"\")","v":""},null,null,null,null,{"$f":"IFERROR(VLOOKUP(ROWS($AJ$2:AJ971),O971:Q2874,3,0),\"\")","v":""},null,{"$f":"IFERROR(VLOOKUP(ROWS(AL$2:$AL971),N971:Q2874,4,0),\"\")","v":""}]
[null,null,null,null,null,null,null,null,null,null,null,null,null,0,0,0,"dsp br money manager rp","MDS050","Ultra Short term debt",null,null,null,null,null,null,null,null,null,null,null,{"$f":"IFERROR(VLOOKUP(ROWS($AE$2:AE972),P972:Q2875,2,0),\"\")","v":""},null,null,null,null,{"$f":"IFERROR(VLOOKUP(ROWS($AJ$2:AJ972),O972:Q2875,3,0),\"\")","v":""},null,{"$f":"IFERROR(VLOOKUP(ROWS(AL$2:$AL972),N972:Q2875,4,0),\"\")","v":""}]
[null,null,null,null,null,null,null,null,null,null,null,null,null,0,0,0,"peerless ultra short term sip","MPM021","Ultra Short term debt",null,null,null,null,null,null,null,null,null,null,null,{"$f":"IFERROR(VLOOKUP(ROWS($AE$2:AE973),P973:Q2876,2,0),\"\")","v":""},null,null,null,null,{"$f":"IFERROR(VLOOKUP(ROWS($AJ$2:AJ973),O973:Q2876,3,0),\"\")","v":""},null,{"$f":"IFERROR(VLOOKUP(ROWS(AL$2:$AL973),N973:Q2876,4,0),\"\")","v":""}]
[null,null,null,null,null,null,null,null,null,null,null,null,null,0,0,0,"icici pru savings fund c","MPI095","Ultra Short term debt",null,null,null,null,null,null,null,null,null,null,null,{"$f":"IFERROR(VLOOKUP(ROWS($AE$2:AE974),P974:Q2877,2,0),\"\")","v":""},null,null,null,null,{"$f":"IFERROR(VLOOKUP(ROWS($AJ$2:AJ974),O974:Q2877,3,0),\"\")","v":""},null,{"$f":"IFERROR(VLOOKUP(ROWS(AL$2:$AL974),N974:Q2877,4,0),\"\")","v":""}]
[null,null,null,null,null,null,null,null,null,null,null,null,null,0,0,0,"hsbc ultra stbf reg plan","MHS058","Ultra Short term debt",null,null,null,null,null,null,null,null,null,null,null,{"$f":"IFERROR(VLOOKUP(ROWS($AE$2:AE975),P975:Q2878,2,0),\"\")","v":""},null,null,null,null,{"$f":"IFERROR(VLOOKUP(ROWS($AJ$2:AJ975),O975:Q2878,3,0),\"\")","v":""},null,{"$f":"IFERROR(VLOOKUP(ROWS(AL$2:$AL975),N975:Q2878,4,0),\"\")","v":""}]
[null,null,null,null,null,null,null,null,null,null,null,null,null,0,0,0,"jpmorgan treasury rp","MJP005","Ultra Short term debt",null,null,null,null,null,null,null,null,null,null,null,{"$f":"IFERROR(VLOOKUP(ROWS($AE$2:AE976),P976:Q2879,2,0),\"\")","v":""},null,null,null,null,{"$f":"IFERROR(VLOOKUP(ROWS($AJ$2:AJ976),O976:Q2879,3,0),\"\")","v":""},null,{"$f":"IFERROR(VLOOKUP(ROWS(AL$2:$AL976),N976:Q2879,4,0),\"\")","v":""}]
[null,null,null,null,null,null,null,null,null,null,null,null,null,0,0,0,"edelweiss ultra stbf rp","MEW019","Ultra Short term debt",null,null,null,null,null,null,null,null,null,null,null,{"$f":"IFERROR(VLOOKUP(ROWS($AE$2:AE977),P977:Q2880,2,0),\"\")","v":""},null,null,null,null,{"$f":"IFERROR(VLOOKUP(ROWS($AJ$2:AJ977),O977:Q2880,3,0),\"\")","v":""},null,{"$f":"IFERROR(VLOOKUP(ROWS(AL$2:$AL977),N977:Q2880,4,0),\"\")","v":""}]
[null,null,null,null,null,null,null,null,null,null,null,null,null,0,0,0,"baroda pioneer taf rp","MBO033","Ultra Short term debt",null,null,null,null,null,null,null,null,null,null,null,{"$f":"IFERROR(VLOOKUP(ROWS($AE$2:AE978),P978:Q2881,2,0),\"\")","v":""},null,null,null,null,{"$f":"IFERROR(VLOOKUP(ROWS($AJ$2:AJ978),O978:Q2881,3,0),\"\")","v":""},null,{"$f":"IFERROR(VLOOKUP(ROWS(AL$2:$AL978),N978:Q2881,4,0),\"\")","v":""}]
[null,null,null,null,null,null,null,null,null,null,null,null,null,0,0,0,"idbi ultra short term fund","MIB009","Ultra Short term debt",null,null,null,null,null,null,null,null,null,null,null,{"$f":"IFERROR(VLOOKUP(ROWS($AE$2:AE979),P979:Q2882,2,0),\"\")","v":""},null,null,null,null,{"$f":"IFERROR(VLOOKUP(ROWS($AJ$2:AJ979),O979:Q2882,3,0),\"\")","v":""},null,{"$f":"IFERROR(VLOOKUP(ROWS(AL$2:$AL979),N979:Q2882,4,0),\"\")","v":""}]
[null,null,null,null,null,null,null,null,null,null,null,null,null,0,0,0,"principal dof conservative","MID083","Ultra Short term debt",null,null,null,null,null,null,null,null,null,null,null,{"$f":"IFERROR(VLOOKUP(ROWS($AE$2:AE980),P980:Q2883,2,0),\"\")","v":""},null,null,null,null,{"$f":"IFERROR(VLOOKUP(ROWS($AJ$2:AJ980),O980:Q2883,3,0),\"\")","v":""},null,{"$f":"IFERROR(VLOOKUP(ROWS(AL$2:$AL980),N980:Q2883,4,0),\"\")","v":""}]
[null,null,null,null,null,null,null,null,null,null,null,null,null,0,0,0,"icici pru flexi inc retail","MPI639","Ultra Short term debt",null,null,null,null,null,null,null,null,null,null,null,{"$f":"IFERROR(VLOOKUP(ROWS($AE$2:AE981),P981:Q2884,2,0),\"\")","v":""},null,null,null,null,{"$f":"IFERROR(VLOOKUP(ROWS($AJ$2:AJ981),O981:Q2884,3,0),\"\")","v":""},null,{"$f":"IFERROR(VLOOKUP(ROWS(AL$2:$AL981),N981:Q2884,4,0),\"\")","v":""}]
[null,null,null,null,null,null,null,null,null,null,null,null,null,0,0,0,"l t low duration ip","MFF033","Ultra Short term debt",null,null,null,null,null,null,null,null,null,null,null,{"$f":"IFERROR(VLOOKUP(ROWS($AE$2:AE982),P982:Q2885,2,0),\"\")","v":""},null,null,null,null,{"$f":"IFERROR(VLOOKUP(ROWS($AJ$2:AJ982),O982:Q2885,3,0),\"\")","v":""},null,{"$f":"IFERROR(VLOOKUP(ROWS(AL$2:$AL982),N982:Q2885,4,0),\"\")","v":""}]
[null,null,null,null,null,null,null,null,null,null,null,null,null,0,0,0,"l t low duration","MFF037","Ultra Short term debt",null,null,null,null,null,null,null,null,null,null,null,{"$f":"IFERROR(VLOOKUP(ROWS($AE$2:AE983),P983:Q2886,2,0),\"\")","v":""},null,null,null,null,{"$f":"IFERROR(VLOOKUP(ROWS($AJ$2:AJ983),O983:Q2886,3,0),\"\")","v":""},null,{"$f":"IFERROR(VLOOKUP(ROWS(AL$2:$AL983),N983:Q2886,4,0),\"\")","v":""}]
[null,null,null,null,null,null,null,null,null,null,null,null,null,0,0,0,"bnp paribas money plus fund","MAB038","Ultra Short term debt",null,null,null,null,null,null,null,null,null,null,null,{"$f":"IFERROR(VLOOKUP(ROWS($AE$2:AE984),P984:Q2887,2,0),\"\")","v":""},null,null,null,null,{"$f":"IFERROR(VLOOKUP(ROWS($AJ$2:AJ984),O984:Q2887,3,0),\"\")","v":""},null,{"$f":"IFERROR(VLOOKUP(ROWS(AL$2:$AL984),N984:Q2887,4,0),\"\")","v":""}]
[null,null,null,null,null,null,null,null,null,null,null,null,null,0,0,0,"l t low duration rp","MFF029","Ultra Short term debt",null,null,null,null,null,null,null,null,null,null,null,{"$f":"IFERROR(VLOOKUP(ROWS($AE$2:AE985),P985:Q2888,2,0),\"\")","v":""},null,null,null,null,{"$f":"IFERROR(VLOOKUP(ROWS($AJ$2:AJ985),O985:Q2888,3,0),\"\")","v":""},null,{"$f":"IFERROR(VLOOKUP(ROWS(AL$2:$AL985),N985:Q2888,4,0),\"\")","v":""}]
[null,null,null,null,null,null,null,null,null,null,null,null,null,0,0,0,"hdfc cmf treasury advan rp","MZU005","Ultra Short term debt",null,null,null,null,null,null,null,null,null,null,null,{"$f":"IFERROR(VLOOKUP(ROWS($AE$2:AE986),P986:Q2889,2,0),\"\")","v":""},null,null,null,null,{"$f":"IFERROR(VLOOKUP(ROWS($AJ$2:AJ986),O986:Q2889,3,0),\"\")","v":""},null,{"$f":"IFERROR(VLOOKUP(ROWS(AL$2:$AL986),N986:Q2889,4,0),\"\")","v":""}]
[null,null,null,null,null,null,null,null,null,null,null,null,null,0,0,0,"dws cash oppor ip","MDE159","Ultra Short term debt",null,null,null,null,null,null,null,null,null,null,null,{"$f":"IFERROR(VLOOKUP(ROWS($AE$2:AE987),P987:Q2890,2,0),\"\")","v":""},null,null,null,null,{"$f":"IFERROR(VLOOKUP(ROWS($AJ$2:AJ987),O987:Q2890,3,0),\"\")","v":""},null,{"$f":"IFERROR(VLOOKUP(ROWS(AL$2:$AL987),N987:Q2890,4,0),\"\")","v":""}]
[null,null,null,null,null,null,null,null,null,null,null,null,null,0,0,0,"sundaram ultra stf ip","MSN109","Ultra Short term debt",null,null,null,null,null,null,null,null,null,null,null,{"$f":"IFERROR(VLOOKUP(ROWS($AE$2:AE988),P988:Q2891,2,0),\"\")","v":""},null,null,null,null,{"$f":"IFERROR(VLOOKUP(ROWS($AJ$2:AJ988),O988:Q2891,3,0),\"\")","v":""},null,{"$f":"IFERROR(VLOOKUP(ROWS(AL$2:$AL988),N988:Q2891,4,0),\"\")","v":""}]
[null,null,null,null,null,null,null,null,null,null,null,null,null,0,0,0,"hsbc frf ltp rp ","MHS043","Ultra Short term debt",null,null,null,null,null,null,null,null,null,null,null,{"$f":"IFERROR(VLOOKUP(ROWS($AE$2:AE989),P989:Q2892,2,0),\"\")","v":""},null,null,null,null,{"$f":"IFERROR(VLOOKUP(ROWS($AJ$2:AJ989),O989:Q2892,3,0),\"\")","v":""},null,{"$f":"IFERROR(VLOOKUP(ROWS(AL$2:$AL989),N989:Q2892,4,0),\"\")","v":""}]
[null,null,null,null,null,null,null,null,null,null,null,null,null,0,0,0,"religare invesco ultra stf rp","MLI013","Ultra Short term debt",null,null,null,null,null,null,null,null,null,null,null,{"$f":"IFERROR(VLOOKUP(ROWS($AE$2:AE990),P990:Q2893,2,0),\"\")","v":""},null,null,null,null,{"$f":"IFERROR(VLOOKUP(ROWS($AJ$2:AJ990),O990:Q2893,3,0),\"\")","v":""},null,{"$f":"IFERROR(VLOOKUP(ROWS(AL$2:$AL990),N990:Q2893,4,0),\"\")","v":""}]
[null,null,null,null,null,null,null,null,null,null,null,null,null,0,0,0,"religare invesco credit opp rp","MLI341","Ultra Short term debt",null,null,null,null,null,null,null,null,null,null,null,{"$f":"IFERROR(VLOOKUP(ROWS($AE$2:AE991),P991:Q2894,2,0),\"\")","v":""},null,null,null,null,{"$f":"IFERROR(VLOOKUP(ROWS($AJ$2:AJ991),O991:Q2894,3,0),\"\")","v":""},null,{"$f":"IFERROR(VLOOKUP(ROWS(AL$2:$AL991),N991:Q2894,4,0),\"\")","v":""}]
[null,null,null,null,null,null,null,null,null,null,null,null,null,0,0,0,"axis treasury advantage rp","MAA029","Ultra Short term debt",null,null,null,null,null,null,null,null,null,null,null,{"$f":"IFERROR(VLOOKUP(ROWS($AE$2:AE992),P992:Q2895,2,0),\"\")","v":""},null,null,null,null,{"$f":"IFERROR(VLOOKUP(ROWS($AJ$2:AJ992),O992:Q2895,3,0),\"\")","v":""},null,{"$f":"IFERROR(VLOOKUP(ROWS(AL$2:$AL992),N992:Q2895,4,0),\"\")","v":""}]
[null,null,null,null,null,null,null,null,null,null,null,null,null,0,0,0,"idfc mmf treasury plan d","MAG341","Ultra Short term debt",null,null,null,null,null,null,null,null,null,null,null,{"$f":"IFERROR(VLOOKUP(ROWS($AE$2:AE993),P993:Q2896,2,0),\"\")","v":""},null,null,null,null,{"$f":"IFERROR(VLOOKUP(ROWS($AJ$2:AJ993),O993:Q2896,3,0),\"\")","v":""},null,{"$f":"IFERROR(VLOOKUP(ROWS(AL$2:$AL993),N993:Q2896,4,0),\"\")","v":""}]
[null,null,null,null,null,null,null,null,null,null,null,null,null,0,0,0,"dws low duration fund rp","MDE045","Ultra Short term debt",null,null,null,null,null,null,null,null,null,null,null,{"$f":"IFERROR(VLOOKUP(ROWS($AE$2:AE994),P994:Q2897,2,0),\"\")","v":""},null,null,null,null,{"$f":"IFERROR(VLOOKUP(ROWS($AJ$2:AJ994),O994:Q2897,3,0),\"\")","v":""},null,{"$f":"IFERROR(VLOOKUP(ROWS(AL$2:$AL994),N994:Q2897,4,0),\"\")","v":""}]
[null,null,null,null,null,null,null,null,null,null,null,null,null,0,0,0,"sundaram ultra stf rp","MSN103","Ultra Short term debt",null,null,null,null,null,null,null,null,null,null,null,{"$f":"IFERROR(VLOOKUP(ROWS($AE$2:AE995),P995:Q2898,2,0),\"\")","v":""},null,null,null,null,{"$f":"IFERROR(VLOOKUP(ROWS($AJ$2:AJ995),O995:Q2898,3,0),\"\")","v":""},null,{"$f":"IFERROR(VLOOKUP(ROWS(AL$2:$AL995),N995:Q2898,4,0),\"\")","v":""}]
[null,null,null,null,null,null,null,null,null,null,null,null,null,0,0,0,"sundaram flexi inc stp rp","MSN068","Ultra Short term debt",null,null,null,null,null,null,null,null,null,null,null,{"$f":"IFERROR(VLOOKUP(ROWS($AE$2:AE996),P996:Q2899,2,0),\"\")","v":""},null,null,null,null,{"$f":"IFERROR(VLOOKUP(ROWS($AJ$2:AJ996),O996:Q2899,3,0),\"\")","v":""},null,{"$f":"IFERROR(VLOOKUP(ROWS(AL$2:$AL996),N996:Q2899,4,0),\"\")","v":""}]
[null,null,null,null,null,null,null,null,null,null,null,null,null,0,0,0,"dws ultra short term fund rp","MDE026","Ultra Short term debt",null,null,null,null,null,null,null,null,null,null,null,{"$f":"IFERROR(VLOOKUP(ROWS($AE$2:AE997),P997:Q2900,2,0),\"\")","v":""},null,null,null,null,{"$f":"IFERROR(VLOOKUP(ROWS($AJ$2:AJ997),O997:Q2900,3,0),\"\")","v":""},null,{"$f":"IFERROR(VLOOKUP(ROWS(AL$2:$AL997),N997:Q2900,4,0),\"\")","v":""}]
[null,null,null,null,null,null,null,null,null,null,null,null,null,0,0,0,"mirae ultra stbf rp","MMA014","Ultra Short term debt",null,null,null,null,null,null,null,null,null,null,null,{"$f":"IFERROR(VLOOKUP(ROWS($AE$2:AE998),P998:Q2901,2,0),\"\")","v":""},null,null,null,null,{"$f":"IFERROR(VLOOKUP(ROWS($AJ$2:AJ998),O998:Q2901,3,0),\"\")","v":""},null,{"$f":"IFERROR(VLOOKUP(ROWS(AL$2:$AL998),N998:Q2901,4,0),\"\")","v":""}]
[null,null,null,null,null,null,null,null,null,null,null,null,null,0,0,0,"motilal ultra short term bond rp g","MMO013","Ultra Short term debt",null,null,null,null,null,null,null,null,null,null,null,{"$f":"IFERROR(VLOOKUP(ROWS($AE$2:AE999),P999:Q2902,2,0),\"\")","v":""},null,null,null,null,{"$f":"IFERROR(VLOOKUP(ROWS($AJ$2:AJ999),O999:Q2902,3,0),\"\")","v":""},null,{"$f":"IFERROR(VLOOKUP(ROWS(AL$2:$AL999),N999:Q2902,4,0),\"\")","v":""}]
[null,null,null,null,null,null,null,null,null,null,null,null,null,0,0,0,"peerless ultra short term rp","MPM013","Ultra Short term debt",null,null,null,null,null,null,null,null,null,null,null,{"$f":"IFERROR(VLOOKUP(ROWS($AE$2:AE1000),P1000:Q2903,2,0),\"\")","v":""},null,null,null,null,{"$f":"IFERROR(VLOOKUP(ROWS($AJ$2:AJ1000),O1000:Q2903,3,0),\"\")","v":""},null,{"$f":"IFERROR(VLOOKUP(ROWS(AL$2:$AL1000),N1000:Q2903,4,0),\"\")","v":""}]
[null,null,null,null,null,null,null,null,null,null,null,null,null,0,0,0,"dws treasury investment ip","MDE271","Ultra Short term debt",null,null,null,null,null,null,null,null,null,null,null,{"$f":"IFERROR(VLOOKUP(ROWS($AE$2:AE1001),P1001:Q2904,2,0),\"\")","v":""},null,null,null,null,{"$f":"IFERROR(VLOOKUP(ROWS($AJ$2:AJ1001),O1001:Q2904,3,0),\"\")","v":""},null,{"$f":"IFERROR(VLOOKUP(ROWS(AL$2:$AL1001),N1001:Q2904,4,0),\"\")","v":""}]
[null,null,null,null,null,null,null,null,null,null,null,null,null,0,0,0,"lic nomura income plus fund","MJB051","Ultra Short term debt",null,null,null,null,null,null,null,null,null,null,null,{"$f":"IFERROR(VLOOKUP(ROWS($AE$2:AE1002),P1002:Q2905,2,0),\"\")","v":""},null,null,null,null,{"$f":"IFERROR(VLOOKUP(ROWS($AJ$2:AJ1002),O1002:Q2905,3,0),\"\")","v":""},null,{"$f":"IFERROR(VLOOKUP(ROWS(AL$2:$AL1002),N1002:Q2905,4,0),\"\")","v":""}]
[null,null,null,null,null,null,null,null,null,null,null,null,null,0,0,0,"franklin i low duration qd ","MTE010","Ultra Short term debt",null,null,null,null,null,null,null,null,null,null,null,{"$f":"IFERROR(VLOOKUP(ROWS($AE$2:AE1003),P1003:Q2906,2,0),\"\")","v":""},null,null,null,null,{"$f":"IFERROR(VLOOKUP(ROWS($AJ$2:AJ1003),O1003:Q2906,3,0),\"\")","v":""},null,{"$f":"IFERROR(VLOOKUP(ROWS(AL$2:$AL1003),N1003:Q2906,4,0),\"\")","v":""}]
[null,null,null,null,null,null,null,null,null,null,null,null,null,0,0,0,"l t ultra short term fund","MCC498","Ultra Short term debt",null,null,null,null,null,null,null,null,null,null,null,{"$f":"IFERROR(VLOOKUP(ROWS($AE$2:AE1004),P1004:Q2907,2,0),\"\")","v":""},null,null,null,null,{"$f":"IFERROR(VLOOKUP(ROWS($AJ$2:AJ1004),O1004:Q2907,3,0),\"\")","v":""},null,{"$f":"IFERROR(VLOOKUP(ROWS(AL$2:$AL1004),N1004:Q2907,4,0),\"\")","v":""}]
[null,null,null,null,null,null,null,null,null,null,null,null,null,0,0,0,"dsp br ultra short term fund rp","MDS1157","Ultra Short term debt",null,null,null,null,null,null,null,null,null,null,null,{"$f":"IFERROR(VLOOKUP(ROWS($AE$2:AE1005),P1005:Q2908,2,0),\"\")","v":""},null,null,null,null,{"$f":"IFERROR(VLOOKUP(ROWS($AJ$2:AJ1005),O1005:Q2908,3,0),\"\")","v":""},null,{"$f":"IFERROR(VLOOKUP(ROWS(AL$2:$AL1005),N1005:Q2908,4,0),\"\")","v":""}]
[null,null,null,null,null,null,null,null,null,null,null,null,null,0,0,0,"idfc mmf investment plan f","MAG368","Ultra Short term debt",null,null,null,null,null,null,null,null,null,null,null,{"$f":"IFERROR(VLOOKUP(ROWS($AE$2:AE1006),P1006:Q2909,2,0),\"\")","v":""},null,null,null,null,{"$f":"IFERROR(VLOOKUP(ROWS($AJ$2:AJ1006),O1006:Q2909,3,0),\"\")","v":""},null,{"$f":"IFERROR(VLOOKUP(ROWS(AL$2:$AL1006),N1006:Q2909,4,0),\"\")","v":""}]
[null,null,null,null,null,null,null,null,null,null,null,null,null,{"$f":"IF(ISNUMBER(SEARCH($H$16,Q1007)),MAX($N$1,N1006)+1,0)","v":0},{"$f":"IF(ISNUMBER(SEARCH($H$11,Q1007)),MAX($O$1,O1006)+1,0)","v":0},{"$f":"IF(ISNUMBER(SEARCH($H$6,Q1007)),MAX($P$1,P1006)+1,0)","v":0},"hsbc ultra stbf inst plus","MHS065","Ultra Short term debt",null,null,null,null,null,null,null,null,null,null,null,{"$f":"IFERROR(VLOOKUP(ROWS($AE$2:AE1007),P1007:Q2910,2,0),\"\")","v":""},null,null,null,null,{"$f":"IFERROR(VLOOKUP(ROWS($AJ$2:AJ1007),O1007:Q2910,3,0),\"\")","v":""},null,{"$f":"IFERROR(VLOOKUP(ROWS(AL$2:$AL1007),N1007:Q2910,4,0),\"\")","v":""}]
[null,null,null,null,null,null,null,null,null,null,null,null,null,0,0,0,"sbi benchmark g sec fund","MSA018","Gilt Short Term",null,null,null,null,null,null,null,null,null,null,null,{"$f":"IFERROR(VLOOKUP(ROWS($AE$2:AE1008),P1008:Q2911,2,0),\"\")","v":""},null,null,null,null,{"$f":"IFERROR(VLOOKUP(ROWS($AJ$2:AJ1008),O1008:Q2911,3,0),\"\")","v":""},null,{"$f":"IFERROR(VLOOKUP(ROWS(AL$2:$AL1008),N1008:Q2911,4,0),\"\")","v":""}]
[null,null,null,null,null,null,null,null,null,null,null,null,null,0,0,0,"hsbc gilt fund stp","MHS021","Gilt Short Term",null,null,null,null,null,null,null,null,null,null,null,{"$f":"IFERROR(VLOOKUP(ROWS($AE$2:AE1009),P1009:Q2912,2,0),\"\")","v":""},null,null,null,null,{"$f":"IFERROR(VLOOKUP(ROWS($AJ$2:AJ1009),O1009:Q2912,3,0),\"\")","v":""},null,{"$f":"IFERROR(VLOOKUP(ROWS(AL$2:$AL1009),N1009:Q2912,4,0),\"\")","v":""}]
[null,null,null,null,null,null,null,null,null,null,null,null,null,0,0,0,"sbi magnum gilt stp","MSB017","Gilt Short Term",null,null,null,null,null,null,null,null,null,null,null,{"$f":"IFERROR(VLOOKUP(ROWS($AE$2:AE1010),P1010:Q2913,2,0),\"\")","v":""},null,null,null,null,{"$f":"IFERROR(VLOOKUP(ROWS($AJ$2:AJ1010),O1010:Q2913,3,0),\"\")","v":""},null,{"$f":"IFERROR(VLOOKUP(ROWS(AL$2:$AL1010),N1010:Q2913,4,0),\"\")","v":""}]
[null,null,null,null,null,null,null,null,null,null,null,null,null,0,0,0,"idfc gsec stp regular plan","MAG014","Gilt Short Term",null,null,null,null,null,null,null,null,null,null,null,{"$f":"IFERROR(VLOOKUP(ROWS($AE$2:AE1011),P1011:Q2914,2,0),\"\")","v":""},null,null,null,null,{"$f":"IFERROR(VLOOKUP(ROWS($AJ$2:AJ1011),O1011:Q2914,3,0),\"\")","v":""},null,{"$f":"IFERROR(VLOOKUP(ROWS(AL$2:$AL1011),N1011:Q2914,4,0),\"\")","v":""}]
[null,null,null,null,null,null,null,null,null,null,null,null,null,0,0,0,"icici pru short term gilt dir","MPI1208","Gilt Short Term",null,null,null,null,null,null,null,null,null,null,null,{"$f":"IFERROR(VLOOKUP(ROWS($AE$2:AE1012),P1012:Q2915,2,0),\"\")","v":""},null,null,null,null,{"$f":"IFERROR(VLOOKUP(ROWS($AJ$2:AJ1012),O1012:Q2915,3,0),\"\")","v":""},null,{"$f":"IFERROR(VLOOKUP(ROWS(AL$2:$AL1012),N1012:Q2915,4,0),\"\")","v":""}]
[null,null,null,null,null,null,null,null,null,null,null,null,null,0,0,0,"icici pru short term gilt","MPI009","Gilt Short Term",null,null,null,null,null,null,null,null,null,null,null,{"$f":"IFERROR(VLOOKUP(ROWS($AE$2:AE1013),P1013:Q2916,2,0),\"\")","v":""},null,null,null,null,{"$f":"IFERROR(VLOOKUP(ROWS($AJ$2:AJ1013),O1013:Q2916,3,0),\"\")","v":""},null,{"$f":"IFERROR(VLOOKUP(ROWS(AL$2:$AL1013),N1013:Q2916,4,0),\"\")","v":""}]
[null,null,null,null,null,null,null,null,null,null,null,null,null,0,0,0,"tata gilt sec smf","MTA041","Gilt Short Term",null,null,null,null,null,null,null,null,null,null,null,{"$f":"IFERROR(VLOOKUP(ROWS($AE$2:AE1014),P1014:Q2917,2,0),\"\")","v":""},null,null,null,null,{"$f":"IFERROR(VLOOKUP(ROWS($AJ$2:AJ1014),O1014:Q2917,3,0),\"\")","v":""},null,{"$f":"IFERROR(VLOOKUP(ROWS(AL$2:$AL1014),N1014:Q2917,4,0),\"\")","v":""}]
[null,null,null,null,null,null,null,null,null,null,null,null,null,0,0,0,"hdfc gilt fund stp","MHD015","Gilt Short Term",null,null,null,null,null,null,null,null,null,null,null,{"$f":"IFERROR(VLOOKUP(ROWS($AE$2:AE1015),P1015:Q2918,2,0),\"\")","v":""},null,null,null,null,{"$f":"IFERROR(VLOOKUP(ROWS($AJ$2:AJ1015),O1015:Q2918,3,0),\"\")","v":""},null,{"$f":"IFERROR(VLOOKUP(ROWS(AL$2:$AL1015),N1015:Q2918,4,0),\"\")","v":""}]
[null,null,null,null,null,null,null,null,null,null,null,null,null,0,0,0,"mirae gilt savings rp","MMA053","Gilt Short Term",null,null,null,null,null,null,null,null,null,null,null,{"$f":"IFERROR(VLOOKUP(ROWS($AE$2:AE1016),P1016:Q2919,2,0),\"\")","v":""},null,null,null,null,{"$f":"IFERROR(VLOOKUP(ROWS($AJ$2:AJ1016),O1016:Q2919,3,0),\"\")","v":""},null,{"$f":"IFERROR(VLOOKUP(ROWS(AL$2:$AL1016),N1016:Q2919,4,0),\"\")","v":""}]
[null,null,null,null,null,null,null,null,null,null,null,null,null,0,0,0,"religare invesco gilt sdp dp","MLI595","Gilt Short Term",null,null,null,null,null,null,null,null,null,null,null,{"$f":"IFERROR(VLOOKUP(ROWS($AE$2:AE1017),P1017:Q2920,2,0),\"\")","v":""},null,null,null,null,{"$f":"IFERROR(VLOOKUP(ROWS($AJ$2:AJ1017),O1017:Q2920,3,0),\"\")","v":""},null,{"$f":"IFERROR(VLOOKUP(ROWS(AL$2:$AL1017),N1017:Q2920,4,0),\"\")","v":""}]
[null,null,null,null,null,null,null,null,null,null,null,null,null,0,0,0,"uti g sec fund stp","MUT054","Gilt Short Term",null,null,null,null,null,null,null,null,null,null,null,{"$f":"IFERROR(VLOOKUP(ROWS($AE$2:AE1018),P1018:Q2921,2,0),\"\")","v":""},null,null,null,null,{"$f":"IFERROR(VLOOKUP(ROWS($AJ$2:AJ1018),O1018:Q2921,3,0),\"\")","v":""},null,{"$f":"IFERROR(VLOOKUP(ROWS(AL$2:$AL1018),N1018:Q2921,4,0),\"\")","v":""}]
[null,null,null,null,null,null,null,null,null,null,null,null,null,0,0,0,"religare invesco gilt sdp","MLI197","Gilt Short Term",null,null,null,null,null,null,null,null,null,null,null,{"$f":"IFERROR(VLOOKUP(ROWS($AE$2:AE1019),P1019:Q2922,2,0),\"\")","v":""},null,null,null,null,{"$f":"IFERROR(VLOOKUP(ROWS($AJ$2:AJ1019),O1019:Q2922,3,0),\"\")","v":""},null,{"$f":"IFERROR(VLOOKUP(ROWS(AL$2:$AL1019),N1019:Q2922,4,0),\"\")","v":""}]
[null,null,null,null,null,null,null,null,null,null,null,null,null,0,0,0,"dsp br treasury bill fund","MDS015","Gilt Short Term",null,null,null,null,null,null,null,null,null,null,null,{"$f":"IFERROR(VLOOKUP(ROWS($AE$2:AE1020),P1020:Q2923,2,0),\"\")","v":""},null,null,null,null,{"$f":"IFERROR(VLOOKUP(ROWS($AJ$2:AJ1020),O1020:Q2923,3,0),\"\")","v":""},null,{"$f":"IFERROR(VLOOKUP(ROWS(AL$2:$AL1020),N1020:Q2923,4,0),\"\")","v":""}]
[null,null,null,null,null,null,null,null,null,null,null,null,null,0,0,0,"birla sl gilt plus liquid","MBS010","Gilt Short Term",null,null,null,null,null,null,null,null,null,null,null,{"$f":"IFERROR(VLOOKUP(ROWS($AE$2:AE1021),P1021:Q2924,2,0),\"\")","v":""},null,null,null,null,{"$f":"IFERROR(VLOOKUP(ROWS($AJ$2:AJ1021),O1021:Q2924,3,0),\"\")","v":""},null,{"$f":"IFERROR(VLOOKUP(ROWS(AL$2:$AL1021),N1021:Q2924,4,0),\"\")","v":""}]
[null,null,null,null,null,null,null,null,null,null,null,null,null,0,0,0,"birla sl g sec stf rp","MAC019","Gilt Short Term",null,null,null,null,null,null,null,null,null,null,null,{"$f":"IFERROR(VLOOKUP(ROWS($AE$2:AE1022),P1022:Q2925,2,0),\"\")","v":""},null,null,null,null,{"$f":"IFERROR(VLOOKUP(ROWS($AJ$2:AJ1022),O1022:Q2925,3,0),\"\")","v":""},null,{"$f":"IFERROR(VLOOKUP(ROWS(AL$2:$AL1022),N1022:Q2925,4,0),\"\")","v":""}]
[null,null,null,null,null,null,null,null,null,null,null,null,null,0,0,0,"canara robeco gilt advantage","MCA180","Gilt Short Term",null,null,null,null,null,null,null,null,null,null,null,{"$f":"IFERROR(VLOOKUP(ROWS($AE$2:AE1023),P1023:Q2926,2,0),\"\")","v":""},null,null,null,null,{"$f":"IFERROR(VLOOKUP(ROWS($AJ$2:AJ1023),O1023:Q2926,3,0),\"\")","v":""},null,{"$f":"IFERROR(VLOOKUP(ROWS(AL$2:$AL1023),N1023:Q2926,4,0),\"\")","v":""}]
[null,null,null,null,null,null,null,null,null,null,null,null,null,0,0,0,"icici pru gilt tp pf","MPI086","Gilt Short Term",null,null,null,null,null,null,null,null,null,null,null,{"$f":"IFERROR(VLOOKUP(ROWS($AE$2:AE1024),P1024:Q2927,2,0),\"\")","v":""},null,null,null,null,{"$f":"IFERROR(VLOOKUP(ROWS($AJ$2:AJ1024),O1024:Q2927,3,0),\"\")","v":""},null,{"$f":"IFERROR(VLOOKUP(ROWS(AL$2:$AL1024),N1024:Q2927,4,0),\"\")","v":""}]
[null,null,null,null,null,null,null,null,null,null,null,null,null,0,0,0,"icici pru gilt tp pf qd ","MPI1092","Gilt Short Term",null,null,null,null,null,null,null,null,null,null,null,{"$f":"IFERROR(VLOOKUP(ROWS($AE$2:AE1025),P1025:Q2928,2,0),\"\")","v":""},null,null,null,null,{"$f":"IFERROR(VLOOKUP(ROWS($AJ$2:AJ1025),O1025:Q2928,3,0),\"\")","v":""},null,{"$f":"IFERROR(VLOOKUP(ROWS(AL$2:$AL1025),N1025:Q2928,4,0),\"\")","v":""}]
[null,null,null,null,null,null,null,null,null,null,null,null,null,0,0,0,"birla sl g sec stf ip","MBS429","Gilt Short Term",null,null,null,null,null,null,null,null,null,null,null,{"$f":"IFERROR(VLOOKUP(ROWS($AE$2:AE1026),P1026:Q2929,2,0),\"\")","v":""},null,null,null,null,{"$f":"IFERROR(VLOOKUP(ROWS($AJ$2:AJ1026),O1026:Q2929,3,0),\"\")","v":""},null,{"$f":"IFERROR(VLOOKUP(ROWS(AL$2:$AL1026),N1026:Q2929,4,0),\"\")","v":""}]
[null,null,null,null,null,null,null,null,null,null,null,null,null,0,0,0,"idfc gsec stp ip b","MAG320","Gilt Short Term",null,null,null,null,null,null,null,null,null,null,null,{"$f":"IFERROR(VLOOKUP(ROWS($AE$2:AE1027),P1027:Q2930,2,0),\"\")","v":""},null,null,null,null,{"$f":"IFERROR(VLOOKUP(ROWS($AJ$2:AJ1027),O1027:Q2930,3,0),\"\")","v":""},null,{"$f":"IFERROR(VLOOKUP(ROWS(AL$2:$AL1027),N1027:Q2930,4,0),\"\")","v":""}]
[null,null,null,null,null,null,null,null,null,null,null,null,null,0,0,0,"sbi magnum gilt ltp direct","MSB568","Gilt Long Term",null,null,null,null,null,null,null,null,null,null,null,{"$f":"IFERROR(VLOOKUP(ROWS($AE$2:AE1028),P1028:Q2931,2,0),\"\")","v":""},null,null,null,null,{"$f":"IFERROR(VLOOKUP(ROWS($AJ$2:AJ1028),O1028:Q2931,3,0),\"\")","v":""},null,{"$f":"IFERROR(VLOOKUP(ROWS(AL$2:$AL1028),N1028:Q2931,4,0),\"\")","v":""}]
[null,null,null,null,null,null,null,null,null,null,null,null,null,0,0,0,"sbi magnum gilt ltp pf 1yr","MSB040","Gilt Long Term",null,null,null,null,null,null,null,null,null,null,null,{"$f":"IFERROR(VLOOKUP(ROWS($AE$2:AE1029),P1029:Q2932,2,0),\"\")","v":""},null,null,null,null,{"$f":"IFERROR(VLOOKUP(ROWS($AJ$2:AJ1029),O1029:Q2932,3,0),\"\")","v":""},null,{"$f":"IFERROR(VLOOKUP(ROWS(AL$2:$AL1029),N1029:Q2932,4,0),\"\")","v":""}]
[null,null,null,null,null,null,null,null,null,null,null,null,null,0,0,0,"sbi magnum gilt ltp pf 2yr","MSB042","Gilt Long Term",null,null,null,null,null,null,null,null,null,null,null,{"$f":"IFERROR(VLOOKUP(ROWS($AE$2:AE1030),P1030:Q2933,2,0),\"\")","v":""},null,null,null,null,{"$f":"IFERROR(VLOOKUP(ROWS($AJ$2:AJ1030),O1030:Q2933,3,0),\"\")","v":""},null,{"$f":"IFERROR(VLOOKUP(ROWS(AL$2:$AL1030),N1030:Q2933,4,0),\"\")","v":""}]
[null,null,null,null,null,null,null,null,null,null,null,null,null,0,0,0,"sbi magnum gilt ltp pf","MSB038","Gilt Long Term",null,null,null,null,null,null,null,null,null,null,null,{"$f":"IFERROR(VLOOKUP(ROWS($AE$2:AE1031),P1031:Q2934,2,0),\"\")","v":""},null,null,null,null,{"$f":"IFERROR(VLOOKUP(ROWS($AJ$2:AJ1031),O1031:Q2934,3,0),\"\")","v":""},null,{"$f":"IFERROR(VLOOKUP(ROWS(AL$2:$AL1031),N1031:Q2934,4,0),\"\")","v":""}]
[null,null,null,null,null,null,null,null,null,null,null,null,null,0,0,0,"sbi magnum gilt ltp pf 3yr","MSB044","Gilt Long Term",null,null,null,null,null,null,null,null,null,null,null,{"$f":"IFERROR(VLOOKUP(ROWS($AE$2:AE1032),P1032:Q2935,2,0),\"\")","v":""},null,null,null,null,{"$f":"IFERROR(VLOOKUP(ROWS($AJ$2:AJ1032),O1032:Q2935,3,0),\"\")","v":""},null,{"$f":"IFERROR(VLOOKUP(ROWS(AL$2:$AL1032),N1032:Q2935,4,0),\"\")","v":""}]
[null,null,null,null,null,null,null,null,null,null,null,null,null,0,0,0,"sbi magnum gilt ltp","MSB019","Gilt Long Term",null,null,null,null,null,null,null,null,null,null,null,{"$f":"IFERROR(VLOOKUP(ROWS($AE$2:AE1033),P1033:Q2936,2,0),\"\")","v":""},null,null,null,null,{"$f":"IFERROR(VLOOKUP(ROWS($AJ$2:AJ1033),O1033:Q2936,3,0),\"\")","v":""},null,{"$f":"IFERROR(VLOOKUP(ROWS(AL$2:$AL1033),N1033:Q2936,4,0),\"\")","v":""}]
[null,null,null,null,null,null,null,null,null,null,null,null,null,0,0,0,"bnp paribas govt sec ","MAB785","Gilt Long Term",null,null,null,null,null,null,null,null,null,null,null,{"$f":"IFERROR(VLOOKUP(ROWS($AE$2:AE1034),P1034:Q2937,2,0),\"\")","v":""},null,null,null,null,{"$f":"IFERROR(VLOOKUP(ROWS($AJ$2:AJ1034),O1034:Q2937,3,0),\"\")","v":""},null,{"$f":"IFERROR(VLOOKUP(ROWS(AL$2:$AL1034),N1034:Q2937,4,0),\"\")","v":""}]
[null,null,null,null,null,null,null,null,null,null,null,null,null,0,0,0,"hdfc gilt fund ltp","MHD013","Gilt Long Term",null,null,null,null,null,null,null,null,null,null,null,{"$f":"IFERROR(VLOOKUP(ROWS($AE$2:AE1035),P1035:Q2938,2,0),\"\")","v":""},null,null,null,null,{"$f":"IFERROR(VLOOKUP(ROWS($AJ$2:AJ1035),O1035:Q2938,3,0),\"\")","v":""},null,{"$f":"IFERROR(VLOOKUP(ROWS(AL$2:$AL1035),N1035:Q2938,4,0),\"\")","v":""}]
[null,null,null,null,null,null,null,null,null,null,null,null,null,0,0,0,"uti gilt advantage ltp pf","MIL036","Gilt Long Term",null,null,null,null,null,null,null,null,null,null,null,{"$f":"IFERROR(VLOOKUP(ROWS($AE$2:AE1036),P1036:Q2939,2,0),\"\")","v":""},null,null,null,null,{"$f":"IFERROR(VLOOKUP(ROWS($AJ$2:AJ1036),O1036:Q2939,3,0),\"\")","v":""},null,{"$f":"IFERROR(VLOOKUP(ROWS(AL$2:$AL1036),N1036:Q2939,4,0),\"\")","v":""}]
[null,null,null,null,null,null,null,null,null,null,null,null,null,0,0,0,"uti gilt advantage ltp","MIL015","Gilt Long Term",null,null,null,null,null,null,null,null,null,null,null,{"$f":"IFERROR(VLOOKUP(ROWS($AE$2:AE1037),P1037:Q2940,2,0),\"\")","v":""},null,null,null,null,{"$f":"IFERROR(VLOOKUP(ROWS($AJ$2:AJ1037),O1037:Q2940,3,0),\"\")","v":""},null,{"$f":"IFERROR(VLOOKUP(ROWS(AL$2:$AL1037),N1037:Q2940,4,0),\"\")","v":""}]
[null,null,null,null,null,null,null,null,null,null,null,null,null,0,0,0,"jpmorgan india g sec fund dp","MJP233","Gilt Long Term",null,null,null,null,null,null,null,null,null,null,null,{"$f":"IFERROR(VLOOKUP(ROWS($AE$2:AE1038),P1038:Q2941,2,0),\"\")","v":""},null,null,null,null,{"$f":"IFERROR(VLOOKUP(ROWS($AJ$2:AJ1038),O1038:Q2941,3,0),\"\")","v":""},null,{"$f":"IFERROR(VLOOKUP(ROWS(AL$2:$AL1038),N1038:Q2941,4,0),\"\")","v":""}]
[null,null,null,null,null,null,null,null,null,null,null,null,null,0,0,0,"franklin i g sec ltp","MKP044","Gilt Long Term",null,null,null,null,null,null,null,null,null,null,null,{"$f":"IFERROR(VLOOKUP(ROWS($AE$2:AE1039),P1039:Q2942,2,0),\"\")","v":""},null,null,null,null,{"$f":"IFERROR(VLOOKUP(ROWS($AJ$2:AJ1039),O1039:Q2942,3,0),\"\")","v":""},null,{"$f":"IFERROR(VLOOKUP(ROWS(AL$2:$AL1039),N1039:Q2942,4,0),\"\")","v":""}]
[null,null,null,null,null,null,null,null,null,null,null,null,null,0,0,0,"icici pru gilt inv plan pf","MPI1201","Gilt Long Term",null,null,null,null,null,null,null,null,null,null,null,{"$f":"IFERROR(VLOOKUP(ROWS($AE$2:AE1040),P1040:Q2943,2,0),\"\")","v":""},null,null,null,null,{"$f":"IFERROR(VLOOKUP(ROWS($AJ$2:AJ1040),O1040:Q2943,3,0),\"\")","v":""},null,{"$f":"IFERROR(VLOOKUP(ROWS(AL$2:$AL1040),N1040:Q2943,4,0),\"\")","v":""}]
[null,null,null,null,null,null,null,null,null,null,null,null,null,0,0,0,"idfc gsec pf inst b","MAG053","Gilt Long Term",null,null,null,null,null,null,null,null,null,null,null,{"$f":"IFERROR(VLOOKUP(ROWS($AE$2:AE1041),P1041:Q2944,2,0),\"\")","v":""},null,null,null,null,{"$f":"IFERROR(VLOOKUP(ROWS($AJ$2:AJ1041),O1041:Q2944,3,0),\"\")","v":""},null,{"$f":"IFERROR(VLOOKUP(ROWS(AL$2:$AL1041),N1041:Q2944,4,0),\"\")","v":""}]
[null,null,null,null,null,null,null,null,null,null,null,null,null,0,0,0,"reliance gilt sec ip","MRC455","Gilt Long Term",null,null,null,null,null,null,null,null,null,null,null,{"$f":"IFERROR(VLOOKUP(ROWS($AE$2:AE1042),P1042:Q2945,2,0),\"\")","v":""},null,null,null,null,{"$f":"IFERROR(VLOOKUP(ROWS($AJ$2:AJ1042),O1042:Q2945,3,0),\"\")","v":""},null,{"$f":"IFERROR(VLOOKUP(ROWS(AL$2:$AL1042),N1042:Q2945,4,0),\"\")","v":""}]
[null,null,null,null,null,null,null,null,null,null,null,null,null,0,0,0,"idfc gsec pf regular plan","MAG049","Gilt Long Term",null,null,null,null,null,null,null,null,null,null,null,{"$f":"IFERROR(VLOOKUP(ROWS($AE$2:AE1043),P1043:Q2946,2,0),\"\")","v":""},null,null,null,null,{"$f":"IFERROR(VLOOKUP(ROWS($AJ$2:AJ1043),O1043:Q2946,3,0),\"\")","v":""},null,{"$f":"IFERROR(VLOOKUP(ROWS(AL$2:$AL1043),N1043:Q2946,4,0),\"\")","v":""}]
[null,null,null,null,null,null,null,null,null,null,null,null,null,0,0,0,"l t gilt fund","MCC008","Gilt Long Term",null,null,null,null,null,null,null,null,null,null,null,{"$f":"IFERROR(VLOOKUP(ROWS($AE$2:AE1044),P1044:Q2947,2,0),\"\")","v":""},null,null,null,null,{"$f":"IFERROR(VLOOKUP(ROWS($AJ$2:AJ1044),O1044:Q2947,3,0),\"\")","v":""},null,{"$f":"IFERROR(VLOOKUP(ROWS(AL$2:$AL1044),N1044:Q2947,4,0),\"\")","v":""}]
[null,null,null,null,null,null,null,null,null,null,null,null,null,0,0,0,"reliance gilt sec rp","MRC453","Gilt Long Term",null,null,null,null,null,null,null,null,null,null,null,{"$f":"IFERROR(VLOOKUP(ROWS($AE$2:AE1045),P1045:Q2948,2,0),\"\")","v":""},null,null,null,null,{"$f":"IFERROR(VLOOKUP(ROWS($AJ$2:AJ1045),O1045:Q2948,3,0),\"\")","v":""},null,{"$f":"IFERROR(VLOOKUP(ROWS(AL$2:$AL1045),N1045:Q2948,4,0),\"\")","v":""}]
[null,null,null,null,null,null,null,null,null,null,null,null,null,0,0,0,"jpmorgan india g sec fund rp","MJP226","Gilt Long Term",null,null,null,null,null,null,null,null,null,null,null,{"$f":"IFERROR(VLOOKUP(ROWS($AE$2:AE1046),P1046:Q2949,2,0),\"\")","v":""},null,null,null,null,{"$f":"IFERROR(VLOOKUP(ROWS($AJ$2:AJ1046),O1046:Q2949,3,0),\"\")","v":""},null,{"$f":"IFERROR(VLOOKUP(ROWS(AL$2:$AL1046),N1046:Q2949,4,0),\"\")","v":""}]
[null,null,null,null,null,null,null,null,null,null,null,null,null,0,0,0,"icici pru long term gilt dir","MPI1203","Gilt Long Term",null,null,null,null,null,null,null,null,null,null,null,{"$f":"IFERROR(VLOOKUP(ROWS($AE$2:AE1047),P1047:Q2950,2,0),\"\")","v":""},null,null,null,null,{"$f":"IFERROR(VLOOKUP(ROWS($AJ$2:AJ1047),O1047:Q2950,3,0),\"\")","v":""},null,{"$f":"IFERROR(VLOOKUP(ROWS(AL$2:$AL1047),N1047:Q2950,4,0),\"\")","v":""}]
[null,null,null,null,null,null,null,null,null,null,null,null,null,0,0,0,"birla sun life gsec ltf","MAC017","Gilt Long Term",null,null,null,null,null,null,null,null,null,null,null,{"$f":"IFERROR(VLOOKUP(ROWS($AE$2:AE1048),P1048:Q2951,2,0),\"\")","v":""},null,null,null,null,{"$f":"IFERROR(VLOOKUP(ROWS($AJ$2:AJ1048),O1048:Q2951,3,0),\"\")","v":""},null,{"$f":"IFERROR(VLOOKUP(ROWS(AL$2:$AL1048),N1048:Q2951,4,0),\"\")","v":""}]
[null,null,null,null,null,null,null,null,null,null,null,null,null,0,0,0,"franklin i govt sec pf","MTE036","Gilt Long Term",null,null,null,null,null,null,null,null,null,null,null,{"$f":"IFERROR(VLOOKUP(ROWS($AE$2:AE1049),P1049:Q2952,2,0),\"\")","v":""},null,null,null,null,{"$f":"IFERROR(VLOOKUP(ROWS($AJ$2:AJ1049),O1049:Q2952,3,0),\"\")","v":""},null,{"$f":"IFERROR(VLOOKUP(ROWS(AL$2:$AL1049),N1049:Q2952,4,0),\"\")","v":""}]
[null,null,null,null,null,null,null,null,null,null,null,null,null,0,0,0,"franklin i govt sec cp","MTE005","Gilt Long Term",null,null,null,null,null,null,null,null,null,null,null,{"$f":"IFERROR(VLOOKUP(ROWS($AE$2:AE1050),P1050:Q2953,2,0),\"\")","v":""},null,null,null,null,{"$f":"IFERROR(VLOOKUP(ROWS($AJ$2:AJ1050),O1050:Q2953,3,0),\"\")","v":""},null,{"$f":"IFERROR(VLOOKUP(ROWS(AL$2:$AL1050),N1050:Q2953,4,0),\"\")","v":""}]
[null,null,null,null,null,null,null,null,null,null,null,null,null,0,0,0,"tata gilt rp 28 02 13 ","MTA090","Gilt Long Term",null,null,null,null,null,null,null,null,null,null,null,{"$f":"IFERROR(VLOOKUP(ROWS($AE$2:AE1051),P1051:Q2954,2,0),\"\")","v":""},null,null,null,null,{"$f":"IFERROR(VLOOKUP(ROWS($AJ$2:AJ1051),O1051:Q2954,3,0),\"\")","v":""},null,{"$f":"IFERROR(VLOOKUP(ROWS(AL$2:$AL1051),N1051:Q2954,4,0),\"\")","v":""}]
[null,null,null,null,null,null,null,null,null,null,null,null,null,0,0,0,"icici pru gilt inv plan pf","MPI067","Gilt Long Term",null,null,null,null,null,null,null,null,null,null,null,{"$f":"IFERROR(VLOOKUP(ROWS($AE$2:AE1052),P1052:Q2955,2,0),\"\")","v":""},null,null,null,null,{"$f":"IFERROR(VLOOKUP(ROWS($AJ$2:AJ1052),O1052:Q2955,3,0),\"\")","v":""},null,{"$f":"IFERROR(VLOOKUP(ROWS(AL$2:$AL1052),N1052:Q2955,4,0),\"\")","v":""}]
[null,null,null,null,null,null,null,null,null,null,null,null,null,0,0,0,"can robeco gilt pgs","MCA009","Gilt Long Term",null,null,null,null,null,null,null,null,null,null,null,{"$f":"IFERROR(VLOOKUP(ROWS($AE$2:AE1053),P1053:Q2956,2,0),\"\")","v":""},null,null,null,null,{"$f":"IFERROR(VLOOKUP(ROWS($AJ$2:AJ1053),O1053:Q2956,3,0),\"\")","v":""},null,{"$f":"IFERROR(VLOOKUP(ROWS(AL$2:$AL1053),N1053:Q2956,4,0),\"\")","v":""}]
[null,null,null,null,null,null,null,null,null,null,null,null,null,0,0,0,"idfc g sec investment a","MAG010","Gilt Long Term",null,null,null,null,null,null,null,null,null,null,null,{"$f":"IFERROR(VLOOKUP(ROWS($AE$2:AE1054),P1054:Q2957,2,0),\"\")","v":""},null,null,null,null,{"$f":"IFERROR(VLOOKUP(ROWS($AJ$2:AJ1054),O1054:Q2957,3,0),\"\")","v":""},null,{"$f":"IFERROR(VLOOKUP(ROWS(AL$2:$AL1054),N1054:Q2957,4,0),\"\")","v":""}]
[null,null,null,null,null,null,null,null,null,null,null,null,null,0,0,0,"mirae gilt investment rp","MMA063","Gilt Long Term",null,null,null,null,null,null,null,null,null,null,null,{"$f":"IFERROR(VLOOKUP(ROWS($AE$2:AE1055),P1055:Q2958,2,0),\"\")","v":""},null,null,null,null,{"$f":"IFERROR(VLOOKUP(ROWS($AJ$2:AJ1055),O1055:Q2958,3,0),\"\")","v":""},null,{"$f":"IFERROR(VLOOKUP(ROWS(AL$2:$AL1055),N1055:Q2958,4,0),\"\")","v":""}]
[null,null,null,null,null,null,null,null,null,null,null,null,null,0,0,0,"idfc g sec investment rp","MAG322","Gilt Long Term",null,null,null,null,null,null,null,null,null,null,null,{"$f":"IFERROR(VLOOKUP(ROWS($AE$2:AE1056),P1056:Q2959,2,0),\"\")","v":""},null,null,null,null,{"$f":"IFERROR(VLOOKUP(ROWS($AJ$2:AJ1056),O1056:Q2959,3,0),\"\")","v":""},null,{"$f":"IFERROR(VLOOKUP(ROWS(AL$2:$AL1056),N1056:Q2959,4,0),\"\")","v":""}]
[null,null,null,null,null,null,null,null,null,null,null,null,null,0,0,0,"birla sl gilt plus pf plan","MBS011","Gilt Long Term",null,null,null,null,null,null,null,null,null,null,null,{"$f":"IFERROR(VLOOKUP(ROWS($AE$2:AE1057),P1057:Q2960,2,0),\"\")","v":""},null,null,null,null,{"$f":"IFERROR(VLOOKUP(ROWS($AJ$2:AJ1057),O1057:Q2960,3,0),\"\")","v":""},null,{"$f":"IFERROR(VLOOKUP(ROWS(AL$2:$AL1057),N1057:Q2960,4,0),\"\")","v":""}]
[null,null,null,null,null,null,null,null,null,null,null,null,null,0,0,0,"icici pru long term gilt","MPI008","Gilt Long Term",null,null,null,null,null,null,null,null,null,null,null,{"$f":"IFERROR(VLOOKUP(ROWS($AE$2:AE1058),P1058:Q2961,2,0),\"\")","v":""},null,null,null,null,{"$f":"IFERROR(VLOOKUP(ROWS($AJ$2:AJ1058),O1058:Q2961,3,0),\"\")","v":""},null,{"$f":"IFERROR(VLOOKUP(ROWS(AL$2:$AL1058),N1058:Q2961,4,0),\"\")","v":""}]
[null,null,null,null,null,null,null,null,null,null,null,null,null,0,0,0,"tata gilt high fund","MTA056","Gilt Long Term",null,null,null,null,null,null,null,null,null,null,null,{"$f":"IFERROR(VLOOKUP(ROWS($AE$2:AE1059),P1059:Q2962,2,0),\"\")","v":""},null,null,null,null,{"$f":"IFERROR(VLOOKUP(ROWS($AJ$2:AJ1059),O1059:Q2962,3,0),\"\")","v":""},null,{"$f":"IFERROR(VLOOKUP(ROWS(AL$2:$AL1059),N1059:Q2962,4,0),\"\")","v":""}]
[null,null,null,null,null,null,null,null,null,null,null,null,null,0,0,0,"tata gilt rp 28 02 25 ","MTA114","Gilt Long Term",null,null,null,null,null,null,null,null,null,null,null,{"$f":"IFERROR(VLOOKUP(ROWS($AE$2:AE1060),P1060:Q2963,2,0),\"\")","v":""},null,null,null,null,{"$f":"IFERROR(VLOOKUP(ROWS($AJ$2:AJ1060),O1060:Q2963,3,0),\"\")","v":""},null,{"$f":"IFERROR(VLOOKUP(ROWS(AL$2:$AL1060),N1060:Q2963,4,0),\"\")","v":""}]
[null,null,null,null,null,null,null,null,null,null,null,null,null,0,0,0,"principal gov securities fund","MID028","Gilt Long Term",null,null,null,null,null,null,null,null,null,null,null,{"$f":"IFERROR(VLOOKUP(ROWS($AE$2:AE1061),P1061:Q2964,2,0),\"\")","v":""},null,null,null,null,{"$f":"IFERROR(VLOOKUP(ROWS($AJ$2:AJ1061),O1061:Q2964,3,0),\"\")","v":""},null,{"$f":"IFERROR(VLOOKUP(ROWS(AL$2:$AL1061),N1061:Q2964,4,0),\"\")","v":""}]
[null,null,null,null,null,null,null,null,null,null,null,null,null,0,0,0,"lic nomura govt sec fund","MJB012","Gilt Long Term",null,null,null,null,null,null,null,null,null,null,null,{"$f":"IFERROR(VLOOKUP(ROWS($AE$2:AE1062),P1062:Q2965,2,0),\"\")","v":""},null,null,null,null,{"$f":"IFERROR(VLOOKUP(ROWS($AJ$2:AJ1062),O1062:Q2965,3,0),\"\")","v":""},null,{"$f":"IFERROR(VLOOKUP(ROWS(AL$2:$AL1062),N1062:Q2965,4,0),\"\")","v":""}]
[null,null,null,null,null,null,null,null,null,null,null,null,null,0,0,0,"lic nomura govt sec fund pf","MJB025","Gilt Long Term",null,null,null,null,null,null,null,null,null,null,null,{"$f":"IFERROR(VLOOKUP(ROWS($AE$2:AE1063),P1063:Q2966,2,0),\"\")","v":""},null,null,null,null,{"$f":"IFERROR(VLOOKUP(ROWS($AJ$2:AJ1063),O1063:Q2966,3,0),\"\")","v":""},null,{"$f":"IFERROR(VLOOKUP(ROWS(AL$2:$AL1063),N1063:Q2966,4,0),\"\")","v":""}]
[null,null,null,null,null,null,null,null,null,null,null,null,null,0,0,0,"tata gilt sec fund","MTA014","Gilt Long Term",null,null,null,null,null,null,null,null,null,null,null,{"$f":"IFERROR(VLOOKUP(ROWS($AE$2:AE1064),P1064:Q2967,2,0),\"\")","v":""},null,null,null,null,{"$f":"IFERROR(VLOOKUP(ROWS($AJ$2:AJ1064),O1064:Q2967,3,0),\"\")","v":""},null,{"$f":"IFERROR(VLOOKUP(ROWS(AL$2:$AL1064),N1064:Q2967,4,0),\"\")","v":""}]
[null,null,null,null,null,null,null,null,null,null,null,null,null,0,0,0,"tata gilt mid term fund","MTA510","Gilt Long Term",null,null,null,null,null,null,null,null,null,null,null,{"$f":"IFERROR(VLOOKUP(ROWS($AE$2:AE1065),P1065:Q2968,2,0),\"\")","v":""},null,null,null,null,{"$f":"IFERROR(VLOOKUP(ROWS($AJ$2:AJ1065),O1065:Q2968,3,0),\"\")","v":""},null,{"$f":"IFERROR(VLOOKUP(ROWS(AL$2:$AL1065),N1065:Q2968,4,0),\"\")","v":""}]
[null,null,null,null,null,null,null,null,null,null,null,null,null,0,0,0,"kotak gilt inv pf trust regular","MKM056","Gilt Long Term",null,null,null,null,null,null,null,null,null,null,null,{"$f":"IFERROR(VLOOKUP(ROWS($AE$2:AE1066),P1066:Q2969,2,0),\"\")","v":""},null,null,null,null,{"$f":"IFERROR(VLOOKUP(ROWS($AJ$2:AJ1066),O1066:Q2969,3,0),\"\")","v":""},null,{"$f":"IFERROR(VLOOKUP(ROWS(AL$2:$AL1066),N1066:Q2969,4,0),\"\")","v":""}]
[null,null,null,null,null,null,null,null,null,null,null,null,null,0,0,0,"kotak gilt invt regular","MKM002","Gilt Long Term",null,null,null,null,null,null,null,null,null,null,null,{"$f":"IFERROR(VLOOKUP(ROWS($AE$2:AE1067),P1067:Q2970,2,0),\"\")","v":""},null,null,null,null,{"$f":"IFERROR(VLOOKUP(ROWS($AJ$2:AJ1067),O1067:Q2970,3,0),\"\")","v":""},null,{"$f":"IFERROR(VLOOKUP(ROWS(AL$2:$AL1067),N1067:Q2970,4,0),\"\")","v":""}]
[null,null,null,null,null,null,null,null,null,null,null,null,null,0,0,0,"baroda pioneer gilt fund","MBO004","Gilt Long Term",null,null,null,null,null,null,null,null,null,null,null,{"$f":"IFERROR(VLOOKUP(ROWS($AE$2:AE1068),P1068:Q2971,2,0),\"\")","v":""},null,null,null,null,{"$f":"IFERROR(VLOOKUP(ROWS($AJ$2:AJ1068),O1068:Q2971,3,0),\"\")","v":""},null,{"$f":"IFERROR(VLOOKUP(ROWS(AL$2:$AL1068),N1068:Q2971,4,0),\"\")","v":""}]
[null,null,null,null,null,null,null,null,null,null,null,null,null,0,0,0,"religare invesco gilt ldp dp","MLI598","Gilt Long Term",null,null,null,null,null,null,null,null,null,null,null,{"$f":"IFERROR(VLOOKUP(ROWS($AE$2:AE1069),P1069:Q2972,2,0),\"\")","v":""},null,null,null,null,{"$f":"IFERROR(VLOOKUP(ROWS($AJ$2:AJ1069),O1069:Q2972,3,0),\"\")","v":""},null,{"$f":"IFERROR(VLOOKUP(ROWS(AL$2:$AL1069),N1069:Q2972,4,0),\"\")","v":""}]
[null,null,null,null,null,null,null,null,null,null,null,null,null,0,0,0,"dsp br govt sec ","MDS007","Gilt Long Term",null,null,null,null,null,null,null,null,null,null,null,{"$f":"IFERROR(VLOOKUP(ROWS($AE$2:AE1070),P1070:Q2973,2,0),\"\")","v":""},null,null,null,null,{"$f":"IFERROR(VLOOKUP(ROWS($AJ$2:AJ1070),O1070:Q2973,3,0),\"\")","v":""},null,{"$f":"IFERROR(VLOOKUP(ROWS(AL$2:$AL1070),N1070:Q2973,4,0),\"\")","v":""}]
[null,null,null,null,null,null,null,null,null,null,null,null,null,{"$f":"IF(ISNUMBER(SEARCH($H$16,Q1071)),MAX($N$1,N1070)+1,0)","v":0},{"$f":"IF(ISNUMBER(SEARCH($H$11,Q1071)),MAX($O$1,O1070)+1,0)","v":0},{"$f":"IF(ISNUMBER(SEARCH($H$6,Q1071)),MAX($P$1,P1070)+1,0)","v":0},"jm g sec fund","MJM010","Gilt Long Term",null,null,null,null,null,null,null,null,null,null,null,{"$f":"IFERROR(VLOOKUP(ROWS($AE$2:AE1071),P1071:Q2974,2,0),\"\")","v":""},null,null,null,null,{"$f":"IFERROR(VLOOKUP(ROWS($AJ$2:AJ1071),O1071:Q2974,3,0),\"\")","v":""},null,{"$f":"IFERROR(VLOOKUP(ROWS(AL$2:$AL1071),N1071:Q2974,4,0),\"\")","v":""}]
[null,null,null,null,null,null,null,null,null,null,null,null,null,0,0,0,"dws gilt fund rp","MDE229","Gilt Long Term",null,null,null,null,null,null,null,null,null,null,null,{"$f":"IFERROR(VLOOKUP(ROWS($AE$2:AE1072),P1072:Q2975,2,0),\"\")","v":""},null,null,null,null,{"$f":"IFERROR(VLOOKUP(ROWS($AJ$2:AJ1072),O1072:Q2975,3,0),\"\")","v":""},null,{"$f":"IFERROR(VLOOKUP(ROWS(AL$2:$AL1072),N1072:Q2975,4,0),\"\")","v":""}]
[null,null,null,null,null,null,null,null,null,null,null,null,null,0,0,0,"indiabulls gilt fund","MIM019","Gilt Long Term",null,null,null,null,null,null,null,null,null,null,null,{"$f":"IFERROR(VLOOKUP(ROWS($AE$2:AE1073),P1073:Q2976,2,0),\"\")","v":""},null,null,null,null,{"$f":"IFERROR(VLOOKUP(ROWS($AJ$2:AJ1073),O1073:Q2976,3,0),\"\")","v":""},null,{"$f":"IFERROR(VLOOKUP(ROWS(AL$2:$AL1073),N1073:Q2976,4,0),\"\")","v":""}]
[null,null,null,null,null,null,null,null,null,null,null,null,null,0,0,0,"axis constant maturity 10 year","MAA135","Gilt Long Term",null,null,null,null,null,null,null,null,null,null,null,{"$f":"IFERROR(VLOOKUP(ROWS($AE$2:AE1074),P1074:Q2977,2,0),\"\")","v":""},null,null,null,null,{"$f":"IFERROR(VLOOKUP(ROWS($AJ$2:AJ1074),O1074:Q2977,3,0),\"\")","v":""},null,{"$f":"IFERROR(VLOOKUP(ROWS(AL$2:$AL1074),N1074:Q2977,4,0),\"\")","v":""}]
[null,null,null,null,null,null,null,null,null,null,null,null,null,0,0,0,"birla sl gilt plus regular","MBS009","Gilt Long Term",null,null,null,null,null,null,null,null,null,null,null,{"$f":"IFERROR(VLOOKUP(ROWS($AE$2:AE1075),P1075:Q2978,2,0),\"\")","v":""},null,null,null,null,{"$f":"IFERROR(VLOOKUP(ROWS($AJ$2:AJ1075),O1075:Q2978,3,0),\"\")","v":""},null,{"$f":"IFERROR(VLOOKUP(ROWS(AL$2:$AL1075),N1075:Q2978,4,0),\"\")","v":""}]
[null,null,null,null,null,null,null,null,null,null,null,null,null,0,0,0,"religare invesco gilt ldp","MLI193","Gilt Long Term",null,null,null,null,null,null,null,null,null,null,null,{"$f":"IFERROR(VLOOKUP(ROWS($AE$2:AE1076),P1076:Q2979,2,0),\"\")","v":""},null,null,null,null,{"$f":"IFERROR(VLOOKUP(ROWS($AJ$2:AJ1076),O1076:Q2979,3,0),\"\")","v":""},null,{"$f":"IFERROR(VLOOKUP(ROWS(AL$2:$AL1076),N1076:Q2979,4,0),\"\")","v":""}]
[null,null,null,null,null,null,null,null,null,null,null,null,null,0,0,0,"motilal most 10 year gilt fund","MMO004","Gilt Long Term",null,null,null,null,null,null,null,null,null,null,null,{"$f":"IFERROR(VLOOKUP(ROWS($AE$2:AE1077),P1077:Q2980,2,0),\"\")","v":""},null,null,null,null,{"$f":"IFERROR(VLOOKUP(ROWS($AJ$2:AJ1077),O1077:Q2980,3,0),\"\")","v":""},null,{"$f":"IFERROR(VLOOKUP(ROWS(AL$2:$AL1077),N1077:Q2980,4,0),\"\")","v":""}]
[null,null,null,null,null,null,null,null,null,null,null,null,null,0,0,0,"edelweiss gilt fund","MEW049","Gilt Long Term",null,null,null,null,null,null,null,null,null,null,null,{"$f":"IFERROR(VLOOKUP(ROWS($AE$2:AE1078),P1078:Q2981,2,0),\"\")","v":""},null,null,null,null,{"$f":"IFERROR(VLOOKUP(ROWS($AJ$2:AJ1078),O1078:Q2981,3,0),\"\")","v":""},null,{"$f":"IFERROR(VLOOKUP(ROWS(AL$2:$AL1078),N1078:Q2981,4,0),\"\")","v":""}]
[null,null,null,null,null,null,null,null,null,null,null,null,null,0,0,0,"sundaram gilt fund","MSN009","Gilt Long Term",null,null,null,null,null,null,null,null,null,null,null,{"$f":"IFERROR(VLOOKUP(ROWS($AE$2:AE1079),P1079:Q2982,2,0),\"\")","v":""},null,null,null,null,{"$f":"IFERROR(VLOOKUP(ROWS($AJ$2:AJ1079),O1079:Q2982,3,0),\"\")","v":""},null,{"$f":"IFERROR(VLOOKUP(ROWS(AL$2:$AL1079),N1079:Q2982,4,0),\"\")","v":""}]
[null,null,null,null,null,null,null,null,null,null,null,null,null,0,0,0,"sahara gilt fund","MFI003","Gilt Long Term",null,null,null,null,null,null,null,null,null,null,null,{"$f":"IFERROR(VLOOKUP(ROWS($AE$2:AE1080),P1080:Q2983,2,0),\"\")","v":""},null,null,null,null,{"$f":"IFERROR(VLOOKUP(ROWS($AJ$2:AJ1080),O1080:Q2983,3,0),\"\")","v":""},null,{"$f":"IFERROR(VLOOKUP(ROWS(AL$2:$AL1080),N1080:Q2983,4,0),\"\")","v":""}]
[null,null,null,null,null,null,null,null,null,null,null,null,null,0,0,0,"escorts gilt fund","MES007","Gilt Long Term",null,null,null,null,null,null,null,null,null,null,null,{"$f":"IFERROR(VLOOKUP(ROWS($AE$2:AE1081),P1081:Q2984,2,0),\"\")","v":""},null,null,null,null,{"$f":"IFERROR(VLOOKUP(ROWS($AJ$2:AJ1081),O1081:Q2984,3,0),\"\")","v":""},null,{"$f":"IFERROR(VLOOKUP(ROWS(AL$2:$AL1081),N1081:Q2984,4,0),\"\")","v":""}]
[null,null,null,null,null,null,null,null,null,null,null,null,null,0,0,0,"icici pru constant mat gilt rp","MPI2237","Gilt Long Term",null,null,null,null,null,null,null,null,null,null,null,{"$f":"IFERROR(VLOOKUP(ROWS($AE$2:AE1082),P1082:Q2985,2,0),\"\")","v":""},null,null,null,null,{"$f":"IFERROR(VLOOKUP(ROWS($AJ$2:AJ1082),O1082:Q2985,3,0),\"\")","v":""},null,{"$f":"IFERROR(VLOOKUP(ROWS(AL$2:$AL1082),N1082:Q2985,4,0),\"\")","v":""}]
[null,null,null,null,null,null,null,null,null,null,null,null,null,0,0,0,"icici pru constant mat gilt dp","MPI2241","Gilt Long Term",null,null,null,null,null,null,null,null,null,null,null,{"$f":"IFERROR(VLOOKUP(ROWS($AE$2:AE1083),P1083:Q2986,2,0),\"\")","v":""},null,null,null,null,{"$f":"IFERROR(VLOOKUP(ROWS($AJ$2:AJ1083),O1083:Q2986,3,0),\"\")","v":""},null,{"$f":"IFERROR(VLOOKUP(ROWS(AL$2:$AL1083),N1083:Q2986,4,0),\"\")","v":""}]
[null,null,null,null,null,null,null,null,null,null,null,null,null,0,0,0,"dws gilt fund ip","MDE231","Gilt Long Term",null,null,null,null,null,null,null,null,null,null,null,{"$f":"IFERROR(VLOOKUP(ROWS($AE$2:AE1084),P1084:Q2987,2,0),\"\")","v":""},null,null,null,null,{"$f":"IFERROR(VLOOKUP(ROWS($AJ$2:AJ1084),O1084:Q2987,3,0),\"\")","v":""},null,{"$f":"IFERROR(VLOOKUP(ROWS(AL$2:$AL1084),N1084:Q2987,4,0),\"\")","v":""}]
[null,null,null,null,null,null,null,null,null,null,null,null,null,0,0,0,"reliance gilt securitie rp","MRC1832","Gilt Long Term",null,null,null,null,null,null,null,null,null,null,null,{"$f":"IFERROR(VLOOKUP(ROWS($AE$2:AE1085),P1085:Q2988,2,0),\"\")","v":""},null,null,null,null,{"$f":"IFERROR(VLOOKUP(ROWS($AJ$2:AJ1085),O1085:Q2988,3,0),\"\")","v":""},null,{"$f":"IFERROR(VLOOKUP(ROWS(AL$2:$AL1085),N1085:Q2988,4,0),\"\")","v":""}]
[null,null,null,null,null,null,null,null,null,null,null,null,null,0,0,0,"religare invesco gilt ldp ip","MLI195","Gilt Long Term",null,null,null,null,null,null,null,null,null,null,null,{"$f":"IFERROR(VLOOKUP(ROWS($AE$2:AE1086),P1086:Q2989,2,0),\"\")","v":""},null,null,null,null,{"$f":"IFERROR(VLOOKUP(ROWS($AJ$2:AJ1086),O1086:Q2989,3,0),\"\")","v":""},null,{"$f":"IFERROR(VLOOKUP(ROWS(AL$2:$AL1086),N1086:Q2989,4,0),\"\")","v":""}]
[null,null,null,null,null,null,null,null,null,null,null,null,null,0,0,0,"dsp br cm 10yrs g sec fund rp","MDS1115","Gilt Long Term",null,null,null,null,null,null,null,null,null,null,null,{"$f":"IFERROR(VLOOKUP(ROWS($AE$2:AE1087),P1087:Q2990,2,0),\"\")","v":""},null,null,null,null,{"$f":"IFERROR(VLOOKUP(ROWS($AJ$2:AJ1087),O1087:Q2990,3,0),\"\")","v":""},null,{"$f":"IFERROR(VLOOKUP(ROWS(AL$2:$AL1087),N1087:Q2990,4,0),\"\")","v":""}]
[null,null,null,null,null,null,null,null,null,null,null,null,null,0,0,0,"uti gilt adv ltp pf pdar ","MIL038","Gilt Long Term",null,null,null,null,null,null,null,null,null,null,null,{"$f":"IFERROR(VLOOKUP(ROWS($AE$2:AE1088),P1088:Q2991,2,0),\"\")","v":""},null,null,null,null,{"$f":"IFERROR(VLOOKUP(ROWS($AJ$2:AJ1088),O1088:Q2991,3,0),\"\")","v":""},null,{"$f":"IFERROR(VLOOKUP(ROWS(AL$2:$AL1088),N1088:Q2991,4,0),\"\")","v":""}]
[null,null,null,null,null,null,null,null,null,null,null,null,null,0,0,0,"dsp br cm 10yrs g sec fund dp","MDS1119","Gilt Long Term",null,null,null,null,null,null,null,null,null,null,null,{"$f":"IFERROR(VLOOKUP(ROWS($AE$2:AE1089),P1089:Q2992,2,0),\"\")","v":""},null,null,null,null,{"$f":"IFERROR(VLOOKUP(ROWS($AJ$2:AJ1089),O1089:Q2992,3,0),\"\")","v":""},null,{"$f":"IFERROR(VLOOKUP(ROWS(AL$2:$AL1089),N1089:Q2992,4,0),\"\")","v":""}]
[null,null,null,null,null,null,null,null,null,null,null,null,null,0,0,0,"icici pru multiple yield sr2 f","MPI1036","MIP Aggressive",null,null,null,null,null,null,null,null,null,null,null,{"$f":"IFERROR(VLOOKUP(ROWS($AE$2:AE1090),P1090:Q2993,2,0),\"\")","v":""},null,null,null,null,{"$f":"IFERROR(VLOOKUP(ROWS($AJ$2:AJ1090),O1090:Q2993,3,0),\"\")","v":""},null,{"$f":"IFERROR(VLOOKUP(ROWS(AL$2:$AL1090),N1090:Q2993,4,0),\"\")","v":""}]
[null,null,null,null,null,null,null,null,null,null,null,null,null,0,0,0,"icici pru multiple yield sr2 d","MPI983","MIP Aggressive",null,null,null,null,null,null,null,null,null,null,null,{"$f":"IFERROR(VLOOKUP(ROWS($AE$2:AE1091),P1091:Q2994,2,0),\"\")","v":""},null,null,null,null,{"$f":"IFERROR(VLOOKUP(ROWS($AJ$2:AJ1091),O1091:Q2994,3,0),\"\")","v":""},null,{"$f":"IFERROR(VLOOKUP(ROWS(AL$2:$AL1091),N1091:Q2994,4,0),\"\")","v":""}]
[null,null,null,null,null,null,null,null,null,null,null,null,null,0,0,0,"icici pru multiple yield plan d","MPI923","MIP Aggressive",null,null,null,null,null,null,null,null,null,null,null,{"$f":"IFERROR(VLOOKUP(ROWS($AE$2:AE1092),P1092:Q2995,2,0),\"\")","v":""},null,null,null,null,{"$f":"IFERROR(VLOOKUP(ROWS($AJ$2:AJ1092),O1092:Q2995,3,0),\"\")","v":""},null,{"$f":"IFERROR(VLOOKUP(ROWS(AL$2:$AL1092),N1092:Q2995,4,0),\"\")","v":""}]
[null,null,null,null,null,null,null,null,null,null,null,null,null,0,0,0,"dws equity income fund","MDE031","MIP Aggressive",null,null,null,null,null,null,null,null,null,null,null,{"$f":"IFERROR(VLOOKUP(ROWS($AE$2:AE1093),P1093:Q2996,2,0),\"\")","v":""},null,null,null,null,{"$f":"IFERROR(VLOOKUP(ROWS($AJ$2:AJ1093),O1093:Q2996,3,0),\"\")","v":""},null,{"$f":"IFERROR(VLOOKUP(ROWS(AL$2:$AL1093),N1093:Q2996,4,0),\"\")","v":""}]
[null,null,null,null,null,null,null,null,null,null,null,null,null,0,0,0,"birla sl mip ii wealth 25 dp","MBS865","MIP Aggressive",null,null,null,null,null,null,null,null,null,null,null,{"$f":"IFERROR(VLOOKUP(ROWS($AE$2:AE1094),P1094:Q2997,2,0),\"\")","v":""},null,null,null,null,{"$f":"IFERROR(VLOOKUP(ROWS($AJ$2:AJ1094),O1094:Q2997,3,0),\"\")","v":""},null,{"$f":"IFERROR(VLOOKUP(ROWS(AL$2:$AL1094),N1094:Q2997,4,0),\"\")","v":""}]
[null,null,null,null,null,null,null,null,null,null,null,null,null,0,0,0,"icici pru multiple yield sr2 c","MPI963","MIP Aggressive",null,null,null,null,null,null,null,null,null,null,null,{"$f":"IFERROR(VLOOKUP(ROWS($AE$2:AE1095),P1095:Q2998,2,0),\"\")","v":""},null,null,null,null,{"$f":"IFERROR(VLOOKUP(ROWS($AJ$2:AJ1095),O1095:Q2998,3,0),\"\")","v":""},null,{"$f":"IFERROR(VLOOKUP(ROWS(AL$2:$AL1095),N1095:Q2998,4,0),\"\")","v":""}]
[null,null,null,null,null,null,null,null,null,null,null,null,null,0,0,0,"icici pru multiple yield sr2 e","MPI1024","MIP Aggressive",null,null,null,null,null,null,null,null,null,null,null,{"$f":"IFERROR(VLOOKUP(ROWS($AE$2:AE1096),P1096:Q2999,2,0),\"\")","v":""},null,null,null,null,{"$f":"IFERROR(VLOOKUP(ROWS($AJ$2:AJ1096),O1096:Q2999,3,0),\"\")","v":""},null,{"$f":"IFERROR(VLOOKUP(ROWS(AL$2:$AL1096),N1096:Q2999,4,0),\"\")","v":""}]
[null,null,null,null,null,null,null,null,null,null,null,null,null,0,0,0,"birla sl mip ii wealth 25","MBS061","MIP Aggressive",null,null,null,null,null,null,null,null,null,null,null,{"$f":"IFERROR(VLOOKUP(ROWS($AE$2:AE1097),P1097:Q3000,2,0),\"\")","v":""},null,null,null,null,{"$f":"IFERROR(VLOOKUP(ROWS($AJ$2:AJ1097),O1097:Q3000,3,0),\"\")","v":""},null,{"$f":"IFERROR(VLOOKUP(ROWS(AL$2:$AL1097),N1097:Q3000,4,0),\"\")","v":""}]
[null,null,null,null,null,null,null,null,null,null,null,null,null,0,0,0,"icici pru multiple yield sr2 a","MPI957","MIP Aggressive",null,null,null,null,null,null,null,null,null,null,null,{"$f":"IFERROR(VLOOKUP(ROWS($AE$2:AE1098),P1098:Q3001,2,0),\"\")","v":""},null,null,null,null,{"$f":"IFERROR(VLOOKUP(ROWS($AJ$2:AJ1098),O1098:Q3001,3,0),\"\")","v":""},null,{"$f":"IFERROR(VLOOKUP(ROWS(AL$2:$AL1098),N1098:Q3001,4,0),\"\")","v":""}]
[null,null,null,null,null,null,null,null,null,null,null,null,null,0,0,0,"icici pru multiple yield plan e","MPI946","MIP Aggressive",null,null,null,null,null,null,null,null,null,null,null,{"$f":"IFERROR(VLOOKUP(ROWS($AE$2:AE1099),P1099:Q3002,2,0),\"\")","v":""},null,null,null,null,{"$f":"IFERROR(VLOOKUP(ROWS($AJ$2:AJ1099),O1099:Q3002,3,0),\"\")","v":""},null,{"$f":"IFERROR(VLOOKUP(ROWS(AL$2:$AL1099),N1099:Q3002,4,0),\"\")","v":""}]
[null,null,null,null,null,null,null,null,null,null,null,null,null,0,0,0,"hdfc dynamic pe ratio fof dp","MMS038","MIP Aggressive",null,null,null,null,null,null,null,null,null,null,null,{"$f":"IFERROR(VLOOKUP(ROWS($AE$2:AE1100),P1100:Q3003,2,0),\"\")","v":""},null,null,null,null,{"$f":"IFERROR(VLOOKUP(ROWS($AJ$2:AJ1100),O1100:Q3003,3,0),\"\")","v":""},null,{"$f":"IFERROR(VLOOKUP(ROWS(AL$2:$AL1100),N1100:Q3003,4,0),\"\")","v":""}]
[null,null,null,null,null,null,null,null,null,null,null,null,null,0,0,0,"lic nomura floater mip plan a","MJB035","MIP Aggressive",null,null,null,null,null,null,null,null,null,null,null,{"$f":"IFERROR(VLOOKUP(ROWS($AE$2:AE1101),P1101:Q3004,2,0),\"\")","v":""},null,null,null,null,{"$f":"IFERROR(VLOOKUP(ROWS($AJ$2:AJ1101),O1101:Q3004,3,0),\"\")","v":""},null,{"$f":"IFERROR(VLOOKUP(ROWS(AL$2:$AL1101),N1101:Q3004,4,0),\"\")","v":""}]
[null,null,null,null,null,null,null,null,null,null,null,null,null,0,0,0,"sundaram mip aggressive","MSN348","MIP Aggressive",null,null,null,null,null,null,null,null,null,null,null,{"$f":"IFERROR(VLOOKUP(ROWS($AE$2:AE1102),P1102:Q3005,2,0),\"\")","v":""},null,null,null,null,{"$f":"IFERROR(VLOOKUP(ROWS($AJ$2:AJ1102),O1102:Q3005,3,0),\"\")","v":""},null,{"$f":"IFERROR(VLOOKUP(ROWS(AL$2:$AL1102),N1102:Q3005,4,0),\"\")","v":""}]
[null,null,null,null,null,null,null,null,null,null,null,null,null,0,0,0,"hdfc dynamic pe ratio fof","MMS019","MIP Aggressive",null,null,null,null,null,null,null,null,null,null,null,{"$f":"IFERROR(VLOOKUP(ROWS($AE$2:AE1103),P1103:Q3006,2,0),\"\")","v":""},null,null,null,null,{"$f":"IFERROR(VLOOKUP(ROWS($AJ$2:AJ1103),O1103:Q3006,3,0),\"\")","v":""},null,{"$f":"IFERROR(VLOOKUP(ROWS(AL$2:$AL1103),N1103:Q3006,4,0),\"\")","v":""}]
[null,null,null,null,null,null,null,null,null,null,null,null,null,0,0,0,"icici pru multi yield sr4 b dp","MPI1469","MIP Aggressive",null,null,null,null,null,null,null,null,null,null,null,{"$f":"IFERROR(VLOOKUP(ROWS($AE$2:AE1104),P1104:Q3007,2,0),\"\")","v":""},null,null,null,null,{"$f":"IFERROR(VLOOKUP(ROWS($AJ$2:AJ1104),O1104:Q3007,3,0),\"\")","v":""},null,{"$f":"IFERROR(VLOOKUP(ROWS(AL$2:$AL1104),N1104:Q3007,4,0),\"\")","v":""}]
[null,null,null,null,null,null,null,null,null,null,null,null,null,0,0,0,"icici pru multi yield sr4 d dp","MPI1482","MIP Aggressive",null,null,null,null,null,null,null,null,null,null,null,{"$f":"IFERROR(VLOOKUP(ROWS($AE$2:AE1105),P1105:Q3008,2,0),\"\")","v":""},null,null,null,null,{"$f":"IFERROR(VLOOKUP(ROWS($AJ$2:AJ1105),O1105:Q3008,3,0),\"\")","v":""},null,{"$f":"IFERROR(VLOOKUP(ROWS(AL$2:$AL1105),N1105:Q3008,4,0),\"\")","v":""}]
[null,null,null,null,null,null,null,null,null,null,null,null,null,0,0,0,"tata mip plus fund","MTA117","MIP Aggressive",null,null,null,null,null,null,null,null,null,null,null,{"$f":"IFERROR(VLOOKUP(ROWS($AE$2:AE1106),P1106:Q3009,2,0),\"\")","v":""},null,null,null,null,{"$f":"IFERROR(VLOOKUP(ROWS($AJ$2:AJ1106),O1106:Q3009,3,0),\"\")","v":""},null,{"$f":"IFERROR(VLOOKUP(ROWS(AL$2:$AL1106),N1106:Q3009,4,0),\"\")","v":""}]
[null,null,null,null,null,null,null,null,null,null,null,null,null,0,0,0,"franklin india mip","MKP032","MIP Aggressive",null,null,null,null,null,null,null,null,null,null,null,{"$f":"IFERROR(VLOOKUP(ROWS($AE$2:AE1107),P1107:Q3010,2,0),\"\")","v":""},null,null,null,null,{"$f":"IFERROR(VLOOKUP(ROWS($AJ$2:AJ1107),O1107:Q3010,3,0),\"\")","v":""},null,{"$f":"IFERROR(VLOOKUP(ROWS(AL$2:$AL1107),N1107:Q3010,4,0),\"\")","v":""}]
[null,null,null,null,null,null,null,null,null,null,null,null,null,0,0,0,"icici pru multi yield sr4 a dir","MPI1430","MIP Aggressive",null,null,null,null,null,null,null,null,null,null,null,{"$f":"IFERROR(VLOOKUP(ROWS($AE$2:AE1108),P1108:Q3011,2,0),\"\")","v":""},null,null,null,null,{"$f":"IFERROR(VLOOKUP(ROWS($AJ$2:AJ1108),O1108:Q3011,3,0),\"\")","v":""},null,{"$f":"IFERROR(VLOOKUP(ROWS(AL$2:$AL1108),N1108:Q3011,4,0),\"\")","v":""}]
[null,null,null,null,null,null,null,null,null,null,null,null,null,0,0,0,"reliance mip","MRC049","MIP Aggressive",null,null,null,null,null,null,null,null,null,null,null,{"$f":"IFERROR(VLOOKUP(ROWS($AE$2:AE1109),P1109:Q3012,2,0),\"\")","v":""},null,null,null,null,{"$f":"IFERROR(VLOOKUP(ROWS($AJ$2:AJ1109),O1109:Q3012,3,0),\"\")","v":""},null,{"$f":"IFERROR(VLOOKUP(ROWS(AL$2:$AL1109),N1109:Q3012,4,0),\"\")","v":""}]
[null,null,null,null,null,null,null,null,null,null,null,null,null,0,0,0,"icici pru multi yield sr3 b dp","MPI1386","MIP Aggressive",null,null,null,null,null,null,null,null,null,null,null,{"$f":"IFERROR(VLOOKUP(ROWS($AE$2:AE1110),P1110:Q3013,2,0),\"\")","v":""},null,null,null,null,{"$f":"IFERROR(VLOOKUP(ROWS($AJ$2:AJ1110),O1110:Q3013,3,0),\"\")","v":""},null,{"$f":"IFERROR(VLOOKUP(ROWS(AL$2:$AL1110),N1110:Q3013,4,0),\"\")","v":""}]
[null,null,null,null,null,null,null,null,null,null,null,null,null,0,0,0,"icici pru multi yield sr3 a dir d","MPI1332","MIP Aggressive",null,null,null,null,null,null,null,null,null,null,null,{"$f":"IFERROR(VLOOKUP(ROWS($AE$2:AE1111),P1111:Q3014,2,0),\"\")","v":""},null,null,null,null,{"$f":"IFERROR(VLOOKUP(ROWS($AJ$2:AJ1111),O1111:Q3014,3,0),\"\")","v":""},null,{"$f":"IFERROR(VLOOKUP(ROWS(AL$2:$AL1111),N1111:Q3014,4,0),\"\")","v":""}]
[null,null,null,null,null,null,null,null,null,null,null,null,null,0,0,0,"icici prudential mip 25","MPI084","MIP Aggressive",null,null,null,null,null,null,null,null,null,null,null,{"$f":"IFERROR(VLOOKUP(ROWS($AE$2:AE1112),P1112:Q3015,2,0),\"\")","v":""},null,null,null,null,{"$f":"IFERROR(VLOOKUP(ROWS($AJ$2:AJ1112),O1112:Q3015,3,0),\"\")","v":""},null,{"$f":"IFERROR(VLOOKUP(ROWS(AL$2:$AL1112),N1112:Q3015,4,0),\"\")","v":""}]
[null,null,null,null,null,null,null,null,null,null,null,null,null,0,0,0,"idfc monthly income plan rp","MAG361","MIP Aggressive",null,null,null,null,null,null,null,null,null,null,null,{"$f":"IFERROR(VLOOKUP(ROWS($AE$2:AE1113),P1113:Q3016,2,0),\"\")","v":""},null,null,null,null,{"$f":"IFERROR(VLOOKUP(ROWS($AJ$2:AJ1113),O1113:Q3016,3,0),\"\")","v":""},null,{"$f":"IFERROR(VLOOKUP(ROWS(AL$2:$AL1113),N1113:Q3016,4,0),\"\")","v":""}]
[null,null,null,null,null,null,null,null,null,null,null,null,null,0,0,0,"icici pru multi yield sr4 d rp","MPI1480","MIP Aggressive",null,null,null,null,null,null,null,null,null,null,null,{"$f":"IFERROR(VLOOKUP(ROWS($AE$2:AE1114),P1114:Q3017,2,0),\"\")","v":""},null,null,null,null,{"$f":"IFERROR(VLOOKUP(ROWS($AJ$2:AJ1114),O1114:Q3017,3,0),\"\")","v":""},null,{"$f":"IFERROR(VLOOKUP(ROWS(AL$2:$AL1114),N1114:Q3017,4,0),\"\")","v":""}]
[null,null,null,null,null,null,null,null,null,null,null,null,null,0,0,0,"uti mis advantage plan dir","MUT672","MIP Aggressive",null,null,null,null,null,null,null,null,null,null,null,{"$f":"IFERROR(VLOOKUP(ROWS($AE$2:AE1115),P1115:Q3018,2,0),\"\")","v":""},null,null,null,null,{"$f":"IFERROR(VLOOKUP(ROWS($AJ$2:AJ1115),O1115:Q3018,3,0),\"\")","v":""},null,{"$f":"IFERROR(VLOOKUP(ROWS(AL$2:$AL1115),N1115:Q3018,4,0),\"\")","v":""}]
[null,null,null,null,null,null,null,null,null,null,null,null,null,0,0,0,"icici pru multi yield sr4 b rp","MPI1471","MIP Aggressive",null,null,null,null,null,null,null,null,null,null,null,{"$f":"IFERROR(VLOOKUP(ROWS($AE$2:AE1116),P1116:Q3019,2,0),\"\")","v":""},null,null,null,null,{"$f":"IFERROR(VLOOKUP(ROWS($AJ$2:AJ1116),O1116:Q3019,3,0),\"\")","v":""},null,{"$f":"IFERROR(VLOOKUP(ROWS(AL$2:$AL1116),N1116:Q3019,4,0),\"\")","v":""}]
[null,null,null,null,null,null,null,null,null,null,null,null,null,0,0,0,"l t equity savings fund","MCC195","MIP Aggressive",null,null,null,null,null,null,null,null,null,null,null,{"$f":"IFERROR(VLOOKUP(ROWS($AE$2:AE1117),P1117:Q3020,2,0),\"\")","v":""},null,null,null,null,{"$f":"IFERROR(VLOOKUP(ROWS($AJ$2:AJ1117),O1117:Q3020,3,0),\"\")","v":""},null,{"$f":"IFERROR(VLOOKUP(ROWS(AL$2:$AL1117),N1117:Q3020,4,0),\"\")","v":""}]
[null,null,null,null,null,null,null,null,null,null,null,null,null,0,0,0,"icici pru multi yield sr4 a rp","MPI1428","MIP Aggressive",null,null,null,null,null,null,null,null,null,null,null,{"$f":"IFERROR(VLOOKUP(ROWS($AE$2:AE1118),P1118:Q3021,2,0),\"\")","v":""},null,null,null,null,{"$f":"IFERROR(VLOOKUP(ROWS($AJ$2:AJ1118),O1118:Q3021,3,0),\"\")","v":""},null,{"$f":"IFERROR(VLOOKUP(ROWS(AL$2:$AL1118),N1118:Q3021,4,0),\"\")","v":""}]
[null,null,null,null,null,null,null,null,null,null,null,null,null,0,0,0,"icici pru multi yield sr5 a dp","MPI1590","MIP Aggressive",null,null,null,null,null,null,null,null,null,null,null,{"$f":"IFERROR(VLOOKUP(ROWS($AE$2:AE1119),P1119:Q3022,2,0),\"\")","v":""},null,null,null,null,{"$f":"IFERROR(VLOOKUP(ROWS($AJ$2:AJ1119),O1119:Q3022,3,0),\"\")","v":""},null,{"$f":"IFERROR(VLOOKUP(ROWS(AL$2:$AL1119),N1119:Q3022,4,0),\"\")","v":""}]
[null,null,null,null,null,null,null,null,null,null,null,null,null,0,0,0,"icici pru multi yield sr4 e dp","MPI1494","MIP Aggressive",null,null,null,null,null,null,null,null,null,null,null,{"$f":"IFERROR(VLOOKUP(ROWS($AE$2:AE1120),P1120:Q3023,2,0),\"\")","v":""},null,null,null,null,{"$f":"IFERROR(VLOOKUP(ROWS($AJ$2:AJ1120),O1120:Q3023,3,0),\"\")","v":""},null,{"$f":"IFERROR(VLOOKUP(ROWS(AL$2:$AL1120),N1120:Q3023,4,0),\"\")","v":""}]
[null,null,null,null,null,null,null,null,null,null,null,null,null,0,0,0,"uti mis advantage plan","MIL040","MIP Aggressive",null,null,null,null,null,null,null,null,null,null,null,{"$f":"IFERROR(VLOOKUP(ROWS($AE$2:AE1121),P1121:Q3024,2,0),\"\")","v":""},null,null,null,null,{"$f":"IFERROR(VLOOKUP(ROWS($AJ$2:AJ1121),O1121:Q3024,3,0),\"\")","v":""},null,{"$f":"IFERROR(VLOOKUP(ROWS(AL$2:$AL1121),N1121:Q3024,4,0),\"\")","v":""}]
[null,null,null,null,null,null,null,null,null,null,null,null,null,0,0,0,"icici pru multi yield sr4 c dp","MPI1473","MIP Aggressive",null,null,null,null,null,null,null,null,null,null,null,{"$f":"IFERROR(VLOOKUP(ROWS($AE$2:AE1122),P1122:Q3025,2,0),\"\")","v":""},null,null,null,null,{"$f":"IFERROR(VLOOKUP(ROWS($AJ$2:AJ1122),O1122:Q3025,3,0),\"\")","v":""},null,{"$f":"IFERROR(VLOOKUP(ROWS(AL$2:$AL1122),N1122:Q3025,4,0),\"\")","v":""}]
[null,null,null,null,null,null,null,null,null,null,null,null,null,0,0,0,"axis income saver fund reg ","MAA039","MIP Aggressive",null,null,null,null,null,null,null,null,null,null,null,{"$f":"IFERROR(VLOOKUP(ROWS($AE$2:AE1123),P1123:Q3026,2,0),\"\")","v":""},null,null,null,null,{"$f":"IFERROR(VLOOKUP(ROWS($AJ$2:AJ1123),O1123:Q3026,3,0),\"\")","v":""},null,{"$f":"IFERROR(VLOOKUP(ROWS(AL$2:$AL1123),N1123:Q3026,4,0),\"\")","v":""}]
[null,null,null,null,null,null,null,null,null,null,null,null,null,0,0,0,"icici pru multi yield sr3 d rp","MPI1414","MIP Aggressive",null,null,null,null,null,null,null,null,null,null,null,{"$f":"IFERROR(VLOOKUP(ROWS($AE$2:AE1124),P1124:Q3027,2,0),\"\")","v":""},null,null,null,null,{"$f":"IFERROR(VLOOKUP(ROWS($AJ$2:AJ1124),O1124:Q3027,3,0),\"\")","v":""},null,{"$f":"IFERROR(VLOOKUP(ROWS(AL$2:$AL1124),N1124:Q3027,4,0),\"\")","v":""}]
[null,null,null,null,null,null,null,null,null,null,null,null,null,0,0,0,"icici pru multi yield sr3 a","MPI1330","MIP Aggressive",null,null,null,null,null,null,null,null,null,null,null,{"$f":"IFERROR(VLOOKUP(ROWS($AE$2:AE1125),P1125:Q3028,2,0),\"\")","v":""},null,null,null,null,{"$f":"IFERROR(VLOOKUP(ROWS($AJ$2:AJ1125),O1125:Q3028,3,0),\"\")","v":""},null,{"$f":"IFERROR(VLOOKUP(ROWS(AL$2:$AL1125),N1125:Q3028,4,0),\"\")","v":""}]
[null,null,null,null,null,null,null,null,null,null,null,null,null,0,0,0,"icici pru multi yield sr3 b rp","MPI1384","MIP Aggressive",null,null,null,null,null,null,null,null,null,null,null,{"$f":"IFERROR(VLOOKUP(ROWS($AE$2:AE1126),P1126:Q3029,2,0),\"\")","v":""},null,null,null,null,{"$f":"IFERROR(VLOOKUP(ROWS($AJ$2:AJ1126),O1126:Q3029,3,0),\"\")","v":""},null,{"$f":"IFERROR(VLOOKUP(ROWS(AL$2:$AL1126),N1126:Q3029,4,0),\"\")","v":""}]
[null,null,null,null,null,null,null,null,null,null,null,null,null,0,0,0,"icici pru multi yield sr5 b dp","MPI1690","MIP Aggressive",null,null,null,null,null,null,null,null,null,null,null,{"$f":"IFERROR(VLOOKUP(ROWS($AE$2:AE1127),P1127:Q3030,2,0),\"\")","v":""},null,null,null,null,{"$f":"IFERROR(VLOOKUP(ROWS($AJ$2:AJ1127),O1127:Q3030,3,0),\"\")","v":""},null,{"$f":"IFERROR(VLOOKUP(ROWS(AL$2:$AL1127),N1127:Q3030,4,0),\"\")","v":""}]
[null,null,null,null,null,null,null,null,null,null,null,null,null,0,0,0,"icici pru multiple yield plan c","MPI909","MIP Aggressive",null,null,null,null,null,null,null,null,null,null,null,{"$f":"IFERROR(VLOOKUP(ROWS($AE$2:AE1128),P1128:Q3031,2,0),\"\")","v":""},null,null,null,null,{"$f":"IFERROR(VLOOKUP(ROWS($AJ$2:AJ1128),O1128:Q3031,3,0),\"\")","v":""},null,{"$f":"IFERROR(VLOOKUP(ROWS(AL$2:$AL1128),N1128:Q3031,4,0),\"\")","v":""}]
[null,null,null,null,null,null,null,null,null,null,null,null,null,0,0,0,"icici pru multi yield sr5 a rp","MPI1588","MIP Aggressive",null,null,null,null,null,null,null,null,null,null,null,{"$f":"IFERROR(VLOOKUP(ROWS($AE$2:AE1129),P1129:Q3032,2,0),\"\")","v":""},null,null,null,null,{"$f":"IFERROR(VLOOKUP(ROWS($AJ$2:AJ1129),O1129:Q3032,3,0),\"\")","v":""},null,{"$f":"IFERROR(VLOOKUP(ROWS(AL$2:$AL1129),N1129:Q3032,4,0),\"\")","v":""}]
[null,null,null,null,null,null,null,null,null,null,null,null,null,0,0,0,"icici pru multiple yield plan a","MPI879","MIP Aggressive",null,null,null,null,null,null,null,null,null,null,null,{"$f":"IFERROR(VLOOKUP(ROWS($AE$2:AE1130),P1130:Q3033,2,0),\"\")","v":""},null,null,null,null,{"$f":"IFERROR(VLOOKUP(ROWS($AJ$2:AJ1130),O1130:Q3033,3,0),\"\")","v":""},null,{"$f":"IFERROR(VLOOKUP(ROWS(AL$2:$AL1130),N1130:Q3033,4,0),\"\")","v":""}]
[null,null,null,null,null,null,null,null,null,null,null,null,null,0,0,0,"icici pru multi yield sr4 c rp","MPI1475","MIP Aggressive",null,null,null,null,null,null,null,null,null,null,null,{"$f":"IFERROR(VLOOKUP(ROWS($AE$2:AE1131),P1131:Q3034,2,0),\"\")","v":""},null,null,null,null,{"$f":"IFERROR(VLOOKUP(ROWS($AJ$2:AJ1131),O1131:Q3034,3,0),\"\")","v":""},null,{"$f":"IFERROR(VLOOKUP(ROWS(AL$2:$AL1131),N1131:Q3034,4,0),\"\")","v":""}]
[null,null,null,null,null,null,null,null,null,null,null,null,null,0,0,0,"icici pru multi yield sr4 e rp","MPI1492","MIP Aggressive",null,null,null,null,null,null,null,null,null,null,null,{"$f":"IFERROR(VLOOKUP(ROWS($AE$2:AE1132),P1132:Q3035,2,0),\"\")","v":""},null,null,null,null,{"$f":"IFERROR(VLOOKUP(ROWS($AJ$2:AJ1132),O1132:Q3035,3,0),\"\")","v":""},null,{"$f":"IFERROR(VLOOKUP(ROWS(AL$2:$AL1132),N1132:Q3035,4,0),\"\")","v":""}]
[null,null,null,null,null,null,null,null,null,null,null,null,null,0,0,0,"icici pru multi yield sr3 c dir","MPI1411","MIP Aggressive",null,null,null,null,null,null,null,null,null,null,null,{"$f":"IFERROR(VLOOKUP(ROWS($AE$2:AE1133),P1133:Q3036,2,0),\"\")","v":""},null,null,null,null,{"$f":"IFERROR(VLOOKUP(ROWS($AJ$2:AJ1133),O1133:Q3036,3,0),\"\")","v":""},null,{"$f":"IFERROR(VLOOKUP(ROWS(AL$2:$AL1133),N1133:Q3036,4,0),\"\")","v":""}]
[null,null,null,null,null,null,null,null,null,null,null,null,null,0,0,0,"dsp blackrock mip fund","MDS036","MIP Aggressive",null,null,null,null,null,null,null,null,null,null,null,{"$f":"IFERROR(VLOOKUP(ROWS($AE$2:AE1134),P1134:Q3037,2,0),\"\")","v":""},null,null,null,null,{"$f":"IFERROR(VLOOKUP(ROWS($AJ$2:AJ1134),O1134:Q3037,3,0),\"\")","v":""},null,{"$f":"IFERROR(VLOOKUP(ROWS(AL$2:$AL1134),N1134:Q3037,4,0),\"\")","v":""}]
[null,null,null,null,null,null,null,null,null,null,null,null,null,{"$f":"IF(ISNUMBER(SEARCH($H$16,Q1135)),MAX($N$1,N1134)+1,0)","v":0},{"$f":"IF(ISNUMBER(SEARCH($H$11,Q1135)),MAX($O$1,O1134)+1,0)","v":0},{"$f":"IF(ISNUMBER(SEARCH($H$6,Q1135)),MAX($P$1,P1134)+1,0)","v":0},"hsbc mip savings plan","MHS030","MIP Aggressive",null,null,null,null,null,null,null,null,null,null,null,{"$f":"IFERROR(VLOOKUP(ROWS($AE$2:AE1135),P1135:Q3038,2,0),\"\")","v":""},null,null,null,null,{"$f":"IFERROR(VLOOKUP(ROWS($AJ$2:AJ1135),O1135:Q3038,3,0),\"\")","v":""},null,{"$f":"IFERROR(VLOOKUP(ROWS(AL$2:$AL1135),N1135:Q3038,4,0),\"\")","v":""}]
[null,null,null,null,null,null,null,null,null,null,null,null,null,0,0,0,"can robeco mip","MCA012","MIP Aggressive",null,null,null,null,null,null,null,null,null,null,null,{"$f":"IFERROR(VLOOKUP(ROWS($AE$2:AE1136),P1136:Q3039,2,0),\"\")","v":""},null,null,null,null,{"$f":"IFERROR(VLOOKUP(ROWS($AJ$2:AJ1136),O1136:Q3039,3,0),\"\")","v":""},null,{"$f":"IFERROR(VLOOKUP(ROWS(AL$2:$AL1136),N1136:Q3039,4,0),\"\")","v":""}]
[null,null,null,null,null,null,null,null,null,null,null,null,null,0,0,0,"hdfc mip ltp","MHD041","MIP Aggressive",null,null,null,null,null,null,null,null,null,null,null,{"$f":"IFERROR(VLOOKUP(ROWS($AE$2:AE1137),P1137:Q3040,2,0),\"\")","v":""},null,null,null,null,{"$f":"IFERROR(VLOOKUP(ROWS($AJ$2:AJ1137),O1137:Q3040,3,0),\"\")","v":""},null,{"$f":"IFERROR(VLOOKUP(ROWS(AL$2:$AL1137),N1137:Q3040,4,0),\"\")","v":""}]
[null,null,null,null,null,null,null,null,null,null,null,null,null,0,0,0,"kotak monthly income plan regular","MKM050","MIP Aggressive",null,null,null,null,null,null,null,null,null,null,null,{"$f":"IFERROR(VLOOKUP(ROWS($AE$2:AE1138),P1138:Q3041,2,0),\"\")","v":""},null,null,null,null,{"$f":"IFERROR(VLOOKUP(ROWS($AJ$2:AJ1138),O1138:Q3041,3,0),\"\")","v":""},null,{"$f":"IFERROR(VLOOKUP(ROWS(AL$2:$AL1138),N1138:Q3041,4,0),\"\")","v":""}]
[null,null,null,null,null,null,null,null,null,null,null,null,null,0,0,0,"sbi regular savings fund","MSB030","MIP Aggressive",null,null,null,null,null,null,null,null,null,null,null,{"$f":"IFERROR(VLOOKUP(ROWS($AE$2:AE1139),P1139:Q3042,2,0),\"\")","v":""},null,null,null,null,{"$f":"IFERROR(VLOOKUP(ROWS($AJ$2:AJ1139),O1139:Q3042,3,0),\"\")","v":""},null,{"$f":"IFERROR(VLOOKUP(ROWS(AL$2:$AL1139),N1139:Q3042,4,0),\"\")","v":""}]
[null,null,null,null,null,null,null,null,null,null,null,null,null,0,0,0,"icici pru multi yield sr5 b rp","MPI1688","MIP Aggressive",null,null,null,null,null,null,null,null,null,null,null,{"$f":"IFERROR(VLOOKUP(ROWS($AE$2:AE1140),P1140:Q3043,2,0),\"\")","v":""},null,null,null,null,{"$f":"IFERROR(VLOOKUP(ROWS($AJ$2:AJ1140),O1140:Q3043,3,0),\"\")","v":""},null,{"$f":"IFERROR(VLOOKUP(ROWS(AL$2:$AL1140),N1140:Q3043,4,0),\"\")","v":""}]
[null,null,null,null,null,null,null,null,null,null,null,null,null,0,0,0,"icici pru multi yield sr3 d rp","MPI1412","MIP Aggressive",null,null,null,null,null,null,null,null,null,null,null,{"$f":"IFERROR(VLOOKUP(ROWS($AE$2:AE1141),P1141:Q3044,2,0),\"\")","v":""},null,null,null,null,{"$f":"IFERROR(VLOOKUP(ROWS($AJ$2:AJ1141),O1141:Q3044,3,0),\"\")","v":""},null,{"$f":"IFERROR(VLOOKUP(ROWS(AL$2:$AL1141),N1141:Q3044,4,0),\"\")","v":""}]
[null,null,null,null,null,null,null,null,null,null,null,null,null,0,0,0,"icici pru multiple yield plan b","MPI895","MIP Aggressive",null,null,null,null,null,null,null,null,null,null,null,{"$f":"IFERROR(VLOOKUP(ROWS($AE$2:AE1142),P1142:Q3045,2,0),\"\")","v":""},null,null,null,null,{"$f":"IFERROR(VLOOKUP(ROWS($AJ$2:AJ1142),O1142:Q3045,3,0),\"\")","v":""},null,{"$f":"IFERROR(VLOOKUP(ROWS(AL$2:$AL1142),N1142:Q3045,4,0),\"\")","v":""}]
[null,null,null,null,null,null,null,null,null,null,null,null,null,0,0,0,"l t mip regular","MCC026","MIP Aggressive",null,null,null,null,null,null,null,null,null,null,null,{"$f":"IFERROR(VLOOKUP(ROWS($AE$2:AE1143),P1143:Q3046,2,0),\"\")","v":""},null,null,null,null,{"$f":"IFERROR(VLOOKUP(ROWS($AJ$2:AJ1143),O1143:Q3046,3,0),\"\")","v":""},null,{"$f":"IFERROR(VLOOKUP(ROWS(AL$2:$AL1143),N1143:Q3046,4,0),\"\")","v":""}]
[null,null,null,null,null,null,null,null,null,null,null,null,null,0,0,0,"baroda pioneer mip fund","MBO016","MIP Aggressive",null,null,null,null,null,null,null,null,null,null,null,{"$f":"IFERROR(VLOOKUP(ROWS($AE$2:AE1144),P1144:Q3047,2,0),\"\")","v":""},null,null,null,null,{"$f":"IFERROR(VLOOKUP(ROWS($AJ$2:AJ1144),O1144:Q3047,3,0),\"\")","v":""},null,{"$f":"IFERROR(VLOOKUP(ROWS(AL$2:$AL1144),N1144:Q3047,4,0),\"\")","v":""}]
[null,null,null,null,null,null,null,null,null,null,null,null,null,0,0,0,"bnp paribas mip","MAB003","MIP Aggressive",null,null,null,null,null,null,null,null,null,null,null,{"$f":"IFERROR(VLOOKUP(ROWS($AE$2:AE1145),P1145:Q3048,2,0),\"\")","v":""},null,null,null,null,{"$f":"IFERROR(VLOOKUP(ROWS($AJ$2:AJ1145),O1145:Q3048,3,0),\"\")","v":""},null,{"$f":"IFERROR(VLOOKUP(ROWS(AL$2:$AL1145),N1145:Q3048,4,0),\"\")","v":""}]
[null,null,null,null,null,null,null,null,null,null,null,null,null,0,0,0,"icici pru multi yield sr3 c rp","MPI1409","MIP Aggressive",null,null,null,null,null,null,null,null,null,null,null,{"$f":"IFERROR(VLOOKUP(ROWS($AE$2:AE1146),P1146:Q3049,2,0),\"\")","v":""},null,null,null,null,{"$f":"IFERROR(VLOOKUP(ROWS($AJ$2:AJ1146),O1146:Q3049,3,0),\"\")","v":""},null,{"$f":"IFERROR(VLOOKUP(ROWS(AL$2:$AL1146),N1146:Q3049,4,0),\"\")","v":""}]
[null,null,null,null,null,null,null,null,null,null,null,null,null,0,0,0,"boi axa reg return rp","MBA047","MIP Aggressive",null,null,null,null,null,null,null,null,null,null,null,{"$f":"IFERROR(VLOOKUP(ROWS($AE$2:AE1147),P1147:Q3050,2,0),\"\")","v":""},null,null,null,null,{"$f":"IFERROR(VLOOKUP(ROWS($AJ$2:AJ1147),O1147:Q3050,3,0),\"\")","v":""},null,{"$f":"IFERROR(VLOOKUP(ROWS(AL$2:$AL1147),N1147:Q3050,4,0),\"\")","v":""}]
[null,null,null,null,null,null,null,null,null,null,null,null,null,0,0,0,"boi axa reg return ep","MBA051","MIP Aggressive",null,null,null,null,null,null,null,null,null,null,null,{"$f":"IFERROR(VLOOKUP(ROWS($AE$2:AE1148),P1148:Q3051,2,0),\"\")","v":""},null,null,null,null,{"$f":"IFERROR(VLOOKUP(ROWS($AJ$2:AJ1148),O1148:Q3051,3,0),\"\")","v":""},null,{"$f":"IFERROR(VLOOKUP(ROWS(AL$2:$AL1148),N1148:Q3051,4,0),\"\")","v":""}]
[null,null,null,null,null,null,null,null,null,null,null,null,null,0,0,0,"peerless income plus fund","MPM025","MIP Aggressive",null,null,null,null,null,null,null,null,null,null,null,{"$f":"IFERROR(VLOOKUP(ROWS($AE$2:AE1149),P1149:Q3052,2,0),\"\")","v":""},null,null,null,null,{"$f":"IFERROR(VLOOKUP(ROWS($AJ$2:AJ1149),O1149:Q3052,3,0),\"\")","v":""},null,{"$f":"IFERROR(VLOOKUP(ROWS(AL$2:$AL1149),N1149:Q3052,4,0),\"\")","v":""}]
[null,null,null,null,null,null,null,null,null,null,null,null,null,0,0,0,"pramerica dynamic mif","MPA020","MIP Aggressive",null,null,null,null,null,null,null,null,null,null,null,{"$f":"IFERROR(VLOOKUP(ROWS($AE$2:AE1150),P1150:Q3053,2,0),\"\")","v":""},null,null,null,null,{"$f":"IFERROR(VLOOKUP(ROWS($AJ$2:AJ1150),O1150:Q3053,3,0),\"\")","v":""},null,{"$f":"IFERROR(VLOOKUP(ROWS(AL$2:$AL1150),N1150:Q3053,4,0),\"\")","v":""}]
[null,null,null,null,null,null,null,null,null,null,null,null,null,0,0,0,"idbi monthly income plan","MIB013","MIP Aggressive",null,null,null,null,null,null,null,null,null,null,null,{"$f":"IFERROR(VLOOKUP(ROWS($AE$2:AE1151),P1151:Q3054,2,0),\"\")","v":""},null,null,null,null,{"$f":"IFERROR(VLOOKUP(ROWS($AJ$2:AJ1151),O1151:Q3054,3,0),\"\")","v":""},null,{"$f":"IFERROR(VLOOKUP(ROWS(AL$2:$AL1151),N1151:Q3054,4,0),\"\")","v":""}]
[null,null,null,null,null,null,null,null,null,null,null,null,null,0,0,0,"religare invesco mip","MLI360","MIP Aggressive",null,null,null,null,null,null,null,null,null,null,null,{"$f":"IFERROR(VLOOKUP(ROWS($AE$2:AE1152),P1152:Q3055,2,0),\"\")","v":""},null,null,null,null,{"$f":"IFERROR(VLOOKUP(ROWS($AJ$2:AJ1152),O1152:Q3055,3,0),\"\")","v":""},null,{"$f":"IFERROR(VLOOKUP(ROWS(AL$2:$AL1152),N1152:Q3055,4,0),\"\")","v":""}]
[null,null,null,null,null,null,null,null,null,null,null,null,null,0,0,0,"hdfc multiple yield 2005 dp","MHD1219","MIP Aggressive",null,null,null,null,null,null,null,null,null,null,null,{"$f":"IFERROR(VLOOKUP(ROWS($AE$2:AE1153),P1153:Q3056,2,0),\"\")","v":""},null,null,null,null,{"$f":"IFERROR(VLOOKUP(ROWS($AJ$2:AJ1153),O1153:Q3056,3,0),\"\")","v":""},null,{"$f":"IFERROR(VLOOKUP(ROWS(AL$2:$AL1153),N1153:Q3056,4,0),\"\")","v":""}]
[null,null,null,null,null,null,null,null,null,null,null,null,null,0,0,0,"taurus mip advantage fund","MCM070","MIP Aggressive",null,null,null,null,null,null,null,null,null,null,null,{"$f":"IFERROR(VLOOKUP(ROWS($AE$2:AE1154),P1154:Q3057,2,0),\"\")","v":""},null,null,null,null,{"$f":"IFERROR(VLOOKUP(ROWS($AJ$2:AJ1154),O1154:Q3057,3,0),\"\")","v":""},null,{"$f":"IFERROR(VLOOKUP(ROWS(AL$2:$AL1154),N1154:Q3057,4,0),\"\")","v":""}]
[null,null,null,null,null,null,null,null,null,null,null,null,null,0,0,0,"hdfc multiple yield 2005","MHD050","MIP Aggressive",null,null,null,null,null,null,null,null,null,null,null,{"$f":"IFERROR(VLOOKUP(ROWS($AE$2:AE1155),P1155:Q3058,2,0),\"\")","v":""},null,null,null,null,{"$f":"IFERROR(VLOOKUP(ROWS($AJ$2:AJ1155),O1155:Q3058,3,0),\"\")","v":""},null,{"$f":"IFERROR(VLOOKUP(ROWS(AL$2:$AL1155),N1155:Q3058,4,0),\"\")","v":""}]
[null,null,null,null,null,null,null,null,null,null,null,null,null,0,0,0,"hdfc mip stp","MHD038","MIP Aggressive",null,null,null,null,null,null,null,null,null,null,null,{"$f":"IFERROR(VLOOKUP(ROWS($AE$2:AE1156),P1156:Q3059,2,0),\"\")","v":""},null,null,null,null,{"$f":"IFERROR(VLOOKUP(ROWS($AJ$2:AJ1156),O1156:Q3059,3,0),\"\")","v":""},null,{"$f":"IFERROR(VLOOKUP(ROWS(AL$2:$AL1156),N1156:Q3059,4,0),\"\")","v":""}]
[null,null,null,null,null,null,null,null,null,null,null,null,null,0,0,0,"sundaram mip moderate","MSN048","MIP Aggressive",null,null,null,null,null,null,null,null,null,null,null,{"$f":"IFERROR(VLOOKUP(ROWS($AE$2:AE1157),P1157:Q3060,2,0),\"\")","v":""},null,null,null,null,{"$f":"IFERROR(VLOOKUP(ROWS($AJ$2:AJ1157),O1157:Q3060,3,0),\"\")","v":""},null,{"$f":"IFERROR(VLOOKUP(ROWS(AL$2:$AL1157),N1157:Q3060,4,0),\"\")","v":""}]
[null,null,null,null,null,null,null,null,null,null,null,null,null,0,0,0,"lic nomura mip","MJB020","MIP Aggressive",null,null,null,null,null,null,null,null,null,null,null,{"$f":"IFERROR(VLOOKUP(ROWS($AE$2:AE1158),P1158:Q3061,2,0),\"\")","v":""},null,null,null,null,{"$f":"IFERROR(VLOOKUP(ROWS($AJ$2:AJ1158),O1158:Q3061,3,0),\"\")","v":""},null,{"$f":"IFERROR(VLOOKUP(ROWS(AL$2:$AL1158),N1158:Q3061,4,0),\"\")","v":""}]
[null,null,null,null,null,null,null,null,null,null,null,null,null,0,0,0,"religare invesco mip plus dp","MLI578","MIP Aggressive",null,null,null,null,null,null,null,null,null,null,null,{"$f":"IFERROR(VLOOKUP(ROWS($AE$2:AE1159),P1159:Q3062,2,0),\"\")","v":""},null,null,null,null,{"$f":"IFERROR(VLOOKUP(ROWS($AJ$2:AJ1159),O1159:Q3062,3,0),\"\")","v":""},null,{"$f":"IFERROR(VLOOKUP(ROWS(AL$2:$AL1159),N1159:Q3062,4,0),\"\")","v":""}]
[null,null,null,null,null,null,null,null,null,null,null,null,null,0,0,0,"sahara classic fund","MFI041","MIP Aggressive",null,null,null,null,null,null,null,null,null,null,null,{"$f":"IFERROR(VLOOKUP(ROWS($AE$2:AE1160),P1160:Q3063,2,0),\"\")","v":""},null,null,null,null,{"$f":"IFERROR(VLOOKUP(ROWS($AJ$2:AJ1160),O1160:Q3063,3,0),\"\")","v":""},null,{"$f":"IFERROR(VLOOKUP(ROWS(AL$2:$AL1160),N1160:Q3063,4,0),\"\")","v":""}]
[null,null,null,null,null,null,null,null,null,null,null,null,null,0,0,0,"religare invesco mi mip plus","MLI362","MIP Aggressive",null,null,null,null,null,null,null,null,null,null,null,{"$f":"IFERROR(VLOOKUP(ROWS($AE$2:AE1161),P1161:Q3064,2,0),\"\")","v":""},null,null,null,null,{"$f":"IFERROR(VLOOKUP(ROWS($AJ$2:AJ1161),O1161:Q3064,3,0),\"\")","v":""},null,{"$f":"IFERROR(VLOOKUP(ROWS(AL$2:$AL1161),N1161:Q3064,4,0),\"\")","v":""}]
[null,null,null,null,null,null,null,null,null,null,null,null,null,0,0,0,"jpmorgan india hybrid sr 1","MJP064","MIP Aggressive",null,null,null,null,null,null,null,null,null,null,null,{"$f":"IFERROR(VLOOKUP(ROWS($AE$2:AE1162),P1162:Q3065,2,0),\"\")","v":""},null,null,null,null,{"$f":"IFERROR(VLOOKUP(ROWS($AJ$2:AJ1162),O1162:Q3065,3,0),\"\")","v":""},null,{"$f":"IFERROR(VLOOKUP(ROWS(AL$2:$AL1162),N1162:Q3065,4,0),\"\")","v":""}]
[null,null,null,null,null,null,null,null,null,null,null,null,null,0,0,0,"hdfc multiple yield fund","MHD046","MIP Aggressive",null,null,null,null,null,null,null,null,null,null,null,{"$f":"IFERROR(VLOOKUP(ROWS($AE$2:AE1163),P1163:Q3066,2,0),\"\")","v":""},null,null,null,null,{"$f":"IFERROR(VLOOKUP(ROWS($AJ$2:AJ1163),O1163:Q3066,3,0),\"\")","v":""},null,{"$f":"IFERROR(VLOOKUP(ROWS(AL$2:$AL1163),N1163:Q3066,4,0),\"\")","v":""}]
[null,null,null,null,null,null,null,null,null,null,null,null,null,0,0,0,"icici pru multiple yield sr2 b","MPI961","MIP Aggressive",null,null,null,null,null,null,null,null,null,null,null,{"$f":"IFERROR(VLOOKUP(ROWS($AE$2:AE1164),P1164:Q3067,2,0),\"\")","v":""},null,null,null,null,{"$f":"IFERROR(VLOOKUP(ROWS($AJ$2:AJ1164),O1164:Q3067,3,0),\"\")","v":""},null,{"$f":"IFERROR(VLOOKUP(ROWS(AL$2:$AL1164),N1164:Q3067,4,0),\"\")","v":""}]
[null,null,null,null,null,null,null,null,null,null,null,null,null,0,0,0,"sbi magnum mip direct","MSB538","MIP Conservative",null,null,null,null,null,null,null,null,null,null,null,{"$f":"IFERROR(VLOOKUP(ROWS($AE$2:AE1165),P1165:Q3068,2,0),\"\")","v":""},null,null,null,null,{"$f":"IFERROR(VLOOKUP(ROWS($AJ$2:AJ1165),O1165:Q3068,3,0),\"\")","v":""},null,{"$f":"IFERROR(VLOOKUP(ROWS(AL$2:$AL1165),N1165:Q3068,4,0),\"\")","v":""}]
[null,null,null,null,null,null,null,null,null,null,null,null,null,0,0,0,"sundaram cpof sr 4 2 yrs","MSN481","MIP Conservative",null,null,null,null,null,null,null,null,null,null,null,{"$f":"IFERROR(VLOOKUP(ROWS($AE$2:AE1166),P1166:Q3069,2,0),\"\")","v":""},null,null,null,null,{"$f":"IFERROR(VLOOKUP(ROWS($AJ$2:AJ1166),O1166:Q3069,3,0),\"\")","v":""},null,{"$f":"IFERROR(VLOOKUP(ROWS(AL$2:$AL1166),N1166:Q3069,4,0),\"\")","v":""}]
[null,null,null,null,null,null,null,null,null,null,null,null,null,0,0,0,"sbi magnum mip","MSB021","MIP Conservative",null,null,null,null,null,null,null,null,null,null,null,{"$f":"IFERROR(VLOOKUP(ROWS($AE$2:AE1167),P1167:Q3070,2,0),\"\")","v":""},null,null,null,null,{"$f":"IFERROR(VLOOKUP(ROWS($AJ$2:AJ1167),O1167:Q3070,3,0),\"\")","v":""},null,{"$f":"IFERROR(VLOOKUP(ROWS(AL$2:$AL1167),N1167:Q3070,4,0),\"\")","v":""}]
[null,null,null,null,null,null,null,null,null,null,null,null,null,0,0,0,"birla sl monthly income","MAC008","MIP Conservative",null,null,null,null,null,null,null,null,null,null,null,{"$f":"IFERROR(VLOOKUP(ROWS($AE$2:AE1168),P1168:Q3071,2,0),\"\")","v":""},null,null,null,null,{"$f":"IFERROR(VLOOKUP(ROWS($AJ$2:AJ1168),O1168:Q3071,3,0),\"\")","v":""},null,{"$f":"IFERROR(VLOOKUP(ROWS(AL$2:$AL1168),N1168:Q3071,4,0),\"\")","v":""}]
[null,null,null,null,null,null,null,null,null,null,null,null,null,0,0,0,"sbi magnum mip floater","MSB075","MIP Conservative",null,null,null,null,null,null,null,null,null,null,null,{"$f":"IFERROR(VLOOKUP(ROWS($AE$2:AE1169),P1169:Q3072,2,0),\"\")","v":""},null,null,null,null,{"$f":"IFERROR(VLOOKUP(ROWS($AJ$2:AJ1169),O1169:Q3072,3,0),\"\")","v":""},null,{"$f":"IFERROR(VLOOKUP(ROWS(AL$2:$AL1169),N1169:Q3072,4,0),\"\")","v":""}]
[null,null,null,null,null,null,null,null,null,null,null,null,null,0,0,0,"birla sl mip ii savings 5 dp","MBS862","MIP Conservative",null,null,null,null,null,null,null,null,null,null,null,{"$f":"IFERROR(VLOOKUP(ROWS($AE$2:AE1170),P1170:Q3073,2,0),\"\")","v":""},null,null,null,null,{"$f":"IFERROR(VLOOKUP(ROWS($AJ$2:AJ1170),O1170:Q3073,3,0),\"\")","v":""},null,{"$f":"IFERROR(VLOOKUP(ROWS(AL$2:$AL1170),N1170:Q3073,4,0),\"\")","v":""}]
[null,null,null,null,null,null,null,null,null,null,null,null,null,0,0,0,"icici prudential regular income dir","MPI1165","MIP Conservative",null,null,null,null,null,null,null,null,null,null,null,{"$f":"IFERROR(VLOOKUP(ROWS($AE$2:AE1171),P1171:Q3074,2,0),\"\")","v":""},null,null,null,null,{"$f":"IFERROR(VLOOKUP(ROWS($AJ$2:AJ1171),O1171:Q3074,3,0),\"\")","v":""},null,{"$f":"IFERROR(VLOOKUP(ROWS(AL$2:$AL1171),N1171:Q3074,4,0),\"\")","v":""}]
[null,null,null,null,null,null,null,null,null,null,null,null,null,0,0,0,"birla sl mip ii savings 5","MBS064","MIP Conservative",null,null,null,null,null,null,null,null,null,null,null,{"$f":"IFERROR(VLOOKUP(ROWS($AE$2:AE1172),P1172:Q3075,2,0),\"\")","v":""},null,null,null,null,{"$f":"IFERROR(VLOOKUP(ROWS($AJ$2:AJ1172),O1172:Q3075,3,0),\"\")","v":""},null,{"$f":"IFERROR(VLOOKUP(ROWS(AL$2:$AL1172),N1172:Q3075,4,0),\"\")","v":""}]
[null,null,null,null,null,null,null,null,null,null,null,null,null,0,0,0,"icici prudential regular income","MPI867","MIP Conservative",null,null,null,null,null,null,null,null,null,null,null,{"$f":"IFERROR(VLOOKUP(ROWS($AE$2:AE1173),P1173:Q3076,2,0),\"\")","v":""},null,null,null,null,{"$f":"IFERROR(VLOOKUP(ROWS($AJ$2:AJ1173),O1173:Q3076,3,0),\"\")","v":""},null,{"$f":"IFERROR(VLOOKUP(ROWS(AL$2:$AL1173),N1173:Q3076,4,0),\"\")","v":""}]
[null,null,null,null,null,null,null,null,null,null,null,null,null,0,0,0,"icici pru mip","MPI019","MIP Conservative",null,null,null,null,null,null,null,null,null,null,null,{"$f":"IFERROR(VLOOKUP(ROWS($AE$2:AE1174),P1174:Q3077,2,0),\"\")","v":""},null,null,null,null,{"$f":"IFERROR(VLOOKUP(ROWS($AJ$2:AJ1174),O1174:Q3077,3,0),\"\")","v":""},null,{"$f":"IFERROR(VLOOKUP(ROWS(AL$2:$AL1174),N1174:Q3077,4,0),\"\")","v":""}]
[null,null,null,null,null,null,null,null,null,null,null,null,null,0,0,0,"sundaram mip conservative","MSN352","MIP Conservative",null,null,null,null,null,null,null,null,null,null,null,{"$f":"IFERROR(VLOOKUP(ROWS($AE$2:AE1175),P1175:Q3078,2,0),\"\")","v":""},null,null,null,null,{"$f":"IFERROR(VLOOKUP(ROWS($AJ$2:AJ1175),O1175:Q3078,3,0),\"\")","v":""},null,{"$f":"IFERROR(VLOOKUP(ROWS(AL$2:$AL1175),N1175:Q3078,4,0),\"\")","v":""}]
[null,null,null,null,null,null,null,null,null,null,null,null,null,0,0,0,"sundaram cpof sr 7 3 yrs","MSN493","MIP Conservative",null,null,null,null,null,null,null,null,null,null,null,{"$f":"IFERROR(VLOOKUP(ROWS($AE$2:AE1176),P1176:Q3079,2,0),\"\")","v":""},null,null,null,null,{"$f":"IFERROR(VLOOKUP(ROWS($AJ$2:AJ1176),O1176:Q3079,3,0),\"\")","v":""},null,{"$f":"IFERROR(VLOOKUP(ROWS(AL$2:$AL1176),N1176:Q3079,4,0),\"\")","v":""}]
[null,null,null,null,null,null,null,null,null,null,null,null,null,0,0,0,"uti monthly income scheme","MUT041","MIP Conservative",null,null,null,null,null,null,null,null,null,null,null,{"$f":"IFERROR(VLOOKUP(ROWS($AE$2:AE1177),P1177:Q3080,2,0),\"\")","v":""},null,null,null,null,{"$f":"IFERROR(VLOOKUP(ROWS($AJ$2:AJ1177),O1177:Q3080,3,0),\"\")","v":""},null,{"$f":"IFERROR(VLOOKUP(ROWS(AL$2:$AL1177),N1177:Q3080,4,0),\"\")","v":""}]
[null,null,null,null,null,null,null,null,null,null,null,null,null,0,0,0,"hsbc mip regular plan","MHS027","MIP Conservative",null,null,null,null,null,null,null,null,null,null,null,{"$f":"IFERROR(VLOOKUP(ROWS($AE$2:AE1178),P1178:Q3081,2,0),\"\")","v":""},null,null,null,null,{"$f":"IFERROR(VLOOKUP(ROWS($AJ$2:AJ1178),O1178:Q3081,3,0),\"\")","v":""},null,{"$f":"IFERROR(VLOOKUP(ROWS(AL$2:$AL1178),N1178:Q3081,4,0),\"\")","v":""}]
[null,null,null,null,null,null,null,null,null,null,null,null,null,0,0,0,"tata monthly income fund","MTA055","MIP Conservative",null,null,null,null,null,null,null,null,null,null,null,{"$f":"IFERROR(VLOOKUP(ROWS($AE$2:AE1179),P1179:Q3082,2,0),\"\")","v":""},null,null,null,null,{"$f":"IFERROR(VLOOKUP(ROWS($AJ$2:AJ1179),O1179:Q3082,3,0),\"\")","v":""},null,{"$f":"IFERROR(VLOOKUP(ROWS(AL$2:$AL1179),N1179:Q3082,4,0),\"\")","v":""}]
[null,null,null,null,null,null,null,null,null,null,null,null,null,0,0,0,"birla sun life mip","MBS019","MIP Conservative",null,null,null,null,null,null,null,null,null,null,null,{"$f":"IFERROR(VLOOKUP(ROWS($AE$2:AE1180),P1180:Q3083,2,0),\"\")","v":""},null,null,null,null,{"$f":"IFERROR(VLOOKUP(ROWS($AJ$2:AJ1180),O1180:Q3083,3,0),\"\")","v":""},null,{"$f":"IFERROR(VLOOKUP(ROWS(AL$2:$AL1180),N1180:Q3083,4,0),\"\")","v":""}]
[null,null,null,null,null,null,null,null,null,null,null,null,null,0,0,0,"principal debt sav mip","MID035","MIP Conservative",null,null,null,null,null,null,null,null,null,null,null,{"$f":"IFERROR(VLOOKUP(ROWS($AE$2:AE1181),P1181:Q3084,2,0),\"\")","v":""},null,null,null,null,{"$f":"IFERROR(VLOOKUP(ROWS($AJ$2:AJ1181),O1181:Q3084,3,0),\"\")","v":""},null,{"$f":"IFERROR(VLOOKUP(ROWS(AL$2:$AL1181),N1181:Q3084,4,0),\"\")","v":""}]
[null,null,null,null,null,null,null,null,null,null,null,null,null,0,0,0,"sundaram cpof sr 3 5 yrs","MSN478","MIP Conservative",null,null,null,null,null,null,null,null,null,null,null,{"$f":"IFERROR(VLOOKUP(ROWS($AE$2:AE1182),P1182:Q3085,2,0),\"\")","v":""},null,null,null,null,{"$f":"IFERROR(VLOOKUP(ROWS($AJ$2:AJ1182),O1182:Q3085,3,0),\"\")","v":""},null,{"$f":"IFERROR(VLOOKUP(ROWS(AL$2:$AL1182),N1182:Q3085,4,0),\"\")","v":""}]
[null,null,null,null,null,null,null,null,null,null,null,null,null,0,0,0,"jm monthly income plan","MJM042","MIP Conservative",null,null,null,null,null,null,null,null,null,null,null,{"$f":"IFERROR(VLOOKUP(ROWS($AE$2:AE1183),P1183:Q3086,2,0),\"\")","v":""},null,null,null,null,{"$f":"IFERROR(VLOOKUP(ROWS($AJ$2:AJ1183),O1183:Q3086,3,0),\"\")","v":""},null,{"$f":"IFERROR(VLOOKUP(ROWS(AL$2:$AL1183),N1183:Q3086,4,0),\"\")","v":""}]
[null,null,null,null,null,null,null,null,null,null,null,null,null,0,0,0,"sundaram cpof sr 4 5 yrs","MSN485","MIP Conservative",null,null,null,null,null,null,null,null,null,null,null,{"$f":"IFERROR(VLOOKUP(ROWS($AE$2:AE1184),P1184:Q3087,2,0),\"\")","v":""},null,null,null,null,{"$f":"IFERROR(VLOOKUP(ROWS($AJ$2:AJ1184),O1184:Q3087,3,0),\"\")","v":""},null,{"$f":"IFERROR(VLOOKUP(ROWS(AL$2:$AL1184),N1184:Q3087,4,0),\"\")","v":""}]
[null,null,null,null,null,null,null,null,null,null,null,null,null,0,0,0,"sundaram cpof sr 9 3 yrs","MSN537","MIP Conservative",null,null,null,null,null,null,null,null,null,null,null,{"$f":"IFERROR(VLOOKUP(ROWS($AE$2:AE1185),P1185:Q3088,2,0),\"\")","v":""},null,null,null,null,{"$f":"IFERROR(VLOOKUP(ROWS($AJ$2:AJ1185),O1185:Q3088,3,0),\"\")","v":""},null,{"$f":"IFERROR(VLOOKUP(ROWS(AL$2:$AL1185),N1185:Q3088,4,0),\"\")","v":""}]
[null,null,null,null,null,null,null,null,null,null,null,null,null,0,0,0,"dws income advantage rp","MDE130","MIP Conservative",null,null,null,null,null,null,null,null,null,null,null,{"$f":"IFERROR(VLOOKUP(ROWS($AE$2:AE1186),P1186:Q3089,2,0),\"\")","v":""},null,null,null,null,{"$f":"IFERROR(VLOOKUP(ROWS($AJ$2:AJ1186),O1186:Q3089,3,0),\"\")","v":""},null,{"$f":"IFERROR(VLOOKUP(ROWS(AL$2:$AL1186),N1186:Q3089,4,0),\"\")","v":""}]
[null,null,null,null,null,null,null,null,null,null,null,null,null,0,0,0,"can robeco yield advantage","MCA186","MIP Conservative",null,null,null,null,null,null,null,null,null,null,null,{"$f":"IFERROR(VLOOKUP(ROWS($AE$2:AE1187),P1187:Q3090,2,0),\"\")","v":""},null,null,null,null,{"$f":"IFERROR(VLOOKUP(ROWS($AJ$2:AJ1187),O1187:Q3090,3,0),\"\")","v":""},null,{"$f":"IFERROR(VLOOKUP(ROWS(AL$2:$AL1187),N1187:Q3090,4,0),\"\")","v":""}]
[null,null,null,null,null,null,null,null,null,null,null,null,null,0,0,0,"dws income advantage ip","MDE132","MIP Conservative",null,null,null,null,null,null,null,null,null,null,null,{"$f":"IFERROR(VLOOKUP(ROWS($AE$2:AE1188),P1188:Q3091,2,0),\"\")","v":""},null,null,null,null,{"$f":"IFERROR(VLOOKUP(ROWS($AJ$2:AJ1188),O1188:Q3091,3,0),\"\")","v":""},null,{"$f":"IFERROR(VLOOKUP(ROWS(AL$2:$AL1188),N1188:Q3091,4,0),\"\")","v":""}]
[null,null,null,null,null,null,null,null,null,null,null,null,null,0,0,0,"escorts liquid plan","MES016","Liquid",null,null,null,null,null,null,null,null,null,null,null,{"$f":"IFERROR(VLOOKUP(ROWS($AE$2:AE1189),P1189:Q3092,2,0),\"\")","v":""},null,null,null,null,{"$f":"IFERROR(VLOOKUP(ROWS($AJ$2:AJ1189),O1189:Q3092,3,0),\"\")","v":""},null,{"$f":"IFERROR(VLOOKUP(ROWS(AL$2:$AL1189),N1189:Q3092,4,0),\"\")","v":""}]
[null,null,null,null,null,null,null,null,null,null,null,null,null,0,0,0,"sbi liquid fund ip","MSA004","Liquid",null,null,null,null,null,null,null,null,null,null,null,{"$f":"IFERROR(VLOOKUP(ROWS($AE$2:AE1190),P1190:Q3093,2,0),\"\")","v":""},null,null,null,null,{"$f":"IFERROR(VLOOKUP(ROWS($AJ$2:AJ1190),O1190:Q3093,3,0),\"\")","v":""},null,{"$f":"IFERROR(VLOOKUP(ROWS(AL$2:$AL1190),N1190:Q3093,4,0),\"\")","v":""}]
[null,null,null,null,null,null,null,null,null,null,null,null,null,0,0,0,"principal money manager fund","MID160","Liquid",null,null,null,null,null,null,null,null,null,null,null,{"$f":"IFERROR(VLOOKUP(ROWS($AE$2:AE1191),P1191:Q3094,2,0),\"\")","v":""},null,null,null,null,{"$f":"IFERROR(VLOOKUP(ROWS($AJ$2:AJ1191),O1191:Q3094,3,0),\"\")","v":""},null,{"$f":"IFERROR(VLOOKUP(ROWS(AL$2:$AL1191),N1191:Q3094,4,0),\"\")","v":""}]
[null,null,null,null,null,null,null,null,null,null,null,null,null,0,0,0,"jm high liquidity inst","MJM024","Liquid",null,null,null,null,null,null,null,null,null,null,null,{"$f":"IFERROR(VLOOKUP(ROWS($AE$2:AE1192),P1192:Q3095,2,0),\"\")","v":""},null,null,null,null,{"$f":"IFERROR(VLOOKUP(ROWS($AJ$2:AJ1192),O1192:Q3095,3,0),\"\")","v":""},null,{"$f":"IFERROR(VLOOKUP(ROWS(AL$2:$AL1192),N1192:Q3095,4,0),\"\")","v":""}]
[null,null,null,null,null,null,null,null,null,null,null,null,null,0,0,0,"birla sl cash plus dap ","MBS465","Liquid",null,null,null,null,null,null,null,null,null,null,null,{"$f":"IFERROR(VLOOKUP(ROWS($AE$2:AE1193),P1193:Q3096,2,0),\"\")","v":""},null,null,null,null,{"$f":"IFERROR(VLOOKUP(ROWS($AJ$2:AJ1193),O1193:Q3096,3,0),\"\")","v":""},null,{"$f":"IFERROR(VLOOKUP(ROWS(AL$2:$AL1193),N1193:Q3096,4,0),\"\")","v":""}]
[null,null,null,null,null,null,null,null,null,null,null,null,null,0,0,0,"franklin i tma liquid sip","MTE083","Liquid",null,null,null,null,null,null,null,null,null,null,null,{"$f":"IFERROR(VLOOKUP(ROWS($AE$2:AE1194),P1194:Q3097,2,0),\"\")","v":""},null,null,null,null,{"$f":"IFERROR(VLOOKUP(ROWS($AJ$2:AJ1194),O1194:Q3097,3,0),\"\")","v":""},null,{"$f":"IFERROR(VLOOKUP(ROWS(AL$2:$AL1194),N1194:Q3097,4,0),\"\")","v":""}]
[null,null,null,null,null,null,null,null,null,null,null,null,null,0,0,0,"taurus liquid fund sip","MCM046","Liquid",null,null,null,null,null,null,null,null,null,null,null,{"$f":"IFERROR(VLOOKUP(ROWS($AE$2:AE1195),P1195:Q3098,2,0),\"\")","v":""},null,null,null,null,{"$f":"IFERROR(VLOOKUP(ROWS($AJ$2:AJ1195),O1195:Q3098,3,0),\"\")","v":""},null,{"$f":"IFERROR(VLOOKUP(ROWS(AL$2:$AL1195),N1195:Q3098,4,0),\"\")","v":""}]
[null,null,null,null,null,null,null,null,null,null,null,null,null,0,0,0,"religare invesco liquid dp","MLI611","Liquid",null,null,null,null,null,null,null,null,null,null,null,{"$f":"IFERROR(VLOOKUP(ROWS($AE$2:AE1196),P1196:Q3099,2,0),\"\")","v":""},null,null,null,null,{"$f":"IFERROR(VLOOKUP(ROWS($AJ$2:AJ1196),O1196:Q3099,3,0),\"\")","v":""},null,{"$f":"IFERROR(VLOOKUP(ROWS(AL$2:$AL1196),N1196:Q3099,4,0),\"\")","v":""}]
[null,null,null,null,null,null,null,null,null,null,null,null,null,0,0,0,"pramerica liquid fund","MPA001","Liquid",null,null,null,null,null,null,null,null,null,null,null,{"$f":"IFERROR(VLOOKUP(ROWS($AE$2:AE1197),P1197:Q3100,2,0),\"\")","v":""},null,null,null,null,{"$f":"IFERROR(VLOOKUP(ROWS($AJ$2:AJ1197),O1197:Q3100,3,0),\"\")","v":""},null,{"$f":"IFERROR(VLOOKUP(ROWS(AL$2:$AL1197),N1197:Q3100,4,0),\"\")","v":""}]
[null,null,null,null,null,null,null,null,null,null,null,null,null,0,0,0,"principal cash management","MID086","Liquid",null,null,null,null,null,null,null,null,null,null,null,{"$f":"IFERROR(VLOOKUP(ROWS($AE$2:AE1198),P1198:Q3101,2,0),\"\")","v":""},null,null,null,null,{"$f":"IFERROR(VLOOKUP(ROWS($AJ$2:AJ1198),O1198:Q3101,3,0),\"\")","v":""},null,{"$f":"IFERROR(VLOOKUP(ROWS(AL$2:$AL1198),N1198:Q3101,4,0),\"\")","v":""}]
[null,null,null,null,null,null,null,null,null,null,null,null,null,{"$f":"IF(ISNUMBER(SEARCH($H$16,Q1199)),MAX($N$1,N1198)+1,0)","v":0},{"$f":"IF(ISNUMBER(SEARCH($H$11,Q1199)),MAX($O$1,O1198)+1,0)","v":0},{"$f":"IF(ISNUMBER(SEARCH($H$6,Q1199)),MAX($P$1,P1198)+1,0)","v":0},"jm high liquidity","MJM008","Liquid",null,null,null,null,null,null,null,null,null,null,null,{"$f":"IFERROR(VLOOKUP(ROWS($AE$2:AE1199),P1199:Q3102,2,0),\"\")","v":""},null,null,null,null,{"$f":"IFERROR(VLOOKUP(ROWS($AJ$2:AJ1199),O1199:Q3102,3,0),\"\")","v":""},null,{"$f":"IFERROR(VLOOKUP(ROWS(AL$2:$AL1199),N1199:Q3102,4,0),\"\")","v":""}]
[null,null,null,null,null,null,null,null,null,null,null,null,null,0,0,0,"indiabulls liquid fund","MIM001","Liquid",null,null,null,null,null,null,null,null,null,null,null,{"$f":"IFERROR(VLOOKUP(ROWS($AE$2:AE1200),P1200:Q3103,2,0),\"\")","v":""},null,null,null,null,{"$f":"IFERROR(VLOOKUP(ROWS($AJ$2:AJ1200),O1200:Q3103,3,0),\"\")","v":""},null,{"$f":"IFERROR(VLOOKUP(ROWS(AL$2:$AL1200),N1200:Q3103,4,0),\"\")","v":""}]
[null,null,null,null,null,null,null,null,null,null,null,null,null,0,0,0,"jm high liquidity sip","MJM050","Liquid",null,null,null,null,null,null,null,null,null,null,null,{"$f":"IFERROR(VLOOKUP(ROWS($AE$2:AE1201),P1201:Q3104,2,0),\"\")","v":""},null,null,null,null,{"$f":"IFERROR(VLOOKUP(ROWS($AJ$2:AJ1201),O1201:Q3104,3,0),\"\")","v":""},null,{"$f":"IFERROR(VLOOKUP(ROWS(AL$2:$AL1201),N1201:Q3104,4,0),\"\")","v":""}]
[null,null,null,null,null,null,null,null,null,null,null,null,null,0,0,0,"hdfc liquid premium plan","MHD026","Liquid",null,null,null,null,null,null,null,null,null,null,null,{"$f":"IFERROR(VLOOKUP(ROWS($AE$2:AE1202),P1202:Q3105,2,0),\"\")","v":""},null,null,null,null,{"$f":"IFERROR(VLOOKUP(ROWS($AJ$2:AJ1202),O1202:Q3105,3,0),\"\")","v":""},null,{"$f":"IFERROR(VLOOKUP(ROWS(AL$2:$AL1202),N1202:Q3105,4,0),\"\")","v":""}]
[null,null,null,null,null,null,null,null,null,null,null,null,null,0,0,0,"kotak floater stp regular","MKM047","Liquid",null,null,null,null,null,null,null,null,null,null,null,{"$f":"IFERROR(VLOOKUP(ROWS($AE$2:AE1203),P1203:Q3106,2,0),\"\")","v":""},null,null,null,null,{"$f":"IFERROR(VLOOKUP(ROWS($AJ$2:AJ1203),O1203:Q3106,3,0),\"\")","v":""},null,{"$f":"IFERROR(VLOOKUP(ROWS(AL$2:$AL1203),N1203:Q3106,4,0),\"\")","v":""}]
[null,null,null,null,null,null,null,null,null,null,null,null,null,0,0,0,"religare invesco liquid fund","MLI007","Liquid",null,null,null,null,null,null,null,null,null,null,null,{"$f":"IFERROR(VLOOKUP(ROWS($AE$2:AE1204),P1204:Q3107,2,0),\"\")","v":""},null,null,null,null,{"$f":"IFERROR(VLOOKUP(ROWS($AJ$2:AJ1204),O1204:Q3107,3,0),\"\")","v":""},null,{"$f":"IFERROR(VLOOKUP(ROWS(AL$2:$AL1204),N1204:Q3107,4,0),\"\")","v":""}]
[null,null,null,null,null,null,null,null,null,null,null,null,null,0,0,0,"birla sl cash plus ip","MBS035","Liquid",null,null,null,null,null,null,null,null,null,null,null,{"$f":"IFERROR(VLOOKUP(ROWS($AE$2:AE1205),P1205:Q3108,2,0),\"\")","v":""},null,null,null,null,{"$f":"IFERROR(VLOOKUP(ROWS($AJ$2:AJ1205),O1205:Q3108,3,0),\"\")","v":""},null,{"$f":"IFERROR(VLOOKUP(ROWS(AL$2:$AL1205),N1205:Q3108,4,0),\"\")","v":""}]
[null,null,null,null,null,null,null,null,null,null,null,null,null,0,0,0,"birla sl cash plus ipp","MBS059","Liquid",null,null,null,null,null,null,null,null,null,null,null,{"$f":"IFERROR(VLOOKUP(ROWS($AE$2:AE1206),P1206:Q3109,2,0),\"\")","v":""},null,null,null,null,{"$f":"IFERROR(VLOOKUP(ROWS($AJ$2:AJ1206),O1206:Q3109,3,0),\"\")","v":""},null,{"$f":"IFERROR(VLOOKUP(ROWS(AL$2:$AL1206),N1206:Q3109,4,0),\"\")","v":""}]
[null,null,null,null,null,null,null,null,null,null,null,null,null,0,0,0,"idfc cash fund regular","MAG071","Liquid",null,null,null,null,null,null,null,null,null,null,null,{"$f":"IFERROR(VLOOKUP(ROWS($AE$2:AE1207),P1207:Q3110,2,0),\"\")","v":""},null,null,null,null,{"$f":"IFERROR(VLOOKUP(ROWS($AJ$2:AJ1207),O1207:Q3110,3,0),\"\")","v":""},null,{"$f":"IFERROR(VLOOKUP(ROWS(AL$2:$AL1207),N1207:Q3110,4,0),\"\")","v":""}]
[null,null,null,null,null,null,null,null,null,null,null,null,null,0,0,0,"birla sl cash plus rp","MBS004","Liquid",null,null,null,null,null,null,null,null,null,null,null,{"$f":"IFERROR(VLOOKUP(ROWS($AE$2:AE1208),P1208:Q3111,2,0),\"\")","v":""},null,null,null,null,{"$f":"IFERROR(VLOOKUP(ROWS($AJ$2:AJ1208),O1208:Q3111,3,0),\"\")","v":""},null,{"$f":"IFERROR(VLOOKUP(ROWS(AL$2:$AL1208),N1208:Q3111,4,0),\"\")","v":""}]
[null,null,null,null,null,null,null,null,null,null,null,null,null,0,0,0,"birla sl frf stp rp","MBS041","Liquid",null,null,null,null,null,null,null,null,null,null,null,{"$f":"IFERROR(VLOOKUP(ROWS($AE$2:AE1209),P1209:Q3112,2,0),\"\")","v":""},null,null,null,null,{"$f":"IFERROR(VLOOKUP(ROWS($AJ$2:AJ1209),O1209:Q3112,3,0),\"\")","v":""},null,{"$f":"IFERROR(VLOOKUP(ROWS(AL$2:$AL1209),N1209:Q3112,4,0),\"\")","v":""}]
[null,null,null,null,null,null,null,null,null,null,null,null,null,0,0,0,"birla sl frf stp reg ","MBS091","Liquid",null,null,null,null,null,null,null,null,null,null,null,{"$f":"IFERROR(VLOOKUP(ROWS($AE$2:AE1210),P1210:Q3113,2,0),\"\")","v":""},null,null,null,null,{"$f":"IFERROR(VLOOKUP(ROWS($AJ$2:AJ1210),O1210:Q3113,3,0),\"\")","v":""},null,{"$f":"IFERROR(VLOOKUP(ROWS(AL$2:$AL1210),N1210:Q3113,4,0),\"\")","v":""}]
[null,null,null,null,null,null,null,null,null,null,null,null,null,0,0,0,"sbi liquid fund rp","MSA001","Liquid",null,null,null,null,null,null,null,null,null,null,null,{"$f":"IFERROR(VLOOKUP(ROWS($AE$2:AE1211),P1211:Q3114,2,0),\"\")","v":""},null,null,null,null,{"$f":"IFERROR(VLOOKUP(ROWS($AJ$2:AJ1211),O1211:Q3114,3,0),\"\")","v":""},null,{"$f":"IFERROR(VLOOKUP(ROWS(AL$2:$AL1211),N1211:Q3114,4,0),\"\")","v":""}]
[null,null,null,null,null,null,null,null,null,null,null,null,null,0,0,0,"hdfc liquid fund","MHD007","Liquid",null,null,null,null,null,null,null,null,null,null,null,{"$f":"IFERROR(VLOOKUP(ROWS($AE$2:AE1212),P1212:Q3115,2,0),\"\")","v":""},null,null,null,null,{"$f":"IFERROR(VLOOKUP(ROWS($AJ$2:AJ1212),O1212:Q3115,3,0),\"\")","v":""},null,{"$f":"IFERROR(VLOOKUP(ROWS(AL$2:$AL1212),N1212:Q3115,4,0),\"\")","v":""}]
[null,null,null,null,null,null,null,null,null,null,null,null,null,0,0,0,"uti money market fund ip","MUT402","Liquid",null,null,null,null,null,null,null,null,null,null,null,{"$f":"IFERROR(VLOOKUP(ROWS($AE$2:AE1213),P1213:Q3116,2,0),\"\")","v":""},null,null,null,null,{"$f":"IFERROR(VLOOKUP(ROWS($AJ$2:AJ1213),O1213:Q3116,3,0),\"\")","v":""},null,{"$f":"IFERROR(VLOOKUP(ROWS(AL$2:$AL1213),N1213:Q3116,4,0),\"\")","v":""}]
[null,null,null,null,null,null,null,null,null,null,null,null,null,0,0,0,"reliance liquidity fund","MRC094","Liquid",null,null,null,null,null,null,null,null,null,null,null,{"$f":"IFERROR(VLOOKUP(ROWS($AE$2:AE1214),P1214:Q3117,2,0),\"\")","v":""},null,null,null,null,{"$f":"IFERROR(VLOOKUP(ROWS($AJ$2:AJ1214),O1214:Q3117,3,0),\"\")","v":""},null,{"$f":"IFERROR(VLOOKUP(ROWS(AL$2:$AL1214),N1214:Q3117,4,0),\"\")","v":""}]
[null,null,null,null,null,null,null,null,null,null,null,null,null,0,0,0,"lic nomura liquid fund","MJB015","Liquid",null,null,null,null,null,null,null,null,null,null,null,{"$f":"IFERROR(VLOOKUP(ROWS($AE$2:AE1215),P1215:Q3118,2,0),\"\")","v":""},null,null,null,null,{"$f":"IFERROR(VLOOKUP(ROWS($AJ$2:AJ1215),O1215:Q3118,3,0),\"\")","v":""},null,{"$f":"IFERROR(VLOOKUP(ROWS(AL$2:$AL1215),N1215:Q3118,4,0),\"\")","v":""}]
[null,null,null,null,null,null,null,null,null,null,null,null,null,0,0,0,"hdfc cmf saving plan","MZU006","Liquid",null,null,null,null,null,null,null,null,null,null,null,{"$f":"IFERROR(VLOOKUP(ROWS($AE$2:AE1216),P1216:Q3119,2,0),\"\")","v":""},null,null,null,null,{"$f":"IFERROR(VLOOKUP(ROWS($AJ$2:AJ1216),O1216:Q3119,3,0),\"\")","v":""},null,{"$f":"IFERROR(VLOOKUP(ROWS(AL$2:$AL1216),N1216:Q3119,4,0),\"\")","v":""}]
[null,null,null,null,null,null,null,null,null,null,null,null,null,0,0,0,"uti liquid cash inst ","MUT058","Liquid",null,null,null,null,null,null,null,null,null,null,null,{"$f":"IFERROR(VLOOKUP(ROWS($AE$2:AE1217),P1217:Q3120,2,0),\"\")","v":""},null,null,null,null,{"$f":"IFERROR(VLOOKUP(ROWS($AJ$2:AJ1217),O1217:Q3120,3,0),\"\")","v":""},null,{"$f":"IFERROR(VLOOKUP(ROWS(AL$2:$AL1217),N1217:Q3120,4,0),\"\")","v":""}]
[null,null,null,null,null,null,null,null,null,null,null,null,null,0,0,0,"tata money market fund regular","MTA127","Liquid",null,null,null,null,null,null,null,null,null,null,null,{"$f":"IFERROR(VLOOKUP(ROWS($AE$2:AE1218),P1218:Q3121,2,0),\"\")","v":""},null,null,null,null,{"$f":"IFERROR(VLOOKUP(ROWS($AJ$2:AJ1218),O1218:Q3121,3,0),\"\")","v":""},null,{"$f":"IFERROR(VLOOKUP(ROWS(AL$2:$AL1218),N1218:Q3121,4,0),\"\")","v":""}]
[null,null,null,null,null,null,null,null,null,null,null,null,null,0,0,0,"tata liquid fund regular plan","MTA048","Liquid",null,null,null,null,null,null,null,null,null,null,null,{"$f":"IFERROR(VLOOKUP(ROWS($AE$2:AE1219),P1219:Q3122,2,0),\"\")","v":""},null,null,null,null,{"$f":"IFERROR(VLOOKUP(ROWS($AJ$2:AJ1219),O1219:Q3122,3,0),\"\")","v":""},null,{"$f":"IFERROR(VLOOKUP(ROWS(AL$2:$AL1219),N1219:Q3122,4,0),\"\")","v":""}]
[null,null,null,null,null,null,null,null,null,null,null,null,null,0,0,0,"peerless liquid fund sip","MPM009","Liquid",null,null,null,null,null,null,null,null,null,null,null,{"$f":"IFERROR(VLOOKUP(ROWS($AE$2:AE1220),P1220:Q3123,2,0),\"\")","v":""},null,null,null,null,{"$f":"IFERROR(VLOOKUP(ROWS($AJ$2:AJ1220),O1220:Q3123,3,0),\"\")","v":""},null,{"$f":"IFERROR(VLOOKUP(ROWS(AL$2:$AL1220),N1220:Q3123,4,0),\"\")","v":""}]
[null,null,null,null,null,null,null,null,null,null,null,null,null,0,0,0,"icici pru money market fund","MPI129","Liquid",null,null,null,null,null,null,null,null,null,null,null,{"$f":"IFERROR(VLOOKUP(ROWS($AE$2:AE1221),P1221:Q3124,2,0),\"\")","v":""},null,null,null,null,{"$f":"IFERROR(VLOOKUP(ROWS($AJ$2:AJ1221),O1221:Q3124,3,0),\"\")","v":""},null,{"$f":"IFERROR(VLOOKUP(ROWS(AL$2:$AL1221),N1221:Q3124,4,0),\"\")","v":""}]
[null,null,null,null,null,null,null,null,null,null,null,null,null,0,0,0,"sbi magnum insta cash","MSB005","Liquid",null,null,null,null,null,null,null,null,null,null,null,{"$f":"IFERROR(VLOOKUP(ROWS($AE$2:AE1222),P1222:Q3125,2,0),\"\")","v":""},null,null,null,null,{"$f":"IFERROR(VLOOKUP(ROWS($AJ$2:AJ1222),O1222:Q3125,3,0),\"\")","v":""},null,{"$f":"IFERROR(VLOOKUP(ROWS(AL$2:$AL1222),N1222:Q3125,4,0),\"\")","v":""}]
[null,null,null,null,null,null,null,null,null,null,null,null,null,0,0,0,"sbi premier liquid fund rp","MSB087","Liquid",null,null,null,null,null,null,null,null,null,null,null,{"$f":"IFERROR(VLOOKUP(ROWS($AE$2:AE1223),P1223:Q3126,2,0),\"\")","v":""},null,null,null,null,{"$f":"IFERROR(VLOOKUP(ROWS($AJ$2:AJ1223),O1223:Q3126,3,0),\"\")","v":""},null,{"$f":"IFERROR(VLOOKUP(ROWS(AL$2:$AL1223),N1223:Q3126,4,0),\"\")","v":""}]
[null,null,null,null,null,null,null,null,null,null,null,null,null,0,0,0,"sbi premier liquid ip","MSB036","Liquid",null,null,null,null,null,null,null,null,null,null,null,{"$f":"IFERROR(VLOOKUP(ROWS($AE$2:AE1224),P1224:Q3127,2,0),\"\")","v":""},null,null,null,null,{"$f":"IFERROR(VLOOKUP(ROWS($AJ$2:AJ1224),O1224:Q3127,3,0),\"\")","v":""},null,{"$f":"IFERROR(VLOOKUP(ROWS(AL$2:$AL1224),N1224:Q3127,4,0),\"\")","v":""}]
[null,null,null,null,null,null,null,null,null,null,null,null,null,0,0,0,"icici pru liquid plan","MPI115","Liquid",null,null,null,null,null,null,null,null,null,null,null,{"$f":"IFERROR(VLOOKUP(ROWS($AE$2:AE1225),P1225:Q3128,2,0),\"\")","v":""},null,null,null,null,{"$f":"IFERROR(VLOOKUP(ROWS($AJ$2:AJ1225),O1225:Q3128,3,0),\"\")","v":""},null,{"$f":"IFERROR(VLOOKUP(ROWS(AL$2:$AL1225),N1225:Q3128,4,0),\"\")","v":""}]
[null,null,null,null,null,null,null,null,null,null,null,null,null,0,0,0,"sundaram money fund","MSN005","Liquid",null,null,null,null,null,null,null,null,null,null,null,{"$f":"IFERROR(VLOOKUP(ROWS($AE$2:AE1226),P1226:Q3129,2,0),\"\")","v":""},null,null,null,null,{"$f":"IFERROR(VLOOKUP(ROWS($AJ$2:AJ1226),O1226:Q3129,3,0),\"\")","v":""},null,{"$f":"IFERROR(VLOOKUP(ROWS(AL$2:$AL1226),N1226:Q3129,4,0),\"\")","v":""}]
[null,null,null,null,null,null,null,null,null,null,null,null,null,0,0,0,"sundaram money super inst","MSN091","Liquid",null,null,null,null,null,null,null,null,null,null,null,{"$f":"IFERROR(VLOOKUP(ROWS($AE$2:AE1227),P1227:Q3130,2,0),\"\")","v":""},null,null,null,null,{"$f":"IFERROR(VLOOKUP(ROWS($AJ$2:AJ1227),O1227:Q3130,3,0),\"\")","v":""},null,{"$f":"IFERROR(VLOOKUP(ROWS(AL$2:$AL1227),N1227:Q3130,4,0),\"\")","v":""}]
[null,null,null,null,null,null,null,null,null,null,null,null,null,0,0,0,"kotak liquid plan a regular","MKM053","Liquid",null,null,null,null,null,null,null,null,null,null,null,{"$f":"IFERROR(VLOOKUP(ROWS($AE$2:AE1228),P1228:Q3131,2,0),\"\")","v":""},null,null,null,null,{"$f":"IFERROR(VLOOKUP(ROWS($AJ$2:AJ1228),O1228:Q3131,3,0),\"\")","v":""},null,{"$f":"IFERROR(VLOOKUP(ROWS(AL$2:$AL1228),N1228:Q3131,4,0),\"\")","v":""}]
[null,null,null,null,null,null,null,null,null,null,null,null,null,0,0,0,"sundaram money inst plan","MSN060","Liquid",null,null,null,null,null,null,null,null,null,null,null,{"$f":"IFERROR(VLOOKUP(ROWS($AE$2:AE1229),P1229:Q3132,2,0),\"\")","v":""},null,null,null,null,{"$f":"IFERROR(VLOOKUP(ROWS($AJ$2:AJ1229),O1229:Q3132,3,0),\"\")","v":""},null,{"$f":"IFERROR(VLOOKUP(ROWS(AL$2:$AL1229),N1229:Q3132,4,0),\"\")","v":""}]
[null,null,null,null,null,null,null,null,null,null,null,null,null,0,0,0,"jpmorgan liquid sip","MJP021","Liquid",null,null,null,null,null,null,null,null,null,null,null,{"$f":"IFERROR(VLOOKUP(ROWS($AE$2:AE1230),P1230:Q3133,2,0),\"\")","v":""},null,null,null,null,{"$f":"IFERROR(VLOOKUP(ROWS($AJ$2:AJ1230),O1230:Q3133,3,0),\"\")","v":""},null,{"$f":"IFERROR(VLOOKUP(ROWS(AL$2:$AL1230),N1230:Q3133,4,0),\"\")","v":""}]
[null,null,null,null,null,null,null,null,null,null,null,null,null,0,0,0,"reliance liquid tp ip","MRC046","Liquid",null,null,null,null,null,null,null,null,null,null,null,{"$f":"IFERROR(VLOOKUP(ROWS($AE$2:AE1231),P1231:Q3134,2,0),\"\")","v":""},null,null,null,null,{"$f":"IFERROR(VLOOKUP(ROWS($AJ$2:AJ1231),O1231:Q3134,3,0),\"\")","v":""},null,{"$f":"IFERROR(VLOOKUP(ROWS(AL$2:$AL1231),N1231:Q3134,4,0),\"\")","v":""}]
[null,null,null,null,null,null,null,null,null,null,null,null,null,0,0,0,"dws insta cash plus fund","MDE124","Liquid",null,null,null,null,null,null,null,null,null,null,null,{"$f":"IFERROR(VLOOKUP(ROWS($AE$2:AE1232),P1232:Q3135,2,0),\"\")","v":""},null,null,null,null,{"$f":"IFERROR(VLOOKUP(ROWS($AJ$2:AJ1232),O1232:Q3135,3,0),\"\")","v":""},null,{"$f":"IFERROR(VLOOKUP(ROWS(AL$2:$AL1232),N1232:Q3135,4,0),\"\")","v":""}]
[null,null,null,null,null,null,null,null,null,null,null,null,null,0,0,0,"dsp br liquidity fund ip","MDS047","Liquid",null,null,null,null,null,null,null,null,null,null,null,{"$f":"IFERROR(VLOOKUP(ROWS($AE$2:AE1233),P1233:Q3136,2,0),\"\")","v":""},null,null,null,null,{"$f":"IFERROR(VLOOKUP(ROWS($AJ$2:AJ1233),O1233:Q3136,3,0),\"\")","v":""},null,{"$f":"IFERROR(VLOOKUP(ROWS(AL$2:$AL1233),N1233:Q3136,4,0),\"\")","v":""}]
[null,null,null,null,null,null,null,null,null,null,null,null,null,0,0,0,"taurus liquid fund ip","MCM043","Liquid",null,null,null,null,null,null,null,null,null,null,null,{"$f":"IFERROR(VLOOKUP(ROWS($AE$2:AE1234),P1234:Q3137,2,0),\"\")","v":""},null,null,null,null,{"$f":"IFERROR(VLOOKUP(ROWS($AJ$2:AJ1234),O1234:Q3137,3,0),\"\")","v":""},null,{"$f":"IFERROR(VLOOKUP(ROWS(AL$2:$AL1234),N1234:Q3137,4,0),\"\")","v":""}]
[null,null,null,null,null,null,null,null,null,null,null,null,null,0,0,0,"l t liquid super inst","MCC053","Liquid",null,null,null,null,null,null,null,null,null,null,null,{"$f":"IFERROR(VLOOKUP(ROWS($AE$2:AE1235),P1235:Q3138,2,0),\"\")","v":""},null,null,null,null,{"$f":"IFERROR(VLOOKUP(ROWS($AJ$2:AJ1235),O1235:Q3138,3,0),\"\")","v":""},null,{"$f":"IFERROR(VLOOKUP(ROWS(AL$2:$AL1235),N1235:Q3138,4,0),\"\")","v":""}]
[null,null,null,null,null,null,null,null,null,null,null,null,null,0,0,0,"l t liquid inst plus g","MCC020","Liquid",null,null,null,null,null,null,null,null,null,null,null,{"$f":"IFERROR(VLOOKUP(ROWS($AE$2:AE1236),P1236:Q3139,2,0),\"\")","v":""},null,null,null,null,{"$f":"IFERROR(VLOOKUP(ROWS($AJ$2:AJ1236),O1236:Q3139,3,0),\"\")","v":""},null,{"$f":"IFERROR(VLOOKUP(ROWS(AL$2:$AL1236),N1236:Q3139,4,0),\"\")","v":""}]
[null,null,null,null,null,null,null,null,null,null,null,null,null,0,0,0,"axis liquid fund reg ","MAA001","Liquid",null,null,null,null,null,null,null,null,null,null,null,{"$f":"IFERROR(VLOOKUP(ROWS($AE$2:AE1237),P1237:Q3140,2,0),\"\")","v":""},null,null,null,null,{"$f":"IFERROR(VLOOKUP(ROWS($AJ$2:AJ1237),O1237:Q3140,3,0),\"\")","v":""},null,{"$f":"IFERROR(VLOOKUP(ROWS(AL$2:$AL1237),N1237:Q3140,4,0),\"\")","v":""}]
[null,null,null,null,null,null,null,null,null,null,null,null,null,0,0,0,"baroda pioneer liquid plan a","MBO031","Liquid",null,null,null,null,null,null,null,null,null,null,null,{"$f":"IFERROR(VLOOKUP(ROWS($AE$2:AE1238),P1238:Q3141,2,0),\"\")","v":""},null,null,null,null,{"$f":"IFERROR(VLOOKUP(ROWS($AJ$2:AJ1238),O1238:Q3141,3,0),\"\")","v":""},null,{"$f":"IFERROR(VLOOKUP(ROWS(AL$2:$AL1238),N1238:Q3141,4,0),\"\")","v":""}]
[null,null,null,null,null,null,null,null,null,null,null,null,null,0,0,0,"boi axa liquid fund rp","MBA001","Liquid",null,null,null,null,null,null,null,null,null,null,null,{"$f":"IFERROR(VLOOKUP(ROWS($AE$2:AE1239),P1239:Q3142,2,0),\"\")","v":""},null,null,null,null,{"$f":"IFERROR(VLOOKUP(ROWS($AJ$2:AJ1239),O1239:Q3142,3,0),\"\")","v":""},null,{"$f":"IFERROR(VLOOKUP(ROWS(AL$2:$AL1239),N1239:Q3142,4,0),\"\")","v":""}]
[null,null,null,null,null,null,null,null,null,null,null,null,null,0,0,0,"hsbc cash fund","MHS033","Liquid",null,null,null,null,null,null,null,null,null,null,null,{"$f":"IFERROR(VLOOKUP(ROWS($AE$2:AE1240),P1240:Q3143,2,0),\"\")","v":""},null,null,null,null,{"$f":"IFERROR(VLOOKUP(ROWS($AJ$2:AJ1240),O1240:Q3143,3,0),\"\")","v":""},null,{"$f":"IFERROR(VLOOKUP(ROWS(AL$2:$AL1240),N1240:Q3143,4,0),\"\")","v":""}]
[null,null,null,null,null,null,null,null,null,null,null,null,null,0,0,0,"bnp paribas overnight fund dir","MAB738","Liquid",null,null,null,null,null,null,null,null,null,null,null,{"$f":"IFERROR(VLOOKUP(ROWS($AE$2:AE1241),P1241:Q3144,2,0),\"\")","v":""},null,null,null,null,{"$f":"IFERROR(VLOOKUP(ROWS($AJ$2:AJ1241),O1241:Q3144,3,0),\"\")","v":""},null,{"$f":"IFERROR(VLOOKUP(ROWS(AL$2:$AL1241),N1241:Q3144,4,0),\"\")","v":""}]
[null,null,null,null,null,null,null,null,null,null,null,null,null,0,0,0,"boi axa liquid fund ip","MBA005","Liquid",null,null,null,null,null,null,null,null,null,null,null,{"$f":"IFERROR(VLOOKUP(ROWS($AE$2:AE1242),P1242:Q3145,2,0),\"\")","v":""},null,null,null,null,{"$f":"IFERROR(VLOOKUP(ROWS($AJ$2:AJ1242),O1242:Q3145,3,0),\"\")","v":""},null,{"$f":"IFERROR(VLOOKUP(ROWS(AL$2:$AL1242),N1242:Q3145,4,0),\"\")","v":""}]
[null,null,null,null,null,null,null,null,null,null,null,null,null,0,0,0,"dsp br liquidity fund","MDS004","Liquid",null,null,null,null,null,null,null,null,null,null,null,{"$f":"IFERROR(VLOOKUP(ROWS($AE$2:AE1243),P1243:Q3146,2,0),\"\")","v":""},null,null,null,null,{"$f":"IFERROR(VLOOKUP(ROWS($AJ$2:AJ1243),O1243:Q3146,3,0),\"\")","v":""},null,{"$f":"IFERROR(VLOOKUP(ROWS(AL$2:$AL1243),N1243:Q3146,4,0),\"\")","v":""}]
[null,null,null,null,null,null,null,null,null,null,null,null,null,0,0,0,"bnp paribas overnight fund","MAB019","Liquid",null,null,null,null,null,null,null,null,null,null,null,{"$f":"IFERROR(VLOOKUP(ROWS($AE$2:AE1244),P1244:Q3147,2,0),\"\")","v":""},null,null,null,null,{"$f":"IFERROR(VLOOKUP(ROWS($AJ$2:AJ1244),O1244:Q3147,3,0),\"\")","v":""},null,{"$f":"IFERROR(VLOOKUP(ROWS(AL$2:$AL1244),N1244:Q3147,4,0),\"\")","v":""}]
[null,null,null,null,null,null,null,null,null,null,null,null,null,0,0,0,"idbi liquid fund","MIB003","Liquid",null,null,null,null,null,null,null,null,null,null,null,{"$f":"IFERROR(VLOOKUP(ROWS($AE$2:AE1245),P1245:Q3148,2,0),\"\")","v":""},null,null,null,null,{"$f":"IFERROR(VLOOKUP(ROWS($AJ$2:AJ1245),O1245:Q3148,3,0),\"\")","v":""},null,{"$f":"IFERROR(VLOOKUP(ROWS(AL$2:$AL1245),N1245:Q3148,4,0),\"\")","v":""}]
[null,null,null,null,null,null,null,null,null,null,null,null,null,0,0,0,"can robeco liquid reg plan","MCA088","Liquid",null,null,null,null,null,null,null,null,null,null,null,{"$f":"IFERROR(VLOOKUP(ROWS($AE$2:AE1246),P1246:Q3149,2,0),\"\")","v":""},null,null,null,null,{"$f":"IFERROR(VLOOKUP(ROWS($AJ$2:AJ1246),O1246:Q3149,3,0),\"\")","v":""},null,{"$f":"IFERROR(VLOOKUP(ROWS(AL$2:$AL1246),N1246:Q3149,4,0),\"\")","v":""}]
[null,null,null,null,null,null,null,null,null,null,null,null,null,0,0,0,"dws treasury cash plan rp","MDE265","Liquid",null,null,null,null,null,null,null,null,null,null,null,{"$f":"IFERROR(VLOOKUP(ROWS($AE$2:AE1247),P1247:Q3150,2,0),\"\")","v":""},null,null,null,null,{"$f":"IFERROR(VLOOKUP(ROWS($AJ$2:AJ1247),O1247:Q3150,3,0),\"\")","v":""},null,{"$f":"IFERROR(VLOOKUP(ROWS(AL$2:$AL1247),N1247:Q3150,4,0),\"\")","v":""}]
[null,null,null,null,null,null,null,null,null,null,null,null,null,0,0,0,"boi axa liquid fund sip","MBA009","Liquid",null,null,null,null,null,null,null,null,null,null,null,{"$f":"IFERROR(VLOOKUP(ROWS($AE$2:AE1248),P1248:Q3151,2,0),\"\")","v":""},null,null,null,null,{"$f":"IFERROR(VLOOKUP(ROWS($AJ$2:AJ1248),O1248:Q3151,3,0),\"\")","v":""},null,{"$f":"IFERROR(VLOOKUP(ROWS(AL$2:$AL1248),N1248:Q3151,4,0),\"\")","v":""}]
[null,null,null,null,null,null,null,null,null,null,null,null,null,0,0,0,"union kbc liquid fund","MUK003","Liquid",null,null,null,null,null,null,null,null,null,null,null,{"$f":"IFERROR(VLOOKUP(ROWS($AE$2:AE1249),P1249:Q3152,2,0),\"\")","v":""},null,null,null,null,{"$f":"IFERROR(VLOOKUP(ROWS($AJ$2:AJ1249),O1249:Q3152,3,0),\"\")","v":""},null,{"$f":"IFERROR(VLOOKUP(ROWS(AL$2:$AL1249),N1249:Q3152,4,0),\"\")","v":""}]
[null,null,null,null,null,null,null,null,null,null,null,null,null,0,0,0,"bnp paribas overnight fund rp","MAB017","Liquid",null,null,null,null,null,null,null,null,null,null,null,{"$f":"IFERROR(VLOOKUP(ROWS($AE$2:AE1250),P1250:Q3153,2,0),\"\")","v":""},null,null,null,null,{"$f":"IFERROR(VLOOKUP(ROWS($AJ$2:AJ1250),O1250:Q3153,3,0),\"\")","v":""},null,{"$f":"IFERROR(VLOOKUP(ROWS(AL$2:$AL1250),N1250:Q3153,4,0),\"\")","v":""}]
[null,null,null,null,null,null,null,null,null,null,null,null,null,0,0,0,"hsbc cash fund inst plan","MHS013","Liquid",null,null,null,null,null,null,null,null,null,null,null,{"$f":"IFERROR(VLOOKUP(ROWS($AE$2:AE1251),P1251:Q3154,2,0),\"\")","v":""},null,null,null,null,{"$f":"IFERROR(VLOOKUP(ROWS($AJ$2:AJ1251),O1251:Q3154,3,0),\"\")","v":""},null,{"$f":"IFERROR(VLOOKUP(ROWS(AL$2:$AL1251),N1251:Q3154,4,0),\"\")","v":""}]
[null,null,null,null,null,null,null,null,null,null,null,null,null,0,0,0,"can robeco liquid ip","MCA027","Liquid",null,null,null,null,null,null,null,null,null,null,null,{"$f":"IFERROR(VLOOKUP(ROWS($AE$2:AE1252),P1252:Q3155,2,0),\"\")","v":""},null,null,null,null,{"$f":"IFERROR(VLOOKUP(ROWS($AJ$2:AJ1252),O1252:Q3155,3,0),\"\")","v":""},null,{"$f":"IFERROR(VLOOKUP(ROWS(AL$2:$AL1252),N1252:Q3155,4,0),\"\")","v":""}]
[null,null,null,null,null,null,null,null,null,null,null,null,null,0,0,0,"jpmorgan i liquid fund","MJP003","Liquid",null,null,null,null,null,null,null,null,null,null,null,{"$f":"IFERROR(VLOOKUP(ROWS($AE$2:AE1253),P1253:Q3156,2,0),\"\")","v":""},null,null,null,null,{"$f":"IFERROR(VLOOKUP(ROWS($AJ$2:AJ1253),O1253:Q3156,3,0),\"\")","v":""},null,{"$f":"IFERROR(VLOOKUP(ROWS(AL$2:$AL1253),N1253:Q3156,4,0),\"\")","v":""}]
[null,null,null,null,null,null,null,null,null,null,null,null,null,0,0,0,"l t liquid","MCC013","Liquid",null,null,null,null,null,null,null,null,null,null,null,{"$f":"IFERROR(VLOOKUP(ROWS($AE$2:AE1254),P1254:Q3157,2,0),\"\")","v":""},null,null,null,null,{"$f":"IFERROR(VLOOKUP(ROWS($AJ$2:AJ1254),O1254:Q3157,3,0),\"\")","v":""},null,{"$f":"IFERROR(VLOOKUP(ROWS(AL$2:$AL1254),N1254:Q3157,4,0),\"\")","v":""}]
[null,null,null,null,null,null,null,null,null,null,null,null,null,0,0,0,"mirae liquid fund rp","MMA005","Liquid",null,null,null,null,null,null,null,null,null,null,null,{"$f":"IFERROR(VLOOKUP(ROWS($AE$2:AE1255),P1255:Q3158,2,0),\"\")","v":""},null,null,null,null,{"$f":"IFERROR(VLOOKUP(ROWS($AJ$2:AJ1255),O1255:Q3158,3,0),\"\")","v":""},null,{"$f":"IFERROR(VLOOKUP(ROWS(AL$2:$AL1255),N1255:Q3158,4,0),\"\")","v":""}]
[null,null,null,null,null,null,null,null,null,null,null,null,null,0,0,0,"kotak liquid inst plan regular","MKM042","Liquid",null,null,null,null,null,null,null,null,null,null,null,{"$f":"IFERROR(VLOOKUP(ROWS($AE$2:AE1256),P1256:Q3159,2,0),\"\")","v":""},null,null,null,null,{"$f":"IFERROR(VLOOKUP(ROWS($AJ$2:AJ1256),O1256:Q3159,3,0),\"\")","v":""},null,{"$f":"IFERROR(VLOOKUP(ROWS(AL$2:$AL1256),N1256:Q3159,4,0),\"\")","v":""}]
[null,null,null,null,null,null,null,null,null,null,null,null,null,0,0,0,"quantum liquid fund","MQU003","Liquid",null,null,null,null,null,null,null,null,null,null,null,{"$f":"IFERROR(VLOOKUP(ROWS($AE$2:AE1257),P1257:Q3160,2,0),\"\")","v":""},null,null,null,null,{"$f":"IFERROR(VLOOKUP(ROWS($AJ$2:AJ1257),O1257:Q3160,3,0),\"\")","v":""},null,{"$f":"IFERROR(VLOOKUP(ROWS(AL$2:$AL1257),N1257:Q3160,4,0),\"\")","v":""}]
[null,null,null,null,null,null,null,null,null,null,null,null,null,0,0,0,"franklin i tma liquid ip","MTE072","Liquid",null,null,null,null,null,null,null,null,null,null,null,{"$f":"IFERROR(VLOOKUP(ROWS($AE$2:AE1258),P1258:Q3161,2,0),\"\")","v":""},null,null,null,null,{"$f":"IFERROR(VLOOKUP(ROWS($AJ$2:AJ1258),O1258:Q3161,3,0),\"\")","v":""},null,{"$f":"IFERROR(VLOOKUP(ROWS(AL$2:$AL1258),N1258:Q3161,4,0),\"\")","v":""}]
[null,null,null,null,null,null,null,null,null,null,null,null,null,0,0,0,"mirae cash mgmt fund","MMA048","Liquid",null,null,null,null,null,null,null,null,null,null,null,{"$f":"IFERROR(VLOOKUP(ROWS($AE$2:AE1259),P1259:Q3162,2,0),\"\")","v":""},null,null,null,null,{"$f":"IFERROR(VLOOKUP(ROWS($AJ$2:AJ1259),O1259:Q3162,3,0),\"\")","v":""},null,{"$f":"IFERROR(VLOOKUP(ROWS(AL$2:$AL1259),N1259:Q3162,4,0),\"\")","v":""}]
[null,null,null,null,null,null,null,null,null,null,null,null,null,0,0,0,"mirae liquid fund ip","MMA008","Liquid",null,null,null,null,null,null,null,null,null,null,null,{"$f":"IFERROR(VLOOKUP(ROWS($AE$2:AE1260),P1260:Q3163,2,0),\"\")","v":""},null,null,null,null,{"$f":"IFERROR(VLOOKUP(ROWS($AJ$2:AJ1260),O1260:Q3163,3,0),\"\")","v":""},null,{"$f":"IFERROR(VLOOKUP(ROWS(AL$2:$AL1260),N1260:Q3163,4,0),\"\")","v":""}]
[null,null,null,null,null,null,null,null,null,null,null,null,null,0,0,0,"edelweiss liquid fund ip","MEW007","Liquid",null,null,null,null,null,null,null,null,null,null,null,{"$f":"IFERROR(VLOOKUP(ROWS($AE$2:AE1261),P1261:Q3164,2,0),\"\")","v":""},null,null,null,null,{"$f":"IFERROR(VLOOKUP(ROWS($AJ$2:AJ1261),O1261:Q3164,3,0),\"\")","v":""},null,{"$f":"IFERROR(VLOOKUP(ROWS(AL$2:$AL1261),N1261:Q3164,4,0),\"\")","v":""}]
[null,null,null,null,null,null,null,null,null,null,null,null,null,0,0,0,"sbi magnum cash liq float g","MSB027","Liquid",null,null,null,null,null,null,null,null,null,null,null,{"$f":"IFERROR(VLOOKUP(ROWS($AE$2:AE1262),P1262:Q3165,2,0),\"\")","v":""},null,null,null,null,{"$f":"IFERROR(VLOOKUP(ROWS($AJ$2:AJ1262),O1262:Q3165,3,0),\"\")","v":""},null,{"$f":"IFERROR(VLOOKUP(ROWS(AL$2:$AL1262),N1262:Q3165,4,0),\"\")","v":""}]
[null,null,null,null,null,null,null,null,null,null,null,null,null,{"$f":"IF(ISNUMBER(SEARCH($H$16,Q1263)),MAX($N$1,N1262)+1,0)","v":0},{"$f":"IF(ISNUMBER(SEARCH($H$11,Q1263)),MAX($O$1,O1262)+1,0)","v":0},{"$f":"IF(ISNUMBER(SEARCH($H$6,Q1263)),MAX($P$1,P1262)+1,0)","v":0},"idfc cash fund inst plan b","MAG022","Liquid",null,null,null,null,null,null,null,null,null,null,null,{"$f":"IFERROR(VLOOKUP(ROWS($AE$2:AE1263),P1263:Q3166,2,0),\"\")","v":""},null,null,null,null,{"$f":"IFERROR(VLOOKUP(ROWS($AJ$2:AJ1263),O1263:Q3166,3,0),\"\")","v":""},null,{"$f":"IFERROR(VLOOKUP(ROWS(AL$2:$AL1263),N1263:Q3166,4,0),\"\")","v":""}]
[null,null,null,null,null,null,null,null,null,null,null,null,null,0,0,0,"tata liquid fund hip","MTA039","Liquid",null,null,null,null,null,null,null,null,null,null,null,{"$f":"IFERROR(VLOOKUP(ROWS($AE$2:AE1264),P1264:Q3167,2,0),\"\")","v":""},null,null,null,null,{"$f":"IFERROR(VLOOKUP(ROWS($AJ$2:AJ1264),O1264:Q3167,3,0),\"\")","v":""},null,{"$f":"IFERROR(VLOOKUP(ROWS(AL$2:$AL1264),N1264:Q3167,4,0),\"\")","v":""}]
[null,null,null,null,null,null,null,null,null,null,null,null,null,0,0,0,"can robeco liquid retail","MCA013","Liquid",null,null,null,null,null,null,null,null,null,null,null,{"$f":"IFERROR(VLOOKUP(ROWS($AE$2:AE1265),P1265:Q3168,2,0),\"\")","v":""},null,null,null,null,{"$f":"IFERROR(VLOOKUP(ROWS($AJ$2:AJ1265),O1265:Q3168,3,0),\"\")","v":""},null,{"$f":"IFERROR(VLOOKUP(ROWS(AL$2:$AL1265),N1265:Q3168,4,0),\"\")","v":""}]
[null,null,null,null,null,null,null,null,null,null,null,null,null,0,0,0,"axis liquid fund retail","MAA025","Liquid",null,null,null,null,null,null,null,null,null,null,null,{"$f":"IFERROR(VLOOKUP(ROWS($AE$2:AE1266),P1266:Q3169,2,0),\"\")","v":""},null,null,null,null,{"$f":"IFERROR(VLOOKUP(ROWS($AJ$2:AJ1266),O1266:Q3169,3,0),\"\")","v":""},null,{"$f":"IFERROR(VLOOKUP(ROWS(AL$2:$AL1266),N1266:Q3169,4,0),\"\")","v":""}]
[null,null,null,null,null,null,null,null,null,null,null,null,null,0,0,0,"hdfc liquid premium plus","MHD028","Liquid",null,null,null,null,null,null,null,null,null,null,null,{"$f":"IFERROR(VLOOKUP(ROWS($AE$2:AE1267),P1267:Q3170,2,0),\"\")","v":""},null,null,null,null,{"$f":"IFERROR(VLOOKUP(ROWS($AJ$2:AJ1267),O1267:Q3170,3,0),\"\")","v":""},null,{"$f":"IFERROR(VLOOKUP(ROWS(AL$2:$AL1267),N1267:Q3170,4,0),\"\")","v":""}]
[null,null,null,null,null,null,null,null,null,null,null,null,null,0,0,0,"idfc cash fund plan a","MAG007","Liquid",null,null,null,null,null,null,null,null,null,null,null,{"$f":"IFERROR(VLOOKUP(ROWS($AE$2:AE1268),P1268:Q3171,2,0),\"\")","v":""},null,null,null,null,{"$f":"IFERROR(VLOOKUP(ROWS($AJ$2:AJ1268),O1268:Q3171,3,0),\"\")","v":""},null,{"$f":"IFERROR(VLOOKUP(ROWS(AL$2:$AL1268),N1268:Q3171,4,0),\"\")","v":""}]
[null,null,null,null,null,null,null,null,null,null,null,null,null,0,0,0,"franklin i tma reg","MKP012","Liquid",null,null,null,null,null,null,null,null,null,null,null,{"$f":"IFERROR(VLOOKUP(ROWS($AE$2:AE1269),P1269:Q3172,2,0),\"\")","v":""},null,null,null,null,{"$f":"IFERROR(VLOOKUP(ROWS($AJ$2:AJ1269),O1269:Q3172,3,0),\"\")","v":""},null,{"$f":"IFERROR(VLOOKUP(ROWS(AL$2:$AL1269),N1269:Q3172,4,0),\"\")","v":""}]
[null,null,null,null,null,null,null,null,null,null,null,null,null,0,0,0,"iifl liquid fund regular","MII038","Liquid",null,null,null,null,null,null,null,null,null,null,null,{"$f":"IFERROR(VLOOKUP(ROWS($AE$2:AE1270),P1270:Q3173,2,0),\"\")","v":""},null,null,null,null,{"$f":"IFERROR(VLOOKUP(ROWS($AJ$2:AJ1270),O1270:Q3173,3,0),\"\")","v":""},null,{"$f":"IFERROR(VLOOKUP(ROWS(AL$2:$AL1270),N1270:Q3173,4,0),\"\")","v":""}]
[null,null,null,null,null,null,null,null,null,null,null,null,null,0,0,0,"tata liquidity mgmt fund regular","MTA144","Liquid",null,null,null,null,null,null,null,null,null,null,null,{"$f":"IFERROR(VLOOKUP(ROWS($AE$2:AE1271),P1271:Q3174,2,0),\"\")","v":""},null,null,null,null,{"$f":"IFERROR(VLOOKUP(ROWS($AJ$2:AJ1271),O1271:Q3174,3,0),\"\")","v":""},null,{"$f":"IFERROR(VLOOKUP(ROWS(AL$2:$AL1271),N1271:Q3174,4,0),\"\")","v":""}]
[null,null,null,null,null,null,null,null,null,null,null,null,null,0,0,0,"uti money market fund","MUT028","Liquid",null,null,null,null,null,null,null,null,null,null,null,{"$f":"IFERROR(VLOOKUP(ROWS($AE$2:AE1272),P1272:Q3175,2,0),\"\")","v":""},null,null,null,null,{"$f":"IFERROR(VLOOKUP(ROWS($AJ$2:AJ1272),O1272:Q3175,3,0),\"\")","v":""},null,{"$f":"IFERROR(VLOOKUP(ROWS(AL$2:$AL1272),N1272:Q3175,4,0),\"\")","v":""}]
[null,null,null,null,null,null,null,null,null,null,null,null,null,0,0,0,"reliance liquid cash","MRC014","Liquid",null,null,null,null,null,null,null,null,null,null,null,{"$f":"IFERROR(VLOOKUP(ROWS($AE$2:AE1273),P1273:Q3176,2,0),\"\")","v":""},null,null,null,null,{"$f":"IFERROR(VLOOKUP(ROWS($AJ$2:AJ1273),O1273:Q3176,3,0),\"\")","v":""},null,{"$f":"IFERROR(VLOOKUP(ROWS(AL$2:$AL1273),N1273:Q3176,4,0),\"\")","v":""}]
[null,null,null,null,null,null,null,null,null,null,null,null,null,0,0,0,"uti liquid cash plan","MUT046","Liquid",null,null,null,null,null,null,null,null,null,null,null,{"$f":"IFERROR(VLOOKUP(ROWS($AE$2:AE1274),P1274:Q3177,2,0),\"\")","v":""},null,null,null,null,{"$f":"IFERROR(VLOOKUP(ROWS($AJ$2:AJ1274),O1274:Q3177,3,0),\"\")","v":""},null,{"$f":"IFERROR(VLOOKUP(ROWS(AL$2:$AL1274),N1274:Q3177,4,0),\"\")","v":""}]
[null,null,null,null,null,null,null,null,null,null,null,null,null,0,0,0,"taurus liquid fund rp","MCM010","Liquid",null,null,null,null,null,null,null,null,null,null,null,{"$f":"IFERROR(VLOOKUP(ROWS($AE$2:AE1275),P1275:Q3178,2,0),\"\")","v":""},null,null,null,null,{"$f":"IFERROR(VLOOKUP(ROWS($AJ$2:AJ1275),O1275:Q3178,3,0),\"\")","v":""},null,{"$f":"IFERROR(VLOOKUP(ROWS(AL$2:$AL1275),N1275:Q3178,4,0),\"\")","v":""}]
[null,null,null,null,null,null,null,null,null,null,null,null,null,0,0,0,"icici pru money market rp","MPI033","Liquid",null,null,null,null,null,null,null,null,null,null,null,{"$f":"IFERROR(VLOOKUP(ROWS($AE$2:AE1276),P1276:Q3179,2,0),\"\")","v":""},null,null,null,null,{"$f":"IFERROR(VLOOKUP(ROWS($AJ$2:AJ1276),O1276:Q3179,3,0),\"\")","v":""},null,{"$f":"IFERROR(VLOOKUP(ROWS(AL$2:$AL1276),N1276:Q3179,4,0),\"\")","v":""}]
[null,null,null,null,null,null,null,null,null,null,null,null,null,0,0,0,"religare invesco overnight dp","MLI576","Liquid",null,null,null,null,null,null,null,null,null,null,null,{"$f":"IFERROR(VLOOKUP(ROWS($AE$2:AE1277),P1277:Q3180,2,0),\"\")","v":""},null,null,null,null,{"$f":"IFERROR(VLOOKUP(ROWS($AJ$2:AJ1277),O1277:Q3180,3,0),\"\")","v":""},null,{"$f":"IFERROR(VLOOKUP(ROWS(AL$2:$AL1277),N1277:Q3180,4,0),\"\")","v":""}]
[null,null,null,null,null,null,null,null,null,null,null,null,null,0,0,0,"icici pru liquid ins plan","MPI041","Liquid",null,null,null,null,null,null,null,null,null,null,null,{"$f":"IFERROR(VLOOKUP(ROWS($AE$2:AE1278),P1278:Q3181,2,0),\"\")","v":""},null,null,null,null,{"$f":"IFERROR(VLOOKUP(ROWS($AJ$2:AJ1278),O1278:Q3181,3,0),\"\")","v":""},null,{"$f":"IFERROR(VLOOKUP(ROWS(AL$2:$AL1278),N1278:Q3181,4,0),\"\")","v":""}]
[null,null,null,null,null,null,null,null,null,null,null,null,null,0,0,0,"tata liquid fund app ","MTA011","Liquid",null,null,null,null,null,null,null,null,null,null,null,{"$f":"IFERROR(VLOOKUP(ROWS($AE$2:AE1279),P1279:Q3182,2,0),\"\")","v":""},null,null,null,null,{"$f":"IFERROR(VLOOKUP(ROWS($AJ$2:AJ1279),O1279:Q3182,3,0),\"\")","v":""},null,{"$f":"IFERROR(VLOOKUP(ROWS(AL$2:$AL1279),N1279:Q3182,4,0),\"\")","v":""}]
[null,null,null,null,null,null,null,null,null,null,null,null,null,0,0,0,"tata money market fund g ","MTA071","Liquid",null,null,null,null,null,null,null,null,null,null,null,{"$f":"IFERROR(VLOOKUP(ROWS($AE$2:AE1280),P1280:Q3183,2,0),\"\")","v":""},null,null,null,null,{"$f":"IFERROR(VLOOKUP(ROWS($AJ$2:AJ1280),O1280:Q3183,3,0),\"\")","v":""},null,{"$f":"IFERROR(VLOOKUP(ROWS(AL$2:$AL1280),N1280:Q3183,4,0),\"\")","v":""}]
[null,null,null,null,null,null,null,null,null,null,null,null,null,0,0,0,"icici pru liquid plan inst i","MPI134","Liquid",null,null,null,null,null,null,null,null,null,null,null,{"$f":"IFERROR(VLOOKUP(ROWS($AE$2:AE1281),P1281:Q3184,2,0),\"\")","v":""},null,null,null,null,{"$f":"IFERROR(VLOOKUP(ROWS($AJ$2:AJ1281),O1281:Q3184,3,0),\"\")","v":""},null,{"$f":"IFERROR(VLOOKUP(ROWS(AL$2:$AL1281),N1281:Q3184,4,0),\"\")","v":""}]
[null,null,null,null,null,null,null,null,null,null,null,null,null,0,0,0,"icici pru liquid plan retail","MPI001","Liquid",null,null,null,null,null,null,null,null,null,null,null,{"$f":"IFERROR(VLOOKUP(ROWS($AE$2:AE1282),P1282:Q3185,2,0),\"\")","v":""},null,null,null,null,{"$f":"IFERROR(VLOOKUP(ROWS($AJ$2:AJ1282),O1282:Q3185,3,0),\"\")","v":""},null,{"$f":"IFERROR(VLOOKUP(ROWS(AL$2:$AL1282),N1282:Q3185,4,0),\"\")","v":""}]
[null,null,null,null,null,null,null,null,null,null,null,null,null,0,0,0,"sahara liq variable pricing g","MFI029","Liquid",null,null,null,null,null,null,null,null,null,null,null,{"$f":"IFERROR(VLOOKUP(ROWS($AE$2:AE1283),P1283:Q3186,2,0),\"\")","v":""},null,null,null,null,{"$f":"IFERROR(VLOOKUP(ROWS($AJ$2:AJ1283),O1283:Q3186,3,0),\"\")","v":""},null,{"$f":"IFERROR(VLOOKUP(ROWS(AL$2:$AL1283),N1283:Q3186,4,0),\"\")","v":""}]
[null,null,null,null,null,null,null,null,null,null,null,null,null,0,0,0,"l t cash fund rp","MFF013","Liquid",null,null,null,null,null,null,null,null,null,null,null,{"$f":"IFERROR(VLOOKUP(ROWS($AE$2:AE1284),P1284:Q3187,2,0),\"\")","v":""},null,null,null,null,{"$f":"IFERROR(VLOOKUP(ROWS($AJ$2:AJ1284),O1284:Q3187,3,0),\"\")","v":""},null,{"$f":"IFERROR(VLOOKUP(ROWS(AL$2:$AL1284),N1284:Q3187,4,0),\"\")","v":""}]
[null,null,null,null,null,null,null,null,null,null,null,null,null,0,0,0,"hsbc cash fund rp","MHS007","Liquid",null,null,null,null,null,null,null,null,null,null,null,{"$f":"IFERROR(VLOOKUP(ROWS($AE$2:AE1285),P1285:Q3188,2,0),\"\")","v":""},null,null,null,null,{"$f":"IFERROR(VLOOKUP(ROWS($AJ$2:AJ1285),O1285:Q3188,3,0),\"\")","v":""},null,{"$f":"IFERROR(VLOOKUP(ROWS(AL$2:$AL1285),N1285:Q3188,4,0),\"\")","v":""}]
[null,null,null,null,null,null,null,null,null,null,null,null,null,0,0,0,"religare invesco overnight","MLI135","Liquid",null,null,null,null,null,null,null,null,null,null,null,{"$f":"IFERROR(VLOOKUP(ROWS($AE$2:AE1286),P1286:Q3189,2,0),\"\")","v":""},null,null,null,null,{"$f":"IFERROR(VLOOKUP(ROWS($AJ$2:AJ1286),O1286:Q3189,3,0),\"\")","v":""},null,{"$f":"IFERROR(VLOOKUP(ROWS(AL$2:$AL1286),N1286:Q3189,4,0),\"\")","v":""}]
[null,null,null,null,null,null,null,null,null,null,null,null,null,0,0,0,"reliance liquid fund tp","MRC007","Liquid",null,null,null,null,null,null,null,null,null,null,null,{"$f":"IFERROR(VLOOKUP(ROWS($AE$2:AE1287),P1287:Q3190,2,0),\"\")","v":""},null,null,null,null,{"$f":"IFERROR(VLOOKUP(ROWS($AJ$2:AJ1287),O1287:Q3190,3,0),\"\")","v":""},null,{"$f":"IFERROR(VLOOKUP(ROWS(AL$2:$AL1287),N1287:Q3190,4,0),\"\")","v":""}]
[null,null,null,null,null,null,null,null,null,null,null,null,null,0,0,0,"edelweiss liquid fund sip","MEW013","Liquid",null,null,null,null,null,null,null,null,null,null,null,{"$f":"IFERROR(VLOOKUP(ROWS($AE$2:AE1288),P1288:Q3191,2,0),\"\")","v":""},null,null,null,null,{"$f":"IFERROR(VLOOKUP(ROWS($AJ$2:AJ1288),O1288:Q3191,3,0),\"\")","v":""},null,{"$f":"IFERROR(VLOOKUP(ROWS(AL$2:$AL1288),N1288:Q3191,4,0),\"\")","v":""}]
[null,null,null,null,null,null,null,null,null,null,null,null,null,0,0,0,"l t cash fund ip","MFF017","Liquid",null,null,null,null,null,null,null,null,null,null,null,{"$f":"IFERROR(VLOOKUP(ROWS($AE$2:AE1289),P1289:Q3192,2,0),\"\")","v":""},null,null,null,null,{"$f":"IFERROR(VLOOKUP(ROWS($AJ$2:AJ1289),O1289:Q3192,3,0),\"\")","v":""},null,{"$f":"IFERROR(VLOOKUP(ROWS(AL$2:$AL1289),N1289:Q3192,4,0),\"\")","v":""}]
[null,null,null,null,null,null,null,null,null,null,null,null,null,0,0,0,"kotak liquid regular","MKM019","Liquid",null,null,null,null,null,null,null,null,null,null,null,{"$f":"IFERROR(VLOOKUP(ROWS($AE$2:AE1290),P1290:Q3193,2,0),\"\")","v":""},null,null,null,null,{"$f":"IFERROR(VLOOKUP(ROWS($AJ$2:AJ1290),O1290:Q3193,3,0),\"\")","v":""},null,{"$f":"IFERROR(VLOOKUP(ROWS(AL$2:$AL1290),N1290:Q3193,4,0),\"\")","v":""}]
[null,null,null,null,null,null,null,null,null,null,null,null,null,0,0,0,"l t cash fund","MFF021","Liquid",null,null,null,null,null,null,null,null,null,null,null,{"$f":"IFERROR(VLOOKUP(ROWS($AE$2:AE1291),P1291:Q3194,2,0),\"\")","v":""},null,null,null,null,{"$f":"IFERROR(VLOOKUP(ROWS($AJ$2:AJ1291),O1291:Q3194,3,0),\"\")","v":""},null,{"$f":"IFERROR(VLOOKUP(ROWS(AL$2:$AL1291),N1291:Q3194,4,0),\"\")","v":""}]
[null,null,null,null,null,null,null,null,null,null,null,null,null,0,0,0,"icici pru liquid ins plus","MPI061","Liquid",null,null,null,null,null,null,null,null,null,null,null,{"$f":"IFERROR(VLOOKUP(ROWS($AE$2:AE1292),P1292:Q3195,2,0),\"\")","v":""},null,null,null,null,{"$f":"IFERROR(VLOOKUP(ROWS($AJ$2:AJ1292),O1292:Q3195,3,0),\"\")","v":""},null,{"$f":"IFERROR(VLOOKUP(ROWS(AL$2:$AL1292),N1292:Q3195,4,0),\"\")","v":""}]
[null,null,null,null,null,null,null,null,null,null,null,null,null,0,0,0,"hdfc cmf call plan","MZU028","Liquid",null,null,null,null,null,null,null,null,null,null,null,{"$f":"IFERROR(VLOOKUP(ROWS($AE$2:AE1293),P1293:Q3196,2,0),\"\")","v":""},null,null,null,null,{"$f":"IFERROR(VLOOKUP(ROWS($AJ$2:AJ1293),O1293:Q3196,3,0),\"\")","v":""},null,{"$f":"IFERROR(VLOOKUP(ROWS(AL$2:$AL1293),N1293:Q3196,4,0),\"\")","v":""}]
[null,null,null,null,null,null,null,null,null,null,null,null,null,0,0,0,"sahara liquid fixed pricing g","MFI025","Liquid",null,null,null,null,null,null,null,null,null,null,null,{"$f":"IFERROR(VLOOKUP(ROWS($AE$2:AE1294),P1294:Q3197,2,0),\"\")","v":""},null,null,null,null,{"$f":"IFERROR(VLOOKUP(ROWS($AJ$2:AJ1294),O1294:Q3197,3,0),\"\")","v":""},null,{"$f":"IFERROR(VLOOKUP(ROWS(AL$2:$AL1294),N1294:Q3197,4,0),\"\")","v":""}]
[null,null,null,null,null,null,null,null,null,null,null,null,null,0,0,0,"baroda pioneer liquid","MBO006","Liquid",null,null,null,null,null,null,null,null,null,null,null,{"$f":"IFERROR(VLOOKUP(ROWS($AE$2:AE1295),P1295:Q3198,2,0),\"\")","v":""},null,null,null,null,{"$f":"IFERROR(VLOOKUP(ROWS($AJ$2:AJ1295),O1295:Q3198,3,0),\"\")","v":""},null,{"$f":"IFERROR(VLOOKUP(ROWS(AL$2:$AL1295),N1295:Q3198,4,0),\"\")","v":""}]
[null,null,null,null,null,null,null,null,null,null,null,null,null,0,0,0,"religare invesco liquid rp","MLI001","Liquid",null,null,null,null,null,null,null,null,null,null,null,{"$f":"IFERROR(VLOOKUP(ROWS($AE$2:AE1296),P1296:Q3199,2,0),\"\")","v":""},null,null,null,null,{"$f":"IFERROR(VLOOKUP(ROWS($AJ$2:AJ1296),O1296:Q3199,3,0),\"\")","v":""},null,{"$f":"IFERROR(VLOOKUP(ROWS(AL$2:$AL1296),N1296:Q3199,4,0),\"\")","v":""}]
[null,null,null,null,null,null,null,null,null,null,null,null,null,0,0,0,"edelweiss liquid fund rp","MEW001","Liquid",null,null,null,null,null,null,null,null,null,null,null,{"$f":"IFERROR(VLOOKUP(ROWS($AE$2:AE1297),P1297:Q3200,2,0),\"\")","v":""},null,null,null,null,{"$f":"IFERROR(VLOOKUP(ROWS($AJ$2:AJ1297),O1297:Q3200,3,0),\"\")","v":""},null,{"$f":"IFERROR(VLOOKUP(ROWS(AL$2:$AL1297),N1297:Q3200,4,0),\"\")","v":""}]
[null,null,null,null,null,null,null,null,null,null,null,null,null,0,0,0,"franklin i cash mgmt","MTE151","Liquid",null,null,null,null,null,null,null,null,null,null,null,{"$f":"IFERROR(VLOOKUP(ROWS($AE$2:AE1298),P1298:Q3201,2,0),\"\")","v":""},null,null,null,null,{"$f":"IFERROR(VLOOKUP(ROWS($AJ$2:AJ1298),O1298:Q3201,3,0),\"\")","v":""},null,{"$f":"IFERROR(VLOOKUP(ROWS(AL$2:$AL1298),N1298:Q3201,4,0),\"\")","v":""}]
[null,null,null,null,null,null,null,null,null,null,null,null,null,0,0,0,"dws treasury cash plan ip","MDE267","Liquid",null,null,null,null,null,null,null,null,null,null,null,{"$f":"IFERROR(VLOOKUP(ROWS($AE$2:AE1299),P1299:Q3202,2,0),\"\")","v":""},null,null,null,null,{"$f":"IFERROR(VLOOKUP(ROWS($AJ$2:AJ1299),O1299:Q3202,3,0),\"\")","v":""},null,{"$f":"IFERROR(VLOOKUP(ROWS(AL$2:$AL1299),N1299:Q3202,4,0),\"\")","v":""}]
[null,null,null,null,null,null,null,null,null,null,null,null,null,0,0,0,"dws insta cash inst","MDE039","Liquid",null,null,null,null,null,null,null,null,null,null,null,{"$f":"IFERROR(VLOOKUP(ROWS($AE$2:AE1300),P1300:Q3203,2,0),\"\")","v":""},null,null,null,null,{"$f":"IFERROR(VLOOKUP(ROWS($AJ$2:AJ1300),O1300:Q3203,3,0),\"\")","v":""},null,{"$f":"IFERROR(VLOOKUP(ROWS(AL$2:$AL1300),N1300:Q3203,4,0),\"\")","v":""}]
[null,null,null,null,null,null,null,null,null,null,null,null,null,0,0,0,"dws insta cash plus fund rp","MDE003","Liquid",null,null,null,null,null,null,null,null,null,null,null,{"$f":"IFERROR(VLOOKUP(ROWS($AE$2:AE1301),P1301:Q3204,2,0),\"\")","v":""},null,null,null,null,{"$f":"IFERROR(VLOOKUP(ROWS($AJ$2:AJ1301),O1301:Q3204,3,0),\"\")","v":""},null,{"$f":"IFERROR(VLOOKUP(ROWS(AL$2:$AL1301),N1301:Q3204,4,0),\"\")","v":""}]
[null,null,null,null,null,null,null,null,null,null,null,null,null,0,0,0,"peerless liquid fund rp","MPM001","Liquid",null,null,null,null,null,null,null,null,null,null,null,{"$f":"IFERROR(VLOOKUP(ROWS($AE$2:AE1302),P1302:Q3205,2,0),\"\")","v":""},null,null,null,null,{"$f":"IFERROR(VLOOKUP(ROWS($AJ$2:AJ1302),O1302:Q3205,3,0),\"\")","v":""},null,{"$f":"IFERROR(VLOOKUP(ROWS(AL$2:$AL1302),N1302:Q3205,4,0),\"\")","v":""}]
[null,null,null,null,null,null,null,null,null,null,null,null,null,0,0,0,"tata liquid fund shipp","MTA442","Liquid",null,null,null,null,null,null,null,null,null,null,null,{"$f":"IFERROR(VLOOKUP(ROWS($AE$2:AE1303),P1303:Q3206,2,0),\"\")","v":""},null,null,null,null,{"$f":"IFERROR(VLOOKUP(ROWS($AJ$2:AJ1303),O1303:Q3206,3,0),\"\")","v":""},null,{"$f":"IFERROR(VLOOKUP(ROWS(AL$2:$AL1303),N1303:Q3206,4,0),\"\")","v":""}]
[null,null,null,null,null,null,null,null,null,null,null,null,null,0,0,0,"bnp paribas overnight fund ipp","MAB032","Liquid",null,null,null,null,null,null,null,null,null,null,null,{"$f":"IFERROR(VLOOKUP(ROWS($AE$2:AE1304),P1304:Q3207,2,0),\"\")","v":""},null,null,null,null,{"$f":"IFERROR(VLOOKUP(ROWS($AJ$2:AJ1304),O1304:Q3207,3,0),\"\")","v":""},null,{"$f":"IFERROR(VLOOKUP(ROWS(AL$2:$AL1304),N1304:Q3207,4,0),\"\")","v":""}]
[null,null,null,null,null,null,null,null,null,null,null,null,null,0,0,0,"gs liquid bees","MBM003","Liquid",null,null,null,null,null,null,null,null,null,null,null,{"$f":"IFERROR(VLOOKUP(ROWS($AE$2:AE1305),P1305:Q3208,2,0),\"\")","v":""},null,null,null,null,{"$f":"IFERROR(VLOOKUP(ROWS($AJ$2:AJ1305),O1305:Q3208,3,0),\"\")","v":""},null,{"$f":"IFERROR(VLOOKUP(ROWS(AL$2:$AL1305),N1305:Q3208,4,0),\"\")","v":""}]
[null,null,null,null,null,null,null,null,null,null,null,null,null,0,0,0,"tata growing eco infra b direct","MTA753","International",null,null,null,null,null,null,null,null,null,null,null,{"$f":"IFERROR(VLOOKUP(ROWS($AE$2:AE1306),P1306:Q3209,2,0),\"\")","v":""},null,null,null,null,{"$f":"IFERROR(VLOOKUP(ROWS($AJ$2:AJ1306),O1306:Q3209,3,0),\"\")","v":""},null,{"$f":"IFERROR(VLOOKUP(ROWS(AL$2:$AL1306),N1306:Q3209,4,0),\"\")","v":""}]
[null,null,null,null,null,null,null,null,null,null,null,null,null,0,0,0,"tata growing eco infra b","MTA342","International",null,null,null,null,null,null,null,null,null,null,null,{"$f":"IFERROR(VLOOKUP(ROWS($AE$2:AE1307),P1307:Q3210,2,0),\"\")","v":""},null,null,null,null,{"$f":"IFERROR(VLOOKUP(ROWS($AJ$2:AJ1307),O1307:Q3210,3,0),\"\")","v":""},null,{"$f":"IFERROR(VLOOKUP(ROWS(AL$2:$AL1307),N1307:Q3210,4,0),\"\")","v":""}]
[null,null,null,null,null,null,null,null,null,null,null,null,null,0,0,0,"tata indo global infra","MTA183","International",null,null,null,null,null,null,null,null,null,null,null,{"$f":"IFERROR(VLOOKUP(ROWS($AE$2:AE1308),P1308:Q3211,2,0),\"\")","v":""},null,null,null,null,{"$f":"IFERROR(VLOOKUP(ROWS($AJ$2:AJ1308),O1308:Q3211,3,0),\"\")","v":""},null,{"$f":"IFERROR(VLOOKUP(ROWS(AL$2:$AL1308),N1308:Q3211,4,0),\"\")","v":""}]
[null,null,null,null,null,null,null,null,null,null,null,null,null,0,0,0,"icici pru equity savings sr1 dp","MPI1819","International",null,null,null,null,null,null,null,null,null,null,null,{"$f":"IFERROR(VLOOKUP(ROWS($AE$2:AE1309),P1309:Q3212,2,0),\"\")","v":""},null,null,null,null,{"$f":"IFERROR(VLOOKUP(ROWS($AJ$2:AJ1309),O1309:Q3212,3,0),\"\")","v":""},null,{"$f":"IFERROR(VLOOKUP(ROWS(AL$2:$AL1309),N1309:Q3212,4,0),\"\")","v":""}]
[null,null,null,null,null,null,null,null,null,null,null,null,null,0,0,0,"icici pru equity savings sr1 rp","MPI1817","International",null,null,null,null,null,null,null,null,null,null,null,{"$f":"IFERROR(VLOOKUP(ROWS($AE$2:AE1310),P1310:Q3213,2,0),\"\")","v":""},null,null,null,null,{"$f":"IFERROR(VLOOKUP(ROWS($AJ$2:AJ1310),O1310:Q3213,3,0),\"\")","v":""},null,{"$f":"IFERROR(VLOOKUP(ROWS(AL$2:$AL1310),N1310:Q3213,4,0),\"\")","v":""}]
[null,null,null,null,null,null,null,null,null,null,null,null,null,0,0,0,"franklin i ff us opp ","MTE287","International",null,null,null,null,null,null,null,null,null,null,null,{"$f":"IFERROR(VLOOKUP(ROWS($AE$2:AE1311),P1311:Q3214,2,0),\"\")","v":""},null,null,null,null,{"$f":"IFERROR(VLOOKUP(ROWS($AJ$2:AJ1311),O1311:Q3214,3,0),\"\")","v":""},null,{"$f":"IFERROR(VLOOKUP(ROWS(AL$2:$AL1311),N1311:Q3214,4,0),\"\")","v":""}]
[null,null,null,null,null,null,null,null,null,null,null,null,null,0,0,0,"motilal most shares nasdaq 100 etf","MMO003","International",null,null,null,null,null,null,null,null,null,null,null,{"$f":"IFERROR(VLOOKUP(ROWS($AE$2:AE1312),P1312:Q3215,2,0),\"\")","v":""},null,null,null,null,{"$f":"IFERROR(VLOOKUP(ROWS($AJ$2:AJ1312),O1312:Q3215,3,0),\"\")","v":""},null,{"$f":"IFERROR(VLOOKUP(ROWS(AL$2:$AL1312),N1312:Q3215,4,0),\"\")","v":""}]
[null,null,null,null,null,null,null,null,null,null,null,null,null,0,0,0,"tata growing eco infra a","MTA340","International",null,null,null,null,null,null,null,null,null,null,null,{"$f":"IFERROR(VLOOKUP(ROWS($AE$2:AE1313),P1313:Q3216,2,0),\"\")","v":""},null,null,null,null,{"$f":"IFERROR(VLOOKUP(ROWS($AJ$2:AJ1313),O1313:Q3216,3,0),\"\")","v":""},null,{"$f":"IFERROR(VLOOKUP(ROWS(AL$2:$AL1313),N1313:Q3216,4,0),\"\")","v":""}]
[null,null,null,null,null,null,null,null,null,null,null,null,null,0,0,0,"reliance japan equity fund dp","MRC1653","International",null,null,null,null,null,null,null,null,null,null,null,{"$f":"IFERROR(VLOOKUP(ROWS($AE$2:AE1314),P1314:Q3217,2,0),\"\")","v":""},null,null,null,null,{"$f":"IFERROR(VLOOKUP(ROWS($AJ$2:AJ1314),O1314:Q3217,3,0),\"\")","v":""},null,{"$f":"IFERROR(VLOOKUP(ROWS(AL$2:$AL1314),N1314:Q3217,4,0),\"\")","v":""}]
[null,null,null,null,null,null,null,null,null,null,null,null,null,0,0,0,"icici pru global stable eqty rp","MPI1579","International",null,null,null,null,null,null,null,null,null,null,null,{"$f":"IFERROR(VLOOKUP(ROWS($AE$2:AE1315),P1315:Q3218,2,0),\"\")","v":""},null,null,null,null,{"$f":"IFERROR(VLOOKUP(ROWS($AJ$2:AJ1315),O1315:Q3218,3,0),\"\")","v":""},null,{"$f":"IFERROR(VLOOKUP(ROWS(AL$2:$AL1315),N1315:Q3218,4,0),\"\")","v":""}]
[null,null,null,null,null,null,null,null,null,null,null,null,null,0,0,0,"reliance japan equity fund","MRC1650","International",null,null,null,null,null,null,null,null,null,null,null,{"$f":"IFERROR(VLOOKUP(ROWS($AE$2:AE1316),P1316:Q3219,2,0),\"\")","v":""},null,null,null,null,{"$f":"IFERROR(VLOOKUP(ROWS($AJ$2:AJ1316),O1316:Q3219,3,0),\"\")","v":""},null,{"$f":"IFERROR(VLOOKUP(ROWS(AL$2:$AL1316),N1316:Q3219,4,0),\"\")","v":""}]
[null,null,null,null,null,null,null,null,null,null,null,null,null,0,0,0,"icici pru global stable eqty rp","MPI1577","International",null,null,null,null,null,null,null,null,null,null,null,{"$f":"IFERROR(VLOOKUP(ROWS($AE$2:AE1317),P1317:Q3220,2,0),\"\")","v":""},null,null,null,null,{"$f":"IFERROR(VLOOKUP(ROWS($AJ$2:AJ1317),O1317:Q3220,3,0),\"\")","v":""},null,{"$f":"IFERROR(VLOOKUP(ROWS(AL$2:$AL1317),N1317:Q3220,4,0),\"\")","v":""}]
[null,null,null,null,null,null,null,null,null,null,null,null,null,0,0,0,"dsp br us flexible* equity fund","MDS532","International",null,null,null,null,null,null,null,null,null,null,null,{"$f":"IFERROR(VLOOKUP(ROWS($AE$2:AE1318),P1318:Q3221,2,0),\"\")","v":""},null,null,null,null,{"$f":"IFERROR(VLOOKUP(ROWS($AJ$2:AJ1318),O1318:Q3221,3,0),\"\")","v":""},null,{"$f":"IFERROR(VLOOKUP(ROWS(AL$2:$AL1318),N1318:Q3221,4,0),\"\")","v":""}]
[null,null,null,null,null,null,null,null,null,null,null,null,null,0,0,0,"kotak us equity fund standard","MAI097","International",null,null,null,null,null,null,null,null,null,null,null,{"$f":"IFERROR(VLOOKUP(ROWS($AE$2:AE1319),P1319:Q3222,2,0),\"\")","v":""},null,null,null,null,{"$f":"IFERROR(VLOOKUP(ROWS($AJ$2:AJ1319),O1319:Q3222,3,0),\"\")","v":""},null,{"$f":"IFERROR(VLOOKUP(ROWS(AL$2:$AL1319),N1319:Q3222,4,0),\"\")","v":""}]
[null,null,null,null,null,null,null,null,null,null,null,null,null,0,0,0,"icici pru us bluechip equity","MPI1065","International",null,null,null,null,null,null,null,null,null,null,null,{"$f":"IFERROR(VLOOKUP(ROWS($AE$2:AE1320),P1320:Q3223,2,0),\"\")","v":""},null,null,null,null,{"$f":"IFERROR(VLOOKUP(ROWS($AJ$2:AJ1320),O1320:Q3223,3,0),\"\")","v":""},null,{"$f":"IFERROR(VLOOKUP(ROWS(AL$2:$AL1320),N1320:Q3223,4,0),\"\")","v":""}]
[null,null,null,null,null,null,null,null,null,null,null,null,null,0,0,0,"birla sl intl equity a","MBS203","International",null,null,null,null,null,null,null,null,null,null,null,{"$f":"IFERROR(VLOOKUP(ROWS($AE$2:AE1321),P1321:Q3224,2,0),\"\")","v":""},null,null,null,null,{"$f":"IFERROR(VLOOKUP(ROWS($AJ$2:AJ1321),O1321:Q3224,3,0),\"\")","v":""},null,{"$f":"IFERROR(VLOOKUP(ROWS(AL$2:$AL1321),N1321:Q3224,4,0),\"\")","v":""}]
[null,null,null,null,null,null,null,null,null,null,null,null,null,0,0,0,"dws top euroland offshore fund dp g","MDE504","International",null,null,null,null,null,null,null,null,null,null,null,{"$f":"IFERROR(VLOOKUP(ROWS($AE$2:AE1322),P1322:Q3225,2,0),\"\")","v":""},null,null,null,null,{"$f":"IFERROR(VLOOKUP(ROWS($AJ$2:AJ1322),O1322:Q3225,3,0),\"\")","v":""},null,{"$f":"IFERROR(VLOOKUP(ROWS(AL$2:$AL1322),N1322:Q3225,4,0),\"\")","v":""}]
[null,null,null,null,null,null,null,null,null,null,null,null,null,0,0,0,"dws top euroland offshore fund","MDE120","International",null,null,null,null,null,null,null,null,null,null,null,{"$f":"IFERROR(VLOOKUP(ROWS($AE$2:AE1323),P1323:Q3226,2,0),\"\")","v":""},null,null,null,null,{"$f":"IFERROR(VLOOKUP(ROWS($AJ$2:AJ1323),O1323:Q3226,3,0),\"\")","v":""},null,{"$f":"IFERROR(VLOOKUP(ROWS(AL$2:$AL1323),N1323:Q3226,4,0),\"\")","v":""}]
[null,null,null,null,null,null,null,null,null,null,null,null,null,0,0,0,"jpmorgan europe dynamic equity dir","MJP225","International",null,null,null,null,null,null,null,null,null,null,null,{"$f":"IFERROR(VLOOKUP(ROWS($AE$2:AE1324),P1324:Q3227,2,0),\"\")","v":""},null,null,null,null,{"$f":"IFERROR(VLOOKUP(ROWS($AJ$2:AJ1324),O1324:Q3227,3,0),\"\")","v":""},null,{"$f":"IFERROR(VLOOKUP(ROWS(AL$2:$AL1324),N1324:Q3227,4,0),\"\")","v":""}]
[null,null,null,null,null,null,null,null,null,null,null,null,null,0,0,0,"jpmorgan europe dynamic equity reg","MJP224","International",null,null,null,null,null,null,null,null,null,null,null,{"$f":"IFERROR(VLOOKUP(ROWS($AE$2:AE1325),P1325:Q3228,2,0),\"\")","v":""},null,null,null,null,{"$f":"IFERROR(VLOOKUP(ROWS($AJ$2:AJ1325),O1325:Q3228,3,0),\"\")","v":""},null,{"$f":"IFERROR(VLOOKUP(ROWS(AL$2:$AL1325),N1325:Q3228,4,0),\"\")","v":""}]
[null,null,null,null,null,null,null,null,null,null,null,null,null,0,0,0,"birla sl global real estate dir","MIN375","International",null,null,null,null,null,null,null,null,null,null,null,{"$f":"IFERROR(VLOOKUP(ROWS($AE$2:AE1326),P1326:Q3229,2,0),\"\")","v":""},null,null,null,null,{"$f":"IFERROR(VLOOKUP(ROWS($AJ$2:AJ1326),O1326:Q3229,3,0),\"\")","v":""},null,{"$f":"IFERROR(VLOOKUP(ROWS(AL$2:$AL1326),N1326:Q3229,4,0),\"\")","v":""}]
[null,null,null,null,null,null,null,null,null,null,null,null,null,{"$f":"IF(ISNUMBER(SEARCH($H$16,Q1327)),MAX($N$1,N1326)+1,0)","v":0},{"$f":"IF(ISNUMBER(SEARCH($H$11,Q1327)),MAX($O$1,O1326)+1,0)","v":0},{"$f":"IF(ISNUMBER(SEARCH($H$6,Q1327)),MAX($P$1,P1326)+1,0)","v":0},"birla sl comm eqty gap rp","MBS397","International",null,null,null,null,null,null,null,null,null,null,null,{"$f":"IFERROR(VLOOKUP(ROWS($AE$2:AE1327),P1327:Q3230,2,0),\"\")","v":""},null,null,null,null,{"$f":"IFERROR(VLOOKUP(ROWS($AJ$2:AJ1327),O1327:Q3230,3,0),\"\")","v":""},null,{"$f":"IFERROR(VLOOKUP(ROWS(AL$2:$AL1327),N1327:Q3230,4,0),\"\")","v":""}]
[null,null,null,null,null,null,null,null,null,null,null,null,null,0,0,0,"birla sl global real estate rp","MIN168","International",null,null,null,null,null,null,null,null,null,null,null,{"$f":"IFERROR(VLOOKUP(ROWS($AE$2:AE1328),P1328:Q3231,2,0),\"\")","v":""},null,null,null,null,{"$f":"IFERROR(VLOOKUP(ROWS($AJ$2:AJ1328),O1328:Q3231,3,0),\"\")","v":""},null,{"$f":"IFERROR(VLOOKUP(ROWS(AL$2:$AL1328),N1328:Q3231,4,0),\"\")","v":""}]
[null,null,null,null,null,null,null,null,null,null,null,null,null,0,0,0,"gs hang seng bees","MBM026","International",null,null,null,null,null,null,null,null,null,null,null,{"$f":"IFERROR(VLOOKUP(ROWS($AE$2:AE1329),P1329:Q3232,2,0),\"\")","v":""},null,null,null,null,{"$f":"IFERROR(VLOOKUP(ROWS($AJ$2:AJ1329),O1329:Q3232,3,0),\"\")","v":""},null,{"$f":"IFERROR(VLOOKUP(ROWS(AL$2:$AL1329),N1329:Q3232,4,0),\"\")","v":""}]
[null,null,null,null,null,null,null,null,null,null,null,null,null,0,0,0,"jpmorgan greater china eqty","MJP033","International",null,null,null,null,null,null,null,null,null,null,null,{"$f":"IFERROR(VLOOKUP(ROWS($AE$2:AE1330),P1330:Q3233,2,0),\"\")","v":""},null,null,null,null,{"$f":"IFERROR(VLOOKUP(ROWS($AJ$2:AJ1330),O1330:Q3233,3,0),\"\")","v":""},null,{"$f":"IFERROR(VLOOKUP(ROWS(AL$2:$AL1330),N1330:Q3233,4,0),\"\")","v":""}]
[null,null,null,null,null,null,null,null,null,null,null,null,null,0,0,0,"mirae china advantage fund","MMA084","International",null,null,null,null,null,null,null,null,null,null,null,{"$f":"IFERROR(VLOOKUP(ROWS($AE$2:AE1331),P1331:Q3234,2,0),\"\")","v":""},null,null,null,null,{"$f":"IFERROR(VLOOKUP(ROWS($AJ$2:AJ1331),O1331:Q3234,3,0),\"\")","v":""},null,{"$f":"IFERROR(VLOOKUP(ROWS(AL$2:$AL1331),N1331:Q3234,4,0),\"\")","v":""}]
[null,null,null,null,null,null,null,null,null,null,null,null,null,0,0,0,"dsp br world world agriculture","MDS408","International",null,null,null,null,null,null,null,null,null,null,null,{"$f":"IFERROR(VLOOKUP(ROWS($AE$2:AE1332),P1332:Q3235,2,0),\"\")","v":""},null,null,null,null,{"$f":"IFERROR(VLOOKUP(ROWS($AJ$2:AJ1332),O1332:Q3235,3,0),\"\")","v":""},null,{"$f":"IFERROR(VLOOKUP(ROWS(AL$2:$AL1332),N1332:Q3235,4,0),\"\")","v":""}]
[null,null,null,null,null,null,null,null,null,null,null,null,null,0,0,0,"dws global agribusiness offshore dp g","MDE501","International",null,null,null,null,null,null,null,null,null,null,null,{"$f":"IFERROR(VLOOKUP(ROWS($AE$2:AE1333),P1333:Q3236,2,0),\"\")","v":""},null,null,null,null,{"$f":"IFERROR(VLOOKUP(ROWS($AJ$2:AJ1333),O1333:Q3236,3,0),\"\")","v":""},null,{"$f":"IFERROR(VLOOKUP(ROWS(AL$2:$AL1333),N1333:Q3236,4,0),\"\")","v":""}]
[null,null,null,null,null,null,null,null,null,null,null,null,null,0,0,0,"dws global agribusiness offshore","MDE284","International",null,null,null,null,null,null,null,null,null,null,null,{"$f":"IFERROR(VLOOKUP(ROWS($AE$2:AE1334),P1334:Q3237,2,0),\"\")","v":""},null,null,null,null,{"$f":"IFERROR(VLOOKUP(ROWS($AJ$2:AJ1334),O1334:Q3237,3,0),\"\")","v":""},null,{"$f":"IFERROR(VLOOKUP(ROWS(AL$2:$AL1334),N1334:Q3237,4,0),\"\")","v":""}]
[null,null,null,null,null,null,null,null,null,null,null,null,null,0,0,0,"franklin asian equity fund","MTE182","International",null,null,null,null,null,null,null,null,null,null,null,{"$f":"IFERROR(VLOOKUP(ROWS($AE$2:AE1335),P1335:Q3238,2,0),\"\")","v":""},null,null,null,null,{"$f":"IFERROR(VLOOKUP(ROWS($AJ$2:AJ1335),O1335:Q3238,3,0),\"\")","v":""},null,{"$f":"IFERROR(VLOOKUP(ROWS(AL$2:$AL1335),N1335:Q3238,4,0),\"\")","v":""}]
[null,null,null,null,null,null,null,null,null,null,null,null,null,0,0,0,"l t global real assets","MFF063","International",null,null,null,null,null,null,null,null,null,null,null,{"$f":"IFERROR(VLOOKUP(ROWS($AE$2:AE1336),P1336:Q3239,2,0),\"\")","v":""},null,null,null,null,{"$f":"IFERROR(VLOOKUP(ROWS($AJ$2:AJ1336),O1336:Q3239,3,0),\"\")","v":""},null,{"$f":"IFERROR(VLOOKUP(ROWS(AL$2:$AL1336),N1336:Q3239,4,0),\"\")","v":""}]
[null,null,null,null,null,null,null,null,null,null,null,null,null,0,0,0,"hsbc asia pacific ej dyf dp","MHS435","International",null,null,null,null,null,null,null,null,null,null,null,{"$f":"IFERROR(VLOOKUP(ROWS($AE$2:AE1337),P1337:Q3240,2,0),\"\")","v":""},null,null,null,null,{"$f":"IFERROR(VLOOKUP(ROWS($AJ$2:AJ1337),O1337:Q3240,3,0),\"\")","v":""},null,{"$f":"IFERROR(VLOOKUP(ROWS(AL$2:$AL1337),N1337:Q3240,4,0),\"\")","v":""}]
[null,null,null,null,null,null,null,null,null,null,null,null,null,0,0,0,"hsbc asia pacific ej dyf rp","MHS433","International",null,null,null,null,null,null,null,null,null,null,null,{"$f":"IFERROR(VLOOKUP(ROWS($AE$2:AE1338),P1338:Q3241,2,0),\"\")","v":""},null,null,null,null,{"$f":"IFERROR(VLOOKUP(ROWS($AJ$2:AJ1338),O1338:Q3241,3,0),\"\")","v":""},null,{"$f":"IFERROR(VLOOKUP(ROWS(AL$2:$AL1338),N1338:Q3241,4,0),\"\")","v":""}]
[null,null,null,null,null,null,null,null,null,null,null,null,null,0,0,0,"kotak global emerging mkt regular","MKM162","International",null,null,null,null,null,null,null,null,null,null,null,{"$f":"IFERROR(VLOOKUP(ROWS($AE$2:AE1339),P1339:Q3242,2,0),\"\")","v":""},null,null,null,null,{"$f":"IFERROR(VLOOKUP(ROWS($AJ$2:AJ1339),O1339:Q3242,3,0),\"\")","v":""},null,{"$f":"IFERROR(VLOOKUP(ROWS(AL$2:$AL1339),N1339:Q3242,4,0),\"\")","v":""}]
[null,null,null,null,null,null,null,null,null,null,null,null,null,0,0,0,"jpmorgan asean equity off shore","MJP049","International",null,null,null,null,null,null,null,null,null,null,null,{"$f":"IFERROR(VLOOKUP(ROWS($AE$2:AE1340),P1340:Q3243,2,0),\"\")","v":""},null,null,null,null,{"$f":"IFERROR(VLOOKUP(ROWS($AJ$2:AJ1340),O1340:Q3243,3,0),\"\")","v":""},null,{"$f":"IFERROR(VLOOKUP(ROWS(AL$2:$AL1340),N1340:Q3243,4,0),\"\")","v":""}]
[null,null,null,null,null,null,null,null,null,null,null,null,null,0,0,0,"jpmorgan emer mkts opp equity dp","MJP282","International",null,null,null,null,null,null,null,null,null,null,null,{"$f":"IFERROR(VLOOKUP(ROWS($AE$2:AE1341),P1341:Q3244,2,0),\"\")","v":""},null,null,null,null,{"$f":"IFERROR(VLOOKUP(ROWS($AJ$2:AJ1341),O1341:Q3244,3,0),\"\")","v":""},null,{"$f":"IFERROR(VLOOKUP(ROWS(AL$2:$AL1341),N1341:Q3244,4,0),\"\")","v":""}]
[null,null,null,null,null,null,null,null,null,null,null,null,null,0,0,0,"jpmorgan emer mkts opp equity rp","MJP281","International",null,null,null,null,null,null,null,null,null,null,null,{"$f":"IFERROR(VLOOKUP(ROWS($AE$2:AE1342),P1342:Q3245,2,0),\"\")","v":""},null,null,null,null,{"$f":"IFERROR(VLOOKUP(ROWS($AJ$2:AJ1342),O1342:Q3245,3,0),\"\")","v":""},null,{"$f":"IFERROR(VLOOKUP(ROWS(AL$2:$AL1342),N1342:Q3245,4,0),\"\")","v":""}]
[null,null,null,null,null,null,null,null,null,null,null,null,null,0,0,0,"jpmorgan eemea eq off shore fund","MJP038","International",null,null,null,null,null,null,null,null,null,null,null,{"$f":"IFERROR(VLOOKUP(ROWS($AE$2:AE1343),P1343:Q3246,2,0),\"\")","v":""},null,null,null,null,{"$f":"IFERROR(VLOOKUP(ROWS($AJ$2:AJ1343),O1343:Q3246,3,0),\"\")","v":""},null,{"$f":"IFERROR(VLOOKUP(ROWS(AL$2:$AL1343),N1343:Q3246,4,0),\"\")","v":""}]
[null,null,null,null,null,null,null,null,null,null,null,null,null,0,0,0,"hsbc emerging markets fund","MHS186","International",null,null,null,null,null,null,null,null,null,null,null,{"$f":"IFERROR(VLOOKUP(ROWS($AE$2:AE1344),P1344:Q3247,2,0),\"\")","v":""},null,null,null,null,{"$f":"IFERROR(VLOOKUP(ROWS($AJ$2:AJ1344),O1344:Q3247,3,0),\"\")","v":""},null,{"$f":"IFERROR(VLOOKUP(ROWS(AL$2:$AL1344),N1344:Q3247,4,0),\"\")","v":""}]
[null,null,null,null,null,null,null,null,null,null,null,null,null,0,0,0,"sundaram global advantage","MSN135","International",null,null,null,null,null,null,null,null,null,null,null,{"$f":"IFERROR(VLOOKUP(ROWS($AE$2:AE1345),P1345:Q3248,2,0),\"\")","v":""},null,null,null,null,{"$f":"IFERROR(VLOOKUP(ROWS($AJ$2:AJ1345),O1345:Q3248,3,0),\"\")","v":""},null,{"$f":"IFERROR(VLOOKUP(ROWS(AL$2:$AL1345),N1345:Q3248,4,0),\"\")","v":""}]
[null,null,null,null,null,null,null,null,null,null,null,null,null,0,0,0,"dsp br world energy rp","MDS265","International",null,null,null,null,null,null,null,null,null,null,null,{"$f":"IFERROR(VLOOKUP(ROWS($AE$2:AE1346),P1346:Q3249,2,0),\"\")","v":""},null,null,null,null,{"$f":"IFERROR(VLOOKUP(ROWS($AJ$2:AJ1346),O1346:Q3249,3,0),\"\")","v":""},null,{"$f":"IFERROR(VLOOKUP(ROWS(AL$2:$AL1346),N1346:Q3249,4,0),\"\")","v":""}]
[null,null,null,null,null,null,null,null,null,null,null,null,null,0,0,0,"birla sl global commodities dir","MIN356","International",null,null,null,null,null,null,null,null,null,null,null,{"$f":"IFERROR(VLOOKUP(ROWS($AE$2:AE1347),P1347:Q3250,2,0),\"\")","v":""},null,null,null,null,{"$f":"IFERROR(VLOOKUP(ROWS($AJ$2:AJ1347),O1347:Q3250,3,0),\"\")","v":""},null,{"$f":"IFERROR(VLOOKUP(ROWS(AL$2:$AL1347),N1347:Q3250,4,0),\"\")","v":""}]
[null,null,null,null,null,null,null,null,null,null,null,null,null,0,0,0,"birla sl global commodities","MIN289","International",null,null,null,null,null,null,null,null,null,null,null,{"$f":"IFERROR(VLOOKUP(ROWS($AE$2:AE1348),P1348:Q3251,2,0),\"\")","v":""},null,null,null,null,{"$f":"IFERROR(VLOOKUP(ROWS($AJ$2:AJ1348),O1348:Q3251,3,0),\"\")","v":""},null,{"$f":"IFERROR(VLOOKUP(ROWS(AL$2:$AL1348),N1348:Q3251,4,0),\"\")","v":""}]
[null,null,null,null,null,null,null,null,null,null,null,null,null,0,0,0,"birla sl latin america eqty dir","MIN367","International",null,null,null,null,null,null,null,null,null,null,null,{"$f":"IFERROR(VLOOKUP(ROWS($AE$2:AE1349),P1349:Q3252,2,0),\"\")","v":""},null,null,null,null,{"$f":"IFERROR(VLOOKUP(ROWS($AJ$2:AJ1349),O1349:Q3252,3,0),\"\")","v":""},null,{"$f":"IFERROR(VLOOKUP(ROWS(AL$2:$AL1349),N1349:Q3252,4,0),\"\")","v":""}]
[null,null,null,null,null,null,null,null,null,null,null,null,null,0,0,0,"birla sl latin america equity","MIN252","International",null,null,null,null,null,null,null,null,null,null,null,{"$f":"IFERROR(VLOOKUP(ROWS($AE$2:AE1350),P1350:Q3253,2,0),\"\")","v":""},null,null,null,null,{"$f":"IFERROR(VLOOKUP(ROWS($AJ$2:AJ1350),O1350:Q3253,3,0),\"\")","v":""},null,{"$f":"IFERROR(VLOOKUP(ROWS(AL$2:$AL1350),N1350:Q3253,4,0),\"\")","v":""}]
[null,null,null,null,null,null,null,null,null,null,null,null,null,0,0,0,"mirae global commo stock","MMA032","International",null,null,null,null,null,null,null,null,null,null,null,{"$f":"IFERROR(VLOOKUP(ROWS($AE$2:AE1351),P1351:Q3254,2,0),\"\")","v":""},null,null,null,null,{"$f":"IFERROR(VLOOKUP(ROWS($AJ$2:AJ1351),O1351:Q3254,3,0),\"\")","v":""},null,{"$f":"IFERROR(VLOOKUP(ROWS(AL$2:$AL1351),N1351:Q3254,4,0),\"\")","v":""}]
[null,null,null,null,null,null,null,null,null,null,null,null,null,0,0,0,"dsp br world gold rp","MDS107","International",null,null,null,null,null,null,null,null,null,null,null,{"$f":"IFERROR(VLOOKUP(ROWS($AE$2:AE1352),P1352:Q3255,2,0),\"\")","v":""},null,null,null,null,{"$f":"IFERROR(VLOOKUP(ROWS($AJ$2:AJ1352),O1352:Q3255,3,0),\"\")","v":""},null,{"$f":"IFERROR(VLOOKUP(ROWS(AL$2:$AL1352),N1352:Q3255,4,0),\"\")","v":""}]
[null,null,null,null,null,null,null,null,null,null,null,null,null,0,0,0,"dsp br world mining fund rp","MDS273","International",null,null,null,null,null,null,null,null,null,null,null,{"$f":"IFERROR(VLOOKUP(ROWS($AE$2:AE1353),P1353:Q3256,2,0),\"\")","v":""},null,null,null,null,{"$f":"IFERROR(VLOOKUP(ROWS($AJ$2:AJ1353),O1353:Q3256,3,0),\"\")","v":""},null,{"$f":"IFERROR(VLOOKUP(ROWS(AL$2:$AL1353),N1353:Q3256,4,0),\"\")","v":""}]
[null,null,null,null,null,null,null,null,null,null,null,null,null,0,0,0,"kotak world gold fund standard","MAI053","International",null,null,null,null,null,null,null,null,null,null,null,{"$f":"IFERROR(VLOOKUP(ROWS($AE$2:AE1354),P1354:Q3257,2,0),\"\")","v":""},null,null,null,null,{"$f":"IFERROR(VLOOKUP(ROWS($AJ$2:AJ1354),O1354:Q3257,3,0),\"\")","v":""},null,{"$f":"IFERROR(VLOOKUP(ROWS(AL$2:$AL1354),N1354:Q3257,4,0),\"\")","v":""}]
[null,null,null,null,null,null,null,null,null,null,null,null,null,0,0,0,"hsbc brazil fund","MHS301","International",null,null,null,null,null,null,null,null,null,null,null,{"$f":"IFERROR(VLOOKUP(ROWS($AE$2:AE1355),P1355:Q3258,2,0),\"\")","v":""},null,null,null,null,{"$f":"IFERROR(VLOOKUP(ROWS($AJ$2:AJ1355),O1355:Q3258,3,0),\"\")","v":""},null,{"$f":"IFERROR(VLOOKUP(ROWS(AL$2:$AL1355),N1355:Q3258,4,0),\"\")","v":""}]
[null,null,null,null,null,null,null,null,null,null,null,null,null,0,0,0,"birla sl comm eqty gap ip","MBS400","International",null,null,null,null,null,null,null,null,null,null,null,{"$f":"IFERROR(VLOOKUP(ROWS($AE$2:AE1356),P1356:Q3259,2,0),\"\")","v":""},null,null,null,null,{"$f":"IFERROR(VLOOKUP(ROWS($AJ$2:AJ1356),O1356:Q3259,3,0),\"\")","v":""},null,{"$f":"IFERROR(VLOOKUP(ROWS(AL$2:$AL1356),N1356:Q3259,4,0),\"\")","v":""}]
[null,null,null,null,null,null,null,null,null,null,null,null,null,0,0,0,"motilal oswal most shares gold etf","MMO006","Gold etf",null,null,null,null,null,null,null,null,null,null,null,{"$f":"IFERROR(VLOOKUP(ROWS($AE$2:AE1357),P1357:Q3260,2,0),\"\")","v":""},null,null,null,null,{"$f":"IFERROR(VLOOKUP(ROWS($AJ$2:AJ1357),O1357:Q3260,3,0),\"\")","v":""},null,{"$f":"IFERROR(VLOOKUP(ROWS(AL$2:$AL1357),N1357:Q3260,4,0),\"\")","v":""}]
[null,null,null,null,null,null,null,null,null,null,null,null,null,0,0,0,"gs gold bees","MBM017","Gold etf",null,null,null,null,null,null,null,null,null,null,null,{"$f":"IFERROR(VLOOKUP(ROWS($AE$2:AE1358),P1358:Q3261,2,0),\"\")","v":""},null,null,null,null,{"$f":"IFERROR(VLOOKUP(ROWS($AJ$2:AJ1358),O1358:Q3261,3,0),\"\")","v":""},null,{"$f":"IFERROR(VLOOKUP(ROWS(AL$2:$AL1358),N1358:Q3261,4,0),\"\")","v":""}]
[null,null,null,null,null,null,null,null,null,null,null,null,null,0,0,0,"birla sun life gold etf","MBS563","Gold etf",null,null,null,null,null,null,null,null,null,null,null,{"$f":"IFERROR(VLOOKUP(ROWS($AE$2:AE1359),P1359:Q3262,2,0),\"\")","v":""},null,null,null,null,{"$f":"IFERROR(VLOOKUP(ROWS($AJ$2:AJ1359),O1359:Q3262,3,0),\"\")","v":""},null,{"$f":"IFERROR(VLOOKUP(ROWS(AL$2:$AL1359),N1359:Q3262,4,0),\"\")","v":""}]
[null,null,null,null,null,null,null,null,null,null,null,null,null,0,0,0,"sbi gold exchange traded fund","MSB211","Gold etf",null,null,null,null,null,null,null,null,null,null,null,{"$f":"IFERROR(VLOOKUP(ROWS($AE$2:AE1360),P1360:Q3263,2,0),\"\")","v":""},null,null,null,null,{"$f":"IFERROR(VLOOKUP(ROWS($AJ$2:AJ1360),O1360:Q3263,3,0),\"\")","v":""},null,{"$f":"IFERROR(VLOOKUP(ROWS(AL$2:$AL1360),N1360:Q3263,4,0),\"\")","v":""}]
[null,null,null,null,null,null,null,null,null,null,null,null,null,0,0,0,"idbi gold exchange traded fund","MIB042","Gold etf",null,null,null,null,null,null,null,null,null,null,null,{"$f":"IFERROR(VLOOKUP(ROWS($AE$2:AE1361),P1361:Q3264,2,0),\"\")","v":""},null,null,null,null,{"$f":"IFERROR(VLOOKUP(ROWS($AJ$2:AJ1361),O1361:Q3264,3,0),\"\")","v":""},null,{"$f":"IFERROR(VLOOKUP(ROWS(AL$2:$AL1361),N1361:Q3264,4,0),\"\")","v":""}]
[null,null,null,null,null,null,null,null,null,null,null,null,null,0,0,0,"axis gold etf","MAA093","Gold etf",null,null,null,null,null,null,null,null,null,null,null,{"$f":"IFERROR(VLOOKUP(ROWS($AE$2:AE1362),P1362:Q3265,2,0),\"\")","v":""},null,null,null,null,{"$f":"IFERROR(VLOOKUP(ROWS($AJ$2:AJ1362),O1362:Q3265,3,0),\"\")","v":""},null,{"$f":"IFERROR(VLOOKUP(ROWS(AL$2:$AL1362),N1362:Q3265,4,0),\"\")","v":""}]
[null,null,null,null,null,null,null,null,null,null,null,null,null,0,0,0,"quantum gold fund","MQU006","Gold etf",null,null,null,null,null,null,null,null,null,null,null,{"$f":"IFERROR(VLOOKUP(ROWS($AE$2:AE1363),P1363:Q3266,2,0),\"\")","v":""},null,null,null,null,{"$f":"IFERROR(VLOOKUP(ROWS($AJ$2:AJ1363),O1363:Q3266,3,0),\"\")","v":""},null,{"$f":"IFERROR(VLOOKUP(ROWS(AL$2:$AL1363),N1363:Q3266,4,0),\"\")","v":""}]
[null,null,null,null,null,null,null,null,null,null,null,null,null,0,0,0,"uti gold exchange traded fund","MUT113","Gold etf",null,null,null,null,null,null,null,null,null,null,null,{"$f":"IFERROR(VLOOKUP(ROWS($AE$2:AE1364),P1364:Q3267,2,0),\"\")","v":""},null,null,null,null,{"$f":"IFERROR(VLOOKUP(ROWS($AJ$2:AJ1364),O1364:Q3267,3,0),\"\")","v":""},null,{"$f":"IFERROR(VLOOKUP(ROWS(AL$2:$AL1364),N1364:Q3267,4,0),\"\")","v":""}]
[null,null,null,null,null,null,null,null,null,null,null,null,null,0,0,0,"kotak gold etf","MKM103","Gold etf",null,null,null,null,null,null,null,null,null,null,null,{"$f":"IFERROR(VLOOKUP(ROWS($AE$2:AE1365),P1365:Q3268,2,0),\"\")","v":""},null,null,null,null,{"$f":"IFERROR(VLOOKUP(ROWS($AJ$2:AJ1365),O1365:Q3268,3,0),\"\")","v":""},null,{"$f":"IFERROR(VLOOKUP(ROWS(AL$2:$AL1365),N1365:Q3268,4,0),\"\")","v":""}]
[null,null,null,null,null,null,null,null,null,null,null,null,null,0,0,0,"hdfc gold exchange traded fund","MHD679","Gold etf",null,null,null,null,null,null,null,null,null,null,null,{"$f":"IFERROR(VLOOKUP(ROWS($AE$2:AE1366),P1366:Q3269,2,0),\"\")","v":""},null,null,null,null,{"$f":"IFERROR(VLOOKUP(ROWS($AJ$2:AJ1366),O1366:Q3269,3,0),\"\")","v":""},null,{"$f":"IFERROR(VLOOKUP(ROWS(AL$2:$AL1366),N1366:Q3269,4,0),\"\")","v":""}]
[null,null,null,null,null,null,null,null,null,null,null,null,null,0,0,0,"can gold exchange traded fund","MCA191","Gold etf",null,null,null,null,null,null,null,null,null,null,null,{"$f":"IFERROR(VLOOKUP(ROWS($AE$2:AE1367),P1367:Q3270,2,0),\"\")","v":""},null,null,null,null,{"$f":"IFERROR(VLOOKUP(ROWS($AJ$2:AJ1367),O1367:Q3270,3,0),\"\")","v":""},null,{"$f":"IFERROR(VLOOKUP(ROWS(AL$2:$AL1367),N1367:Q3270,4,0),\"\")","v":""}]
[null,null,null,null,null,null,null,null,null,null,null,null,null,0,0,0,"icici pru gold etf","MPI753","Gold etf",null,null,null,null,null,null,null,null,null,null,null,{"$f":"IFERROR(VLOOKUP(ROWS($AE$2:AE1368),P1368:Q3271,2,0),\"\")","v":""},null,null,null,null,{"$f":"IFERROR(VLOOKUP(ROWS($AJ$2:AJ1368),O1368:Q3271,3,0),\"\")","v":""},null,{"$f":"IFERROR(VLOOKUP(ROWS(AL$2:$AL1368),N1368:Q3271,4,0),\"\")","v":""}]
[null,null,null,null,null,null,null,null,null,null,null,null,null,0,0,0,"religare invesco gold etf","MLI347","Gold etf",null,null,null,null,null,null,null,null,null,null,null,{"$f":"IFERROR(VLOOKUP(ROWS($AE$2:AE1369),P1369:Q3272,2,0),\"\")","v":""},null,null,null,null,{"$f":"IFERROR(VLOOKUP(ROWS($AJ$2:AJ1369),O1369:Q3272,3,0),\"\")","v":""},null,{"$f":"IFERROR(VLOOKUP(ROWS(AL$2:$AL1369),N1369:Q3272,4,0),\"\")","v":""}]
[null,null,null,null,null,null,null,null,null,null,null,null,null,0,0,0,"r*shares gold etf","MRC256","Gold etf",null,null,null,null,null,null,null,null,null,null,null,{"$f":"IFERROR(VLOOKUP(ROWS($AE$2:AE1370),P1370:Q3273,2,0),\"\")","v":""},null,null,null,null,{"$f":"IFERROR(VLOOKUP(ROWS($AJ$2:AJ1370),O1370:Q3273,3,0),\"\")","v":""},null,{"$f":"IFERROR(VLOOKUP(ROWS(AL$2:$AL1370),N1370:Q3273,4,0),\"\")","v":""}]
[null,null,null,null,null,null,null,null,null,null,null,null,null,0,0,0,"birla sl aaf aggressive","MBS051","Equity fund of funds",null,null,null,null,null,null,null,null,null,null,null,{"$f":"IFERROR(VLOOKUP(ROWS($AE$2:AE1371),P1371:Q3274,2,0),\"\")","v":""},null,null,null,null,{"$f":"IFERROR(VLOOKUP(ROWS($AJ$2:AJ1371),O1371:Q3274,3,0),\"\")","v":""},null,{"$f":"IFERROR(VLOOKUP(ROWS(AL$2:$AL1371),N1371:Q3274,4,0),\"\")","v":""}]
[null,null,null,null,null,null,null,null,null,null,null,null,null,0,0,0,"quantum equity fof","MQU010","Equity fund of funds",null,null,null,null,null,null,null,null,null,null,null,{"$f":"IFERROR(VLOOKUP(ROWS($AE$2:AE1372),P1372:Q3275,2,0),\"\")","v":""},null,null,null,null,{"$f":"IFERROR(VLOOKUP(ROWS($AJ$2:AJ1372),O1372:Q3275,3,0),\"\")","v":""},null,{"$f":"IFERROR(VLOOKUP(ROWS(AL$2:$AL1372),N1372:Q3275,4,0),\"\")","v":""}]
[null,null,null,null,null,null,null,null,null,null,null,null,null,0,0,0,"birla sl 5 star mm fof","MIO025","Equity fund of funds",null,null,null,null,null,null,null,null,null,null,null,{"$f":"IFERROR(VLOOKUP(ROWS($AE$2:AE1373),P1373:Q3276,2,0),\"\")","v":""},null,null,null,null,{"$f":"IFERROR(VLOOKUP(ROWS($AJ$2:AJ1373),O1373:Q3276,3,0),\"\")","v":""},null,{"$f":"IFERROR(VLOOKUP(ROWS(AL$2:$AL1373),N1373:Q3276,4,0),\"\")","v":""}]
[null,null,null,null,null,null,null,null,null,null,null,null,null,0,0,0,"hsbc managed sol growth rp","MHS441","Equity fund of funds",null,null,null,null,null,null,null,null,null,null,null,{"$f":"IFERROR(VLOOKUP(ROWS($AE$2:AE1374),P1374:Q3277,2,0),\"\")","v":""},null,null,null,null,{"$f":"IFERROR(VLOOKUP(ROWS($AJ$2:AJ1374),O1374:Q3277,3,0),\"\")","v":""},null,{"$f":"IFERROR(VLOOKUP(ROWS(AL$2:$AL1374),N1374:Q3277,4,0),\"\")","v":""}]
[null,null,null,null,null,null,null,null,null,null,null,null,null,0,0,0,"kotak asset allocator fund regular","MKM063","Equity fund of funds",null,null,null,null,null,null,null,null,null,null,null,{"$f":"IFERROR(VLOOKUP(ROWS($AE$2:AE1375),P1375:Q3278,2,0),\"\")","v":""},null,null,null,null,{"$f":"IFERROR(VLOOKUP(ROWS($AJ$2:AJ1375),O1375:Q3278,3,0),\"\")","v":""},null,{"$f":"IFERROR(VLOOKUP(ROWS(AL$2:$AL1375),N1375:Q3278,4,0),\"\")","v":""}]
[null,null,null,null,null,null,null,null,null,null,null,null,null,0,0,0,"sundaram hybrid sr a 3yr rp","MSN674","Equity fund of funds",null,null,null,null,null,null,null,null,null,null,null,{"$f":"IFERROR(VLOOKUP(ROWS($AE$2:AE1376),P1376:Q3279,2,0),\"\")","v":""},null,null,null,null,{"$f":"IFERROR(VLOOKUP(ROWS($AJ$2:AJ1376),O1376:Q3279,3,0),\"\")","v":""},null,{"$f":"IFERROR(VLOOKUP(ROWS(AL$2:$AL1376),N1376:Q3279,4,0),\"\")","v":""}]
[null,null,null,null,null,null,null,null,null,null,null,null,null,0,0,0,"principal global oppor","MID065","Equity fund of funds",null,null,null,null,null,null,null,null,null,null,null,{"$f":"IFERROR(VLOOKUP(ROWS($AE$2:AE1377),P1377:Q3280,2,0),\"\")","v":""},null,null,null,null,{"$f":"IFERROR(VLOOKUP(ROWS($AJ$2:AJ1377),O1377:Q3280,3,0),\"\")","v":""},null,{"$f":"IFERROR(VLOOKUP(ROWS(AL$2:$AL1377),N1377:Q3280,4,0),\"\")","v":""}]
[null,null,null,null,null,null,null,null,null,null,null,null,null,0,0,0,"birla sl aaf moderate plan","MBS053","Hybrid fund of funds",null,null,null,null,null,null,null,null,null,null,null,{"$f":"IFERROR(VLOOKUP(ROWS($AE$2:AE1378),P1378:Q3281,2,0),\"\")","v":""},null,null,null,null,{"$f":"IFERROR(VLOOKUP(ROWS($AJ$2:AJ1378),O1378:Q3281,3,0),\"\")","v":""},null,{"$f":"IFERROR(VLOOKUP(ROWS(AL$2:$AL1378),N1378:Q3281,4,0),\"\")","v":""}]
[null,null,null,null,null,null,null,null,null,null,null,null,null,0,0,0,"franklin i ls fof 20s plan","MTE027","Hybrid fund of funds",null,null,null,null,null,null,null,null,null,null,null,{"$f":"IFERROR(VLOOKUP(ROWS($AE$2:AE1379),P1379:Q3282,2,0),\"\")","v":""},null,null,null,null,{"$f":"IFERROR(VLOOKUP(ROWS($AJ$2:AJ1379),O1379:Q3282,3,0),\"\")","v":""},null,{"$f":"IFERROR(VLOOKUP(ROWS(AL$2:$AL1379),N1379:Q3282,4,0),\"\")","v":""}]
[null,null,null,null,null,null,null,null,null,null,null,null,null,0,0,0,"birla sl aa multi mgr fof","MIO005","Hybrid fund of funds",null,null,null,null,null,null,null,null,null,null,null,{"$f":"IFERROR(VLOOKUP(ROWS($AE$2:AE1380),P1380:Q3283,2,0),\"\")","v":""},null,null,null,null,{"$f":"IFERROR(VLOOKUP(ROWS($AJ$2:AJ1380),O1380:Q3283,3,0),\"\")","v":""},null,{"$f":"IFERROR(VLOOKUP(ROWS(AL$2:$AL1380),N1380:Q3283,4,0),\"\")","v":""}]
[null,null,null,null,null,null,null,null,null,null,null,null,null,0,0,0,"birla sl fp fof aggressive","MIO051","Hybrid fund of funds",null,null,null,null,null,null,null,null,null,null,null,{"$f":"IFERROR(VLOOKUP(ROWS($AE$2:AE1381),P1381:Q3284,2,0),\"\")","v":""},null,null,null,null,{"$f":"IFERROR(VLOOKUP(ROWS($AJ$2:AJ1381),O1381:Q3284,3,0),\"\")","v":""},null,{"$f":"IFERROR(VLOOKUP(ROWS(AL$2:$AL1381),N1381:Q3284,4,0),\"\")","v":""}]
[null,null,null,null,null,null,null,null,null,null,null,null,null,0,0,0,"franklin i ls fof 30s plan","MTE029","Hybrid fund of funds",null,null,null,null,null,null,null,null,null,null,null,{"$f":"IFERROR(VLOOKUP(ROWS($AE$2:AE1382),P1382:Q3285,2,0),\"\")","v":""},null,null,null,null,{"$f":"IFERROR(VLOOKUP(ROWS($AJ$2:AJ1382),O1382:Q3285,3,0),\"\")","v":""},null,{"$f":"IFERROR(VLOOKUP(ROWS(AL$2:$AL1382),N1382:Q3285,4,0),\"\")","v":""}]
[null,null,null,null,null,null,null,null,null,null,null,null,null,0,0,0,"birla sl aaf conservative","MBS055","Hybrid fund of funds",null,null,null,null,null,null,null,null,null,null,null,{"$f":"IFERROR(VLOOKUP(ROWS($AE$2:AE1383),P1383:Q3286,2,0),\"\")","v":""},null,null,null,null,{"$f":"IFERROR(VLOOKUP(ROWS($AJ$2:AJ1383),O1383:Q3286,3,0),\"\")","v":""},null,{"$f":"IFERROR(VLOOKUP(ROWS(AL$2:$AL1383),N1383:Q3286,4,0),\"\")","v":""}]
[null,null,null,null,null,null,null,null,null,null,null,null,null,0,0,0,"franklin i ls fof 40s plan","MTE031","Hybrid fund of funds",null,null,null,null,null,null,null,null,null,null,null,{"$f":"IFERROR(VLOOKUP(ROWS($AE$2:AE1384),P1384:Q3287,2,0),\"\")","v":""},null,null,null,null,{"$f":"IFERROR(VLOOKUP(ROWS($AJ$2:AJ1384),O1384:Q3287,3,0),\"\")","v":""},null,{"$f":"IFERROR(VLOOKUP(ROWS(AL$2:$AL1384),N1384:Q3287,4,0),\"\")","v":""}]
[null,null,null,null,null,null,null,null,null,null,null,null,null,0,0,0,"franklin i dyn pe ratio fof","MTE025","Hybrid fund of funds",null,null,null,null,null,null,null,null,null,null,null,{"$f":"IFERROR(VLOOKUP(ROWS($AE$2:AE1385),P1385:Q3288,2,0),\"\")","v":""},null,null,null,null,{"$f":"IFERROR(VLOOKUP(ROWS($AJ$2:AJ1385),O1385:Q3288,3,0),\"\")","v":""},null,{"$f":"IFERROR(VLOOKUP(ROWS(AL$2:$AL1385),N1385:Q3288,4,0),\"\")","v":""}]
[null,null,null,null,null,null,null,null,null,null,null,null,null,0,0,0,"idfc aafof aggressive regular","MAG355","Hybrid fund of funds",null,null,null,null,null,null,null,null,null,null,null,{"$f":"IFERROR(VLOOKUP(ROWS($AE$2:AE1386),P1386:Q3289,2,0),\"\")","v":""},null,null,null,null,{"$f":"IFERROR(VLOOKUP(ROWS($AJ$2:AJ1386),O1386:Q3289,3,0),\"\")","v":""},null,{"$f":"IFERROR(VLOOKUP(ROWS(AL$2:$AL1386),N1386:Q3289,4,0),\"\")","v":""}]
[null,null,null,null,null,null,null,null,null,null,null,null,null,0,0,0,"idfc aafof moderate regular","MAG359","Hybrid fund of funds",null,null,null,null,null,null,null,null,null,null,null,{"$f":"IFERROR(VLOOKUP(ROWS($AE$2:AE1387),P1387:Q3290,2,0),\"\")","v":""},null,null,null,null,{"$f":"IFERROR(VLOOKUP(ROWS($AJ$2:AJ1387),O1387:Q3290,3,0),\"\")","v":""},null,{"$f":"IFERROR(VLOOKUP(ROWS(AL$2:$AL1387),N1387:Q3290,4,0),\"\")","v":""}]
[null,null,null,null,null,null,null,null,null,null,null,null,null,0,0,0,"hsbc managed sol moderate rp","MHS445","Hybrid fund of funds",null,null,null,null,null,null,null,null,null,null,null,{"$f":"IFERROR(VLOOKUP(ROWS($AE$2:AE1388),P1388:Q3291,2,0),\"\")","v":""},null,null,null,null,{"$f":"IFERROR(VLOOKUP(ROWS($AJ$2:AJ1388),O1388:Q3291,3,0),\"\")","v":""},null,{"$f":"IFERROR(VLOOKUP(ROWS(AL$2:$AL1388),N1388:Q3291,4,0),\"\")","v":""}]
[null,null,null,null,null,null,null,null,null,null,null,null,null,0,0,0,"franklin i ls fof 50s plus","MTE033","Hybrid fund of funds",null,null,null,null,null,null,null,null,null,null,null,{"$f":"IFERROR(VLOOKUP(ROWS($AE$2:AE1389),P1389:Q3292,2,0),\"\")","v":""},null,null,null,null,{"$f":"IFERROR(VLOOKUP(ROWS($AJ$2:AJ1389),O1389:Q3292,3,0),\"\")","v":""},null,{"$f":"IFERROR(VLOOKUP(ROWS(AL$2:$AL1389),N1389:Q3292,4,0),\"\")","v":""}]
[null,null,null,null,null,null,null,null,null,null,null,null,null,0,0,0,"idfc aafof conservative regular","MAG357","Hybrid fund of funds",null,null,null,null,null,null,null,null,null,null,null,{"$f":"IFERROR(VLOOKUP(ROWS($AE$2:AE1390),P1390:Q3293,2,0),\"\")","v":""},null,null,null,null,{"$f":"IFERROR(VLOOKUP(ROWS($AJ$2:AJ1390),O1390:Q3293,3,0),\"\")","v":""},null,{"$f":"IFERROR(VLOOKUP(ROWS(AL$2:$AL1390),N1390:Q3293,4,0),\"\")","v":""}]
[null,null,null,null,null,null,null,null,null,null,null,null,null,{"$f":"IF(ISNUMBER(SEARCH($H$16,Q1391)),MAX($N$1,N1390)+1,0)","v":0},{"$f":"IF(ISNUMBER(SEARCH($H$11,Q1391)),MAX($O$1,O1390)+1,0)","v":0},{"$f":"IF(ISNUMBER(SEARCH($H$6,Q1391)),MAX($P$1,P1390)+1,0)","v":0},"birla sl fp fof prudent","MIO049","Hybrid fund of funds",null,null,null,null,null,null,null,null,null,null,null,{"$f":"IFERROR(VLOOKUP(ROWS($AE$2:AE1391),P1391:Q3294,2,0),\"\")","v":""},null,null,null,null,{"$f":"IFERROR(VLOOKUP(ROWS($AJ$2:AJ1391),O1391:Q3294,3,0),\"\")","v":""},null,{"$f":"IFERROR(VLOOKUP(ROWS(AL$2:$AL1391),N1391:Q3294,4,0),\"\")","v":""}]
[null,null,null,null,null,null,null,null,null,null,null,null,null,0,0,0,"franklin i ls fof 50s plus frp g","MTE038","Hybrid fund of funds",null,null,null,null,null,null,null,null,null,null,null,{"$f":"IFERROR(VLOOKUP(ROWS($AE$2:AE1392),P1392:Q3295,2,0),\"\")","v":""},null,null,null,null,{"$f":"IFERROR(VLOOKUP(ROWS($AJ$2:AJ1392),O1392:Q3295,3,0),\"\")","v":""},null,{"$f":"IFERROR(VLOOKUP(ROWS(AL$2:$AL1392),N1392:Q3295,4,0),\"\")","v":""}]
[null,null,null,null,null,null,null,null,null,null,null,null,null,0,0,0,"icici pru very aggressive","MPI074","Hybrid fund of funds",null,null,null,null,null,null,null,null,null,null,null,{"$f":"IFERROR(VLOOKUP(ROWS($AE$2:AE1393),P1393:Q3296,2,0),\"\")","v":""},null,null,null,null,{"$f":"IFERROR(VLOOKUP(ROWS($AJ$2:AJ1393),O1393:Q3296,3,0),\"\")","v":""},null,{"$f":"IFERROR(VLOOKUP(ROWS(AL$2:$AL1393),N1393:Q3296,4,0),\"\")","v":""}]
[null,null,null,null,null,null,null,null,null,null,null,null,null,0,0,0,"jpmorgan us value eqt offshore reg","MJP171","Hybrid fund of funds",null,null,null,null,null,null,null,null,null,null,null,{"$f":"IFERROR(VLOOKUP(ROWS($AE$2:AE1394),P1394:Q3297,2,0),\"\")","v":""},null,null,null,null,{"$f":"IFERROR(VLOOKUP(ROWS($AJ$2:AJ1394),O1394:Q3297,3,0),\"\")","v":""},null,{"$f":"IFERROR(VLOOKUP(ROWS(AL$2:$AL1394),N1394:Q3297,4,0),\"\")","v":""}]
[null,null,null,null,null,null,null,null,null,null,null,null,null,0,0,0,"icici pru moderate plan","MPI072","Hybrid fund of funds",null,null,null,null,null,null,null,null,null,null,null,{"$f":"IFERROR(VLOOKUP(ROWS($AE$2:AE1395),P1395:Q3298,2,0),\"\")","v":""},null,null,null,null,{"$f":"IFERROR(VLOOKUP(ROWS($AJ$2:AJ1395),O1395:Q3298,3,0),\"\")","v":""},null,{"$f":"IFERROR(VLOOKUP(ROWS(AL$2:$AL1395),N1395:Q3298,4,0),\"\")","v":""}]
[null,null,null,null,null,null,null,null,null,null,null,null,null,0,0,0,"birla sl fp fof conservative","MIO047","Hybrid fund of funds",null,null,null,null,null,null,null,null,null,null,null,{"$f":"IFERROR(VLOOKUP(ROWS($AE$2:AE1396),P1396:Q3299,2,0),\"\")","v":""},null,null,null,null,{"$f":"IFERROR(VLOOKUP(ROWS($AJ$2:AJ1396),O1396:Q3299,3,0),\"\")","v":""},null,{"$f":"IFERROR(VLOOKUP(ROWS(AL$2:$AL1396),N1396:Q3299,4,0),\"\")","v":""}]
[null,null,null,null,null,null,null,null,null,null,null,null,null,0,0,0,"icici pru aggressive plan","MPI076","Hybrid fund of funds",null,null,null,null,null,null,null,null,null,null,null,{"$f":"IFERROR(VLOOKUP(ROWS($AE$2:AE1397),P1397:Q3300,2,0),\"\")","v":""},null,null,null,null,{"$f":"IFERROR(VLOOKUP(ROWS($AJ$2:AJ1397),O1397:Q3300,3,0),\"\")","v":""},null,{"$f":"IFERROR(VLOOKUP(ROWS(AL$2:$AL1397),N1397:Q3300,4,0),\"\")","v":""}]
[null,null,null,null,null,null,null,null,null,null,null,null,null,0,0,0,"dsp dynamic asset allocation rp","MDS959","Hybrid fund of funds",null,null,null,null,null,null,null,null,null,null,null,{"$f":"IFERROR(VLOOKUP(ROWS($AE$2:AE1398),P1398:Q3301,2,0),\"\")","v":""},null,null,null,null,{"$f":"IFERROR(VLOOKUP(ROWS($AJ$2:AJ1398),O1398:Q3301,3,0),\"\")","v":""},null,{"$f":"IFERROR(VLOOKUP(ROWS(AL$2:$AL1398),N1398:Q3301,4,0),\"\")","v":""}]
[null,null,null,null,null,null,null,null,null,null,null,null,null,0,0,0,"icici pru cautious plan","MPI070","Hybrid fund of funds",null,null,null,null,null,null,null,null,null,null,null,{"$f":"IFERROR(VLOOKUP(ROWS($AE$2:AE1399),P1399:Q3302,2,0),\"\")","v":""},null,null,null,null,{"$f":"IFERROR(VLOOKUP(ROWS($AJ$2:AJ1399),O1399:Q3302,3,0),\"\")","v":""},null,{"$f":"IFERROR(VLOOKUP(ROWS(AL$2:$AL1399),N1399:Q3302,4,0),\"\")","v":""}]
[null,null,null,null,null,null,null,null,null,null,null,null,null,0,0,0,"religare global equity inc rp","MLI867","Hybrid fund of funds",null,null,null,null,null,null,null,null,null,null,null,{"$f":"IFERROR(VLOOKUP(ROWS($AE$2:AE1400),P1400:Q3303,2,0),\"\")","v":""},null,null,null,null,{"$f":"IFERROR(VLOOKUP(ROWS($AJ$2:AJ1400),O1400:Q3303,3,0),\"\")","v":""},null,{"$f":"IFERROR(VLOOKUP(ROWS(AL$2:$AL1400),N1400:Q3303,4,0),\"\")","v":""}]
[null,null,null,null,null,null,null,null,null,null,null,null,null,0,0,0,"edelweiss debt corp opp ","MEW057","Hybrid fund of funds",null,null,null,null,null,null,null,null,null,null,null,{"$f":"IFERROR(VLOOKUP(ROWS($AE$2:AE1401),P1401:Q3304,2,0),\"\")","v":""},null,null,null,null,{"$f":"IFERROR(VLOOKUP(ROWS($AJ$2:AJ1401),O1401:Q3304,3,0),\"\")","v":""},null,{"$f":"IFERROR(VLOOKUP(ROWS(AL$2:$AL1401),N1401:Q3304,4,0),\"\")","v":""}]
[null,null,null,null,null,null,null,null,null,null,null,null,null,0,0,0,"dsp global allocation fund rp","MDS1103","Hybrid fund of funds",null,null,null,null,null,null,null,null,null,null,null,{"$f":"IFERROR(VLOOKUP(ROWS($AE$2:AE1402),P1402:Q3305,2,0),\"\")","v":""},null,null,null,null,{"$f":"IFERROR(VLOOKUP(ROWS($AJ$2:AJ1402),O1402:Q3305,3,0),\"\")","v":""},null,{"$f":"IFERROR(VLOOKUP(ROWS(AL$2:$AL1402),N1402:Q3305,4,0),\"\")","v":""}]
[null,null,null,null,null,null,null,null,null,null,null,null,null,0,0,0,"religare pan european equity rp","MLI779","Hybrid fund of funds",null,null,null,null,null,null,null,null,null,null,null,{"$f":"IFERROR(VLOOKUP(ROWS($AE$2:AE1403),P1403:Q3306,2,0),\"\")","v":""},null,null,null,null,{"$f":"IFERROR(VLOOKUP(ROWS($AJ$2:AJ1403),O1403:Q3306,3,0),\"\")","v":""},null,{"$f":"IFERROR(VLOOKUP(ROWS(AL$2:$AL1403),N1403:Q3306,4,0),\"\")","v":""}]
[null,null,null,null,null,null,null,null,null,null,null,null,null,0,0,0,"franklin feeder franklin euro gr","MTE394","Hybrid fund of funds",null,null,null,null,null,null,null,null,null,null,null,{"$f":"IFERROR(VLOOKUP(ROWS($AE$2:AE1404),P1404:Q3307,2,0),\"\")","v":""},null,null,null,null,{"$f":"IFERROR(VLOOKUP(ROWS($AJ$2:AJ1404),O1404:Q3307,3,0),\"\")","v":""},null,{"$f":"IFERROR(VLOOKUP(ROWS(AL$2:$AL1404),N1404:Q3307,4,0),\"\")","v":""}]
[null,null,null,null,null,null,null,null,null,null,null,null,null,0,0,0,"franklin i multi asset sol ","MTE400","Hybrid fund of funds",null,null,null,null,null,null,null,null,null,null,null,{"$f":"IFERROR(VLOOKUP(ROWS($AE$2:AE1405),P1405:Q3308,2,0),\"\")","v":""},null,null,null,null,{"$f":"IFERROR(VLOOKUP(ROWS($AJ$2:AJ1405),O1405:Q3308,3,0),\"\")","v":""},null,{"$f":"IFERROR(VLOOKUP(ROWS(AL$2:$AL1405),N1405:Q3308,4,0),\"\")","v":""}]
[null,null,null,null,null,null,null,null,null,null,null,null,null,0,0,0,"sbi dynamic asset allocation fund rp","MSB1107","Hybrid fund of funds",null,null,null,null,null,null,null,null,null,null,null,{"$f":"IFERROR(VLOOKUP(ROWS($AE$2:AE1406),P1406:Q3309,2,0),\"\")","v":""},null,null,null,null,{"$f":"IFERROR(VLOOKUP(ROWS($AJ$2:AJ1406),O1406:Q3309,3,0),\"\")","v":""},null,{"$f":"IFERROR(VLOOKUP(ROWS(AL$2:$AL1406),N1406:Q3309,4,0),\"\")","v":""}]
[null,null,null,null,null,null,null,null,null,null,null,null,null,0,0,0,"birla sun life gold fund","MBS684","Commodity fund of funds",null,null,null,null,null,null,null,null,null,null,null,{"$f":"IFERROR(VLOOKUP(ROWS($AE$2:AE1407),P1407:Q3310,2,0),\"\")","v":""},null,null,null,null,{"$f":"IFERROR(VLOOKUP(ROWS($AJ$2:AJ1407),O1407:Q3310,3,0),\"\")","v":""},null,{"$f":"IFERROR(VLOOKUP(ROWS(AL$2:$AL1407),N1407:Q3310,4,0),\"\")","v":""}]
[null,null,null,null,null,null,null,null,null,null,null,null,null,0,0,0,"icici pru reg gold savings fund","MPI933","Commodity fund of funds",null,null,null,null,null,null,null,null,null,null,null,{"$f":"IFERROR(VLOOKUP(ROWS($AE$2:AE1408),P1408:Q3311,2,0),\"\")","v":""},null,null,null,null,{"$f":"IFERROR(VLOOKUP(ROWS($AJ$2:AJ1408),O1408:Q3311,3,0),\"\")","v":""},null,{"$f":"IFERROR(VLOOKUP(ROWS(AL$2:$AL1408),N1408:Q3311,4,0),\"\")","v":""}]
[null,null,null,null,null,null,null,null,null,null,null,null,null,0,0,0,"religare invesco gold fund","MLI464","Commodity fund of funds",null,null,null,null,null,null,null,null,null,null,null,{"$f":"IFERROR(VLOOKUP(ROWS($AE$2:AE1409),P1409:Q3312,2,0),\"\")","v":""},null,null,null,null,{"$f":"IFERROR(VLOOKUP(ROWS($AJ$2:AJ1409),O1409:Q3312,3,0),\"\")","v":""},null,{"$f":"IFERROR(VLOOKUP(ROWS(AL$2:$AL1409),N1409:Q3312,4,0),\"\")","v":""}]
[null,null,null,null,null,null,null,null,null,null,null,null,null,0,0,0,"hdfc gold fund","MHD857","Commodity fund of funds",null,null,null,null,null,null,null,null,null,null,null,{"$f":"IFERROR(VLOOKUP(ROWS($AE$2:AE1410),P1410:Q3313,2,0),\"\")","v":""},null,null,null,null,{"$f":"IFERROR(VLOOKUP(ROWS($AJ$2:AJ1410),O1410:Q3313,3,0),\"\")","v":""},null,{"$f":"IFERROR(VLOOKUP(ROWS(AL$2:$AL1410),N1410:Q3313,4,0),\"\")","v":""}]
[null,null,null,null,null,null,null,null,null,null,null,null,null,0,0,0,"reliance gold savings fund","MRC647","Commodity fund of funds",null,null,null,null,null,null,null,null,null,null,null,{"$f":"IFERROR(VLOOKUP(ROWS($AE$2:AE1411),P1411:Q3314,2,0),\"\")","v":""},null,null,null,null,{"$f":"IFERROR(VLOOKUP(ROWS($AJ$2:AJ1411),O1411:Q3314,3,0),\"\")","v":""},null,{"$f":"IFERROR(VLOOKUP(ROWS(AL$2:$AL1411),N1411:Q3314,4,0),\"\")","v":""}]
[null,null,null,null,null,null,null,null,null,null,null,null,null,0,0,0,"sbi gold fund","MSB327","Commodity fund of funds",null,null,null,null,null,null,null,null,null,null,null,{"$f":"IFERROR(VLOOKUP(ROWS($AE$2:AE1412),P1412:Q3315,2,0),\"\")","v":""},null,null,null,null,{"$f":"IFERROR(VLOOKUP(ROWS($AJ$2:AJ1412),O1412:Q3315,3,0),\"\")","v":""},null,{"$f":"IFERROR(VLOOKUP(ROWS(AL$2:$AL1412),N1412:Q3315,4,0),\"\")","v":""}]
[null,null,null,null,null,null,null,null,null,null,null,null,null,0,0,0,"quantum gold savings fund","MQU012","Commodity fund of funds",null,null,null,null,null,null,null,null,null,null,null,{"$f":"IFERROR(VLOOKUP(ROWS($AE$2:AE1413),P1413:Q3316,2,0),\"\")","v":""},null,null,null,null,{"$f":"IFERROR(VLOOKUP(ROWS($AJ$2:AJ1413),O1413:Q3316,3,0),\"\")","v":""},null,{"$f":"IFERROR(VLOOKUP(ROWS(AL$2:$AL1413),N1413:Q3316,4,0),\"\")","v":""}]
[null,null,null,null,null,null,null,null,null,null,null,null,null,0,0,0,"idbi gold fund","MIB066","Commodity fund of funds",null,null,null,null,null,null,null,null,null,null,null,{"$f":"IFERROR(VLOOKUP(ROWS($AE$2:AE1414),P1414:Q3317,2,0),\"\")","v":""},null,null,null,null,{"$f":"IFERROR(VLOOKUP(ROWS($AJ$2:AJ1414),O1414:Q3317,3,0),\"\")","v":""},null,{"$f":"IFERROR(VLOOKUP(ROWS(AL$2:$AL1414),N1414:Q3317,4,0),\"\")","v":""}]
[null,null,null,null,null,null,null,null,null,null,null,null,null,0,0,0,"canara robeco gold savings","MCA196","Commodity fund of funds",null,null,null,null,null,null,null,null,null,null,null,{"$f":"IFERROR(VLOOKUP(ROWS($AE$2:AE1415),P1415:Q3318,2,0),\"\")","v":""},null,null,null,null,{"$f":"IFERROR(VLOOKUP(ROWS($AJ$2:AJ1415),O1415:Q3318,3,0),\"\")","v":""},null,{"$f":"IFERROR(VLOOKUP(ROWS(AL$2:$AL1415),N1415:Q3318,4,0),\"\")","v":""}]
[null,null,null,null,null,null,null,null,null,null,null,null,null,0,0,0,"kotak gold fund","MKM391","Commodity fund of funds",null,null,null,null,null,null,null,null,null,null,null,{"$f":"IFERROR(VLOOKUP(ROWS($AE$2:AE1416),P1416:Q3319,2,0),\"\")","v":""},null,null,null,null,{"$f":"IFERROR(VLOOKUP(ROWS($AJ$2:AJ1416),O1416:Q3319,3,0),\"\")","v":""},null,{"$f":"IFERROR(VLOOKUP(ROWS(AL$2:$AL1416),N1416:Q3319,4,0),\"\")","v":""}]
[null,null,null,null,null,null,null,null,null,null,null,null,null,0,0,0,"axis gold fund","MAA124","Commodity fund of funds",null,null,null,null,null,null,null,null,null,null,null,{"$f":"IFERROR(VLOOKUP(ROWS($AE$2:AE1417),P1417:Q3320,2,0),\"\")","v":""},null,null,null,null,{"$f":"IFERROR(VLOOKUP(ROWS($AJ$2:AJ1417),O1417:Q3320,3,0),\"\")","v":""},null,{"$f":"IFERROR(VLOOKUP(ROWS(AL$2:$AL1417),N1417:Q3320,4,0),\"\")","v":""}]
[null,null,null,null,null,null,null,null,null,null,null,null,null,0,0,0,"axis cpof sr2 3 years ","MAA128","Capital protection funds",null,null,null,null,null,null,null,null,null,null,null,{"$f":"IFERROR(VLOOKUP(ROWS($AE$2:AE1418),P1418:Q3321,2,0),\"\")","v":""},null,null,null,null,{"$f":"IFERROR(VLOOKUP(ROWS($AJ$2:AJ1418),O1418:Q3321,3,0),\"\")","v":""},null,{"$f":"IFERROR(VLOOKUP(ROWS(AL$2:$AL1418),N1418:Q3321,4,0),\"\")","v":""}]
[null,null,null,null,null,null,null,null,null,null,null,null,null,0,0,0,"axis cpof sr1 3 years ","MAA126","Capital protection funds",null,null,null,null,null,null,null,null,null,null,null,{"$f":"IFERROR(VLOOKUP(ROWS($AE$2:AE1419),P1419:Q3322,2,0),\"\")","v":""},null,null,null,null,{"$f":"IFERROR(VLOOKUP(ROWS($AJ$2:AJ1419),O1419:Q3322,3,0),\"\")","v":""},null,{"$f":"IFERROR(VLOOKUP(ROWS(AL$2:$AL1419),N1419:Q3322,4,0),\"\")","v":""}]
[null,null,null,null,null,null,null,null,null,null,null,null,null,0,0,0,"birla sl cpof sr7 36 months ","MBS610","Capital protection funds",null,null,null,null,null,null,null,null,null,null,null,{"$f":"IFERROR(VLOOKUP(ROWS($AE$2:AE1420),P1420:Q3323,2,0),\"\")","v":""},null,null,null,null,{"$f":"IFERROR(VLOOKUP(ROWS($AJ$2:AJ1420),O1420:Q3323,3,0),\"\")","v":""},null,{"$f":"IFERROR(VLOOKUP(ROWS(AL$2:$AL1420),N1420:Q3323,4,0),\"\")","v":""}]
[null,null,null,null,null,null,null,null,null,null,null,null,null,0,0,0,"icici pru cpo fund sr i 24m","MPI839","Capital protection funds",null,null,null,null,null,null,null,null,null,null,null,{"$f":"IFERROR(VLOOKUP(ROWS($AE$2:AE1421),P1421:Q3324,2,0),\"\")","v":""},null,null,null,null,{"$f":"IFERROR(VLOOKUP(ROWS($AJ$2:AJ1421),O1421:Q3324,3,0),\"\")","v":""},null,{"$f":"IFERROR(VLOOKUP(ROWS(AL$2:$AL1421),N1421:Q3324,4,0),\"\")","v":""}]
[null,null,null,null,null,null,null,null,null,null,null,null,null,0,0,0,"icici pru cpo fund sr ii 24m","MPI903","Capital protection funds",null,null,null,null,null,null,null,null,null,null,null,{"$f":"IFERROR(VLOOKUP(ROWS($AE$2:AE1422),P1422:Q3325,2,0),\"\")","v":""},null,null,null,null,{"$f":"IFERROR(VLOOKUP(ROWS($AJ$2:AJ1422),O1422:Q3325,3,0),\"\")","v":""},null,{"$f":"IFERROR(VLOOKUP(ROWS(AL$2:$AL1422),N1422:Q3325,4,0),\"\")","v":""}]
[null,null,null,null,null,null,null,null,null,null,null,null,null,0,0,0,"axis cpof sr3 3 years ","MAA133","Capital protection funds",null,null,null,null,null,null,null,null,null,null,null,{"$f":"IFERROR(VLOOKUP(ROWS($AE$2:AE1423),P1423:Q3326,2,0),\"\")","v":""},null,null,null,null,{"$f":"IFERROR(VLOOKUP(ROWS($AJ$2:AJ1423),O1423:Q3326,3,0),\"\")","v":""},null,{"$f":"IFERROR(VLOOKUP(ROWS(AL$2:$AL1423),N1423:Q3326,4,0),\"\")","v":""}]
[null,null,null,null,null,null,null,null,null,null,null,null,null,0,0,0,"axis cpof sr4 3 years ","MAA138","Capital protection funds",null,null,null,null,null,null,null,null,null,null,null,{"$f":"IFERROR(VLOOKUP(ROWS($AE$2:AE1424),P1424:Q3327,2,0),\"\")","v":""},null,null,null,null,{"$f":"IFERROR(VLOOKUP(ROWS($AJ$2:AJ1424),O1424:Q3327,3,0),\"\")","v":""},null,{"$f":"IFERROR(VLOOKUP(ROWS(AL$2:$AL1424),N1424:Q3327,4,0),\"\")","v":""}]
[null,null,null,null,null,null,null,null,null,null,null,null,null,0,0,0,"icici pru cpof sr 4g 60m reg","MPI1730","Capital protection funds",null,null,null,null,null,null,null,null,null,null,null,{"$f":"IFERROR(VLOOKUP(ROWS($AE$2:AE1425),P1425:Q3328,2,0),\"\")","v":""},null,null,null,null,{"$f":"IFERROR(VLOOKUP(ROWS($AJ$2:AJ1425),O1425:Q3328,3,0),\"\")","v":""},null,{"$f":"IFERROR(VLOOKUP(ROWS(AL$2:$AL1425),N1425:Q3328,4,0),\"\")","v":""}]
[null,null,null,null,null,null,null,null,null,null,null,null,null,0,0,0,"sundaram cpof sr 1 2 yrs","MSN439","Capital protection funds",null,null,null,null,null,null,null,null,null,null,null,{"$f":"IFERROR(VLOOKUP(ROWS($AE$2:AE1426),P1426:Q3329,2,0),\"\")","v":""},null,null,null,null,{"$f":"IFERROR(VLOOKUP(ROWS($AJ$2:AJ1426),O1426:Q3329,3,0),\"\")","v":""},null,{"$f":"IFERROR(VLOOKUP(ROWS(AL$2:$AL1426),N1426:Q3329,4,0),\"\")","v":""}]
[null,null,null,null,null,null,null,null,null,null,null,null,null,0,0,0,"sundaram cpof sr 3 2 yrs","MSN449","Capital protection funds",null,null,null,null,null,null,null,null,null,null,null,{"$f":"IFERROR(VLOOKUP(ROWS($AE$2:AE1427),P1427:Q3330,2,0),\"\")","v":""},null,null,null,null,{"$f":"IFERROR(VLOOKUP(ROWS($AJ$2:AJ1427),O1427:Q3330,3,0),\"\")","v":""},null,{"$f":"IFERROR(VLOOKUP(ROWS(AL$2:$AL1427),N1427:Q3330,4,0),\"\")","v":""}]
[null,null,null,null,null,null,null,null,null,null,null,null,null,0,0,0,"idfc cpof series ii","MAG390","Capital protection funds",null,null,null,null,null,null,null,null,null,null,null,{"$f":"IFERROR(VLOOKUP(ROWS($AE$2:AE1428),P1428:Q3331,2,0),\"\")","v":""},null,null,null,null,{"$f":"IFERROR(VLOOKUP(ROWS($AJ$2:AJ1428),O1428:Q3331,3,0),\"\")","v":""},null,{"$f":"IFERROR(VLOOKUP(ROWS(AL$2:$AL1428),N1428:Q3331,4,0),\"\")","v":""}]
[null,null,null,null,null,null,null,null,null,null,null,null,null,0,0,0,"icici pru cpo fund ii sr 12 12m","MPI1053","Capital protection funds",null,null,null,null,null,null,null,null,null,null,null,{"$f":"IFERROR(VLOOKUP(ROWS($AE$2:AE1429),P1429:Q3332,2,0),\"\")","v":""},null,null,null,null,{"$f":"IFERROR(VLOOKUP(ROWS($AJ$2:AJ1429),O1429:Q3332,3,0),\"\")","v":""},null,{"$f":"IFERROR(VLOOKUP(ROWS(AL$2:$AL1429),N1429:Q3332,4,0),\"\")","v":""}]
[null,null,null,null,null,null,null,null,null,null,null,null,null,0,0,0,"icici pru cpof sr 4f 60m reg","MPI1692","Capital protection funds",null,null,null,null,null,null,null,null,null,null,null,{"$f":"IFERROR(VLOOKUP(ROWS($AE$2:AE1430),P1430:Q3333,2,0),\"\")","v":""},null,null,null,null,{"$f":"IFERROR(VLOOKUP(ROWS($AJ$2:AJ1430),O1430:Q3333,3,0),\"\")","v":""},null,{"$f":"IFERROR(VLOOKUP(ROWS(AL$2:$AL1430),N1430:Q3333,4,0),\"\")","v":""}]
[null,null,null,null,null,null,null,null,null,null,null,null,null,0,0,0,"icici pru cpof sr3 e 60m ","MPI1110","Capital protection funds",null,null,null,null,null,null,null,null,null,null,null,{"$f":"IFERROR(VLOOKUP(ROWS($AE$2:AE1431),P1431:Q3334,2,0),\"\")","v":""},null,null,null,null,{"$f":"IFERROR(VLOOKUP(ROWS($AJ$2:AJ1431),O1431:Q3334,3,0),\"\")","v":""},null,{"$f":"IFERROR(VLOOKUP(ROWS(AL$2:$AL1431),N1431:Q3334,4,0),\"\")","v":""}]
[null,null,null,null,null,null,null,null,null,null,null,null,null,0,0,0,"birla sl cpof sr6 761 days ","MBS576","Capital protection funds",null,null,null,null,null,null,null,null,null,null,null,{"$f":"IFERROR(VLOOKUP(ROWS($AE$2:AE1432),P1432:Q3335,2,0),\"\")","v":""},null,null,null,null,{"$f":"IFERROR(VLOOKUP(ROWS($AJ$2:AJ1432),O1432:Q3335,3,0),\"\")","v":""},null,{"$f":"IFERROR(VLOOKUP(ROWS(AL$2:$AL1432),N1432:Q3335,4,0),\"\")","v":""}]
[null,null,null,null,null,null,null,null,null,null,null,null,null,0,0,0,"icici pru cpo fund ii sr vi 24m","MPI981","Capital protection funds",null,null,null,null,null,null,null,null,null,null,null,{"$f":"IFERROR(VLOOKUP(ROWS($AE$2:AE1433),P1433:Q3336,2,0),\"\")","v":""},null,null,null,null,{"$f":"IFERROR(VLOOKUP(ROWS($AJ$2:AJ1433),O1433:Q3336,3,0),\"\")","v":""},null,{"$f":"IFERROR(VLOOKUP(ROWS(AL$2:$AL1433),N1433:Q3336,4,0),\"\")","v":""}]
[null,null,null,null,null,null,null,null,null,null,null,null,null,0,0,0,"icici pru cpof sr 3h 60m","MPI1377","Capital protection funds",null,null,null,null,null,null,null,null,null,null,null,{"$f":"IFERROR(VLOOKUP(ROWS($AE$2:AE1434),P1434:Q3337,2,0),\"\")","v":""},null,null,null,null,{"$f":"IFERROR(VLOOKUP(ROWS($AJ$2:AJ1434),O1434:Q3337,3,0),\"\")","v":""},null,{"$f":"IFERROR(VLOOKUP(ROWS(AL$2:$AL1434),N1434:Q3337,4,0),\"\")","v":""}]
[null,null,null,null,null,null,null,null,null,null,null,null,null,0,0,0,"icici pru cpof sr iii b 60m","MPI1087","Capital protection funds",null,null,null,null,null,null,null,null,null,null,null,{"$f":"IFERROR(VLOOKUP(ROWS($AE$2:AE1435),P1435:Q3338,2,0),\"\")","v":""},null,null,null,null,{"$f":"IFERROR(VLOOKUP(ROWS($AJ$2:AJ1435),O1435:Q3338,3,0),\"\")","v":""},null,{"$f":"IFERROR(VLOOKUP(ROWS(AL$2:$AL1435),N1435:Q3338,4,0),\"\")","v":""}]
[null,null,null,null,null,null,null,null,null,null,null,null,null,0,0,0,"icici pru cpo fund sr iv 36m","MPI935","Capital protection funds",null,null,null,null,null,null,null,null,null,null,null,{"$f":"IFERROR(VLOOKUP(ROWS($AE$2:AE1436),P1436:Q3339,2,0),\"\")","v":""},null,null,null,null,{"$f":"IFERROR(VLOOKUP(ROWS($AJ$2:AJ1436),O1436:Q3339,3,0),\"\")","v":""},null,{"$f":"IFERROR(VLOOKUP(ROWS(AL$2:$AL1436),N1436:Q3339,4,0),\"\")","v":""}]
[null,null,null,null,null,null,null,null,null,null,null,null,null,0,0,0,"icici pru cpo fund sr v 60m","MPI925","Capital protection funds",null,null,null,null,null,null,null,null,null,null,null,{"$f":"IFERROR(VLOOKUP(ROWS($AE$2:AE1437),P1437:Q3340,2,0),\"\")","v":""},null,null,null,null,{"$f":"IFERROR(VLOOKUP(ROWS($AJ$2:AJ1437),O1437:Q3340,3,0),\"\")","v":""},null,{"$f":"IFERROR(VLOOKUP(ROWS(AL$2:$AL1437),N1437:Q3340,4,0),\"\")","v":""}]
[null,null,null,null,null,null,null,null,null,null,null,null,null,0,0,0,"sundaram cpof sr 2 2 yrs","MSN443","Capital protection funds",null,null,null,null,null,null,null,null,null,null,null,{"$f":"IFERROR(VLOOKUP(ROWS($AE$2:AE1438),P1438:Q3341,2,0),\"\")","v":""},null,null,null,null,{"$f":"IFERROR(VLOOKUP(ROWS($AJ$2:AJ1438),O1438:Q3341,3,0),\"\")","v":""},null,{"$f":"IFERROR(VLOOKUP(ROWS(AL$2:$AL1438),N1438:Q3341,4,0),\"\")","v":""}]
[null,null,null,null,null,null,null,null,null,null,null,null,null,0,0,0,"sundaram cpof sr 2 3 yrs","MSN384","Capital protection funds",null,null,null,null,null,null,null,null,null,null,null,{"$f":"IFERROR(VLOOKUP(ROWS($AE$2:AE1439),P1439:Q3342,2,0),\"\")","v":""},null,null,null,null,{"$f":"IFERROR(VLOOKUP(ROWS($AJ$2:AJ1439),O1439:Q3342,3,0),\"\")","v":""},null,{"$f":"IFERROR(VLOOKUP(ROWS(AL$2:$AL1439),N1439:Q3342,4,0),\"\")","v":""}]
[null,null,null,null,null,null,null,null,null,null,null,null,null,0,0,0,"icici pru cpof sr 4d 60m reg","MPI1634","Capital protection funds",null,null,null,null,null,null,null,null,null,null,null,{"$f":"IFERROR(VLOOKUP(ROWS($AE$2:AE1440),P1440:Q3343,2,0),\"\")","v":""},null,null,null,null,{"$f":"IFERROR(VLOOKUP(ROWS($AJ$2:AJ1440),O1440:Q3343,3,0),\"\")","v":""},null,{"$f":"IFERROR(VLOOKUP(ROWS(AL$2:$AL1440),N1440:Q3343,4,0),\"\")","v":""}]
[null,null,null,null,null,null,null,null,null,null,null,null,null,0,0,0,"idfc cpof series iii","MAG395","Capital protection funds",null,null,null,null,null,null,null,null,null,null,null,{"$f":"IFERROR(VLOOKUP(ROWS($AE$2:AE1441),P1441:Q3344,2,0),\"\")","v":""},null,null,null,null,{"$f":"IFERROR(VLOOKUP(ROWS($AJ$2:AJ1441),O1441:Q3344,3,0),\"\")","v":""},null,{"$f":"IFERROR(VLOOKUP(ROWS(AL$2:$AL1441),N1441:Q3344,4,0),\"\")","v":""}]
[null,null,null,null,null,null,null,null,null,null,null,null,null,0,0,0,"franklin capital protection 5yrs","MTE115","Capital protection funds",null,null,null,null,null,null,null,null,null,null,null,{"$f":"IFERROR(VLOOKUP(ROWS($AE$2:AE1442),P1442:Q3345,2,0),\"\")","v":""},null,null,null,null,{"$f":"IFERROR(VLOOKUP(ROWS($AJ$2:AJ1442),O1442:Q3345,3,0),\"\")","v":""},null,{"$f":"IFERROR(VLOOKUP(ROWS(AL$2:$AL1442),N1442:Q3345,4,0),\"\")","v":""}]
[null,null,null,null,null,null,null,null,null,null,null,null,null,0,0,0,"birla sl cpof sr 2 36 mths ","MBS489","Capital protection funds",null,null,null,null,null,null,null,null,null,null,null,{"$f":"IFERROR(VLOOKUP(ROWS($AE$2:AE1443),P1443:Q3346,2,0),\"\")","v":""},null,null,null,null,{"$f":"IFERROR(VLOOKUP(ROWS($AJ$2:AJ1443),O1443:Q3346,3,0),\"\")","v":""},null,{"$f":"IFERROR(VLOOKUP(ROWS(AL$2:$AL1443),N1443:Q3346,4,0),\"\")","v":""}]
[null,null,null,null,null,null,null,null,null,null,null,null,null,0,0,0,"birla sl cpof sr1 27 mths ","MBS478","Capital protection funds",null,null,null,null,null,null,null,null,null,null,null,{"$f":"IFERROR(VLOOKUP(ROWS($AE$2:AE1444),P1444:Q3347,2,0),\"\")","v":""},null,null,null,null,{"$f":"IFERROR(VLOOKUP(ROWS($AJ$2:AJ1444),O1444:Q3347,3,0),\"\")","v":""},null,{"$f":"IFERROR(VLOOKUP(ROWS(AL$2:$AL1444),N1444:Q3347,4,0),\"\")","v":""}]
[null,null,null,null,null,null,null,null,null,null,null,null,null,0,0,0,"icici pru cpof sr 3g 60m ","MPI1288","Capital protection funds",null,null,null,null,null,null,null,null,null,null,null,{"$f":"IFERROR(VLOOKUP(ROWS($AE$2:AE1445),P1445:Q3348,2,0),\"\")","v":""},null,null,null,null,{"$f":"IFERROR(VLOOKUP(ROWS($AJ$2:AJ1445),O1445:Q3348,3,0),\"\")","v":""},null,{"$f":"IFERROR(VLOOKUP(ROWS(AL$2:$AL1445),N1445:Q3348,4,0),\"\")","v":""}]
[null,null,null,null,null,null,null,null,null,null,null,null,null,0,0,0,"birla sl cpof sr9 36 months ","MBS694","Capital protection funds",null,null,null,null,null,null,null,null,null,null,null,{"$f":"IFERROR(VLOOKUP(ROWS($AE$2:AE1446),P1446:Q3349,2,0),\"\")","v":""},null,null,null,null,{"$f":"IFERROR(VLOOKUP(ROWS($AJ$2:AJ1446),O1446:Q3349,3,0),\"\")","v":""},null,{"$f":"IFERROR(VLOOKUP(ROWS(AL$2:$AL1446),N1446:Q3349,4,0),\"\")","v":""}]
[null,null,null,null,null,null,null,null,null,null,null,null,null,0,0,0,"icici pru cpof sr 4e 36m reg","MPI1642","Capital protection funds",null,null,null,null,null,null,null,null,null,null,null,{"$f":"IFERROR(VLOOKUP(ROWS($AE$2:AE1447),P1447:Q3350,2,0),\"\")","v":""},null,null,null,null,{"$f":"IFERROR(VLOOKUP(ROWS($AJ$2:AJ1447),O1447:Q3350,3,0),\"\")","v":""},null,{"$f":"IFERROR(VLOOKUP(ROWS(AL$2:$AL1447),N1447:Q3350,4,0),\"\")","v":""}]
[null,null,null,null,null,null,null,null,null,null,null,null,null,0,0,0,"religare invesco cpof sr i","MLI412","Capital protection funds",null,null,null,null,null,null,null,null,null,null,null,{"$f":"IFERROR(VLOOKUP(ROWS($AE$2:AE1448),P1448:Q3351,2,0),\"\")","v":""},null,null,null,null,{"$f":"IFERROR(VLOOKUP(ROWS($AJ$2:AJ1448),O1448:Q3351,3,0),\"\")","v":""},null,{"$f":"IFERROR(VLOOKUP(ROWS(AL$2:$AL1448),N1448:Q3351,4,0),\"\")","v":""}]
[null,null,null,null,null,null,null,null,null,null,null,null,null,0,0,0,"birla sl cpof 5yrs plan","MBS124","Capital protection funds",null,null,null,null,null,null,null,null,null,null,null,{"$f":"IFERROR(VLOOKUP(ROWS($AE$2:AE1449),P1449:Q3352,2,0),\"\")","v":""},null,null,null,null,{"$f":"IFERROR(VLOOKUP(ROWS($AJ$2:AJ1449),O1449:Q3352,3,0),\"\")","v":""},null,{"$f":"IFERROR(VLOOKUP(ROWS(AL$2:$AL1449),N1449:Q3352,4,0),\"\")","v":""}]
[null,null,null,null,null,null,null,null,null,null,null,null,null,0,0,0,"icici pru cpo fund ii sr ix 36m","MPI1046","Capital protection funds",null,null,null,null,null,null,null,null,null,null,null,{"$f":"IFERROR(VLOOKUP(ROWS($AE$2:AE1450),P1450:Q3353,2,0),\"\")","v":""},null,null,null,null,{"$f":"IFERROR(VLOOKUP(ROWS($AJ$2:AJ1450),O1450:Q3353,3,0),\"\")","v":""},null,{"$f":"IFERROR(VLOOKUP(ROWS(AL$2:$AL1450),N1450:Q3353,4,0),\"\")","v":""}]
[null,null,null,null,null,null,null,null,null,null,null,null,null,0,0,0,"sundaram cpof sr 5 3 yrs","MSN453","Capital protection funds",null,null,null,null,null,null,null,null,null,null,null,{"$f":"IFERROR(VLOOKUP(ROWS($AE$2:AE1451),P1451:Q3354,2,0),\"\")","v":""},null,null,null,null,{"$f":"IFERROR(VLOOKUP(ROWS($AJ$2:AJ1451),O1451:Q3354,3,0),\"\")","v":""},null,{"$f":"IFERROR(VLOOKUP(ROWS(AL$2:$AL1451),N1451:Q3354,4,0),\"\")","v":""}]
[null,null,null,null,null,null,null,null,null,null,null,null,null,0,0,0,"sundaram cpof sr i 5 yrs","MSN133","Capital protection funds",null,null,null,null,null,null,null,null,null,null,null,{"$f":"IFERROR(VLOOKUP(ROWS($AE$2:AE1452),P1452:Q3355,2,0),\"\")","v":""},null,null,null,null,{"$f":"IFERROR(VLOOKUP(ROWS($AJ$2:AJ1452),O1452:Q3355,3,0),\"\")","v":""},null,{"$f":"IFERROR(VLOOKUP(ROWS(AL$2:$AL1452),N1452:Q3355,4,0),\"\")","v":""}]
[null,null,null,null,null,null,null,null,null,null,null,null,null,0,0,0,"icici pru cpo fund ii sr 7 24m","MPI997","Capital protection funds",null,null,null,null,null,null,null,null,null,null,null,{"$f":"IFERROR(VLOOKUP(ROWS($AE$2:AE1453),P1453:Q3356,2,0),\"\")","v":""},null,null,null,null,{"$f":"IFERROR(VLOOKUP(ROWS($AJ$2:AJ1453),O1453:Q3356,3,0),\"\")","v":""},null,{"$f":"IFERROR(VLOOKUP(ROWS(AL$2:$AL1453),N1453:Q3356,4,0),\"\")","v":""}]
[null,null,null,null,null,null,null,null,null,null,null,null,null,0,0,0,"icici pru cpo fund ii sr 11 12m","MPI1034","Capital protection funds",null,null,null,null,null,null,null,null,null,null,null,{"$f":"IFERROR(VLOOKUP(ROWS($AE$2:AE1454),P1454:Q3357,2,0),\"\")","v":""},null,null,null,null,{"$f":"IFERROR(VLOOKUP(ROWS($AJ$2:AJ1454),O1454:Q3357,3,0),\"\")","v":""},null,{"$f":"IFERROR(VLOOKUP(ROWS(AL$2:$AL1454),N1454:Q3357,4,0),\"\")","v":""}]
[null,null,null,null,null,null,null,null,null,null,null,null,null,{"$f":"IF(ISNUMBER(SEARCH($H$16,Q1455)),MAX($N$1,N1454)+1,0)","v":0},{"$f":"IF(ISNUMBER(SEARCH($H$11,Q1455)),MAX($O$1,O1454)+1,0)","v":0},{"$f":"IF(ISNUMBER(SEARCH($H$6,Q1455)),MAX($P$1,P1454)+1,0)","v":0},"icici pru cpo fund ii sr 8 24m","MPI1018","Capital protection funds",null,null,null,null,null,null,null,null,null,null,null,{"$f":"IFERROR(VLOOKUP(ROWS($AE$2:AE1455),P1455:Q3358,2,0),\"\")","v":""},null,null,null,null,{"$f":"IFERROR(VLOOKUP(ROWS($AJ$2:AJ1455),O1455:Q3358,3,0),\"\")","v":""},null,{"$f":"IFERROR(VLOOKUP(ROWS(AL$2:$AL1455),N1455:Q3358,4,0),\"\")","v":""}]
[null,null,null,null,null,null,null,null,null,null,null,null,null,0,0,0,"sbi capital protection fund sr ii","MSB283","Capital protection funds",null,null,null,null,null,null,null,null,null,null,null,{"$f":"IFERROR(VLOOKUP(ROWS($AE$2:AE1456),P1456:Q3359,2,0),\"\")","v":""},null,null,null,null,{"$f":"IFERROR(VLOOKUP(ROWS($AJ$2:AJ1456),O1456:Q3359,3,0),\"\")","v":""},null,{"$f":"IFERROR(VLOOKUP(ROWS(AL$2:$AL1456),N1456:Q3359,4,0),\"\")","v":""}]
[null,null,null,null,null,null,null,null,null,null,null,null,null,0,0,0,"birla sl cpof sr5 832 days ","MBS558","Capital protection funds",null,null,null,null,null,null,null,null,null,null,null,{"$f":"IFERROR(VLOOKUP(ROWS($AE$2:AE1457),P1457:Q3360,2,0),\"\")","v":""},null,null,null,null,{"$f":"IFERROR(VLOOKUP(ROWS($AJ$2:AJ1457),O1457:Q3360,3,0),\"\")","v":""},null,{"$f":"IFERROR(VLOOKUP(ROWS(AL$2:$AL1457),N1457:Q3360,4,0),\"\")","v":""}]
[null,null,null,null,null,null,null,null,null,null,null,null,null,0,0,0,"icici pru cpof sr iii c 36m","MPI1095","Capital protection funds",null,null,null,null,null,null,null,null,null,null,null,{"$f":"IFERROR(VLOOKUP(ROWS($AE$2:AE1458),P1458:Q3361,2,0),\"\")","v":""},null,null,null,null,{"$f":"IFERROR(VLOOKUP(ROWS($AJ$2:AJ1458),O1458:Q3361,3,0),\"\")","v":""},null,{"$f":"IFERROR(VLOOKUP(ROWS(AL$2:$AL1458),N1458:Q3361,4,0),\"\")","v":""}]
[null,null,null,null,null,null,null,null,null,null,null,null,null,0,0,0,"birla sl cpof sr4 36 mths ","MBS519","Capital protection funds",null,null,null,null,null,null,null,null,null,null,null,{"$f":"IFERROR(VLOOKUP(ROWS($AE$2:AE1459),P1459:Q3362,2,0),\"\")","v":""},null,null,null,null,{"$f":"IFERROR(VLOOKUP(ROWS($AJ$2:AJ1459),O1459:Q3362,3,0),\"\")","v":""},null,{"$f":"IFERROR(VLOOKUP(ROWS(AL$2:$AL1459),N1459:Q3362,4,0),\"\")","v":""}]
[null,null,null,null,null,null,null,null,null,null,null,null,null,0,0,0,"icici pru cpof sr3 d 36m ","MPI1108","Capital protection funds",null,null,null,null,null,null,null,null,null,null,null,{"$f":"IFERROR(VLOOKUP(ROWS($AE$2:AE1460),P1460:Q3363,2,0),\"\")","v":""},null,null,null,null,{"$f":"IFERROR(VLOOKUP(ROWS($AJ$2:AJ1460),O1460:Q3363,3,0),\"\")","v":""},null,{"$f":"IFERROR(VLOOKUP(ROWS(AL$2:$AL1460),N1460:Q3363,4,0),\"\")","v":""}]
[null,null,null,null,null,null,null,null,null,null,null,null,null,0,0,0,"icici pru cpof sr 3f 36m ","MPI1268","Capital protection funds",null,null,null,null,null,null,null,null,null,null,null,{"$f":"IFERROR(VLOOKUP(ROWS($AE$2:AE1461),P1461:Q3364,2,0),\"\")","v":""},null,null,null,null,{"$f":"IFERROR(VLOOKUP(ROWS($AJ$2:AJ1461),O1461:Q3364,3,0),\"\")","v":""},null,{"$f":"IFERROR(VLOOKUP(ROWS(AL$2:$AL1461),N1461:Q3364,4,0),\"\")","v":""}]
[null,null,null,null,null,null,null,null,null,null,null,null,null,0,0,0,"icici pru cpof sr iii a 36m","MPI1085","Capital protection funds",null,null,null,null,null,null,null,null,null,null,null,{"$f":"IFERROR(VLOOKUP(ROWS($AE$2:AE1462),P1462:Q3365,2,0),\"\")","v":""},null,null,null,null,{"$f":"IFERROR(VLOOKUP(ROWS($AJ$2:AJ1462),O1462:Q3365,3,0),\"\")","v":""},null,{"$f":"IFERROR(VLOOKUP(ROWS(AL$2:$AL1462),N1462:Q3365,4,0),\"\")","v":""}]
[null,null,null,null,null,null,null,null,null,null,null,null,null,0,0,0,"sundaram cpof sr 6 3 yrs","MSN463","Capital protection funds",null,null,null,null,null,null,null,null,null,null,null,{"$f":"IFERROR(VLOOKUP(ROWS($AE$2:AE1463),P1463:Q3366,2,0),\"\")","v":""},null,null,null,null,{"$f":"IFERROR(VLOOKUP(ROWS($AJ$2:AJ1463),O1463:Q3366,3,0),\"\")","v":""},null,{"$f":"IFERROR(VLOOKUP(ROWS(AL$2:$AL1463),N1463:Q3366,4,0),\"\")","v":""}]
[null,null,null,null,null,null,null,null,null,null,null,null,null,0,0,0,"icici pru cpo fund sr iii 36m","MPI901","Capital protection funds",null,null,null,null,null,null,null,null,null,null,null,{"$f":"IFERROR(VLOOKUP(ROWS($AE$2:AE1464),P1464:Q3367,2,0),\"\")","v":""},null,null,null,null,{"$f":"IFERROR(VLOOKUP(ROWS($AJ$2:AJ1464),O1464:Q3367,3,0),\"\")","v":""},null,{"$f":"IFERROR(VLOOKUP(ROWS(AL$2:$AL1464),N1464:Q3367,4,0),\"\")","v":""}]
[null,null,null,null,null,null,null,null,null,null,null,null,null,0,0,0,"sbi capital protection fund sr iii","MSB331","Capital protection funds",null,null,null,null,null,null,null,null,null,null,null,{"$f":"IFERROR(VLOOKUP(ROWS($AE$2:AE1465),P1465:Q3368,2,0),\"\")","v":""},null,null,null,null,{"$f":"IFERROR(VLOOKUP(ROWS($AJ$2:AJ1465),O1465:Q3368,3,0),\"\")","v":""},null,{"$f":"IFERROR(VLOOKUP(ROWS(AL$2:$AL1465),N1465:Q3368,4,0),\"\")","v":""}]
[null,null,null,null,null,null,null,null,null,null,null,null,null,0,0,0,"sundaram cpof sr 3 3 yrs","MSN425","Capital protection funds",null,null,null,null,null,null,null,null,null,null,null,{"$f":"IFERROR(VLOOKUP(ROWS($AE$2:AE1466),P1466:Q3369,2,0),\"\")","v":""},null,null,null,null,{"$f":"IFERROR(VLOOKUP(ROWS($AJ$2:AJ1466),O1466:Q3369,3,0),\"\")","v":""},null,{"$f":"IFERROR(VLOOKUP(ROWS(AL$2:$AL1466),N1466:Q3369,4,0),\"\")","v":""}]
[null,null,null,null,null,null,null,null,null,null,null,null,null,0,0,0,"birla sl cpof sr 18 1093d rp","MBS1545","Capital protection funds",null,null,null,null,null,null,null,null,null,null,null,{"$f":"IFERROR(VLOOKUP(ROWS($AE$2:AE1467),P1467:Q3370,2,0),\"\")","v":""},null,null,null,null,{"$f":"IFERROR(VLOOKUP(ROWS($AJ$2:AJ1467),O1467:Q3370,3,0),\"\")","v":""},null,{"$f":"IFERROR(VLOOKUP(ROWS(AL$2:$AL1467),N1467:Q3370,4,0),\"\")","v":""}]
[null,null,null,null,null,null,null,null,null,null,null,null,null,0,0,0,"idfc cpof series i","MAG366","Capital protection funds",null,null,null,null,null,null,null,null,null,null,null,{"$f":"IFERROR(VLOOKUP(ROWS($AE$2:AE1468),P1468:Q3371,2,0),\"\")","v":""},null,null,null,null,{"$f":"IFERROR(VLOOKUP(ROWS($AJ$2:AJ1468),O1468:Q3371,3,0),\"\")","v":""},null,{"$f":"IFERROR(VLOOKUP(ROWS(AL$2:$AL1468),N1468:Q3371,4,0),\"\")","v":""}]
[null,null,null,null,null,null,null,null,null,null,null,null,null,0,0,0,"jpmorgan i capital protection","MJP039","Capital protection funds",null,null,null,null,null,null,null,null,null,null,null,{"$f":"IFERROR(VLOOKUP(ROWS($AE$2:AE1469),P1469:Q3372,2,0),\"\")","v":""},null,null,null,null,{"$f":"IFERROR(VLOOKUP(ROWS($AJ$2:AJ1469),O1469:Q3372,3,0),\"\")","v":""},null,{"$f":"IFERROR(VLOOKUP(ROWS(AL$2:$AL1469),N1469:Q3372,4,0),\"\")","v":""}]
[null,null,null,null,null,null,null,null,null,null,null,null,null,0,0,0,"canara cpof sr 1 36m a","MCA178","Capital protection funds",null,null,null,null,null,null,null,null,null,null,null,{"$f":"IFERROR(VLOOKUP(ROWS($AE$2:AE1470),P1470:Q3373,2,0),\"\")","v":""},null,null,null,null,{"$f":"IFERROR(VLOOKUP(ROWS($AJ$2:AJ1470),O1470:Q3373,3,0),\"\")","v":""},null,{"$f":"IFERROR(VLOOKUP(ROWS(AL$2:$AL1470),N1470:Q3373,4,0),\"\")","v":""}]
[null,null,null,null,null,null,null,null,null,null,null,null,null,0,0,0,"sundaram cpof sr 4 3 yrs","MSN447","Capital protection funds",null,null,null,null,null,null,null,null,null,null,null,{"$f":"IFERROR(VLOOKUP(ROWS($AE$2:AE1471),P1471:Q3374,2,0),\"\")","v":""},null,null,null,null,{"$f":"IFERROR(VLOOKUP(ROWS($AJ$2:AJ1471),O1471:Q3374,3,0),\"\")","v":""},null,{"$f":"IFERROR(VLOOKUP(ROWS(AL$2:$AL1471),N1471:Q3374,4,0),\"\")","v":""}]
[null,null,null,null,null,null,null,null,null,null,null,null,null,0,0,0,"birla sl cpof sr 16 1095d rp","MBS1374","Capital protection funds",null,null,null,null,null,null,null,null,null,null,null,{"$f":"IFERROR(VLOOKUP(ROWS($AE$2:AE1472),P1472:Q3375,2,0),\"\")","v":""},null,null,null,null,{"$f":"IFERROR(VLOOKUP(ROWS($AJ$2:AJ1472),O1472:Q3375,3,0),\"\")","v":""},null,{"$f":"IFERROR(VLOOKUP(ROWS(AL$2:$AL1472),N1472:Q3375,4,0),\"\")","v":""}]
[null,null,null,null,null,null,null,null,null,null,null,null,null,0,0,0,"birla sl cpof sr3 36 mths ","MBS518","Capital protection funds",null,null,null,null,null,null,null,null,null,null,null,{"$f":"IFERROR(VLOOKUP(ROWS($AE$2:AE1473),P1473:Q3376,2,0),\"\")","v":""},null,null,null,null,{"$f":"IFERROR(VLOOKUP(ROWS($AJ$2:AJ1473),O1473:Q3376,3,0),\"\")","v":""},null,{"$f":"IFERROR(VLOOKUP(ROWS(AL$2:$AL1473),N1473:Q3376,4,0),\"\")","v":""}]
[null,null,null,null,null,null,null,null,null,null,null,null,null,0,0,0,"birla sl cpof sr 17 1094d rp","MBS1436","Capital protection funds",null,null,null,null,null,null,null,null,null,null,null,{"$f":"IFERROR(VLOOKUP(ROWS($AE$2:AE1474),P1474:Q3377,2,0),\"\")","v":""},null,null,null,null,{"$f":"IFERROR(VLOOKUP(ROWS($AJ$2:AJ1474),O1474:Q3377,3,0),\"\")","v":""},null,{"$f":"IFERROR(VLOOKUP(ROWS(AL$2:$AL1474),N1474:Q3377,4,0),\"\")","v":""}]
[null,null,null,null,null,null,null,null,null,null,null,null,null,0,0,0,"birla sl cpof sr8 25 months ","MBS627","Capital protection funds",null,null,null,null,null,null,null,null,null,null,null,{"$f":"IFERROR(VLOOKUP(ROWS($AE$2:AE1475),P1475:Q3378,2,0),\"\")","v":""},null,null,null,null,{"$f":"IFERROR(VLOOKUP(ROWS($AJ$2:AJ1475),O1475:Q3378,3,0),\"\")","v":""},null,{"$f":"IFERROR(VLOOKUP(ROWS(AL$2:$AL1475),N1475:Q3378,4,0),\"\")","v":""}]
[null,null,null,null,null,null,null,null,null,null,null,null,null,0,0,0,"birla sl cpof sr 20 1094d rp","MBS1793","Capital protection funds",null,null,null,null,null,null,null,null,null,null,null,{"$f":"IFERROR(VLOOKUP(ROWS($AE$2:AE1476),P1476:Q3379,2,0),\"\")","v":""},null,null,null,null,{"$f":"IFERROR(VLOOKUP(ROWS($AJ$2:AJ1476),O1476:Q3379,3,0),\"\")","v":""},null,{"$f":"IFERROR(VLOOKUP(ROWS(AL$2:$AL1476),N1476:Q3379,4,0),\"\")","v":""}]
[null,null,null,null,null,null,null,null,null,null,null,null,null,0,0,0,"birla sl cpof sr 19 1093d rp","MBS1619","Capital protection funds",null,null,null,null,null,null,null,null,null,null,null,{"$f":"IFERROR(VLOOKUP(ROWS($AE$2:AE1477),P1477:Q3380,2,0),\"\")","v":""},null,null,null,null,{"$f":"IFERROR(VLOOKUP(ROWS($AJ$2:AJ1477),O1477:Q3380,3,0),\"\")","v":""},null,{"$f":"IFERROR(VLOOKUP(ROWS(AL$2:$AL1477),N1477:Q3380,4,0),\"\")","v":""}]
[null,null,null,null,null,null,null,null,null,null,null,null,null,0,0,0,"icici pru cpo fund ii sr x 36m","MPI1061","Capital protection funds",null,null,null,null,null,null,null,null,null,null,null,{"$f":"IFERROR(VLOOKUP(ROWS($AE$2:AE1478),P1478:Q3381,2,0),\"\")","v":""},null,null,null,null,{"$f":"IFERROR(VLOOKUP(ROWS($AJ$2:AJ1478),O1478:Q3381,3,0),\"\")","v":""},null,{"$f":"IFERROR(VLOOKUP(ROWS(AL$2:$AL1478),N1478:Q3381,4,0),\"\")","v":""}]
[null,null,null,null,null,null,null,null,null,null,null,null,null,0,0,0,"birla sl cpof sr 11 36m ","MBS774","Capital protection funds",null,null,null,null,null,null,null,null,null,null,null,{"$f":"IFERROR(VLOOKUP(ROWS($AE$2:AE1479),P1479:Q3382,2,0),\"\")","v":""},null,null,null,null,{"$f":"IFERROR(VLOOKUP(ROWS($AJ$2:AJ1479),O1479:Q3382,3,0),\"\")","v":""},null,{"$f":"IFERROR(VLOOKUP(ROWS(AL$2:$AL1479),N1479:Q3382,4,0),\"\")","v":""}]
[null,null,null,null,null,null,null,null,null,null,null,null,null,0,0,0,"tata cpof series ii 3yrs ","MTA714","Capital protection funds",null,null,null,null,null,null,null,null,null,null,null,{"$f":"IFERROR(VLOOKUP(ROWS($AE$2:AE1480),P1480:Q3383,2,0),\"\")","v":""},null,null,null,null,{"$f":"IFERROR(VLOOKUP(ROWS($AJ$2:AJ1480),O1480:Q3383,3,0),\"\")","v":""},null,{"$f":"IFERROR(VLOOKUP(ROWS(AL$2:$AL1480),N1480:Q3383,4,0),\"\")","v":""}]
[null,null,null,null,null,null,null,null,null,null,null,null,null,0,0,0,"birla sl cpof sr 10 36 months ","MBS759","Capital protection funds",null,null,null,null,null,null,null,null,null,null,null,{"$f":"IFERROR(VLOOKUP(ROWS($AE$2:AE1481),P1481:Q3384,2,0),\"\")","v":""},null,null,null,null,{"$f":"IFERROR(VLOOKUP(ROWS($AJ$2:AJ1481),O1481:Q3384,3,0),\"\")","v":""},null,{"$f":"IFERROR(VLOOKUP(ROWS(AL$2:$AL1481),N1481:Q3384,4,0),\"\")","v":""}]
[null,null,null,null,null,null,null,null,null,null,null,null,null,0,0,0,"lic nomura cpof sr 1 regular","MJB272","Capital protection funds",null,null,null,null,null,null,null,null,null,null,null,{"$f":"IFERROR(VLOOKUP(ROWS($AE$2:AE1482),P1482:Q3385,2,0),\"\")","v":""},null,null,null,null,{"$f":"IFERROR(VLOOKUP(ROWS($AJ$2:AJ1482),O1482:Q3385,3,0),\"\")","v":""},null,{"$f":"IFERROR(VLOOKUP(ROWS(AL$2:$AL1482),N1482:Q3385,4,0),\"\")","v":""}]
[null,null,null,null,null,null,null,null,null,null,null,null,null,0,0,0,"lic nomura cpof sr 3 regular","MJB324","Capital protection funds",null,null,null,null,null,null,null,null,null,null,null,{"$f":"IFERROR(VLOOKUP(ROWS($AE$2:AE1483),P1483:Q3386,2,0),\"\")","v":""},null,null,null,null,{"$f":"IFERROR(VLOOKUP(ROWS($AJ$2:AJ1483),O1483:Q3386,3,0),\"\")","v":""},null,{"$f":"IFERROR(VLOOKUP(ROWS(AL$2:$AL1483),N1483:Q3386,4,0),\"\")","v":""}]
[null,null,null,null,null,null,null,null,null,null,null,null,null,0,0,0,"birla sl cpof sr 22 1100d rp","MBS1903","Capital protection funds",null,null,null,null,null,null,null,null,null,null,null,{"$f":"IFERROR(VLOOKUP(ROWS($AE$2:AE1484),P1484:Q3387,2,0),\"\")","v":""},null,null,null,null,{"$f":"IFERROR(VLOOKUP(ROWS($AJ$2:AJ1484),O1484:Q3387,3,0),\"\")","v":""},null,{"$f":"IFERROR(VLOOKUP(ROWS(AL$2:$AL1484),N1484:Q3387,4,0),\"\")","v":""}]
[null,null,null,null,null,null,null,null,null,null,null,null,null,0,0,0,"lic nomura cpof sr 2 regular","MJB284","Capital protection funds",null,null,null,null,null,null,null,null,null,null,null,{"$f":"IFERROR(VLOOKUP(ROWS($AE$2:AE1485),P1485:Q3388,2,0),\"\")","v":""},null,null,null,null,{"$f":"IFERROR(VLOOKUP(ROWS($AJ$2:AJ1485),O1485:Q3388,3,0),\"\")","v":""},null,{"$f":"IFERROR(VLOOKUP(ROWS(AL$2:$AL1485),N1485:Q3388,4,0),\"\")","v":""}]
[null,null,null,null,null,null,null,null,null,null,null,null,null,0,0,0,"birla sl cpof sr 21 1094d rp","MBS1869","Capital protection funds",null,null,null,null,null,null,null,null,null,null,null,{"$f":"IFERROR(VLOOKUP(ROWS($AE$2:AE1486),P1486:Q3389,2,0),\"\")","v":""},null,null,null,null,{"$f":"IFERROR(VLOOKUP(ROWS($AJ$2:AJ1486),O1486:Q3389,3,0),\"\")","v":""},null,{"$f":"IFERROR(VLOOKUP(ROWS(AL$2:$AL1486),N1486:Q3389,4,0),\"\")","v":""}]
[null,null,null,null,null,null,null,null,null,null,null,null,null,0,0,0,"tata cpof series i 3yrs ","MTA699","Capital protection funds",null,null,null,null,null,null,null,null,null,null,null,{"$f":"IFERROR(VLOOKUP(ROWS($AE$2:AE1487),P1487:Q3390,2,0),\"\")","v":""},null,null,null,null,{"$f":"IFERROR(VLOOKUP(ROWS($AJ$2:AJ1487),O1487:Q3390,3,0),\"\")","v":""},null,{"$f":"IFERROR(VLOOKUP(ROWS(AL$2:$AL1487),N1487:Q3390,4,0),\"\")","v":""}]
[null,null,null,null,null,null,null,null,null,null,null,null,null,0,0,0,"uti cpos sr iv i 1103d reg","MUT1485","Capital protection funds",null,null,null,null,null,null,null,null,null,null,null,{"$f":"IFERROR(VLOOKUP(ROWS($AE$2:AE1488),P1488:Q3391,2,0),\"\")","v":""},null,null,null,null,{"$f":"IFERROR(VLOOKUP(ROWS($AJ$2:AJ1488),O1488:Q3391,3,0),\"\")","v":""},null,{"$f":"IFERROR(VLOOKUP(ROWS(AL$2:$AL1488),N1488:Q3391,4,0),\"\")","v":""}]
[null,null,null,null,null,null,null,null,null,null,null,null,null,0,0,0,"lic nomura cpof sr 4 regular","MJB348","Capital protection funds",null,null,null,null,null,null,null,null,null,null,null,{"$f":"IFERROR(VLOOKUP(ROWS($AE$2:AE1489),P1489:Q3392,2,0),\"\")","v":""},null,null,null,null,{"$f":"IFERROR(VLOOKUP(ROWS($AJ$2:AJ1489),O1489:Q3392,3,0),\"\")","v":""},null,{"$f":"IFERROR(VLOOKUP(ROWS(AL$2:$AL1489),N1489:Q3392,4,0),\"\")","v":""}]
[null,null,null,null,null,null,null,null,null,null,null,null,null,0,0,0,"sundaram cpof sr 2 5 yrs","MSN415","Capital protection funds",null,null,null,null,null,null,null,null,null,null,null,{"$f":"IFERROR(VLOOKUP(ROWS($AE$2:AE1490),P1490:Q3393,2,0),\"\")","v":""},null,null,null,null,{"$f":"IFERROR(VLOOKUP(ROWS($AJ$2:AJ1490),O1490:Q3393,3,0),\"\")","v":""},null,{"$f":"IFERROR(VLOOKUP(ROWS(AL$2:$AL1490),N1490:Q3393,4,0),\"\")","v":""}]
[null,null,null,null,null,null,null,null,null,null,null,null,null,0,0,0,"birla sl cpof sr 13 1093d ","MBS779","Capital protection funds",null,null,null,null,null,null,null,null,null,null,null,{"$f":"IFERROR(VLOOKUP(ROWS($AE$2:AE1491),P1491:Q3394,2,0),\"\")","v":""},null,null,null,null,{"$f":"IFERROR(VLOOKUP(ROWS($AJ$2:AJ1491),O1491:Q3394,3,0),\"\")","v":""},null,{"$f":"IFERROR(VLOOKUP(ROWS(AL$2:$AL1491),N1491:Q3394,4,0),\"\")","v":""}]
[null,null,null,null,null,null,null,null,null,null,null,null,null,0,0,0,"hsbc cpof sr 1 plan 1 790d rp","MHS373","Capital protection funds",null,null,null,null,null,null,null,null,null,null,null,{"$f":"IFERROR(VLOOKUP(ROWS($AE$2:AE1492),P1492:Q3395,2,0),\"\")","v":""},null,null,null,null,{"$f":"IFERROR(VLOOKUP(ROWS($AJ$2:AJ1492),O1492:Q3395,3,0),\"\")","v":""},null,{"$f":"IFERROR(VLOOKUP(ROWS(AL$2:$AL1492),N1492:Q3395,4,0),\"\")","v":""}]
[null,null,null,null,null,null,null,null,null,null,null,null,null,0,0,0,"birla sl cpof sr 12 1094d ","MBS771","Capital protection funds",null,null,null,null,null,null,null,null,null,null,null,{"$f":"IFERROR(VLOOKUP(ROWS($AE$2:AE1493),P1493:Q3396,2,0),\"\")","v":""},null,null,null,null,{"$f":"IFERROR(VLOOKUP(ROWS($AJ$2:AJ1493),O1493:Q3396,3,0),\"\")","v":""},null,{"$f":"IFERROR(VLOOKUP(ROWS(AL$2:$AL1493),N1493:Q3396,4,0),\"\")","v":""}]
[null,null,null,null,null,null,null,null,null,null,null,null,null,0,0,0,"birla sl cpof sr 14 1093d ","MBS780","Capital protection funds",null,null,null,null,null,null,null,null,null,null,null,{"$f":"IFERROR(VLOOKUP(ROWS($AE$2:AE1494),P1494:Q3397,2,0),\"\")","v":""},null,null,null,null,{"$f":"IFERROR(VLOOKUP(ROWS($AJ$2:AJ1494),O1494:Q3397,3,0),\"\")","v":""},null,{"$f":"IFERROR(VLOOKUP(ROWS(AL$2:$AL1494),N1494:Q3397,4,0),\"\")","v":""}]
[null,null,null,null,null,null,null,null,null,null,null,null,null,0,0,0,"union kbc cpof series 1","MUK023","Capital protection funds",null,null,null,null,null,null,null,null,null,null,null,{"$f":"IFERROR(VLOOKUP(ROWS($AE$2:AE1495),P1495:Q3398,2,0),\"\")","v":""},null,null,null,null,{"$f":"IFERROR(VLOOKUP(ROWS($AJ$2:AJ1495),O1495:Q3398,3,0),\"\")","v":""},null,{"$f":"IFERROR(VLOOKUP(ROWS(AL$2:$AL1495),N1495:Q3398,4,0),\"\")","v":""}]
[null,null,null,null,null,null,null,null,null,null,null,null,null,0,0,0,"union kbc cpof series 4 reg","MUK073","Capital protection funds",null,null,null,null,null,null,null,null,null,null,null,{"$f":"IFERROR(VLOOKUP(ROWS($AE$2:AE1496),P1496:Q3399,2,0),\"\")","v":""},null,null,null,null,{"$f":"IFERROR(VLOOKUP(ROWS($AJ$2:AJ1496),O1496:Q3399,3,0),\"\")","v":""},null,{"$f":"IFERROR(VLOOKUP(ROWS(AL$2:$AL1496),N1496:Q3399,4,0),\"\")","v":""}]
[null,null,null,null,null,null,null,null,null,null,null,null,null,0,0,0,"union kbc cpof series 5 reg","MUK077","Capital protection funds",null,null,null,null,null,null,null,null,null,null,null,{"$f":"IFERROR(VLOOKUP(ROWS($AE$2:AE1497),P1497:Q3400,2,0),\"\")","v":""},null,null,null,null,{"$f":"IFERROR(VLOOKUP(ROWS($AJ$2:AJ1497),O1497:Q3400,3,0),\"\")","v":""},null,{"$f":"IFERROR(VLOOKUP(ROWS(AL$2:$AL1497),N1497:Q3400,4,0),\"\")","v":""}]
[null,null,null,null,null,null,null,null,null,null,null,null,null,0,0,0,"union kbc cpof series 3","MUK051","Capital protection funds",null,null,null,null,null,null,null,null,null,null,null,{"$f":"IFERROR(VLOOKUP(ROWS($AE$2:AE1498),P1498:Q3401,2,0),\"\")","v":""},null,null,null,null,{"$f":"IFERROR(VLOOKUP(ROWS($AJ$2:AJ1498),O1498:Q3401,3,0),\"\")","v":""},null,{"$f":"IFERROR(VLOOKUP(ROWS(AL$2:$AL1498),N1498:Q3401,4,0),\"\")","v":""}]
[null,null,null,null,null,null,null,null,null,null,null,null,null,0,0,0,"axis cpof sr5 42 months ","MAA171","Capital protection funds",null,null,null,null,null,null,null,null,null,null,null,{"$f":"IFERROR(VLOOKUP(ROWS($AE$2:AE1499),P1499:Q3402,2,0),\"\")","v":""},null,null,null,null,{"$f":"IFERROR(VLOOKUP(ROWS($AJ$2:AJ1499),O1499:Q3402,3,0),\"\")","v":""},null,{"$f":"IFERROR(VLOOKUP(ROWS(AL$2:$AL1499),N1499:Q3402,4,0),\"\")","v":""}]
[null,null,null,null,null,null,null,null,null,null,null,null,null,0,0,0,"union kbc cpof series 2","MUK047","Capital protection funds",null,null,null,null,null,null,null,null,null,null,null,{"$f":"IFERROR(VLOOKUP(ROWS($AE$2:AE1500),P1500:Q3403,2,0),\"\")","v":""},null,null,null,null,{"$f":"IFERROR(VLOOKUP(ROWS($AJ$2:AJ1500),O1500:Q3403,3,0),\"\")","v":""},null,{"$f":"IFERROR(VLOOKUP(ROWS(AL$2:$AL1500),N1500:Q3403,4,0),\"\")","v":""}]
[null,null,null,null,null,null,null,null,null,null,null,null,null,0,0,0,"icici pru cpo fund ii sr 13 12m","MPI1055","Capital protection funds",null,null,null,null,null,null,null,null,null,null,null,{"$f":"IFERROR(VLOOKUP(ROWS($AE$2:AE1501),P1501:Q3404,2,0),\"\")","v":""},null,null,null,null,{"$f":"IFERROR(VLOOKUP(ROWS($AJ$2:AJ1501),O1501:Q3404,3,0),\"\")","v":""},null,{"$f":"IFERROR(VLOOKUP(ROWS(AL$2:$AL1501),N1501:Q3404,4,0),\"\")","v":""}]
[null,null,null,null,null,null,null,null,null,null,null,null,null,0,0,0,"uti cpos sr iv ii 1104d reg","MUT1577","Capital protection funds",null,null,null,null,null,null,null,null,null,null,null,{"$f":"IFERROR(VLOOKUP(ROWS($AE$2:AE1502),P1502:Q3405,2,0),\"\")","v":""},null,null,null,null,{"$f":"IFERROR(VLOOKUP(ROWS($AJ$2:AJ1502),O1502:Q3405,3,0),\"\")","v":""},null,{"$f":"IFERROR(VLOOKUP(ROWS(AL$2:$AL1502),N1502:Q3405,4,0),\"\")","v":""}]
[null,null,null,null,null,null,null,null,null,null,null,null,null,0,0,0,"uti cpos sr iv iii 1105d reg","MUT1660","Capital protection funds",null,null,null,null,null,null,null,null,null,null,null,{"$f":"IFERROR(VLOOKUP(ROWS($AE$2:AE1503),P1503:Q3406,2,0),\"\")","v":""},null,null,null,null,{"$f":"IFERROR(VLOOKUP(ROWS($AJ$2:AJ1503),O1503:Q3406,3,0),\"\")","v":""},null,{"$f":"IFERROR(VLOOKUP(ROWS(AL$2:$AL1503),N1503:Q3406,4,0),\"\")","v":""}]
[null,null,null,null,null,null,null,null,null,null,null,null,null,0,0,0,"uti cpos sr v i 1163d reg","MUT1761","Capital protection funds",null,null,null,null,null,null,null,null,null,null,null,{"$f":"IFERROR(VLOOKUP(ROWS($AE$2:AE1504),P1504:Q3407,2,0),\"\")","v":""},null,null,null,null,{"$f":"IFERROR(VLOOKUP(ROWS($AJ$2:AJ1504),O1504:Q3407,3,0),\"\")","v":""},null,{"$f":"IFERROR(VLOOKUP(ROWS(AL$2:$AL1504),N1504:Q3407,4,0),\"\")","v":""}]
[null,null,null,null,null,null,null,null,null,null,null,null,null,0,0,0,"birla sl cpof sr 25 1226d rp","MBS1971","Capital protection funds",null,null,null,null,null,null,null,null,null,null,null,{"$f":"IFERROR(VLOOKUP(ROWS($AE$2:AE1505),P1505:Q3408,2,0),\"\")","v":""},null,null,null,null,{"$f":"IFERROR(VLOOKUP(ROWS($AJ$2:AJ1505),O1505:Q3408,3,0),\"\")","v":""},null,{"$f":"IFERROR(VLOOKUP(ROWS(AL$2:$AL1505),N1505:Q3408,4,0),\"\")","v":""}]
[null,null,null,null,null,null,null,null,null,null,null,null,null,0,0,0,"birla sl cpof sr 23 1099d rp","MBS1917","Capital protection funds",null,null,null,null,null,null,null,null,null,null,null,{"$f":"IFERROR(VLOOKUP(ROWS($AE$2:AE1506),P1506:Q3409,2,0),\"\")","v":""},null,null,null,null,{"$f":"IFERROR(VLOOKUP(ROWS($AJ$2:AJ1506),O1506:Q3409,3,0),\"\")","v":""},null,{"$f":"IFERROR(VLOOKUP(ROWS(AL$2:$AL1506),N1506:Q3409,4,0),\"\")","v":""}]
[null,null,null,null,null,null,null,null,null,null,null,null,null,0,0,0,"lic nomura cpof sr 5 regular","MJB360","Capital protection funds",null,null,null,null,null,null,null,null,null,null,null,{"$f":"IFERROR(VLOOKUP(ROWS($AE$2:AE1507),P1507:Q3410,2,0),\"\")","v":""},null,null,null,null,{"$f":"IFERROR(VLOOKUP(ROWS($AJ$2:AJ1507),O1507:Q3410,3,0),\"\")","v":""},null,{"$f":"IFERROR(VLOOKUP(ROWS(AL$2:$AL1507),N1507:Q3410,4,0),\"\")","v":""}]
[null,null,null,null,null,null,null,null,null,null,null,null,null,0,0,0,"birla sl cpof sr 26 1226d rp","MBS2035","Capital protection funds",null,null,null,null,null,null,null,null,null,null,null,{"$f":"IFERROR(VLOOKUP(ROWS($AE$2:AE1508),P1508:Q3411,2,0),\"\")","v":""},null,null,null,null,{"$f":"IFERROR(VLOOKUP(ROWS($AJ$2:AJ1508),O1508:Q3411,3,0),\"\")","v":""},null,{"$f":"IFERROR(VLOOKUP(ROWS(AL$2:$AL1508),N1508:Q3411,4,0),\"\")","v":""}]
[null,null,null,null,null,null,null,null,null,null,null,null,null,0,0,0,"tata sip fund series 3 36 m ","MTA614","Debt Oriented Hybrid Speciality Funds",null,null,null,null,null,null,null,null,null,null,null,{"$f":"IFERROR(VLOOKUP(ROWS($AE$2:AE1509),P1509:Q3412,2,0),\"\")","v":""},null,null,null,null,{"$f":"IFERROR(VLOOKUP(ROWS($AJ$2:AJ1509),O1509:Q3412,3,0),\"\")","v":""},null,{"$f":"IFERROR(VLOOKUP(ROWS(AL$2:$AL1509),N1509:Q3412,4,0),\"\")","v":""}]
[null,null,null,null,null,null,null,null,null,null,null,null,null,0,0,0,"icici pru ccp study plan","MPI027","Debt Oriented Hybrid Speciality Funds",null,null,null,null,null,null,null,null,null,null,null,{"$f":"IFERROR(VLOOKUP(ROWS($AE$2:AE1510),P1510:Q3413,2,0),\"\")","v":""},null,null,null,null,{"$f":"IFERROR(VLOOKUP(ROWS($AJ$2:AJ1510),O1510:Q3413,3,0),\"\")","v":""},null,{"$f":"IFERROR(VLOOKUP(ROWS(AL$2:$AL1510),N1510:Q3413,4,0),\"\")","v":""}]
[null,null,null,null,null,null,null,null,null,null,null,null,null,0,0,0,"uti childrens career balanced","MUT002","Debt Oriented Hybrid Speciality Funds",null,null,null,null,null,null,null,null,null,null,null,{"$f":"IFERROR(VLOOKUP(ROWS($AE$2:AE1511),P1511:Q3414,2,0),\"\")","v":""},null,null,null,null,{"$f":"IFERROR(VLOOKUP(ROWS($AJ$2:AJ1511),O1511:Q3414,3,0),\"\")","v":""},null,{"$f":"IFERROR(VLOOKUP(ROWS(AL$2:$AL1511),N1511:Q3414,4,0),\"\")","v":""}]
[null,null,null,null,null,null,null,null,null,null,null,null,null,0,0,0,"tata retirement sav conservative","MTA623","Debt Oriented Hybrid Speciality Funds",null,null,null,null,null,null,null,null,null,null,null,{"$f":"IFERROR(VLOOKUP(ROWS($AE$2:AE1512),P1512:Q3415,2,0),\"\")","v":""},null,null,null,null,{"$f":"IFERROR(VLOOKUP(ROWS($AJ$2:AJ1512),O1512:Q3415,3,0),\"\")","v":""},null,{"$f":"IFERROR(VLOOKUP(ROWS(AL$2:$AL1512),N1512:Q3415,4,0),\"\")","v":""}]
[null,null,null,null,null,null,null,null,null,null,null,null,null,0,0,0,"uti mahila unit scheme","MUT036","Debt Oriented Hybrid Speciality Funds",null,null,null,null,null,null,null,null,null,null,null,{"$f":"IFERROR(VLOOKUP(ROWS($AE$2:AE1513),P1513:Q3416,2,0),\"\")","v":""},null,null,null,null,{"$f":"IFERROR(VLOOKUP(ROWS($AJ$2:AJ1513),O1513:Q3416,3,0),\"\")","v":""},null,{"$f":"IFERROR(VLOOKUP(ROWS(AL$2:$AL1513),N1513:Q3416,4,0),\"\")","v":""}]
[null,null,null,null,null,null,null,null,null,null,null,null,null,0,0,0,"hdfc childrens gift sav ","MHD012","Debt Oriented Hybrid Speciality Funds",null,null,null,null,null,null,null,null,null,null,null,{"$f":"IFERROR(VLOOKUP(ROWS($AE$2:AE1514),P1514:Q3417,2,0),\"\")","v":""},null,null,null,null,{"$f":"IFERROR(VLOOKUP(ROWS($AJ$2:AJ1514),O1514:Q3417,3,0),\"\")","v":""},null,{"$f":"IFERROR(VLOOKUP(ROWS(AL$2:$AL1514),N1514:Q3417,4,0),\"\")","v":""}]
[null,null,null,null,null,null,null,null,null,null,null,null,null,0,0,0,"sbi magnum childrens benefit","MSB026","Debt Oriented Hybrid Speciality Funds",null,null,null,null,null,null,null,null,null,null,null,{"$f":"IFERROR(VLOOKUP(ROWS($AE$2:AE1515),P1515:Q3418,2,0),\"\")","v":""},null,null,null,null,{"$f":"IFERROR(VLOOKUP(ROWS($AJ$2:AJ1515),O1515:Q3418,3,0),\"\")","v":""},null,{"$f":"IFERROR(VLOOKUP(ROWS(AL$2:$AL1515),N1515:Q3418,4,0),\"\")","v":""}]
[null,null,null,null,null,null,null,null,null,null,null,null,null,0,0,0,"uti crts 81","MUT112","Debt Oriented Hybrid Speciality Funds",null,null,null,null,null,null,null,null,null,null,null,{"$f":"IFERROR(VLOOKUP(ROWS($AE$2:AE1516),P1516:Q3419,2,0),\"\")","v":""},null,null,null,null,{"$f":"IFERROR(VLOOKUP(ROWS($AJ$2:AJ1516),O1516:Q3419,3,0),\"\")","v":""},null,{"$f":"IFERROR(VLOOKUP(ROWS(AL$2:$AL1516),N1516:Q3419,4,0),\"\")","v":""}]
[null,null,null,null,null,null,null,null,null,null,null,null,null,0,0,0,"union kbc aaf conservative","MUK025","Debt Oriented Hybrid Speciality Funds",null,null,null,null,null,null,null,null,null,null,null,{"$f":"IFERROR(VLOOKUP(ROWS($AE$2:AE1517),P1517:Q3420,2,0),\"\")","v":""},null,null,null,null,{"$f":"IFERROR(VLOOKUP(ROWS($AJ$2:AJ1517),O1517:Q3420,3,0),\"\")","v":""},null,{"$f":"IFERROR(VLOOKUP(ROWS(AL$2:$AL1517),N1517:Q3420,4,0),\"\")","v":""}]
[null,null,null,null,null,null,null,null,null,null,null,null,null,0,0,0,"axis triple advantage fund","MAA091","Debt Oriented Hybrid Speciality Funds",null,null,null,null,null,null,null,null,null,null,null,{"$f":"IFERROR(VLOOKUP(ROWS($AE$2:AE1518),P1518:Q3421,2,0),\"\")","v":""},null,null,null,null,{"$f":"IFERROR(VLOOKUP(ROWS($AJ$2:AJ1518),O1518:Q3421,3,0),\"\")","v":""},null,{"$f":"IFERROR(VLOOKUP(ROWS(AL$2:$AL1518),N1518:Q3421,4,0),\"\")","v":""}]
[null,null,null,null,null,null,null,null,null,null,null,null,null,{"$f":"IF(ISNUMBER(SEARCH($H$16,Q1519)),MAX($N$1,N1518)+1,0)","v":0},{"$f":"IF(ISNUMBER(SEARCH($H$11,Q1519)),MAX($O$1,O1518)+1,0)","v":0},{"$f":"IF(ISNUMBER(SEARCH($H$6,Q1519)),MAX($P$1,P1518)+1,0)","v":0},"peerless 3 in 1 fund","MPM031","Debt Oriented Hybrid Speciality Funds",null,null,null,null,null,null,null,null,null,null,null,{"$f":"IFERROR(VLOOKUP(ROWS($AE$2:AE1519),P1519:Q3422,2,0),\"\")","v":""},null,null,null,null,{"$f":"IFERROR(VLOOKUP(ROWS($AJ$2:AJ1519),O1519:Q3422,3,0),\"\")","v":""},null,{"$f":"IFERROR(VLOOKUP(ROWS(AL$2:$AL1519),N1519:Q3422,4,0),\"\")","v":""}]
[null,null,null,null,null,null,null,null,null,null,null,null,null,0,0,0,"kotak multi asset allocation rp","MKM370","Debt Oriented Hybrid Speciality Funds",null,null,null,null,null,null,null,null,null,null,null,{"$f":"IFERROR(VLOOKUP(ROWS($AE$2:AE1520),P1520:Q3423,2,0),\"\")","v":""},null,null,null,null,{"$f":"IFERROR(VLOOKUP(ROWS($AJ$2:AJ1520),O1520:Q3423,3,0),\"\")","v":""},null,{"$f":"IFERROR(VLOOKUP(ROWS(AL$2:$AL1520),N1520:Q3423,4,0),\"\")","v":""}]
[null,null,null,null,null,null,null,null,null,null,null,null,null,0,0,0,"union kbc aaf moderate plan","MUK021","Debt Oriented Hybrid Speciality Funds",null,null,null,null,null,null,null,null,null,null,null,{"$f":"IFERROR(VLOOKUP(ROWS($AE$2:AE1521),P1521:Q3424,2,0),\"\")","v":""},null,null,null,null,{"$f":"IFERROR(VLOOKUP(ROWS($AJ$2:AJ1521),O1521:Q3424,3,0),\"\")","v":""},null,{"$f":"IFERROR(VLOOKUP(ROWS(AL$2:$AL1521),N1521:Q3424,4,0),\"\")","v":""}]
[null,null,null,null,null,null,null,null,null,null,null,null,null,0,0,0,"quantum multi asset fund","MQU013","Debt Oriented Hybrid Speciality Funds",null,null,null,null,null,null,null,null,null,null,null,{"$f":"IFERROR(VLOOKUP(ROWS($AE$2:AE1522),P1522:Q3425,2,0),\"\")","v":""},null,null,null,null,{"$f":"IFERROR(VLOOKUP(ROWS($AJ$2:AJ1522),O1522:Q3425,3,0),\"\")","v":""},null,{"$f":"IFERROR(VLOOKUP(ROWS(AL$2:$AL1522),N1522:Q3425,4,0),\"\")","v":""}]
[null,null,null,null,null,null,null,null,null,null,null,null,null,0,0,0,"bnp paribas income gold fund","MAB713","Debt Oriented Hybrid Speciality Funds",null,null,null,null,null,null,null,null,null,null,null,{"$f":"IFERROR(VLOOKUP(ROWS($AE$2:AE1523),P1523:Q3426,2,0),\"\")","v":""},null,null,null,null,{"$f":"IFERROR(VLOOKUP(ROWS($AJ$2:AJ1523),O1523:Q3426,3,0),\"\")","v":""},null,{"$f":"IFERROR(VLOOKUP(ROWS(AL$2:$AL1523),N1523:Q3426,4,0),\"\")","v":""}]
[null,null,null,null,null,null,null,null,null,null,null,null,null,0,0,0,"canara robeco indigo fund","MCA172","Debt Oriented Hybrid Speciality Funds",null,null,null,null,null,null,null,null,null,null,null,{"$f":"IFERROR(VLOOKUP(ROWS($AE$2:AE1524),P1524:Q3427,2,0),\"\")","v":""},null,null,null,null,{"$f":"IFERROR(VLOOKUP(ROWS($AJ$2:AJ1524),O1524:Q3427,3,0),\"\")","v":""},null,{"$f":"IFERROR(VLOOKUP(ROWS(AL$2:$AL1524),N1524:Q3427,4,0),\"\")","v":""}]
[null,null,null,null,null,null,null,null,null,null,null,null,null,0,0,0,"sbi edge fund","MSB032","Debt Oriented Hybrid Speciality Funds",null,null,null,null,null,null,null,null,null,null,null,{"$f":"IFERROR(VLOOKUP(ROWS($AE$2:AE1525),P1525:Q3428,2,0),\"\")","v":""},null,null,null,null,{"$f":"IFERROR(VLOOKUP(ROWS($AJ$2:AJ1525),O1525:Q3428,3,0),\"\")","v":""},null,{"$f":"IFERROR(VLOOKUP(ROWS(AL$2:$AL1525),N1525:Q3428,4,0),\"\")","v":""}]
[null,null,null,null,null,null,null,null,null,null,null,null,null,0,0,0,"hdfc debt cancer cure 2014 100 rp","MHD1995","Debt Oriented Hybrid Speciality Funds",null,null,null,null,null,null,null,null,null,null,null,{"$f":"IFERROR(VLOOKUP(ROWS($AE$2:AE1526),P1526:Q3429,2,0),\"\")","v":""},null,null,null,null,{"$f":"IFERROR(VLOOKUP(ROWS($AJ$2:AJ1526),O1526:Q3429,3,0),\"\")","v":""},null,{"$f":"IFERROR(VLOOKUP(ROWS(AL$2:$AL1526),N1526:Q3429,4,0),\"\")","v":""}]
[null,null,null,null,null,null,null,null,null,null,null,null,null,0,0,0,"hdfc debt cancer cure 2014 50 rp","MHD2033","Debt Oriented Hybrid Speciality Funds",null,null,null,null,null,null,null,null,null,null,null,{"$f":"IFERROR(VLOOKUP(ROWS($AE$2:AE1527),P1527:Q3430,2,0),\"\")","v":""},null,null,null,null,{"$f":"IFERROR(VLOOKUP(ROWS($AJ$2:AJ1527),O1527:Q3430,3,0),\"\")","v":""},null,{"$f":"IFERROR(VLOOKUP(ROWS(AL$2:$AL1527),N1527:Q3430,4,0),\"\")","v":""}]
[null,null,null,null,null,null,null,null,null,null,null,null,null,0,0,0,"hdfc debt fund for cancer cure","MHD754","Debt Oriented Hybrid Speciality Funds",null,null,null,null,null,null,null,null,null,null,null,{"$f":"IFERROR(VLOOKUP(ROWS($AE$2:AE1528),P1528:Q3431,2,0),\"\")","v":""},null,null,null,null,{"$f":"IFERROR(VLOOKUP(ROWS($AJ$2:AJ1528),O1528:Q3431,3,0),\"\")","v":""},null,{"$f":"IFERROR(VLOOKUP(ROWS(AL$2:$AL1528),N1528:Q3431,4,0),\"\")","v":""}]
[null,null,null,null,null,null,null,null,null,null,null,null,null,0,0,0,"reliance rf income generation","MRC1795","Debt Oriented Hybrid Speciality Funds",null,null,null,null,null,null,null,null,null,null,null,{"$f":"IFERROR(VLOOKUP(ROWS($AE$2:AE1529),P1529:Q3432,2,0),\"\")","v":""},null,null,null,null,{"$f":"IFERROR(VLOOKUP(ROWS($AJ$2:AJ1529),O1529:Q3432,3,0),\"\")","v":""},null,{"$f":"IFERROR(VLOOKUP(ROWS(AL$2:$AL1529),N1529:Q3432,4,0),\"\")","v":""}]
[null,null,null,null,null,null,null,null,null,null,null,null,null,0,0,0,"tata retirement sav moderate","MTA622","Equity Oriented Hybrid Speciality Funds",null,null,null,null,null,null,null,null,null,null,null,{"$f":"IFERROR(VLOOKUP(ROWS($AE$2:AE1530),P1530:Q3433,2,0),\"\")","v":""},null,null,null,null,{"$f":"IFERROR(VLOOKUP(ROWS($AJ$2:AJ1530),O1530:Q3433,3,0),\"\")","v":""},null,{"$f":"IFERROR(VLOOKUP(ROWS(AL$2:$AL1530),N1530:Q3433,4,0),\"\")","v":""}]
[null,null,null,null,null,null,null,null,null,null,null,null,null,0,0,0,"l t india equity and gold fund","MFF105","Equity Oriented Hybrid Speciality Funds",null,null,null,null,null,null,null,null,null,null,null,{"$f":"IFERROR(VLOOKUP(ROWS($AE$2:AE1531),P1531:Q3434,2,0),\"\")","v":""},null,null,null,null,{"$f":"IFERROR(VLOOKUP(ROWS($AJ$2:AJ1531),O1531:Q3434,3,0),\"\")","v":""},null,{"$f":"IFERROR(VLOOKUP(ROWS(AL$2:$AL1531),N1531:Q3434,4,0),\"\")","v":""}]
[null,null,null,null,null,null,null,null,null,null,null,null,null,0,0,0,"tata retirement sav progresive","MTA624","Equity Oriented Hybrid Speciality Funds",null,null,null,null,null,null,null,null,null,null,null,{"$f":"IFERROR(VLOOKUP(ROWS($AE$2:AE1532),P1532:Q3435,2,0),\"\")","v":""},null,null,null,null,{"$f":"IFERROR(VLOOKUP(ROWS($AJ$2:AJ1532),O1532:Q3435,3,0),\"\")","v":""},null,{"$f":"IFERROR(VLOOKUP(ROWS(AL$2:$AL1532),N1532:Q3435,4,0),\"\")","v":""}]
[null,null,null,null,null,null,null,null,null,null,null,null,null,0,0,0,"franklin i pension plan","MKP011","Equity Oriented Hybrid Speciality Funds",null,null,null,null,null,null,null,null,null,null,null,{"$f":"IFERROR(VLOOKUP(ROWS($AE$2:AE1533),P1533:Q3436,2,0),\"\")","v":""},null,null,null,null,{"$f":"IFERROR(VLOOKUP(ROWS($AJ$2:AJ1533),O1533:Q3436,3,0),\"\")","v":""},null,{"$f":"IFERROR(VLOOKUP(ROWS(AL$2:$AL1533),N1533:Q3436,4,0),\"\")","v":""}]
[null,null,null,null,null,null,null,null,null,null,null,null,null,0,0,0,"hdfc childrens gift inv ","MHD011","Equity Oriented Hybrid Speciality Funds",null,null,null,null,null,null,null,null,null,null,null,{"$f":"IFERROR(VLOOKUP(ROWS($AE$2:AE1534),P1534:Q3437,2,0),\"\")","v":""},null,null,null,null,{"$f":"IFERROR(VLOOKUP(ROWS($AJ$2:AJ1534),O1534:Q3437,3,0),\"\")","v":""},null,{"$f":"IFERROR(VLOOKUP(ROWS(AL$2:$AL1534),N1534:Q3437,4,0),\"\")","v":""}]
[null,null,null,null,null,null,null,null,null,null,null,null,null,0,0,0,"sbi magnum nri fund fap","MSB050","Equity Oriented Hybrid Speciality Funds",null,null,null,null,null,null,null,null,null,null,null,{"$f":"IFERROR(VLOOKUP(ROWS($AE$2:AE1535),P1535:Q3438,2,0),\"\")","v":""},null,null,null,null,{"$f":"IFERROR(VLOOKUP(ROWS($AJ$2:AJ1535),O1535:Q3438,3,0),\"\")","v":""},null,{"$f":"IFERROR(VLOOKUP(ROWS(AL$2:$AL1535),N1535:Q3438,4,0),\"\")","v":""}]
[null,null,null,null,null,null,null,null,null,null,null,null,null,0,0,0,"uti ccp advantage fund","MUT068","Equity Oriented Hybrid Speciality Funds",null,null,null,null,null,null,null,null,null,null,null,{"$f":"IFERROR(VLOOKUP(ROWS($AE$2:AE1536),P1536:Q3439,2,0),\"\")","v":""},null,null,null,null,{"$f":"IFERROR(VLOOKUP(ROWS($AJ$2:AJ1536),O1536:Q3439,3,0),\"\")","v":""},null,{"$f":"IFERROR(VLOOKUP(ROWS(AL$2:$AL1536),N1536:Q3439,4,0),\"\")","v":""}]
[null,null,null,null,null,null,null,null,null,null,null,null,null,0,0,0,"tata young citizens fund regular","MTA002","Equity Oriented Hybrid Speciality Funds",null,null,null,null,null,null,null,null,null,null,null,{"$f":"IFERROR(VLOOKUP(ROWS($AE$2:AE1537),P1537:Q3440,2,0),\"\")","v":""},null,null,null,null,{"$f":"IFERROR(VLOOKUP(ROWS($AJ$2:AJ1537),O1537:Q3440,3,0),\"\")","v":""},null,{"$f":"IFERROR(VLOOKUP(ROWS(AL$2:$AL1537),N1537:Q3440,4,0),\"\")","v":""}]
[null,null,null,null,null,null,null,null,null,null,null,null,null,0,0,0,"lic nomura unit linked insurance","MJB235","Equity Oriented Hybrid Speciality Funds",null,null,null,null,null,null,null,null,null,null,null,{"$f":"IFERROR(VLOOKUP(ROWS($AE$2:AE1538),P1538:Q3441,2,0),\"\")","v":""},null,null,null,null,{"$f":"IFERROR(VLOOKUP(ROWS($AJ$2:AJ1538),O1538:Q3441,3,0),\"\")","v":""},null,{"$f":"IFERROR(VLOOKUP(ROWS(AL$2:$AL1538),N1538:Q3441,4,0),\"\")","v":""}]
[null,null,null,null,null,null,null,null,null,null,null,null,null,0,0,0,"lic nomura unit linked insurance","MJB003","Equity Oriented Hybrid Speciality Funds",null,null,null,null,null,null,null,null,null,null,null,{"$f":"IFERROR(VLOOKUP(ROWS($AE$2:AE1539),P1539:Q3442,2,0),\"\")","v":""},null,null,null,null,{"$f":"IFERROR(VLOOKUP(ROWS($AJ$2:AJ1539),O1539:Q3442,3,0),\"\")","v":""},null,{"$f":"IFERROR(VLOOKUP(ROWS(AL$2:$AL1539),N1539:Q3442,4,0),\"\")","v":""}]
[null,null,null,null,null,null,null,null,null,null,null,null,null,0,0,0,"uti unit linked insurance plan","MUT018","Equity Oriented Hybrid Speciality Funds",null,null,null,null,null,null,null,null,null,null,null,{"$f":"IFERROR(VLOOKUP(ROWS($AE$2:AE1540),P1540:Q3443,2,0),\"\")","v":""},null,null,null,null,{"$f":"IFERROR(VLOOKUP(ROWS($AJ$2:AJ1540),O1540:Q3443,3,0),\"\")","v":""},null,{"$f":"IFERROR(VLOOKUP(ROWS(AL$2:$AL1540),N1540:Q3443,4,0),\"\")","v":""}]
[null,null,null,null,null,null,null,null,null,null,null,null,null,0,0,0,"boi axa eqty debt rebalancer rp","MBA137","Equity Oriented Hybrid Speciality Funds",null,null,null,null,null,null,null,null,null,null,null,{"$f":"IFERROR(VLOOKUP(ROWS($AE$2:AE1541),P1541:Q3444,2,0),\"\")","v":""},null,null,null,null,{"$f":"IFERROR(VLOOKUP(ROWS($AJ$2:AJ1541),O1541:Q3444,3,0),\"\")","v":""},null,{"$f":"IFERROR(VLOOKUP(ROWS(AL$2:$AL1541),N1541:Q3444,4,0),\"\")","v":""}]
[null,null,null,null,null,null,null,null,null,null,null,null,null,0,0,0,"lic nomura childrens fund","MJB014","Equity Oriented Hybrid Speciality Funds",null,null,null,null,null,null,null,null,null,null,null,{"$f":"IFERROR(VLOOKUP(ROWS($AE$2:AE1542),P1542:Q3445,2,0),\"\")","v":""},null,null,null,null,{"$f":"IFERROR(VLOOKUP(ROWS($AJ$2:AJ1542),O1542:Q3445,3,0),\"\")","v":""},null,{"$f":"IFERROR(VLOOKUP(ROWS(AL$2:$AL1542),N1542:Q3445,4,0),\"\")","v":""}]
[null,null,null,null,null,null,null,null,null,null,null,null,null,0,0,0,"uti retirement benefit pension","MUT015","Equity Oriented Hybrid Speciality Funds",null,null,null,null,null,null,null,null,null,null,null,{"$f":"IFERROR(VLOOKUP(ROWS($AE$2:AE1543),P1543:Q3446,2,0),\"\")","v":""},null,null,null,null,{"$f":"IFERROR(VLOOKUP(ROWS($AJ$2:AJ1543),O1543:Q3446,3,0),\"\")","v":""},null,{"$f":"IFERROR(VLOOKUP(ROWS(AL$2:$AL1543),N1543:Q3446,4,0),\"\")","v":""}]
[null,null,null,null,null,null,null,null,null,null,null,null,null,0,0,0,"pramerica dynamic aaf","MPA013","Equity Oriented Hybrid Speciality Funds",null,null,null,null,null,null,null,null,null,null,null,{"$f":"IFERROR(VLOOKUP(ROWS($AE$2:AE1544),P1544:Q3447,2,0),\"\")","v":""},null,null,null,null,{"$f":"IFERROR(VLOOKUP(ROWS($AJ$2:AJ1544),O1544:Q3447,3,0),\"\")","v":""},null,{"$f":"IFERROR(VLOOKUP(ROWS(AL$2:$AL1544),N1544:Q3447,4,0),\"\")","v":""}]
[null,null,null,null,null,null,null,null,null,null,null,null,null,0,0,0,"principal smart equity fund","MID247","Equity Oriented Hybrid Speciality Funds",null,null,null,null,null,null,null,null,null,null,null,{"$f":"IFERROR(VLOOKUP(ROWS($AE$2:AE1545),P1545:Q3448,2,0),\"\")","v":""},null,null,null,null,{"$f":"IFERROR(VLOOKUP(ROWS($AJ$2:AJ1545),O1545:Q3448,3,0),\"\")","v":""},null,{"$f":"IFERROR(VLOOKUP(ROWS(AL$2:$AL1545),N1545:Q3448,4,0),\"\")","v":""}]
[null,null,null,null,null,null,null,null,null,null,null,null,null,0,0,0,"icici pru ccp gift plan","MPI026","Equity Oriented Hybrid Speciality Funds",null,null,null,null,null,null,null,null,null,null,null,{"$f":"IFERROR(VLOOKUP(ROWS($AE$2:AE1546),P1546:Q3449,2,0),\"\")","v":""},null,null,null,null,{"$f":"IFERROR(VLOOKUP(ROWS($AJ$2:AJ1546),O1546:Q3449,3,0),\"\")","v":""},null,{"$f":"IFERROR(VLOOKUP(ROWS(AL$2:$AL1546),N1546:Q3449,4,0),\"\")","v":""}]
[null,null,null,null,null,null,null,null,null,null,null,null,null,0,0,0,"uti wealth builder sr 2 rp","MUT321","Equity Oriented Hybrid Speciality Funds",null,null,null,null,null,null,null,null,null,null,null,{"$f":"IFERROR(VLOOKUP(ROWS($AE$2:AE1547),P1547:Q3450,2,0),\"\")","v":""},null,null,null,null,{"$f":"IFERROR(VLOOKUP(ROWS($AJ$2:AJ1547),O1547:Q3450,3,0),\"\")","v":""},null,{"$f":"IFERROR(VLOOKUP(ROWS(AL$2:$AL1547),N1547:Q3450,4,0),\"\")","v":""}]
[null,null,null,null,null,null,null,null,null,null,null,null,null,0,0,0,"lic nomura ulis 10yrs reg prc yearly rp","MJB414","Equity Oriented Hybrid Speciality Funds",null,null,null,null,null,null,null,null,null,null,null,{"$f":"IFERROR(VLOOKUP(ROWS($AE$2:AE1548),P1548:Q3451,2,0),\"\")","v":""},null,null,null,null,{"$f":"IFERROR(VLOOKUP(ROWS($AJ$2:AJ1548),O1548:Q3451,3,0),\"\")","v":""},null,{"$f":"IFERROR(VLOOKUP(ROWS(AL$2:$AL1548),N1548:Q3451,4,0),\"\")","v":""}]
[null,null,null,null,null,null,null,null,null,null,null,null,null,0,0,0,"lic nomura ulis 10yrs reg prc half y rp","MJB413","Equity Oriented Hybrid Speciality Funds",null,null,null,null,null,null,null,null,null,null,null,{"$f":"IFERROR(VLOOKUP(ROWS($AE$2:AE1549),P1549:Q3452,2,0),\"\")","v":""},null,null,null,null,{"$f":"IFERROR(VLOOKUP(ROWS($AJ$2:AJ1549),O1549:Q3452,3,0),\"\")","v":""},null,{"$f":"IFERROR(VLOOKUP(ROWS(AL$2:$AL1549),N1549:Q3452,4,0),\"\")","v":""}]
[null,null,null,null,null,null,null,null,null,null,null,null,null,0,0,0,"lic nomura ulis 10yrs reg prc mthly rp","MJB412","Equity Oriented Hybrid Speciality Funds",null,null,null,null,null,null,null,null,null,null,null,{"$f":"IFERROR(VLOOKUP(ROWS($AE$2:AE1550),P1550:Q3453,2,0),\"\")","v":""},null,null,null,null,{"$f":"IFERROR(VLOOKUP(ROWS($AJ$2:AJ1550),O1550:Q3453,3,0),\"\")","v":""},null,{"$f":"IFERROR(VLOOKUP(ROWS(AL$2:$AL1550),N1550:Q3453,4,0),\"\")","v":""}]
[null,null,null,null,null,null,null,null,null,null,null,null,null,0,0,0,"lic nomura ulis 10yrs reg puc half y rp","MJB415","Equity Oriented Hybrid Speciality Funds",null,null,null,null,null,null,null,null,null,null,null,{"$f":"IFERROR(VLOOKUP(ROWS($AE$2:AE1551),P1551:Q3454,2,0),\"\")","v":""},null,null,null,null,{"$f":"IFERROR(VLOOKUP(ROWS($AJ$2:AJ1551),O1551:Q3454,3,0),\"\")","v":""},null,{"$f":"IFERROR(VLOOKUP(ROWS(AL$2:$AL1551),N1551:Q3454,4,0),\"\")","v":""}]
[null,null,null,null,null,null,null,null,null,null,null,null,null,0,0,0,"lic nomura ulis 10yrs reg puc mthly rp","MJB416","Equity Oriented Hybrid Speciality Funds",null,null,null,null,null,null,null,null,null,null,null,{"$f":"IFERROR(VLOOKUP(ROWS($AE$2:AE1552),P1552:Q3455,2,0),\"\")","v":""},null,null,null,null,{"$f":"IFERROR(VLOOKUP(ROWS($AJ$2:AJ1552),O1552:Q3455,3,0),\"\")","v":""},null,{"$f":"IFERROR(VLOOKUP(ROWS(AL$2:$AL1552),N1552:Q3455,4,0),\"\")","v":""}]
[null,null,null,null,null,null,null,null,null,null,null,null,null,0,0,0,"lic nomura ulis 10yrs reg prc mthly rp","MJB425","Equity Oriented Hybrid Speciality Funds",null,null,null,null,null,null,null,null,null,null,null,{"$f":"IFERROR(VLOOKUP(ROWS($AE$2:AE1553),P1553:Q3456,2,0),\"\")","v":""},null,null,null,null,{"$f":"IFERROR(VLOOKUP(ROWS($AJ$2:AJ1553),O1553:Q3456,3,0),\"\")","v":""},null,{"$f":"IFERROR(VLOOKUP(ROWS(AL$2:$AL1553),N1553:Q3456,4,0),\"\")","v":""}]
[null,null,null,null,null,null,null,null,null,null,null,null,null,0,0,0,"lic nomura ulis 10yrs reg prc half y rp","MJB426","Equity Oriented Hybrid Speciality Funds",null,null,null,null,null,null,null,null,null,null,null,{"$f":"IFERROR(VLOOKUP(ROWS($AE$2:AE1554),P1554:Q3457,2,0),\"\")","v":""},null,null,null,null,{"$f":"IFERROR(VLOOKUP(ROWS($AJ$2:AJ1554),O1554:Q3457,3,0),\"\")","v":""},null,{"$f":"IFERROR(VLOOKUP(ROWS(AL$2:$AL1554),N1554:Q3457,4,0),\"\")","v":""}]
[null,null,null,null,null,null,null,null,null,null,null,null,null,0,0,0,"lic nomura ulis 10yrs reg prc yearly rp","MJB427","Equity Oriented Hybrid Speciality Funds",null,null,null,null,null,null,null,null,null,null,null,{"$f":"IFERROR(VLOOKUP(ROWS($AE$2:AE1555),P1555:Q3458,2,0),\"\")","v":""},null,null,null,null,{"$f":"IFERROR(VLOOKUP(ROWS($AJ$2:AJ1555),O1555:Q3458,3,0),\"\")","v":""},null,{"$f":"IFERROR(VLOOKUP(ROWS(AL$2:$AL1555),N1555:Q3458,4,0),\"\")","v":""}]
[null,null,null,null,null,null,null,null,null,null,null,null,null,0,0,0,"lic nomura ulis 10yrs reg puc half y rp","MJB428","Equity Oriented Hybrid Speciality Funds",null,null,null,null,null,null,null,null,null,null,null,{"$f":"IFERROR(VLOOKUP(ROWS($AE$2:AE1556),P1556:Q3459,2,0),\"\")","v":""},null,null,null,null,{"$f":"IFERROR(VLOOKUP(ROWS($AJ$2:AJ1556),O1556:Q3459,3,0),\"\")","v":""},null,{"$f":"IFERROR(VLOOKUP(ROWS(AL$2:$AL1556),N1556:Q3459,4,0),\"\")","v":""}]
[null,null,null,null,null,null,null,null,null,null,null,null,null,0,0,0,"lic nomura ulis 10yrs reg puc mthly rp","MJB429","Equity Oriented Hybrid Speciality Funds",null,null,null,null,null,null,null,null,null,null,null,{"$f":"IFERROR(VLOOKUP(ROWS($AE$2:AE1557),P1557:Q3460,2,0),\"\")","v":""},null,null,null,null,{"$f":"IFERROR(VLOOKUP(ROWS($AJ$2:AJ1557),O1557:Q3460,3,0),\"\")","v":""},null,{"$f":"IFERROR(VLOOKUP(ROWS(AL$2:$AL1557),N1557:Q3460,4,0),\"\")","v":""}]
[null,null,null,null,null,null,null,null,null,null,null,null,null,0,0,0,"lic nomura ulis 10yrs reg puc yearly rp","MJB430","Equity Oriented Hybrid Speciality Funds",null,null,null,null,null,null,null,null,null,null,null,{"$f":"IFERROR(VLOOKUP(ROWS($AE$2:AE1558),P1558:Q3461,2,0),\"\")","v":""},null,null,null,null,{"$f":"IFERROR(VLOOKUP(ROWS($AJ$2:AJ1558),O1558:Q3461,3,0),\"\")","v":""},null,{"$f":"IFERROR(VLOOKUP(ROWS(AL$2:$AL1558),N1558:Q3461,4,0),\"\")","v":""}]
[null,null,null,null,null,null,null,null,null,null,null,null,null,0,0,0,"lic nomura ulis 10yrs sing premium rp","MJB418","Equity Oriented Hybrid Speciality Funds",null,null,null,null,null,null,null,null,null,null,null,{"$f":"IFERROR(VLOOKUP(ROWS($AE$2:AE1559),P1559:Q3462,2,0),\"\")","v":""},null,null,null,null,{"$f":"IFERROR(VLOOKUP(ROWS($AJ$2:AJ1559),O1559:Q3462,3,0),\"\")","v":""},null,{"$f":"IFERROR(VLOOKUP(ROWS(AL$2:$AL1559),N1559:Q3462,4,0),\"\")","v":""}]
[null,null,null,null,null,null,null,null,null,null,null,null,null,0,0,0,"lic nomura ulis 10yrs reg puc yearly rp","MJB417","Equity Oriented Hybrid Speciality Funds",null,null,null,null,null,null,null,null,null,null,null,{"$f":"IFERROR(VLOOKUP(ROWS($AE$2:AE1560),P1560:Q3463,2,0),\"\")","v":""},null,null,null,null,{"$f":"IFERROR(VLOOKUP(ROWS($AJ$2:AJ1560),O1560:Q3463,3,0),\"\")","v":""},null,{"$f":"IFERROR(VLOOKUP(ROWS(AL$2:$AL1560),N1560:Q3463,4,0),\"\")","v":""}]
[null,null,null,null,null,null,null,null,null,null,null,null,null,0,0,0,"reliance rf wealth creation","MRC1789","Equity Oriented Hybrid Speciality Funds",null,null,null,null,null,null,null,null,null,null,null,{"$f":"IFERROR(VLOOKUP(ROWS($AE$2:AE1561),P1561:Q3464,2,0),\"\")","v":""},null,null,null,null,{"$f":"IFERROR(VLOOKUP(ROWS($AJ$2:AJ1561),O1561:Q3464,3,0),\"\")","v":""},null,{"$f":"IFERROR(VLOOKUP(ROWS(AL$2:$AL1561),N1561:Q3464,4,0),\"\")","v":""}]
[null,null,null,null,null,null,null,null,null,null,null,null,null,0,0,0,null,null,null,null,null,null,null,null,null,null,null,null,null,null,{"$f":"IFERROR(VLOOKUP(ROWS($AE$2:AE1562),P1562:Q3465,2,0),\"\")","v":""},null,null,null,null,{"$f":"IFERROR(VLOOKUP(ROWS($AJ$2:AJ1562),O1562:Q3465,3,0),\"\")","v":""},null,{"$f":"IFERROR(VLOOKUP(ROWS(AL$2:$AL1562),N1562:Q3465,4,0),\"\")","v":""}]
[null,null,null,null,null,null,null,null,null,null,null,null,null,0,0,0,null,null,null,null,null,null,null,null,null,null,null,null,null,null,{"$f":"IFERROR(VLOOKUP(ROWS($AE$2:AE1563),P1563:Q3466,2,0),\"\")","v":""},null,null,null,null,{"$f":"IFERROR(VLOOKUP(ROWS($AJ$2:AJ1563),O1563:Q3466,3,0),\"\")","v":""},null,{"$f":"IFERROR(VLOOKUP(ROWS(AL$2:$AL1563),N1563:Q3466,4,0),\"\")","v":""}]
[null,null,null,null,null,null,null,null,null,null,null,null,null,0,0,0,null,null,null,null,null,null,null,null,null,null,null,null,null,null,{"$f":"IFERROR(VLOOKUP(ROWS($AE$2:AE1564),P1564:Q3467,2,0),\"\")","v":""},null,null,null,null,{"$f":"IFERROR(VLOOKUP(ROWS($AJ$2:AJ1564),O1564:Q3467,3,0),\"\")","v":""},null,{"$f":"IFERROR(VLOOKUP(ROWS(AL$2:$AL1564),N1564:Q3467,4,0),\"\")","v":""}]
[null,null,null,null,null,null,null,null,null,null,null,null,null,0,0,0,null,null,null,null,null,null,null,null,null,null,null,null,null,null,{"$f":"IFERROR(VLOOKUP(ROWS($AE$2:AE1565),P1565:Q3468,2,0),\"\")","v":""},null,null,null,null,{"$f":"IFERROR(VLOOKUP(ROWS($AJ$2:AJ1565),O1565:Q3468,3,0),\"\")","v":""},null,{"$f":"IFERROR(VLOOKUP(ROWS(AL$2:$AL1565),N1565:Q3468,4,0),\"\")","v":""}]
[null,null,null,null,null,null,null,null,null,null,null,null,null,0,0,0,null,null,null,null,null,null,null,null,null,null,null,null,null,null,{"$f":"IFERROR(VLOOKUP(ROWS($AE$2:AE1566),P1566:Q3469,2,0),\"\")","v":""},null,null,null,null,{"$f":"IFERROR(VLOOKUP(ROWS($AJ$2:AJ1566),O1566:Q3469,3,0),\"\")","v":""},null,{"$f":"IFERROR(VLOOKUP(ROWS(AL$2:$AL1566),N1566:Q3469,4,0),\"\")","v":""}]
[null,null,null,null,null,null,null,null,null,null,null,null,null,0,0,0,null,null,null,null,null,null,null,null,null,null,null,null,null,null,{"$f":"IFERROR(VLOOKUP(ROWS($AE$2:AE1567),P1567:Q3470,2,0),\"\")","v":""},null,null,null,null,{"$f":"IFERROR(VLOOKUP(ROWS($AJ$2:AJ1567),O1567:Q3470,3,0),\"\")","v":""},null,{"$f":"IFERROR(VLOOKUP(ROWS(AL$2:$AL1567),N1567:Q3470,4,0),\"\")","v":""}]
[null,null,null,null,null,null,null,null,null,null,null,null,null,0,0,0,null,null,null,null,null,null,null,null,null,null,null,null,null,null,{"$f":"IFERROR(VLOOKUP(ROWS($AE$2:AE1568),P1568:Q3471,2,0),\"\")","v":""},null,null,null,null,{"$f":"IFERROR(VLOOKUP(ROWS($AJ$2:AJ1568),O1568:Q3471,3,0),\"\")","v":""},null,{"$f":"IFERROR(VLOOKUP(ROWS(AL$2:$AL1568),N1568:Q3471,4,0),\"\")","v":""}]
[null,null,null,null,null,null,null,null,null,null,null,null,null,0,0,0,null,null,null,null,null,null,null,null,null,null,null,null,null,null,{"$f":"IFERROR(VLOOKUP(ROWS($AE$2:AE1569),P1569:Q3472,2,0),\"\")","v":""},null,null,null,null,{"$f":"IFERROR(VLOOKUP(ROWS($AJ$2:AJ1569),O1569:Q3472,3,0),\"\")","v":""},null,{"$f":"IFERROR(VLOOKUP(ROWS(AL$2:$AL1569),N1569:Q3472,4,0),\"\")","v":""}]
[null,null,null,null,null,null,null,null,null,null,null,null,null,0,0,0,null,null,null,null,null,null,null,null,null,null,null,null,null,null,{"$f":"IFERROR(VLOOKUP(ROWS($AE$2:AE1570),P1570:Q3473,2,0),\"\")","v":""},null,null,null,null,{"$f":"IFERROR(VLOOKUP(ROWS($AJ$2:AJ1570),O1570:Q3473,3,0),\"\")","v":""},null,{"$f":"IFERROR(VLOOKUP(ROWS(AL$2:$AL1570),N1570:Q3473,4,0),\"\")","v":""}]
[null,null,null,null,null,null,null,null,null,null,null,null,null,0,0,0,null,null,null,null,null,null,null,null,null,null,null,null,null,null,{"$f":"IFERROR(VLOOKUP(ROWS($AE$2:AE1571),P1571:Q3474,2,0),\"\")","v":""},null,null,null,null,{"$f":"IFERROR(VLOOKUP(ROWS($AJ$2:AJ1571),O1571:Q3474,3,0),\"\")","v":""},null,{"$f":"IFERROR(VLOOKUP(ROWS(AL$2:$AL1571),N1571:Q3474,4,0),\"\")","v":""}]
[null,null,null,null,null,null,null,null,null,null,null,null,null,0,0,0,null,null,null,null,null,null,null,null,null,null,null,null,null,null,{"$f":"IFERROR(VLOOKUP(ROWS($AE$2:AE1572),P1572:Q3475,2,0),\"\")","v":""},null,null,null,null,{"$f":"IFERROR(VLOOKUP(ROWS($AJ$2:AJ1572),O1572:Q3475,3,0),\"\")","v":""},null,{"$f":"IFERROR(VLOOKUP(ROWS(AL$2:$AL1572),N1572:Q3475,4,0),\"\")","v":""}]
[null,null,null,null,null,null,null,null,null,null,null,null,null,0,0,0,null,null,null,null,null,null,null,null,null,null,null,null,null,null,{"$f":"IFERROR(VLOOKUP(ROWS($AE$2:AE1573),P1573:Q3476,2,0),\"\")","v":""},null,null,null,null,{"$f":"IFERROR(VLOOKUP(ROWS($AJ$2:AJ1573),O1573:Q3476,3,0),\"\")","v":""},null,{"$f":"IFERROR(VLOOKUP(ROWS(AL$2:$AL1573),N1573:Q3476,4,0),\"\")","v":""}]
[null,null,null,null,null,null,null,null,null,null,null,null,null,0,0,0,null,null,null,null,null,null,null,null,null,null,null,null,null,null,{"$f":"IFERROR(VLOOKUP(ROWS($AE$2:AE1574),P1574:Q3477,2,0),\"\")","v":""},null,null,null,null,{"$f":"IFERROR(VLOOKUP(ROWS($AJ$2:AJ1574),O1574:Q3477,3,0),\"\")","v":""},null,{"$f":"IFERROR(VLOOKUP(ROWS(AL$2:$AL1574),N1574:Q3477,4,0),\"\")","v":""}]
[null,null,null,null,null,null,null,null,null,null,null,null,null,0,0,0,null,null,null,null,null,null,null,null,null,null,null,null,null,null,{"$f":"IFERROR(VLOOKUP(ROWS($AE$2:AE1575),P1575:Q3478,2,0),\"\")","v":""},null,null,null,null,{"$f":"IFERROR(VLOOKUP(ROWS($AJ$2:AJ1575),O1575:Q3478,3,0),\"\")","v":""},null,{"$f":"IFERROR(VLOOKUP(ROWS(AL$2:$AL1575),N1575:Q3478,4,0),\"\")","v":""}]
[null,null,null,null,null,null,null,null,null,null,null,null,null,0,0,0,null,null,null,null,null,null,null,null,null,null,null,null,null,null,{"$f":"IFERROR(VLOOKUP(ROWS($AE$2:AE1576),P1576:Q3479,2,0),\"\")","v":""},null,null,null,null,{"$f":"IFERROR(VLOOKUP(ROWS($AJ$2:AJ1576),O1576:Q3479,3,0),\"\")","v":""},null,{"$f":"IFERROR(VLOOKUP(ROWS(AL$2:$AL1576),N1576:Q3479,4,0),\"\")","v":""}]
[null,null,null,null,null,null,null,null,null,null,null,null,null,0,0,0,null,null,null,null,null,null,null,null,null,null,null,null,null,null,{"$f":"IFERROR(VLOOKUP(ROWS($AE$2:AE1577),P1577:Q3480,2,0),\"\")","v":""},null,null,null,null,{"$f":"IFERROR(VLOOKUP(ROWS($AJ$2:AJ1577),O1577:Q3480,3,0),\"\")","v":""},null,{"$f":"IFERROR(VLOOKUP(ROWS(AL$2:$AL1577),N1577:Q3480,4,0),\"\")","v":""}]
[null,null,null,null,null,null,null,null,null,null,null,null,null,0,0,0,null,null,null,null,null,null,null,null,null,null,null,null,null,null,{"$f":"IFERROR(VLOOKUP(ROWS($AE$2:AE1578),P1578:Q3481,2,0),\"\")","v":""},null,null,null,null,{"$f":"IFERROR(VLOOKUP(ROWS($AJ$2:AJ1578),O1578:Q3481,3,0),\"\")","v":""},null,{"$f":"IFERROR(VLOOKUP(ROWS(AL$2:$AL1578),N1578:Q3481,4,0),\"\")","v":""}]
[null,null,null,null,null,null,null,null,null,null,null,null,null,0,0,0,null,null,null,null,null,null,null,null,null,null,null,null,null,null,{"$f":"IFERROR(VLOOKUP(ROWS($AE$2:AE1579),P1579:Q3482,2,0),\"\")","v":""},null,null,null,null,{"$f":"IFERROR(VLOOKUP(ROWS($AJ$2:AJ1579),O1579:Q3482,3,0),\"\")","v":""},null,{"$f":"IFERROR(VLOOKUP(ROWS(AL$2:$AL1579),N1579:Q3482,4,0),\"\")","v":""}]
[null,null,null,null,null,null,null,null,null,null,null,null,null,0,0,0,null,null,null,null,null,null,null,null,null,null,null,null,null,null,{"$f":"IFERROR(VLOOKUP(ROWS($AE$2:AE1580),P1580:Q3483,2,0),\"\")","v":""},null,null,null,null,{"$f":"IFERROR(VLOOKUP(ROWS($AJ$2:AJ1580),O1580:Q3483,3,0),\"\")","v":""},null,{"$f":"IFERROR(VLOOKUP(ROWS(AL$2:$AL1580),N1580:Q3483,4,0),\"\")","v":""}]
[null,null,null,null,null,null,null,null,null,null,null,null,null,0,0,0,null,null,null,null,null,null,null,null,null,null,null,null,null,null,{"$f":"IFERROR(VLOOKUP(ROWS($AE$2:AE1581),P1581:Q3484,2,0),\"\")","v":""},null,null,null,null,{"$f":"IFERROR(VLOOKUP(ROWS($AJ$2:AJ1581),O1581:Q3484,3,0),\"\")","v":""},null,{"$f":"IFERROR(VLOOKUP(ROWS(AL$2:$AL1581),N1581:Q3484,4,0),\"\")","v":""}]
[null,null,null,null,null,null,null,null,null,null,null,null,null,0,0,0,null,null,null,null,null,null,null,null,null,null,null,null,null,null,{"$f":"IFERROR(VLOOKUP(ROWS($AE$2:AE1582),P1582:Q3485,2,0),\"\")","v":""},null,null,null,null,{"$f":"IFERROR(VLOOKUP(ROWS($AJ$2:AJ1582),O1582:Q3485,3,0),\"\")","v":""},null,{"$f":"IFERROR(VLOOKUP(ROWS(AL$2:$AL1582),N1582:Q3485,4,0),\"\")","v":""}]
[null,null,null,null,null,null,null,null,null,null,null,null,null,{"$f":"IF(ISNUMBER(SEARCH($H$16,Q1583)),MAX($N$1,N1582)+1,0)","v":0},{"$f":"IF(ISNUMBER(SEARCH($H$11,Q1583)),MAX($O$1,O1582)+1,0)","v":0},{"$f":"IF(ISNUMBER(SEARCH($H$6,Q1583)),MAX($P$1,P1582)+1,0)","v":0},null,null,null,null,null,null,null,null,null,null,null,null,null,null,{"$f":"IFERROR(VLOOKUP(ROWS($AE$2:AE1583),P1583:Q3486,2,0),\"\")","v":""},null,null,null,null,{"$f":"IFERROR(VLOOKUP(ROWS($AJ$2:AJ1583),O1583:Q3486,3,0),\"\")","v":""},null,{"$f":"IFERROR(VLOOKUP(ROWS(AL$2:$AL1583),N1583:Q3486,4,0),\"\")","v":""}]
[null,null,null,null,null,null,null,null,null,null,null,null,null,0,0,0,null,null,null,null,null,null,null,null,null,null,null,null,null,null,{"$f":"IFERROR(VLOOKUP(ROWS($AE$2:AE1584),P1584:Q3487,2,0),\"\")","v":""},null,null,null,null,{"$f":"IFERROR(VLOOKUP(ROWS($AJ$2:AJ1584),O1584:Q3487,3,0),\"\")","v":""},null,{"$f":"IFERROR(VLOOKUP(ROWS(AL$2:$AL1584),N1584:Q3487,4,0),\"\")","v":""}]
[null,null,null,null,null,null,null,null,null,null,null,null,null,0,0,0,null,null,null,null,null,null,null,null,null,null,null,null,null,null,{"$f":"IFERROR(VLOOKUP(ROWS($AE$2:AE1585),P1585:Q3488,2,0),\"\")","v":""},null,null,null,null,{"$f":"IFERROR(VLOOKUP(ROWS($AJ$2:AJ1585),O1585:Q3488,3,0),\"\")","v":""},null,{"$f":"IFERROR(VLOOKUP(ROWS(AL$2:$AL1585),N1585:Q3488,4,0),\"\")","v":""}]
[null,null,null,null,null,null,null,null,null,null,null,null,null,0,0,0,null,null,null,null,null,null,null,null,null,null,null,null,null,null,{"$f":"IFERROR(VLOOKUP(ROWS($AE$2:AE1586),P1586:Q3489,2,0),\"\")","v":""},null,null,null,null,{"$f":"IFERROR(VLOOKUP(ROWS($AJ$2:AJ1586),O1586:Q3489,3,0),\"\")","v":""},null,{"$f":"IFERROR(VLOOKUP(ROWS(AL$2:$AL1586),N1586:Q3489,4,0),\"\")","v":""}]
[null,null,null,null,null,null,null,null,null,null,null,null,null,0,0,0,null,null,null,null,null,null,null,null,null,null,null,null,null,null,{"$f":"IFERROR(VLOOKUP(ROWS($AE$2:AE1587),P1587:Q3490,2,0),\"\")","v":""},null,null,null,null,{"$f":"IFERROR(VLOOKUP(ROWS($AJ$2:AJ1587),O1587:Q3490,3,0),\"\")","v":""},null,{"$f":"IFERROR(VLOOKUP(ROWS(AL$2:$AL1587),N1587:Q3490,4,0),\"\")","v":""}]
[null,null,null,null,null,null,null,null,null,null,null,null,null,0,0,0,null,null,null,null,null,null,null,null,null,null,null,null,null,null,{"$f":"IFERROR(VLOOKUP(ROWS($AE$2:AE1588),P1588:Q3491,2,0),\"\")","v":""},null,null,null,null,{"$f":"IFERROR(VLOOKUP(ROWS($AJ$2:AJ1588),O1588:Q3491,3,0),\"\")","v":""},null,{"$f":"IFERROR(VLOOKUP(ROWS(AL$2:$AL1588),N1588:Q3491,4,0),\"\")","v":""}]
[null,null,null,null,null,null,null,null,null,null,null,null,null,0,0,0,null,null,null,null,null,null,null,null,null,null,null,null,null,null,{"$f":"IFERROR(VLOOKUP(ROWS($AE$2:AE1589),P1589:Q3492,2,0),\"\")","v":""},null,null,null,null,{"$f":"IFERROR(VLOOKUP(ROWS($AJ$2:AJ1589),O1589:Q3492,3,0),\"\")","v":""},null,{"$f":"IFERROR(VLOOKUP(ROWS(AL$2:$AL1589),N1589:Q3492,4,0),\"\")","v":""}]
[null,null,null,null,null,null,null,null,null,null,null,null,null,0,0,0,null,null,null,null,null,null,null,null,null,null,null,null,null,null,{"$f":"IFERROR(VLOOKUP(ROWS($AE$2:AE1590),P1590:Q3493,2,0),\"\")","v":""},null,null,null,null,{"$f":"IFERROR(VLOOKUP(ROWS($AJ$2:AJ1590),O1590:Q3493,3,0),\"\")","v":""},null,{"$f":"IFERROR(VLOOKUP(ROWS(AL$2:$AL1590),N1590:Q3493,4,0),\"\")","v":""}]
[null,null,null,null,null,null,null,null,null,null,null,null,null,0,0,0,null,null,null,null,null,null,null,null,null,null,null,null,null,null,{"$f":"IFERROR(VLOOKUP(ROWS($AE$2:AE1591),P1591:Q3494,2,0),\"\")","v":""},null,null,null,null,{"$f":"IFERROR(VLOOKUP(ROWS($AJ$2:AJ1591),O1591:Q3494,3,0),\"\")","v":""},null,{"$f":"IFERROR(VLOOKUP(ROWS(AL$2:$AL1591),N1591:Q3494,4,0),\"\")","v":""}]
[null,null,null,null,null,null,null,null,null,null,null,null,null,0,0,0,null,null,null,null,null,null,null,null,null,null,null,null,null,null,{"$f":"IFERROR(VLOOKUP(ROWS($AE$2:AE1592),P1592:Q3495,2,0),\"\")","v":""},null,null,null,null,{"$f":"IFERROR(VLOOKUP(ROWS($AJ$2:AJ1592),O1592:Q3495,3,0),\"\")","v":""},null,{"$f":"IFERROR(VLOOKUP(ROWS(AL$2:$AL1592),N1592:Q3495,4,0),\"\")","v":""}]
[null,null,null,null,null,null,null,null,null,null,null,null,null,0,0,0,null,null,null,null,null,null,null,null,null,null,null,null,null,null,{"$f":"IFERROR(VLOOKUP(ROWS($AE$2:AE1593),P1593:Q3496,2,0),\"\")","v":""},null,null,null,null,{"$f":"IFERROR(VLOOKUP(ROWS($AJ$2:AJ1593),O1593:Q3496,3,0),\"\")","v":""},null,{"$f":"IFERROR(VLOOKUP(ROWS(AL$2:$AL1593),N1593:Q3496,4,0),\"\")","v":""}]
[null,null,null,null,null,null,null,null,null,null,null,null,null,0,0,0,null,null,null,null,null,null,null,null,null,null,null,null,null,null,{"$f":"IFERROR(VLOOKUP(ROWS($AE$2:AE1594),P1594:Q3497,2,0),\"\")","v":""},null,null,null,null,{"$f":"IFERROR(VLOOKUP(ROWS($AJ$2:AJ1594),O1594:Q3497,3,0),\"\")","v":""},null,{"$f":"IFERROR(VLOOKUP(ROWS(AL$2:$AL1594),N1594:Q3497,4,0),\"\")","v":""}]
[null,null,null,null,null,null,null,null,null,null,null,null,null,0,0,0,null,null,null,null,null,null,null,null,null,null,null,null,null,null,{"$f":"IFERROR(VLOOKUP(ROWS($AE$2:AE1595),P1595:Q3498,2,0),\"\")","v":""},null,null,null,null,{"$f":"IFERROR(VLOOKUP(ROWS($AJ$2:AJ1595),O1595:Q3498,3,0),\"\")","v":""},null,{"$f":"IFERROR(VLOOKUP(ROWS(AL$2:$AL1595),N1595:Q3498,4,0),\"\")","v":""}]
[null,null,null,null,null,null,null,null,null,null,null,null,null,0,0,0,null,null,null,null,null,null,null,null,null,null,null,null,null,null,{"$f":"IFERROR(VLOOKUP(ROWS($AE$2:AE1596),P1596:Q3499,2,0),\"\")","v":""},null,null,null,null,{"$f":"IFERROR(VLOOKUP(ROWS($AJ$2:AJ1596),O1596:Q3499,3,0),\"\")","v":""},null,{"$f":"IFERROR(VLOOKUP(ROWS(AL$2:$AL1596),N1596:Q3499,4,0),\"\")","v":""}]
[null,null,null,null,null,null,null,null,null,null,null,null,null,0,0,0,null,null,null,null,null,null,null,null,null,null,null,null,null,null,{"$f":"IFERROR(VLOOKUP(ROWS($AE$2:AE1597),P1597:Q3500,2,0),\"\")","v":""},null,null,null,null,{"$f":"IFERROR(VLOOKUP(ROWS($AJ$2:AJ1597),O1597:Q3500,3,0),\"\")","v":""},null,{"$f":"IFERROR(VLOOKUP(ROWS(AL$2:$AL1597),N1597:Q3500,4,0),\"\")","v":""}]
[null,null,null,null,null,null,null,null,null,null,null,null,null,0,0,0,null,null,null,null,null,null,null,null,null,null,null,null,null,null,{"$f":"IFERROR(VLOOKUP(ROWS($AE$2:AE1598),P1598:Q3501,2,0),\"\")","v":""},null,null,null,null,{"$f":"IFERROR(VLOOKUP(ROWS($AJ$2:AJ1598),O1598:Q3501,3,0),\"\")","v":""},null,{"$f":"IFERROR(VLOOKUP(ROWS(AL$2:$AL1598),N1598:Q3501,4,0),\"\")","v":""}]
[null,null,null,null,null,null,null,null,null,null,null,null,null,0,0,0,null,null,null,null,null,null,null,null,null,null,null,null,null,null,{"$f":"IFERROR(VLOOKUP(ROWS($AE$2:AE1599),P1599:Q3502,2,0),\"\")","v":""},null,null,null,null,{"$f":"IFERROR(VLOOKUP(ROWS($AJ$2:AJ1599),O1599:Q3502,3,0),\"\")","v":""},null,{"$f":"IFERROR(VLOOKUP(ROWS(AL$2:$AL1599),N1599:Q3502,4,0),\"\")","v":""}]
[null,null,null,null,null,null,null,null,null,null,null,null,null,0,0,0,null,null,null,null,null,null,null,null,null,null,null,null,null,null,{"$f":"IFERROR(VLOOKUP(ROWS($AE$2:AE1600),P1600:Q3503,2,0),\"\")","v":""},null,null,null,null,{"$f":"IFERROR(VLOOKUP(ROWS($AJ$2:AJ1600),O1600:Q3503,3,0),\"\")","v":""},null,{"$f":"IFERROR(VLOOKUP(ROWS(AL$2:$AL1600),N1600:Q3503,4,0),\"\")","v":""}]
[null,null,null,null,null,null,null,null,null,null,null,null,null,0,0,0,null,null,null,null,null,null,null,null,null,null,null,null,null,null,{"$f":"IFERROR(VLOOKUP(ROWS($AE$2:AE1601),P1601:Q3504,2,0),\"\")","v":""},null,null,null,null,{"$f":"IFERROR(VLOOKUP(ROWS($AJ$2:AJ1601),O1601:Q3504,3,0),\"\")","v":""},null,{"$f":"IFERROR(VLOOKUP(ROWS(AL$2:$AL1601),N1601:Q3504,4,0),\"\")","v":""}]
[null,null,null,null,null,null,null,null,null,null,null,null,null,0,0,0,null,null,null,null,null,null,null,null,null,null,null,null,null,null,{"$f":"IFERROR(VLOOKUP(ROWS($AE$2:AE1602),P1602:Q3505,2,0),\"\")","v":""},null,null,null,null,{"$f":"IFERROR(VLOOKUP(ROWS($AJ$2:AJ1602),O1602:Q3505,3,0),\"\")","v":""},null,{"$f":"IFERROR(VLOOKUP(ROWS(AL$2:$AL1602),N1602:Q3505,4,0),\"\")","v":""}]
[null,null,null,null,null,null,null,null,null,null,null,null,null,0,0,0,null,null,null,null,null,null,null,null,null,null,null,null,null,null,{"$f":"IFERROR(VLOOKUP(ROWS($AE$2:AE1603),P1603:Q3506,2,0),\"\")","v":""},null,null,null,null,{"$f":"IFERROR(VLOOKUP(ROWS($AJ$2:AJ1603),O1603:Q3506,3,0),\"\")","v":""},null,{"$f":"IFERROR(VLOOKUP(ROWS(AL$2:$AL1603),N1603:Q3506,4,0),\"\")","v":""}]
[null,null,null,null,null,null,null,null,null,null,null,null,null,0,0,0,null,null,null,null,null,null,null,null,null,null,null,null,null,null,{"$f":"IFERROR(VLOOKUP(ROWS($AE$2:AE1604),P1604:Q3507,2,0),\"\")","v":""},null,null,null,null,{"$f":"IFERROR(VLOOKUP(ROWS($AJ$2:AJ1604),O1604:Q3507,3,0),\"\")","v":""},null,{"$f":"IFERROR(VLOOKUP(ROWS(AL$2:$AL1604),N1604:Q3507,4,0),\"\")","v":""}]
[null,null,null,null,null,null,null,null,null,null,null,null,null,0,0,0,null,null,null,null,null,null,null,null,null,null,null,null,null,null,{"$f":"IFERROR(VLOOKUP(ROWS($AE$2:AE1605),P1605:Q3508,2,0),\"\")","v":""},null,null,null,null,{"$f":"IFERROR(VLOOKUP(ROWS($AJ$2:AJ1605),O1605:Q3508,3,0),\"\")","v":""},null,{"$f":"IFERROR(VLOOKUP(ROWS(AL$2:$AL1605),N1605:Q3508,4,0),\"\")","v":""}]
[null,null,null,null,null,null,null,null,null,null,null,null,null,0,0,0,null,null,null,null,null,null,null,null,null,null,null,null,null,null,{"$f":"IFERROR(VLOOKUP(ROWS($AE$2:AE1606),P1606:Q3509,2,0),\"\")","v":""},null,null,null,null,{"$f":"IFERROR(VLOOKUP(ROWS($AJ$2:AJ1606),O1606:Q3509,3,0),\"\")","v":""},null,{"$f":"IFERROR(VLOOKUP(ROWS(AL$2:$AL1606),N1606:Q3509,4,0),\"\")","v":""}]
[null,null,null,null,null,null,null,null,null,null,null,null,null,0,0,0,null,null,null,null,null,null,null,null,null,null,null,null,null,null,{"$f":"IFERROR(VLOOKUP(ROWS($AE$2:AE1607),P1607:Q3510,2,0),\"\")","v":""},null,null,null,null,{"$f":"IFERROR(VLOOKUP(ROWS($AJ$2:AJ1607),O1607:Q3510,3,0),\"\")","v":""},null,{"$f":"IFERROR(VLOOKUP(ROWS(AL$2:$AL1607),N1607:Q3510,4,0),\"\")","v":""}]
[null,null,null,null,null,null,null,null,null,null,null,null,null,0,0,0,null,null,null,null,null,null,null,null,null,null,null,null,null,null,{"$f":"IFERROR(VLOOKUP(ROWS($AE$2:AE1608),P1608:Q3511,2,0),\"\")","v":""},null,null,null,null,{"$f":"IFERROR(VLOOKUP(ROWS($AJ$2:AJ1608),O1608:Q3511,3,0),\"\")","v":""},null,{"$f":"IFERROR(VLOOKUP(ROWS(AL$2:$AL1608),N1608:Q3511,4,0),\"\")","v":""}]
[null,null,null,null,null,null,null,null,null,null,null,null,null,0,0,0,null,null,null,null,null,null,null,null,null,null,null,null,null,null,{"$f":"IFERROR(VLOOKUP(ROWS($AE$2:AE1609),P1609:Q3512,2,0),\"\")","v":""},null,null,null,null,{"$f":"IFERROR(VLOOKUP(ROWS($AJ$2:AJ1609),O1609:Q3512,3,0),\"\")","v":""},null,{"$f":"IFERROR(VLOOKUP(ROWS(AL$2:$AL1609),N1609:Q3512,4,0),\"\")","v":""}]
[null,null,null,null,null,null,null,null,null,null,null,null,null,0,0,0,null,null,null,null,null,null,null,null,null,null,null,null,null,null,{"$f":"IFERROR(VLOOKUP(ROWS($AE$2:AE1610),P1610:Q3513,2,0),\"\")","v":""},null,null,null,null,{"$f":"IFERROR(VLOOKUP(ROWS($AJ$2:AJ1610),O1610:Q3513,3,0),\"\")","v":""},null,{"$f":"IFERROR(VLOOKUP(ROWS(AL$2:$AL1610),N1610:Q3513,4,0),\"\")","v":""}]
[null,null,null,null,null,null,null,null,null,null,null,null,null,0,0,0,null,null,null,null,null,null,null,null,null,null,null,null,null,null,{"$f":"IFERROR(VLOOKUP(ROWS($AE$2:AE1611),P1611:Q3514,2,0),\"\")","v":""},null,null,null,null,{"$f":"IFERROR(VLOOKUP(ROWS($AJ$2:AJ1611),O1611:Q3514,3,0),\"\")","v":""},null,{"$f":"IFERROR(VLOOKUP(ROWS(AL$2:$AL1611),N1611:Q3514,4,0),\"\")","v":""}]
[null,null,null,null,null,null,null,null,null,null,null,null,null,0,0,0,null,null,null,null,null,null,null,null,null,null,null,null,null,null,{"$f":"IFERROR(VLOOKUP(ROWS($AE$2:AE1612),P1612:Q3515,2,0),\"\")","v":""},null,null,null,null,{"$f":"IFERROR(VLOOKUP(ROWS($AJ$2:AJ1612),O1612:Q3515,3,0),\"\")","v":""},null,{"$f":"IFERROR(VLOOKUP(ROWS(AL$2:$AL1612),N1612:Q3515,4,0),\"\")","v":""}]
[null,null,null,null,null,null,null,null,null,null,null,null,null,0,0,0,null,null,null,null,null,null,null,null,null,null,null,null,null,null,{"$f":"IFERROR(VLOOKUP(ROWS($AE$2:AE1613),P1613:Q3516,2,0),\"\")","v":""},null,null,null,null,{"$f":"IFERROR(VLOOKUP(ROWS($AJ$2:AJ1613),O1613:Q3516,3,0),\"\")","v":""},null,{"$f":"IFERROR(VLOOKUP(ROWS(AL$2:$AL1613),N1613:Q3516,4,0),\"\")","v":""}]
[null,null,null,null,null,null,null,null,null,null,null,null,null,0,0,0,null,null,null,null,null,null,null,null,null,null,null,null,null,null,{"$f":"IFERROR(VLOOKUP(ROWS($AE$2:AE1614),P1614:Q3517,2,0),\"\")","v":""},null,null,null,null,{"$f":"IFERROR(VLOOKUP(ROWS($AJ$2:AJ1614),O1614:Q3517,3,0),\"\")","v":""},null,{"$f":"IFERROR(VLOOKUP(ROWS(AL$2:$AL1614),N1614:Q3517,4,0),\"\")","v":""}]
[null,null,null,null,null,null,null,null,null,null,null,null,null,0,0,0,null,null,null,null,null,null,null,null,null,null,null,null,null,null,{"$f":"IFERROR(VLOOKUP(ROWS($AE$2:AE1615),P1615:Q3518,2,0),\"\")","v":""},null,null,null,null,{"$f":"IFERROR(VLOOKUP(ROWS($AJ$2:AJ1615),O1615:Q3518,3,0),\"\")","v":""},null,{"$f":"IFERROR(VLOOKUP(ROWS(AL$2:$AL1615),N1615:Q3518,4,0),\"\")","v":""}]
[null,null,null,null,null,null,null,null,null,null,null,null,null,0,0,0,null,null,null,null,null,null,null,null,null,null,null,null,null,null,{"$f":"IFERROR(VLOOKUP(ROWS($AE$2:AE1616),P1616:Q3519,2,0),\"\")","v":""},null,null,null,null,{"$f":"IFERROR(VLOOKUP(ROWS($AJ$2:AJ1616),O1616:Q3519,3,0),\"\")","v":""},null,{"$f":"IFERROR(VLOOKUP(ROWS(AL$2:$AL1616),N1616:Q3519,4,0),\"\")","v":""}]
[null,null,null,null,null,null,null,null,null,null,null,null,null,0,0,0,null,null,null,null,null,null,null,null,null,null,null,null,null,null,{"$f":"IFERROR(VLOOKUP(ROWS($AE$2:AE1617),P1617:Q3520,2,0),\"\")","v":""},null,null,null,null,{"$f":"IFERROR(VLOOKUP(ROWS($AJ$2:AJ1617),O1617:Q3520,3,0),\"\")","v":""},null,{"$f":"IFERROR(VLOOKUP(ROWS(AL$2:$AL1617),N1617:Q3520,4,0),\"\")","v":""}]
[null,null,null,null,null,null,null,null,null,null,null,null,null,0,0,0,null,null,null,null,null,null,null,null,null,null,null,null,null,null,{"$f":"IFERROR(VLOOKUP(ROWS($AE$2:AE1618),P1618:Q3521,2,0),\"\")","v":""},null,null,null,null,{"$f":"IFERROR(VLOOKUP(ROWS($AJ$2:AJ1618),O1618:Q3521,3,0),\"\")","v":""},null,{"$f":"IFERROR(VLOOKUP(ROWS(AL$2:$AL1618),N1618:Q3521,4,0),\"\")","v":""}]
[null,null,null,null,null,null,null,null,null,null,null,null,null,0,0,0,null,null,null,null,null,null,null,null,null,null,null,null,null,null,{"$f":"IFERROR(VLOOKUP(ROWS($AE$2:AE1619),P1619:Q3522,2,0),\"\")","v":""},null,null,null,null,{"$f":"IFERROR(VLOOKUP(ROWS($AJ$2:AJ1619),O1619:Q3522,3,0),\"\")","v":""},null,{"$f":"IFERROR(VLOOKUP(ROWS(AL$2:$AL1619),N1619:Q3522,4,0),\"\")","v":""}]
[null,null,null,null,null,null,null,null,null,null,null,null,null,0,0,0,null,null,null,null,null,null,null,null,null,null,null,null,null,null,{"$f":"IFERROR(VLOOKUP(ROWS($AE$2:AE1620),P1620:Q3523,2,0),\"\")","v":""},null,null,null,null,{"$f":"IFERROR(VLOOKUP(ROWS($AJ$2:AJ1620),O1620:Q3523,3,0),\"\")","v":""},null,{"$f":"IFERROR(VLOOKUP(ROWS(AL$2:$AL1620),N1620:Q3523,4,0),\"\")","v":""}]
[null,null,null,null,null,null,null,null,null,null,null,null,null,0,0,0,null,null,null,null,null,null,null,null,null,null,null,null,null,null,{"$f":"IFERROR(VLOOKUP(ROWS($AE$2:AE1621),P1621:Q3524,2,0),\"\")","v":""},null,null,null,null,{"$f":"IFERROR(VLOOKUP(ROWS($AJ$2:AJ1621),O1621:Q3524,3,0),\"\")","v":""},null,{"$f":"IFERROR(VLOOKUP(ROWS(AL$2:$AL1621),N1621:Q3524,4,0),\"\")","v":""}]
[null,null,null,null,null,null,null,null,null,null,null,null,null,0,0,0,null,null,null,null,null,null,null,null,null,null,null,null,null,null,{"$f":"IFERROR(VLOOKUP(ROWS($AE$2:AE1622),P1622:Q3525,2,0),\"\")","v":""},null,null,null,null,{"$f":"IFERROR(VLOOKUP(ROWS($AJ$2:AJ1622),O1622:Q3525,3,0),\"\")","v":""},null,{"$f":"IFERROR(VLOOKUP(ROWS(AL$2:$AL1622),N1622:Q3525,4,0),\"\")","v":""}]
[null,null,null,null,null,null,null,null,null,null,null,null,null,0,0,0,null,null,null,null,null,null,null,null,null,null,null,null,null,null,{"$f":"IFERROR(VLOOKUP(ROWS($AE$2:AE1623),P1623:Q3526,2,0),\"\")","v":""},null,null,null,null,{"$f":"IFERROR(VLOOKUP(ROWS($AJ$2:AJ1623),O1623:Q3526,3,0),\"\")","v":""},null,{"$f":"IFERROR(VLOOKUP(ROWS(AL$2:$AL1623),N1623:Q3526,4,0),\"\")","v":""}]
[null,null,null,null,null,null,null,null,null,null,null,null,null,0,0,0,null,null,null,null,null,null,null,null,null,null,null,null,null,null,{"$f":"IFERROR(VLOOKUP(ROWS($AE$2:AE1624),P1624:Q3527,2,0),\"\")","v":""},null,null,null,null,{"$f":"IFERROR(VLOOKUP(ROWS($AJ$2:AJ1624),O1624:Q3527,3,0),\"\")","v":""},null,{"$f":"IFERROR(VLOOKUP(ROWS(AL$2:$AL1624),N1624:Q3527,4,0),\"\")","v":""}]
[null,null,null,null,null,null,null,null,null,null,null,null,null,0,0,0,null,null,null,null,null,null,null,null,null,null,null,null,null,null,{"$f":"IFERROR(VLOOKUP(ROWS($AE$2:AE1625),P1625:Q3528,2,0),\"\")","v":""},null,null,null,null,{"$f":"IFERROR(VLOOKUP(ROWS($AJ$2:AJ1625),O1625:Q3528,3,0),\"\")","v":""},null,{"$f":"IFERROR(VLOOKUP(ROWS(AL$2:$AL1625),N1625:Q3528,4,0),\"\")","v":""}]
[null,null,null,null,null,null,null,null,null,null,null,null,null,0,0,0,null,null,null,null,null,null,null,null,null,null,null,null,null,null,{"$f":"IFERROR(VLOOKUP(ROWS($AE$2:AE1626),P1626:Q3529,2,0),\"\")","v":""},null,null,null,null,{"$f":"IFERROR(VLOOKUP(ROWS($AJ$2:AJ1626),O1626:Q3529,3,0),\"\")","v":""},null,{"$f":"IFERROR(VLOOKUP(ROWS(AL$2:$AL1626),N1626:Q3529,4,0),\"\")","v":""}]
[null,null,null,null,null,null,null,null,null,null,null,null,null,0,0,0,null,null,null,null,null,null,null,null,null,null,null,null,null,null,{"$f":"IFERROR(VLOOKUP(ROWS($AE$2:AE1627),P1627:Q3530,2,0),\"\")","v":""},null,null,null,null,{"$f":"IFERROR(VLOOKUP(ROWS($AJ$2:AJ1627),O1627:Q3530,3,0),\"\")","v":""},null,{"$f":"IFERROR(VLOOKUP(ROWS(AL$2:$AL1627),N1627:Q3530,4,0),\"\")","v":""}]
[null,null,null,null,null,null,null,null,null,null,null,null,null,0,0,0,null,null,null,null,null,null,null,null,null,null,null,null,null,null,{"$f":"IFERROR(VLOOKUP(ROWS($AE$2:AE1628),P1628:Q3531,2,0),\"\")","v":""},null,null,null,null,{"$f":"IFERROR(VLOOKUP(ROWS($AJ$2:AJ1628),O1628:Q3531,3,0),\"\")","v":""},null,{"$f":"IFERROR(VLOOKUP(ROWS(AL$2:$AL1628),N1628:Q3531,4,0),\"\")","v":""}]
[null,null,null,null,null,null,null,null,null,null,null,null,null,0,0,0,null,null,null,null,null,null,null,null,null,null,null,null,null,null,{"$f":"IFERROR(VLOOKUP(ROWS($AE$2:AE1629),P1629:Q3532,2,0),\"\")","v":""},null,null,null,null,{"$f":"IFERROR(VLOOKUP(ROWS($AJ$2:AJ1629),O1629:Q3532,3,0),\"\")","v":""},null,{"$f":"IFERROR(VLOOKUP(ROWS(AL$2:$AL1629),N1629:Q3532,4,0),\"\")","v":""}]
[null,null,null,null,null,null,null,null,null,null,null,null,null,0,0,0,null,null,null,null,null,null,null,null,null,null,null,null,null,null,{"$f":"IFERROR(VLOOKUP(ROWS($AE$2:AE1630),P1630:Q3533,2,0),\"\")","v":""},null,null,null,null,{"$f":"IFERROR(VLOOKUP(ROWS($AJ$2:AJ1630),O1630:Q3533,3,0),\"\")","v":""},null,{"$f":"IFERROR(VLOOKUP(ROWS(AL$2:$AL1630),N1630:Q3533,4,0),\"\")","v":""}]
[null,null,null,null,null,null,null,null,null,null,null,null,null,0,0,0,null,null,null,null,null,null,null,null,null,null,null,null,null,null,{"$f":"IFERROR(VLOOKUP(ROWS($AE$2:AE1631),P1631:Q3534,2,0),\"\")","v":""},null,null,null,null,{"$f":"IFERROR(VLOOKUP(ROWS($AJ$2:AJ1631),O1631:Q3534,3,0),\"\")","v":""},null,{"$f":"IFERROR(VLOOKUP(ROWS(AL$2:$AL1631),N1631:Q3534,4,0),\"\")","v":""}]
[null,null,null,null,null,null,null,null,null,null,null,null,null,0,0,0,null,null,null,null,null,null,null,null,null,null,null,null,null,null,{"$f":"IFERROR(VLOOKUP(ROWS($AE$2:AE1632),P1632:Q3535,2,0),\"\")","v":""},null,null,null,null,{"$f":"IFERROR(VLOOKUP(ROWS($AJ$2:AJ1632),O1632:Q3535,3,0),\"\")","v":""},null,{"$f":"IFERROR(VLOOKUP(ROWS(AL$2:$AL1632),N1632:Q3535,4,0),\"\")","v":""}]
[null,null,null,null,null,null,null,null,null,null,null,null,null,0,0,0,null,null,null,null,null,null,null,null,null,null,null,null,null,null,{"$f":"IFERROR(VLOOKUP(ROWS($AE$2:AE1633),P1633:Q3536,2,0),\"\")","v":""},null,null,null,null,{"$f":"IFERROR(VLOOKUP(ROWS($AJ$2:AJ1633),O1633:Q3536,3,0),\"\")","v":""},null,{"$f":"IFERROR(VLOOKUP(ROWS(AL$2:$AL1633),N1633:Q3536,4,0),\"\")","v":""}]
[null,null,null,null,null,null,null,null,null,null,null,null,null,0,0,0,null,null,null,null,null,null,null,null,null,null,null,null,null,null,{"$f":"IFERROR(VLOOKUP(ROWS($AE$2:AE1634),P1634:Q3537,2,0),\"\")","v":""},null,null,null,null,{"$f":"IFERROR(VLOOKUP(ROWS($AJ$2:AJ1634),O1634:Q3537,3,0),\"\")","v":""},null,{"$f":"IFERROR(VLOOKUP(ROWS(AL$2:$AL1634),N1634:Q3537,4,0),\"\")","v":""}]
[null,null,null,null,null,null,null,null,null,null,null,null,null,0,0,0,null,null,null,null,null,null,null,null,null,null,null,null,null,null,{"$f":"IFERROR(VLOOKUP(ROWS($AE$2:AE1635),P1635:Q3538,2,0),\"\")","v":""},null,null,null,null,{"$f":"IFERROR(VLOOKUP(ROWS($AJ$2:AJ1635),O1635:Q3538,3,0),\"\")","v":""},null,{"$f":"IFERROR(VLOOKUP(ROWS(AL$2:$AL1635),N1635:Q3538,4,0),\"\")","v":""}]
[null,null,null,null,null,null,null,null,null,null,null,null,null,0,0,0,null,null,null,null,null,null,null,null,null,null,null,null,null,null,{"$f":"IFERROR(VLOOKUP(ROWS($AE$2:AE1636),P1636:Q3539,2,0),\"\")","v":""},null,null,null,null,{"$f":"IFERROR(VLOOKUP(ROWS($AJ$2:AJ1636),O1636:Q3539,3,0),\"\")","v":""},null,{"$f":"IFERROR(VLOOKUP(ROWS(AL$2:$AL1636),N1636:Q3539,4,0),\"\")","v":""}]
[null,null,null,null,null,null,null,null,null,null,null,null,null,0,0,0,null,null,null,null,null,null,null,null,null,null,null,null,null,null,{"$f":"IFERROR(VLOOKUP(ROWS($AE$2:AE1637),P1637:Q3540,2,0),\"\")","v":""},null,null,null,null,{"$f":"IFERROR(VLOOKUP(ROWS($AJ$2:AJ1637),O1637:Q3540,3,0),\"\")","v":""},null,{"$f":"IFERROR(VLOOKUP(ROWS(AL$2:$AL1637),N1637:Q3540,4,0),\"\")","v":""}]
[null,null,null,null,null,null,null,null,null,null,null,null,null,0,0,0,null,null,null,null,null,null,null,null,null,null,null,null,null,null,{"$f":"IFERROR(VLOOKUP(ROWS($AE$2:AE1638),P1638:Q3541,2,0),\"\")","v":""},null,null,null,null,{"$f":"IFERROR(VLOOKUP(ROWS($AJ$2:AJ1638),O1638:Q3541,3,0),\"\")","v":""},null,{"$f":"IFERROR(VLOOKUP(ROWS(AL$2:$AL1638),N1638:Q3541,4,0),\"\")","v":""}]
[null,null,null,null,null,null,null,null,null,null,null,null,null,0,0,0,null,null,null,null,null,null,null,null,null,null,null,null,null,null,{"$f":"IFERROR(VLOOKUP(ROWS($AE$2:AE1639),P1639:Q3542,2,0),\"\")","v":""},null,null,null,null,{"$f":"IFERROR(VLOOKUP(ROWS($AJ$2:AJ1639),O1639:Q3542,3,0),\"\")","v":""},null,{"$f":"IFERROR(VLOOKUP(ROWS(AL$2:$AL1639),N1639:Q3542,4,0),\"\")","v":""}]
[null,null,null,null,null,null,null,null,null,null,null,null,null,0,0,0,null,null,null,null,null,null,null,null,null,null,null,null,null,null,{"$f":"IFERROR(VLOOKUP(ROWS($AE$2:AE1640),P1640:Q3543,2,0),\"\")","v":""},null,null,null,null,{"$f":"IFERROR(VLOOKUP(ROWS($AJ$2:AJ1640),O1640:Q3543,3,0),\"\")","v":""},null,{"$f":"IFERROR(VLOOKUP(ROWS(AL$2:$AL1640),N1640:Q3543,4,0),\"\")","v":""}]
[null,null,null,null,null,null,null,null,null,null,null,null,null,0,0,0,null,null,null,null,null,null,null,null,null,null,null,null,null,null,{"$f":"IFERROR(VLOOKUP(ROWS($AE$2:AE1641),P1641:Q3544,2,0),\"\")","v":""},null,null,null,null,{"$f":"IFERROR(VLOOKUP(ROWS($AJ$2:AJ1641),O1641:Q3544,3,0),\"\")","v":""},null,{"$f":"IFERROR(VLOOKUP(ROWS(AL$2:$AL1641),N1641:Q3544,4,0),\"\")","v":""}]
[null,null,null,null,null,null,null,null,null,null,null,null,null,0,0,0,null,null,null,null,null,null,null,null,null,null,null,null,null,null,{"$f":"IFERROR(VLOOKUP(ROWS($AE$2:AE1642),P1642:Q3545,2,0),\"\")","v":""},null,null,null,null,{"$f":"IFERROR(VLOOKUP(ROWS($AJ$2:AJ1642),O1642:Q3545,3,0),\"\")","v":""},null,{"$f":"IFERROR(VLOOKUP(ROWS(AL$2:$AL1642),N1642:Q3545,4,0),\"\")","v":""}]
[null,null,null,null,null,null,null,null,null,null,null,null,null,0,0,0,null,null,null,null,null,null,null,null,null,null,null,null,null,null,{"$f":"IFERROR(VLOOKUP(ROWS($AE$2:AE1643),P1643:Q3546,2,0),\"\")","v":""},null,null,null,null,{"$f":"IFERROR(VLOOKUP(ROWS($AJ$2:AJ1643),O1643:Q3546,3,0),\"\")","v":""},null,{"$f":"IFERROR(VLOOKUP(ROWS(AL$2:$AL1643),N1643:Q3546,4,0),\"\")","v":""}]
[null,null,null,null,null,null,null,null,null,null,null,null,null,0,0,0,null,null,null,null,null,null,null,null,null,null,null,null,null,null,{"$f":"IFERROR(VLOOKUP(ROWS($AE$2:AE1644),P1644:Q3547,2,0),\"\")","v":""},null,null,null,null,{"$f":"IFERROR(VLOOKUP(ROWS($AJ$2:AJ1644),O1644:Q3547,3,0),\"\")","v":""},null,{"$f":"IFERROR(VLOOKUP(ROWS(AL$2:$AL1644),N1644:Q3547,4,0),\"\")","v":""}]
[null,null,null,null,null,null,null,null,null,null,null,null,null,0,0,0,null,null,null,null,null,null,null,null,null,null,null,null,null,null,{"$f":"IFERROR(VLOOKUP(ROWS($AE$2:AE1645),P1645:Q3548,2,0),\"\")","v":""},null,null,null,null,{"$f":"IFERROR(VLOOKUP(ROWS($AJ$2:AJ1645),O1645:Q3548,3,0),\"\")","v":""},null,{"$f":"IFERROR(VLOOKUP(ROWS(AL$2:$AL1645),N1645:Q3548,4,0),\"\")","v":""}]
[null,null,null,null,null,null,null,null,null,null,null,null,null,0,0,0,null,null,null,null,null,null,null,null,null,null,null,null,null,null,{"$f":"IFERROR(VLOOKUP(ROWS($AE$2:AE1646),P1646:Q3549,2,0),\"\")","v":""},null,null,null,null,{"$f":"IFERROR(VLOOKUP(ROWS($AJ$2:AJ1646),O1646:Q3549,3,0),\"\")","v":""},null,{"$f":"IFERROR(VLOOKUP(ROWS(AL$2:$AL1646),N1646:Q3549,4,0),\"\")","v":""}]
[null,null,null,null,null,null,null,null,null,null,null,null,null,{"$f":"IF(ISNUMBER(SEARCH($H$16,Q1647)),MAX($N$1,N1646)+1,0)","v":0},{"$f":"IF(ISNUMBER(SEARCH($H$11,Q1647)),MAX($O$1,O1646)+1,0)","v":0},{"$f":"IF(ISNUMBER(SEARCH($H$6,Q1647)),MAX($P$1,P1646)+1,0)","v":0},null,null,null,null,null,null,null,null,null,null,null,null,null,null,{"$f":"IFERROR(VLOOKUP(ROWS($AE$2:AE1647),P1647:Q3550,2,0),\"\")","v":""},null,null,null,null,{"$f":"IFERROR(VLOOKUP(ROWS($AJ$2:AJ1647),O1647:Q3550,3,0),\"\")","v":""},null,{"$f":"IFERROR(VLOOKUP(ROWS(AL$2:$AL1647),N1647:Q3550,4,0),\"\")","v":""}]
[null,null,null,null,null,null,null,null,null,null,null,null,null,0,0,0,null,null,null,null,null,null,null,null,null,null,null,null,null,null,{"$f":"IFERROR(VLOOKUP(ROWS($AE$2:AE1648),P1648:Q3551,2,0),\"\")","v":""},null,null,null,null,{"$f":"IFERROR(VLOOKUP(ROWS($AJ$2:AJ1648),O1648:Q3551,3,0),\"\")","v":""},null,{"$f":"IFERROR(VLOOKUP(ROWS(AL$2:$AL1648),N1648:Q3551,4,0),\"\")","v":""}]
[null,null,null,null,null,null,null,null,null,null,null,null,null,0,0,0,null,null,null,null,null,null,null,null,null,null,null,null,null,null,{"$f":"IFERROR(VLOOKUP(ROWS($AE$2:AE1649),P1649:Q3552,2,0),\"\")","v":""},null,null,null,null,{"$f":"IFERROR(VLOOKUP(ROWS($AJ$2:AJ1649),O1649:Q3552,3,0),\"\")","v":""},null,{"$f":"IFERROR(VLOOKUP(ROWS(AL$2:$AL1649),N1649:Q3552,4,0),\"\")","v":""}]
[null,null,null,null,null,null,null,null,null,null,null,null,null,0,0,0,null,null,null,null,null,null,null,null,null,null,null,null,null,null,{"$f":"IFERROR(VLOOKUP(ROWS($AE$2:AE1650),P1650:Q3553,2,0),\"\")","v":""},null,null,null,null,{"$f":"IFERROR(VLOOKUP(ROWS($AJ$2:AJ1650),O1650:Q3553,3,0),\"\")","v":""},null,{"$f":"IFERROR(VLOOKUP(ROWS(AL$2:$AL1650),N1650:Q3553,4,0),\"\")","v":""}]
[null,null,null,null,null,null,null,null,null,null,null,null,null,0,0,0,null,null,null,null,null,null,null,null,null,null,null,null,null,null,{"$f":"IFERROR(VLOOKUP(ROWS($AE$2:AE1651),P1651:Q3554,2,0),\"\")","v":""},null,null,null,null,{"$f":"IFERROR(VLOOKUP(ROWS($AJ$2:AJ1651),O1651:Q3554,3,0),\"\")","v":""},null,{"$f":"IFERROR(VLOOKUP(ROWS(AL$2:$AL1651),N1651:Q3554,4,0),\"\")","v":""}]
[null,null,null,null,null,null,null,null,null,null,null,null,null,0,0,0,null,null,null,null,null,null,null,null,null,null,null,null,null,null,{"$f":"IFERROR(VLOOKUP(ROWS($AE$2:AE1652),P1652:Q3555,2,0),\"\")","v":""},null,null,null,null,{"$f":"IFERROR(VLOOKUP(ROWS($AJ$2:AJ1652),O1652:Q3555,3,0),\"\")","v":""},null,{"$f":"IFERROR(VLOOKUP(ROWS(AL$2:$AL1652),N1652:Q3555,4,0),\"\")","v":""}]
[null,null,null,null,null,null,null,null,null,null,null,null,null,0,0,0,null,null,null,null,null,null,null,null,null,null,null,null,null,null,{"$f":"IFERROR(VLOOKUP(ROWS($AE$2:AE1653),P1653:Q3556,2,0),\"\")","v":""},null,null,null,null,{"$f":"IFERROR(VLOOKUP(ROWS($AJ$2:AJ1653),O1653:Q3556,3,0),\"\")","v":""},null,{"$f":"IFERROR(VLOOKUP(ROWS(AL$2:$AL1653),N1653:Q3556,4,0),\"\")","v":""}]
[null,null,null,null,null,null,null,null,null,null,null,null,null,0,0,0,null,null,null,null,null,null,null,null,null,null,null,null,null,null,{"$f":"IFERROR(VLOOKUP(ROWS($AE$2:AE1654),P1654:Q3557,2,0),\"\")","v":""},null,null,null,null,{"$f":"IFERROR(VLOOKUP(ROWS($AJ$2:AJ1654),O1654:Q3557,3,0),\"\")","v":""},null,{"$f":"IFERROR(VLOOKUP(ROWS(AL$2:$AL1654),N1654:Q3557,4,0),\"\")","v":""}]
[null,null,null,null,null,null,null,null,null,null,null,null,null,0,0,0,null,null,null,null,null,null,null,null,null,null,null,null,null,null,{"$f":"IFERROR(VLOOKUP(ROWS($AE$2:AE1655),P1655:Q3558,2,0),\"\")","v":""},null,null,null,null,{"$f":"IFERROR(VLOOKUP(ROWS($AJ$2:AJ1655),O1655:Q3558,3,0),\"\")","v":""},null,{"$f":"IFERROR(VLOOKUP(ROWS(AL$2:$AL1655),N1655:Q3558,4,0),\"\")","v":""}]
[null,null,null,null,null,null,null,null,null,null,null,null,null,0,0,0,null,null,null,null,null,null,null,null,null,null,null,null,null,null,{"$f":"IFERROR(VLOOKUP(ROWS($AE$2:AE1656),P1656:Q3559,2,0),\"\")","v":""},null,null,null,null,{"$f":"IFERROR(VLOOKUP(ROWS($AJ$2:AJ1656),O1656:Q3559,3,0),\"\")","v":""},null,{"$f":"IFERROR(VLOOKUP(ROWS(AL$2:$AL1656),N1656:Q3559,4,0),\"\")","v":""}]
[null,null,null,null,null,null,null,null,null,null,null,null,null,0,0,0,null,null,null,null,null,null,null,null,null,null,null,null,null,null,{"$f":"IFERROR(VLOOKUP(ROWS($AE$2:AE1657),P1657:Q3560,2,0),\"\")","v":""},null,null,null,null,{"$f":"IFERROR(VLOOKUP(ROWS($AJ$2:AJ1657),O1657:Q3560,3,0),\"\")","v":""},null,{"$f":"IFERROR(VLOOKUP(ROWS(AL$2:$AL1657),N1657:Q3560,4,0),\"\")","v":""}]
[null,null,null,null,null,null,null,null,null,null,null,null,null,0,0,0,null,null,null,null,null,null,null,null,null,null,null,null,null,null,{"$f":"IFERROR(VLOOKUP(ROWS($AE$2:AE1658),P1658:Q3561,2,0),\"\")","v":""},null,null,null,null,{"$f":"IFERROR(VLOOKUP(ROWS($AJ$2:AJ1658),O1658:Q3561,3,0),\"\")","v":""},null,{"$f":"IFERROR(VLOOKUP(ROWS(AL$2:$AL1658),N1658:Q3561,4,0),\"\")","v":""}]
[null,null,null,null,null,null,null,null,null,null,null,null,null,0,0,0,null,null,null,null,null,null,null,null,null,null,null,null,null,null,{"$f":"IFERROR(VLOOKUP(ROWS($AE$2:AE1659),P1659:Q3562,2,0),\"\")","v":""},null,null,null,null,{"$f":"IFERROR(VLOOKUP(ROWS($AJ$2:AJ1659),O1659:Q3562,3,0),\"\")","v":""},null,{"$f":"IFERROR(VLOOKUP(ROWS(AL$2:$AL1659),N1659:Q3562,4,0),\"\")","v":""}]
[null,null,null,null,null,null,null,null,null,null,null,null,null,0,0,0,null,null,null,null,null,null,null,null,null,null,null,null,null,null,{"$f":"IFERROR(VLOOKUP(ROWS($AE$2:AE1660),P1660:Q3563,2,0),\"\")","v":""},null,null,null,null,{"$f":"IFERROR(VLOOKUP(ROWS($AJ$2:AJ1660),O1660:Q3563,3,0),\"\")","v":""},null,{"$f":"IFERROR(VLOOKUP(ROWS(AL$2:$AL1660),N1660:Q3563,4,0),\"\")","v":""}]
[null,null,null,null,null,null,null,null,null,null,null,null,null,0,0,0,null,null,null,null,null,null,null,null,null,null,null,null,null,null,{"$f":"IFERROR(VLOOKUP(ROWS($AE$2:AE1661),P1661:Q3564,2,0),\"\")","v":""},null,null,null,null,{"$f":"IFERROR(VLOOKUP(ROWS($AJ$2:AJ1661),O1661:Q3564,3,0),\"\")","v":""},null,{"$f":"IFERROR(VLOOKUP(ROWS(AL$2:$AL1661),N1661:Q3564,4,0),\"\")","v":""}]
[null,null,null,null,null,null,null,null,null,null,null,null,null,0,0,0,null,null,null,null,null,null,null,null,null,null,null,null,null,null,{"$f":"IFERROR(VLOOKUP(ROWS($AE$2:AE1662),P1662:Q3565,2,0),\"\")","v":""},null,null,null,null,{"$f":"IFERROR(VLOOKUP(ROWS($AJ$2:AJ1662),O1662:Q3565,3,0),\"\")","v":""},null,{"$f":"IFERROR(VLOOKUP(ROWS(AL$2:$AL1662),N1662:Q3565,4,0),\"\")","v":""}]
[null,null,null,null,null,null,null,null,null,null,null,null,null,0,0,0,null,null,null,null,null,null,null,null,null,null,null,null,null,null,{"$f":"IFERROR(VLOOKUP(ROWS($AE$2:AE1663),P1663:Q3566,2,0),\"\")","v":""},null,null,null,null,{"$f":"IFERROR(VLOOKUP(ROWS($AJ$2:AJ1663),O1663:Q3566,3,0),\"\")","v":""},null,{"$f":"IFERROR(VLOOKUP(ROWS(AL$2:$AL1663),N1663:Q3566,4,0),\"\")","v":""}]
[null,null,null,null,null,null,null,null,null,null,null,null,null,0,0,0,null,null,null,null,null,null,null,null,null,null,null,null,null,null,{"$f":"IFERROR(VLOOKUP(ROWS($AE$2:AE1664),P1664:Q3567,2,0),\"\")","v":""},null,null,null,null,{"$f":"IFERROR(VLOOKUP(ROWS($AJ$2:AJ1664),O1664:Q3567,3,0),\"\")","v":""},null,{"$f":"IFERROR(VLOOKUP(ROWS(AL$2:$AL1664),N1664:Q3567,4,0),\"\")","v":""}]
[null,null,null,null,null,null,null,null,null,null,null,null,null,0,0,0,null,null,null,null,null,null,null,null,null,null,null,null,null,null,{"$f":"IFERROR(VLOOKUP(ROWS($AE$2:AE1665),P1665:Q3568,2,0),\"\")","v":""},null,null,null,null,{"$f":"IFERROR(VLOOKUP(ROWS($AJ$2:AJ1665),O1665:Q3568,3,0),\"\")","v":""},null,{"$f":"IFERROR(VLOOKUP(ROWS(AL$2:$AL1665),N1665:Q3568,4,0),\"\")","v":""}]
[null,null,null,null,null,null,null,null,null,null,null,null,null,0,0,0,null,null,null,null,null,null,null,null,null,null,null,null,null,null,{"$f":"IFERROR(VLOOKUP(ROWS($AE$2:AE1666),P1666:Q3569,2,0),\"\")","v":""},null,null,null,null,{"$f":"IFERROR(VLOOKUP(ROWS($AJ$2:AJ1666),O1666:Q3569,3,0),\"\")","v":""},null,{"$f":"IFERROR(VLOOKUP(ROWS(AL$2:$AL1666),N1666:Q3569,4,0),\"\")","v":""}]
[null,null,null,null,null,null,null,null,null,null,null,null,null,0,0,0,null,null,null,null,null,null,null,null,null,null,null,null,null,null,{"$f":"IFERROR(VLOOKUP(ROWS($AE$2:AE1667),P1667:Q3570,2,0),\"\")","v":""},null,null,null,null,{"$f":"IFERROR(VLOOKUP(ROWS($AJ$2:AJ1667),O1667:Q3570,3,0),\"\")","v":""},null,{"$f":"IFERROR(VLOOKUP(ROWS(AL$2:$AL1667),N1667:Q3570,4,0),\"\")","v":""}]
[null,null,null,null,null,null,null,null,null,null,null,null,null,0,0,0,null,null,null,null,null,null,null,null,null,null,null,null,null,null,{"$f":"IFERROR(VLOOKUP(ROWS($AE$2:AE1668),P1668:Q3571,2,0),\"\")","v":""},null,null,null,null,{"$f":"IFERROR(VLOOKUP(ROWS($AJ$2:AJ1668),O1668:Q3571,3,0),\"\")","v":""},null,{"$f":"IFERROR(VLOOKUP(ROWS(AL$2:$AL1668),N1668:Q3571,4,0),\"\")","v":""}]
[null,null,null,null,null,null,null,null,null,null,null,null,null,0,0,0,null,null,null,null,null,null,null,null,null,null,null,null,null,null,{"$f":"IFERROR(VLOOKUP(ROWS($AE$2:AE1669),P1669:Q3572,2,0),\"\")","v":""},null,null,null,null,{"$f":"IFERROR(VLOOKUP(ROWS($AJ$2:AJ1669),O1669:Q3572,3,0),\"\")","v":""},null,{"$f":"IFERROR(VLOOKUP(ROWS(AL$2:$AL1669),N1669:Q3572,4,0),\"\")","v":""}]
[null,null,null,null,null,null,null,null,null,null,null,null,null,0,0,0,null,null,null,null,null,null,null,null,null,null,null,null,null,null,{"$f":"IFERROR(VLOOKUP(ROWS($AE$2:AE1670),P1670:Q3573,2,0),\"\")","v":""},null,null,null,null,{"$f":"IFERROR(VLOOKUP(ROWS($AJ$2:AJ1670),O1670:Q3573,3,0),\"\")","v":""},null,{"$f":"IFERROR(VLOOKUP(ROWS(AL$2:$AL1670),N1670:Q3573,4,0),\"\")","v":""}]
[null,null,null,null,null,null,null,null,null,null,null,null,null,0,0,0,null,null,null,null,null,null,null,null,null,null,null,null,null,null,{"$f":"IFERROR(VLOOKUP(ROWS($AE$2:AE1671),P1671:Q3574,2,0),\"\")","v":""},null,null,null,null,{"$f":"IFERROR(VLOOKUP(ROWS($AJ$2:AJ1671),O1671:Q3574,3,0),\"\")","v":""},null,{"$f":"IFERROR(VLOOKUP(ROWS(AL$2:$AL1671),N1671:Q3574,4,0),\"\")","v":""}]
[null,null,null,null,null,null,null,null,null,null,null,null,null,0,0,0,null,null,null,null,null,null,null,null,null,null,null,null,null,null,{"$f":"IFERROR(VLOOKUP(ROWS($AE$2:AE1672),P1672:Q3575,2,0),\"\")","v":""},null,null,null,null,{"$f":"IFERROR(VLOOKUP(ROWS($AJ$2:AJ1672),O1672:Q3575,3,0),\"\")","v":""},null,{"$f":"IFERROR(VLOOKUP(ROWS(AL$2:$AL1672),N1672:Q3575,4,0),\"\")","v":""}]
[null,null,null,null,null,null,null,null,null,null,null,null,null,0,0,0,null,null,null,null,null,null,null,null,null,null,null,null,null,null,{"$f":"IFERROR(VLOOKUP(ROWS($AE$2:AE1673),P1673:Q3576,2,0),\"\")","v":""},null,null,null,null,{"$f":"IFERROR(VLOOKUP(ROWS($AJ$2:AJ1673),O1673:Q3576,3,0),\"\")","v":""},null,{"$f":"IFERROR(VLOOKUP(ROWS(AL$2:$AL1673),N1673:Q3576,4,0),\"\")","v":""}]
[null,null,null,null,null,null,null,null,null,null,null,null,null,0,0,0,null,null,null,null,null,null,null,null,null,null,null,null,null,null,{"$f":"IFERROR(VLOOKUP(ROWS($AE$2:AE1674),P1674:Q3577,2,0),\"\")","v":""},null,null,null,null,{"$f":"IFERROR(VLOOKUP(ROWS($AJ$2:AJ1674),O1674:Q3577,3,0),\"\")","v":""},null,{"$f":"IFERROR(VLOOKUP(ROWS(AL$2:$AL1674),N1674:Q3577,4,0),\"\")","v":""}]
[null,null,null,null,null,null,null,null,null,null,null,null,null,0,0,0,null,null,null,null,null,null,null,null,null,null,null,null,null,null,{"$f":"IFERROR(VLOOKUP(ROWS($AE$2:AE1675),P1675:Q3578,2,0),\"\")","v":""},null,null,null,null,{"$f":"IFERROR(VLOOKUP(ROWS($AJ$2:AJ1675),O1675:Q3578,3,0),\"\")","v":""},null,{"$f":"IFERROR(VLOOKUP(ROWS(AL$2:$AL1675),N1675:Q3578,4,0),\"\")","v":""}]
[null,null,null,null,null,null,null,null,null,null,null,null,null,0,0,0,null,null,null,null,null,null,null,null,null,null,null,null,null,null,{"$f":"IFERROR(VLOOKUP(ROWS($AE$2:AE1676),P1676:Q3579,2,0),\"\")","v":""},null,null,null,null,{"$f":"IFERROR(VLOOKUP(ROWS($AJ$2:AJ1676),O1676:Q3579,3,0),\"\")","v":""},null,{"$f":"IFERROR(VLOOKUP(ROWS(AL$2:$AL1676),N1676:Q3579,4,0),\"\")","v":""}]
[null,null,null,null,null,null,null,null,null,null,null,null,null,0,0,0,null,null,null,null,null,null,null,null,null,null,null,null,null,null,{"$f":"IFERROR(VLOOKUP(ROWS($AE$2:AE1677),P1677:Q3580,2,0),\"\")","v":""},null,null,null,null,{"$f":"IFERROR(VLOOKUP(ROWS($AJ$2:AJ1677),O1677:Q3580,3,0),\"\")","v":""},null,{"$f":"IFERROR(VLOOKUP(ROWS(AL$2:$AL1677),N1677:Q3580,4,0),\"\")","v":""}]
[null,null,null,null,null,null,null,null,null,null,null,null,null,0,0,0,null,null,null,null,null,null,null,null,null,null,null,null,null,null,{"$f":"IFERROR(VLOOKUP(ROWS($AE$2:AE1678),P1678:Q3581,2,0),\"\")","v":""},null,null,null,null,{"$f":"IFERROR(VLOOKUP(ROWS($AJ$2:AJ1678),O1678:Q3581,3,0),\"\")","v":""},null,{"$f":"IFERROR(VLOOKUP(ROWS(AL$2:$AL1678),N1678:Q3581,4,0),\"\")","v":""}]
[null,null,null,null,null,null,null,null,null,null,null,null,null,0,0,0,null,null,null,null,null,null,null,null,null,null,null,null,null,null,{"$f":"IFERROR(VLOOKUP(ROWS($AE$2:AE1679),P1679:Q3582,2,0),\"\")","v":""},null,null,null,null,{"$f":"IFERROR(VLOOKUP(ROWS($AJ$2:AJ1679),O1679:Q3582,3,0),\"\")","v":""},null,{"$f":"IFERROR(VLOOKUP(ROWS(AL$2:$AL1679),N1679:Q3582,4,0),\"\")","v":""}]
[null,null,null,null,null,null,null,null,null,null,null,null,null,0,0,0,null,null,null,null,null,null,null,null,null,null,null,null,null,null,{"$f":"IFERROR(VLOOKUP(ROWS($AE$2:AE1680),P1680:Q3583,2,0),\"\")","v":""},null,null,null,null,{"$f":"IFERROR(VLOOKUP(ROWS($AJ$2:AJ1680),O1680:Q3583,3,0),\"\")","v":""},null,{"$f":"IFERROR(VLOOKUP(ROWS(AL$2:$AL1680),N1680:Q3583,4,0),\"\")","v":""}]
[null,null,null,null,null,null,null,null,null,null,null,null,null,0,0,0,null,null,null,null,null,null,null,null,null,null,null,null,null,null,{"$f":"IFERROR(VLOOKUP(ROWS($AE$2:AE1681),P1681:Q3584,2,0),\"\")","v":""},null,null,null,null,{"$f":"IFERROR(VLOOKUP(ROWS($AJ$2:AJ1681),O1681:Q3584,3,0),\"\")","v":""},null,{"$f":"IFERROR(VLOOKUP(ROWS(AL$2:$AL1681),N1681:Q3584,4,0),\"\")","v":""}]
[null,null,null,null,null,null,null,null,null,null,null,null,null,0,0,0,null,null,null,null,null,null,null,null,null,null,null,null,null,null,{"$f":"IFERROR(VLOOKUP(ROWS($AE$2:AE1682),P1682:Q3585,2,0),\"\")","v":""},null,null,null,null,{"$f":"IFERROR(VLOOKUP(ROWS($AJ$2:AJ1682),O1682:Q3585,3,0),\"\")","v":""},null,{"$f":"IFERROR(VLOOKUP(ROWS(AL$2:$AL1682),N1682:Q3585,4,0),\"\")","v":""}]
[null,null,null,null,null,null,null,null,null,null,null,null,null,0,0,0,null,null,null,null,null,null,null,null,null,null,null,null,null,null,{"$f":"IFERROR(VLOOKUP(ROWS($AE$2:AE1683),P1683:Q3586,2,0),\"\")","v":""},null,null,null,null,{"$f":"IFERROR(VLOOKUP(ROWS($AJ$2:AJ1683),O1683:Q3586,3,0),\"\")","v":""},null,{"$f":"IFERROR(VLOOKUP(ROWS(AL$2:$AL1683),N1683:Q3586,4,0),\"\")","v":""}]
[null,null,null,null,null,null,null,null,null,null,null,null,null,0,0,0,null,null,null,null,null,null,null,null,null,null,null,null,null,null,{"$f":"IFERROR(VLOOKUP(ROWS($AE$2:AE1684),P1684:Q3587,2,0),\"\")","v":""},null,null,null,null,{"$f":"IFERROR(VLOOKUP(ROWS($AJ$2:AJ1684),O1684:Q3587,3,0),\"\")","v":""},null,{"$f":"IFERROR(VLOOKUP(ROWS(AL$2:$AL1684),N1684:Q3587,4,0),\"\")","v":""}]
[null,null,null,null,null,null,null,null,null,null,null,null,null,0,0,0,null,null,null,null,null,null,null,null,null,null,null,null,null,null,{"$f":"IFERROR(VLOOKUP(ROWS($AE$2:AE1685),P1685:Q3588,2,0),\"\")","v":""},null,null,null,null,{"$f":"IFERROR(VLOOKUP(ROWS($AJ$2:AJ1685),O1685:Q3588,3,0),\"\")","v":""},null,{"$f":"IFERROR(VLOOKUP(ROWS(AL$2:$AL1685),N1685:Q3588,4,0),\"\")","v":""}]
[null,null,null,null,null,null,null,null,null,null,null,null,null,0,0,0,null,null,null,null,null,null,null,null,null,null,null,null,null,null,{"$f":"IFERROR(VLOOKUP(ROWS($AE$2:AE1686),P1686:Q3589,2,0),\"\")","v":""},null,null,null,null,{"$f":"IFERROR(VLOOKUP(ROWS($AJ$2:AJ1686),O1686:Q3589,3,0),\"\")","v":""},null,{"$f":"IFERROR(VLOOKUP(ROWS(AL$2:$AL1686),N1686:Q3589,4,0),\"\")","v":""}]
[null,null,null,null,null,null,null,null,null,null,null,null,null,0,0,0,null,null,null,null,null,null,null,null,null,null,null,null,null,null,{"$f":"IFERROR(VLOOKUP(ROWS($AE$2:AE1687),P1687:Q3590,2,0),\"\")","v":""},null,null,null,null,{"$f":"IFERROR(VLOOKUP(ROWS($AJ$2:AJ1687),O1687:Q3590,3,0),\"\")","v":""},null,{"$f":"IFERROR(VLOOKUP(ROWS(AL$2:$AL1687),N1687:Q3590,4,0),\"\")","v":""}]
[null,null,null,null,null,null,null,null,null,null,null,null,null,0,0,0,null,null,null,null,null,null,null,null,null,null,null,null,null,null,{"$f":"IFERROR(VLOOKUP(ROWS($AE$2:AE1688),P1688:Q3591,2,0),\"\")","v":""},null,null,null,null,{"$f":"IFERROR(VLOOKUP(ROWS($AJ$2:AJ1688),O1688:Q3591,3,0),\"\")","v":""},null,{"$f":"IFERROR(VLOOKUP(ROWS(AL$2:$AL1688),N1688:Q3591,4,0),\"\")","v":""}]
[null,null,null,null,null,null,null,null,null,null,null,null,null,0,0,0,null,null,null,null,null,null,null,null,null,null,null,null,null,null,{"$f":"IFERROR(VLOOKUP(ROWS($AE$2:AE1689),P1689:Q3592,2,0),\"\")","v":""},null,null,null,null,{"$f":"IFERROR(VLOOKUP(ROWS($AJ$2:AJ1689),O1689:Q3592,3,0),\"\")","v":""},null,{"$f":"IFERROR(VLOOKUP(ROWS(AL$2:$AL1689),N1689:Q3592,4,0),\"\")","v":""}]
[null,null,null,null,null,null,null,null,null,null,null,null,null,0,0,0,null,null,null,null,null,null,null,null,null,null,null,null,null,null,{"$f":"IFERROR(VLOOKUP(ROWS($AE$2:AE1690),P1690:Q3593,2,0),\"\")","v":""},null,null,null,null,{"$f":"IFERROR(VLOOKUP(ROWS($AJ$2:AJ1690),O1690:Q3593,3,0),\"\")","v":""},null,{"$f":"IFERROR(VLOOKUP(ROWS(AL$2:$AL1690),N1690:Q3593,4,0),\"\")","v":""}]
[null,null,null,null,null,null,null,null,null,null,null,null,null,0,0,0,null,null,null,null,null,null,null,null,null,null,null,null,null,null,{"$f":"IFERROR(VLOOKUP(ROWS($AE$2:AE1691),P1691:Q3594,2,0),\"\")","v":""},null,null,null,null,{"$f":"IFERROR(VLOOKUP(ROWS($AJ$2:AJ1691),O1691:Q3594,3,0),\"\")","v":""},null,{"$f":"IFERROR(VLOOKUP(ROWS(AL$2:$AL1691),N1691:Q3594,4,0),\"\")","v":""}]
[null,null,null,null,null,null,null,null,null,null,null,null,null,0,0,0,null,null,null,null,null,null,null,null,null,null,null,null,null,null,{"$f":"IFERROR(VLOOKUP(ROWS($AE$2:AE1692),P1692:Q3595,2,0),\"\")","v":""},null,null,null,null,{"$f":"IFERROR(VLOOKUP(ROWS($AJ$2:AJ1692),O1692:Q3595,3,0),\"\")","v":""},null,{"$f":"IFERROR(VLOOKUP(ROWS(AL$2:$AL1692),N1692:Q3595,4,0),\"\")","v":""}]
[null,null,null,null,null,null,null,null,null,null,null,null,null,0,0,0,null,null,null,null,null,null,null,null,null,null,null,null,null,null,{"$f":"IFERROR(VLOOKUP(ROWS($AE$2:AE1693),P1693:Q3596,2,0),\"\")","v":""},null,null,null,null,{"$f":"IFERROR(VLOOKUP(ROWS($AJ$2:AJ1693),O1693:Q3596,3,0),\"\")","v":""},null,{"$f":"IFERROR(VLOOKUP(ROWS(AL$2:$AL1693),N1693:Q3596,4,0),\"\")","v":""}]
[null,null,null,null,null,null,null,null,null,null,null,null,null,0,0,0,null,null,null,null,null,null,null,null,null,null,null,null,null,null,{"$f":"IFERROR(VLOOKUP(ROWS($AE$2:AE1694),P1694:Q3597,2,0),\"\")","v":""},null,null,null,null,{"$f":"IFERROR(VLOOKUP(ROWS($AJ$2:AJ1694),O1694:Q3597,3,0),\"\")","v":""},null,{"$f":"IFERROR(VLOOKUP(ROWS(AL$2:$AL1694),N1694:Q3597,4,0),\"\")","v":""}]
[null,null,null,null,null,null,null,null,null,null,null,null,null,0,0,0,null,null,null,null,null,null,null,null,null,null,null,null,null,null,{"$f":"IFERROR(VLOOKUP(ROWS($AE$2:AE1695),P1695:Q3598,2,0),\"\")","v":""},null,null,null,null,{"$f":"IFERROR(VLOOKUP(ROWS($AJ$2:AJ1695),O1695:Q3598,3,0),\"\")","v":""},null,{"$f":"IFERROR(VLOOKUP(ROWS(AL$2:$AL1695),N1695:Q3598,4,0),\"\")","v":""}]
[null,null,null,null,null,null,null,null,null,null,null,null,null,0,0,0,null,null,null,null,null,null,null,null,null,null,null,null,null,null,{"$f":"IFERROR(VLOOKUP(ROWS($AE$2:AE1696),P1696:Q3599,2,0),\"\")","v":""},null,null,null,null,{"$f":"IFERROR(VLOOKUP(ROWS($AJ$2:AJ1696),O1696:Q3599,3,0),\"\")","v":""},null,{"$f":"IFERROR(VLOOKUP(ROWS(AL$2:$AL1696),N1696:Q3599,4,0),\"\")","v":""}]
[null,null,null,null,null,null,null,null,null,null,null,null,null,0,0,0,null,null,null,null,null,null,null,null,null,null,null,null,null,null,{"$f":"IFERROR(VLOOKUP(ROWS($AE$2:AE1697),P1697:Q3600,2,0),\"\")","v":""},null,null,null,null,{"$f":"IFERROR(VLOOKUP(ROWS($AJ$2:AJ1697),O1697:Q3600,3,0),\"\")","v":""},null,{"$f":"IFERROR(VLOOKUP(ROWS(AL$2:$AL1697),N1697:Q3600,4,0),\"\")","v":""}]
[null,null,null,null,null,null,null,null,null,null,null,null,null,0,0,0,null,null,null,null,null,null,null,null,null,null,null,null,null,null,{"$f":"IFERROR(VLOOKUP(ROWS($AE$2:AE1698),P1698:Q3601,2,0),\"\")","v":""},null,null,null,null,{"$f":"IFERROR(VLOOKUP(ROWS($AJ$2:AJ1698),O1698:Q3601,3,0),\"\")","v":""},null,{"$f":"IFERROR(VLOOKUP(ROWS(AL$2:$AL1698),N1698:Q3601,4,0),\"\")","v":""}]
[null,null,null,null,null,null,null,null,null,null,null,null,null,0,0,0,null,null,null,null,null,null,null,null,null,null,null,null,null,null,{"$f":"IFERROR(VLOOKUP(ROWS($AE$2:AE1699),P1699:Q3602,2,0),\"\")","v":""},null,null,null,null,{"$f":"IFERROR(VLOOKUP(ROWS($AJ$2:AJ1699),O1699:Q3602,3,0),\"\")","v":""},null,{"$f":"IFERROR(VLOOKUP(ROWS(AL$2:$AL1699),N1699:Q3602,4,0),\"\")","v":""}]
[null,null,null,null,null,null,null,null,null,null,null,null,null,0,0,0,null,null,null,null,null,null,null,null,null,null,null,null,null,null,{"$f":"IFERROR(VLOOKUP(ROWS($AE$2:AE1700),P1700:Q3603,2,0),\"\")","v":""},null,null,null,null,{"$f":"IFERROR(VLOOKUP(ROWS($AJ$2:AJ1700),O1700:Q3603,3,0),\"\")","v":""},null,{"$f":"IFERROR(VLOOKUP(ROWS(AL$2:$AL1700),N1700:Q3603,4,0),\"\")","v":""}]
[null,null,null,null,null,null,null,null,null,null,null,null,null,0,0,0,null,null,null,null,null,null,null,null,null,null,null,null,null,null,{"$f":"IFERROR(VLOOKUP(ROWS($AE$2:AE1701),P1701:Q3604,2,0),\"\")","v":""},null,null,null,null,{"$f":"IFERROR(VLOOKUP(ROWS($AJ$2:AJ1701),O1701:Q3604,3,0),\"\")","v":""},null,{"$f":"IFERROR(VLOOKUP(ROWS(AL$2:$AL1701),N1701:Q3604,4,0),\"\")","v":""}]
[null,null,null,null,null,null,null,null,null,null,null,null,null,0,0,0,null,null,null,null,null,null,null,null,null,null,null,null,null,null,{"$f":"IFERROR(VLOOKUP(ROWS($AE$2:AE1702),P1702:Q3605,2,0),\"\")","v":""},null,null,null,null,{"$f":"IFERROR(VLOOKUP(ROWS($AJ$2:AJ1702),O1702:Q3605,3,0),\"\")","v":""},null,{"$f":"IFERROR(VLOOKUP(ROWS(AL$2:$AL1702),N1702:Q3605,4,0),\"\")","v":""}]
[null,null,null,null,null,null,null,null,null,null,null,null,null,0,0,0,null,null,null,null,null,null,null,null,null,null,null,null,null,null,{"$f":"IFERROR(VLOOKUP(ROWS($AE$2:AE1703),P1703:Q3606,2,0),\"\")","v":""},null,null,null,null,{"$f":"IFERROR(VLOOKUP(ROWS($AJ$2:AJ1703),O1703:Q3606,3,0),\"\")","v":""},null,{"$f":"IFERROR(VLOOKUP(ROWS(AL$2:$AL1703),N1703:Q3606,4,0),\"\")","v":""}]
[null,null,null,null,null,null,null,null,null,null,null,null,null,0,0,0,null,null,null,null,null,null,null,null,null,null,null,null,null,null,{"$f":"IFERROR(VLOOKUP(ROWS($AE$2:AE1704),P1704:Q3607,2,0),\"\")","v":""},null,null,null,null,{"$f":"IFERROR(VLOOKUP(ROWS($AJ$2:AJ1704),O1704:Q3607,3,0),\"\")","v":""},null,{"$f":"IFERROR(VLOOKUP(ROWS(AL$2:$AL1704),N1704:Q3607,4,0),\"\")","v":""}]
[null,null,null,null,null,null,null,null,null,null,null,null,null,0,0,0,null,null,null,null,null,null,null,null,null,null,null,null,null,null,{"$f":"IFERROR(VLOOKUP(ROWS($AE$2:AE1705),P1705:Q3608,2,0),\"\")","v":""},null,null,null,null,{"$f":"IFERROR(VLOOKUP(ROWS($AJ$2:AJ1705),O1705:Q3608,3,0),\"\")","v":""},null,{"$f":"IFERROR(VLOOKUP(ROWS(AL$2:$AL1705),N1705:Q3608,4,0),\"\")","v":""}]
[null,null,null,null,null,null,null,null,null,null,null,null,null,0,0,0,null,null,null,null,null,null,null,null,null,null,null,null,null,null,{"$f":"IFERROR(VLOOKUP(ROWS($AE$2:AE1706),P1706:Q3609,2,0),\"\")","v":""},null,null,null,null,{"$f":"IFERROR(VLOOKUP(ROWS($AJ$2:AJ1706),O1706:Q3609,3,0),\"\")","v":""},null,{"$f":"IFERROR(VLOOKUP(ROWS(AL$2:$AL1706),N1706:Q3609,4,0),\"\")","v":""}]
[null,null,null,null,null,null,null,null,null,null,null,null,null,0,0,0,null,null,null,null,null,null,null,null,null,null,null,null,null,null,{"$f":"IFERROR(VLOOKUP(ROWS($AE$2:AE1707),P1707:Q3610,2,0),\"\")","v":""},null,null,null,null,{"$f":"IFERROR(VLOOKUP(ROWS($AJ$2:AJ1707),O1707:Q3610,3,0),\"\")","v":""},null,{"$f":"IFERROR(VLOOKUP(ROWS(AL$2:$AL1707),N1707:Q3610,4,0),\"\")","v":""}]
[null,null,null,null,null,null,null,null,null,null,null,null,null,0,0,0,null,null,null,null,null,null,null,null,null,null,null,null,null,null,{"$f":"IFERROR(VLOOKUP(ROWS($AE$2:AE1708),P1708:Q3611,2,0),\"\")","v":""},null,null,null,null,{"$f":"IFERROR(VLOOKUP(ROWS($AJ$2:AJ1708),O1708:Q3611,3,0),\"\")","v":""},null,{"$f":"IFERROR(VLOOKUP(ROWS(AL$2:$AL1708),N1708:Q3611,4,0),\"\")","v":""}]
[null,null,null,null,null,null,null,null,null,null,null,null,null,0,0,0,null,null,null,null,null,null,null,null,null,null,null,null,null,null,{"$f":"IFERROR(VLOOKUP(ROWS($AE$2:AE1709),P1709:Q3612,2,0),\"\")","v":""},null,null,null,null,{"$f":"IFERROR(VLOOKUP(ROWS($AJ$2:AJ1709),O1709:Q3612,3,0),\"\")","v":""},null,{"$f":"IFERROR(VLOOKUP(ROWS(AL$2:$AL1709),N1709:Q3612,4,0),\"\")","v":""}]
[null,null,null,null,null,null,null,null,null,null,null,null,null,0,0,0,null,null,null,null,null,null,null,null,null,null,null,null,null,null,{"$f":"IFERROR(VLOOKUP(ROWS($AE$2:AE1710),P1710:Q3613,2,0),\"\")","v":""},null,null,null,null,{"$f":"IFERROR(VLOOKUP(ROWS($AJ$2:AJ1710),O1710:Q3613,3,0),\"\")","v":""},null,{"$f":"IFERROR(VLOOKUP(ROWS(AL$2:$AL1710),N1710:Q3613,4,0),\"\")","v":""}]
[null,null,null,null,null,null,null,null,null,null,null,null,null,{"$f":"IF(ISNUMBER(SEARCH($H$16,Q1711)),MAX($N$1,N1710)+1,0)","v":0},{"$f":"IF(ISNUMBER(SEARCH($H$11,Q1711)),MAX($O$1,O1710)+1,0)","v":0},{"$f":"IF(ISNUMBER(SEARCH($H$6,Q1711)),MAX($P$1,P1710)+1,0)","v":0},null,null,null,null,null,null,null,null,null,null,null,null,null,null,{"$f":"IFERROR(VLOOKUP(ROWS($AE$2:AE1711),P1711:Q3614,2,0),\"\")","v":""},null,null,null,null,{"$f":"IFERROR(VLOOKUP(ROWS($AJ$2:AJ1711),O1711:Q3614,3,0),\"\")","v":""},null,{"$f":"IFERROR(VLOOKUP(ROWS(AL$2:$AL1711),N1711:Q3614,4,0),\"\")","v":""}]
[null,null,null,null,null,null,null,null,null,null,null,null,null,0,0,0,null,null,null,null,null,null,null,null,null,null,null,null,null,null,{"$f":"IFERROR(VLOOKUP(ROWS($AE$2:AE1712),P1712:Q3615,2,0),\"\")","v":""},null,null,null,null,{"$f":"IFERROR(VLOOKUP(ROWS($AJ$2:AJ1712),O1712:Q3615,3,0),\"\")","v":""},null,{"$f":"IFERROR(VLOOKUP(ROWS(AL$2:$AL1712),N1712:Q3615,4,0),\"\")","v":""}]
[null,null,null,null,null,null,null,null,null,null,null,null,null,0,0,0,null,null,null,null,null,null,null,null,null,null,null,null,null,null,{"$f":"IFERROR(VLOOKUP(ROWS($AE$2:AE1713),P1713:Q3616,2,0),\"\")","v":""},null,null,null,null,{"$f":"IFERROR(VLOOKUP(ROWS($AJ$2:AJ1713),O1713:Q3616,3,0),\"\")","v":""},null,{"$f":"IFERROR(VLOOKUP(ROWS(AL$2:$AL1713),N1713:Q3616,4,0),\"\")","v":""}]
[null,null,null,null,null,null,null,null,null,null,null,null,null,0,0,0,null,null,null,null,null,null,null,null,null,null,null,null,null,null,{"$f":"IFERROR(VLOOKUP(ROWS($AE$2:AE1714),P1714:Q3617,2,0),\"\")","v":""},null,null,null,null,{"$f":"IFERROR(VLOOKUP(ROWS($AJ$2:AJ1714),O1714:Q3617,3,0),\"\")","v":""},null,{"$f":"IFERROR(VLOOKUP(ROWS(AL$2:$AL1714),N1714:Q3617,4,0),\"\")","v":""}]
[null,null,null,null,null,null,null,null,null,null,null,null,null,0,0,0,null,null,null,null,null,null,null,null,null,null,null,null,null,null,{"$f":"IFERROR(VLOOKUP(ROWS($AE$2:AE1715),P1715:Q3618,2,0),\"\")","v":""},null,null,null,null,{"$f":"IFERROR(VLOOKUP(ROWS($AJ$2:AJ1715),O1715:Q3618,3,0),\"\")","v":""},null,{"$f":"IFERROR(VLOOKUP(ROWS(AL$2:$AL1715),N1715:Q3618,4,0),\"\")","v":""}]
[null,null,null,null,null,null,null,null,null,null,null,null,null,0,0,0,null,null,null,null,null,null,null,null,null,null,null,null,null,null,{"$f":"IFERROR(VLOOKUP(ROWS($AE$2:AE1716),P1716:Q3619,2,0),\"\")","v":""},null,null,null,null,{"$f":"IFERROR(VLOOKUP(ROWS($AJ$2:AJ1716),O1716:Q3619,3,0),\"\")","v":""},null,{"$f":"IFERROR(VLOOKUP(ROWS(AL$2:$AL1716),N1716:Q3619,4,0),\"\")","v":""}]
[null,null,null,null,null,null,null,null,null,null,null,null,null,0,0,0,null,null,null,null,null,null,null,null,null,null,null,null,null,null,{"$f":"IFERROR(VLOOKUP(ROWS($AE$2:AE1717),P1717:Q3620,2,0),\"\")","v":""},null,null,null,null,{"$f":"IFERROR(VLOOKUP(ROWS($AJ$2:AJ1717),O1717:Q3620,3,0),\"\")","v":""},null,{"$f":"IFERROR(VLOOKUP(ROWS(AL$2:$AL1717),N1717:Q3620,4,0),\"\")","v":""}]
[null,null,null,null,null,null,null,null,null,null,null,null,null,0,0,0,null,null,null,null,null,null,null,null,null,null,null,null,null,null,{"$f":"IFERROR(VLOOKUP(ROWS($AE$2:AE1718),P1718:Q3621,2,0),\"\")","v":""},null,null,null,null,{"$f":"IFERROR(VLOOKUP(ROWS($AJ$2:AJ1718),O1718:Q3621,3,0),\"\")","v":""},null,{"$f":"IFERROR(VLOOKUP(ROWS(AL$2:$AL1718),N1718:Q3621,4,0),\"\")","v":""}]
[null,null,null,null,null,null,null,null,null,null,null,null,null,0,0,0,null,null,null,null,null,null,null,null,null,null,null,null,null,null,{"$f":"IFERROR(VLOOKUP(ROWS($AE$2:AE1719),P1719:Q3622,2,0),\"\")","v":""},null,null,null,null,{"$f":"IFERROR(VLOOKUP(ROWS($AJ$2:AJ1719),O1719:Q3622,3,0),\"\")","v":""},null,{"$f":"IFERROR(VLOOKUP(ROWS(AL$2:$AL1719),N1719:Q3622,4,0),\"\")","v":""}]
[null,null,null,null,null,null,null,null,null,null,null,null,null,0,0,0,null,null,null,null,null,null,null,null,null,null,null,null,null,null,{"$f":"IFERROR(VLOOKUP(ROWS($AE$2:AE1720),P1720:Q3623,2,0),\"\")","v":""},null,null,null,null,{"$f":"IFERROR(VLOOKUP(ROWS($AJ$2:AJ1720),O1720:Q3623,3,0),\"\")","v":""},null,{"$f":"IFERROR(VLOOKUP(ROWS(AL$2:$AL1720),N1720:Q3623,4,0),\"\")","v":""}]
[null,null,null,null,null,null,null,null,null,null,null,null,null,0,0,0,null,null,null,null,null,null,null,null,null,null,null,null,null,null,{"$f":"IFERROR(VLOOKUP(ROWS($AE$2:AE1721),P1721:Q3624,2,0),\"\")","v":""},null,null,null,null,{"$f":"IFERROR(VLOOKUP(ROWS($AJ$2:AJ1721),O1721:Q3624,3,0),\"\")","v":""},null,{"$f":"IFERROR(VLOOKUP(ROWS(AL$2:$AL1721),N1721:Q3624,4,0),\"\")","v":""}]
[null,null,null,null,null,null,null,null,null,null,null,null,null,0,0,0,null,null,null,null,null,null,null,null,null,null,null,null,null,null,{"$f":"IFERROR(VLOOKUP(ROWS($AE$2:AE1722),P1722:Q3625,2,0),\"\")","v":""},null,null,null,null,{"$f":"IFERROR(VLOOKUP(ROWS($AJ$2:AJ1722),O1722:Q3625,3,0),\"\")","v":""},null,{"$f":"IFERROR(VLOOKUP(ROWS(AL$2:$AL1722),N1722:Q3625,4,0),\"\")","v":""}]
[null,null,null,null,null,null,null,null,null,null,null,null,null,0,0,0,null,null,null,null,null,null,null,null,null,null,null,null,null,null,{"$f":"IFERROR(VLOOKUP(ROWS($AE$2:AE1723),P1723:Q3626,2,0),\"\")","v":""},null,null,null,null,{"$f":"IFERROR(VLOOKUP(ROWS($AJ$2:AJ1723),O1723:Q3626,3,0),\"\")","v":""},null,{"$f":"IFERROR(VLOOKUP(ROWS(AL$2:$AL1723),N1723:Q3626,4,0),\"\")","v":""}]
[null,null,null,null,null,null,null,null,null,null,null,null,null,0,0,0,null,null,null,null,null,null,null,null,null,null,null,null,null,null,{"$f":"IFERROR(VLOOKUP(ROWS($AE$2:AE1724),P1724:Q3627,2,0),\"\")","v":""},null,null,null,null,{"$f":"IFERROR(VLOOKUP(ROWS($AJ$2:AJ1724),O1724:Q3627,3,0),\"\")","v":""},null,{"$f":"IFERROR(VLOOKUP(ROWS(AL$2:$AL1724),N1724:Q3627,4,0),\"\")","v":""}]
[null,null,null,null,null,null,null,null,null,null,null,null,null,0,0,0,null,null,null,null,null,null,null,null,null,null,null,null,null,null,{"$f":"IFERROR(VLOOKUP(ROWS($AE$2:AE1725),P1725:Q3628,2,0),\"\")","v":""},null,null,null,null,{"$f":"IFERROR(VLOOKUP(ROWS($AJ$2:AJ1725),O1725:Q3628,3,0),\"\")","v":""},null,{"$f":"IFERROR(VLOOKUP(ROWS(AL$2:$AL1725),N1725:Q3628,4,0),\"\")","v":""}]
[null,null,null,null,null,null,null,null,null,null,null,null,null,0,0,0,null,null,null,null,null,null,null,null,null,null,null,null,null,null,{"$f":"IFERROR(VLOOKUP(ROWS($AE$2:AE1726),P1726:Q3629,2,0),\"\")","v":""},null,null,null,null,{"$f":"IFERROR(VLOOKUP(ROWS($AJ$2:AJ1726),O1726:Q3629,3,0),\"\")","v":""},null,{"$f":"IFERROR(VLOOKUP(ROWS(AL$2:$AL1726),N1726:Q3629,4,0),\"\")","v":""}]
[null,null,null,null,null,null,null,null,null,null,null,null,null,0,0,0,null,null,null,null,null,null,null,null,null,null,null,null,null,null,{"$f":"IFERROR(VLOOKUP(ROWS($AE$2:AE1727),P1727:Q3630,2,0),\"\")","v":""},null,null,null,null,{"$f":"IFERROR(VLOOKUP(ROWS($AJ$2:AJ1727),O1727:Q3630,3,0),\"\")","v":""},null,{"$f":"IFERROR(VLOOKUP(ROWS(AL$2:$AL1727),N1727:Q3630,4,0),\"\")","v":""}]
[null,null,null,null,null,null,null,null,null,null,null,null,null,0,0,0,null,null,null,null,null,null,null,null,null,null,null,null,null,null,{"$f":"IFERROR(VLOOKUP(ROWS($AE$2:AE1728),P1728:Q3631,2,0),\"\")","v":""},null,null,null,null,{"$f":"IFERROR(VLOOKUP(ROWS($AJ$2:AJ1728),O1728:Q3631,3,0),\"\")","v":""},null,{"$f":"IFERROR(VLOOKUP(ROWS(AL$2:$AL1728),N1728:Q3631,4,0),\"\")","v":""}]
[null,null,null,null,null,null,null,null,null,null,null,null,null,0,0,0,null,null,null,null,null,null,null,null,null,null,null,null,null,null,{"$f":"IFERROR(VLOOKUP(ROWS($AE$2:AE1729),P1729:Q3632,2,0),\"\")","v":""},null,null,null,null,{"$f":"IFERROR(VLOOKUP(ROWS($AJ$2:AJ1729),O1729:Q3632,3,0),\"\")","v":""},null,{"$f":"IFERROR(VLOOKUP(ROWS(AL$2:$AL1729),N1729:Q3632,4,0),\"\")","v":""}]
[null,null,null,null,null,null,null,null,null,null,null,null,null,0,0,0,null,null,null,null,null,null,null,null,null,null,null,null,null,null,{"$f":"IFERROR(VLOOKUP(ROWS($AE$2:AE1730),P1730:Q3633,2,0),\"\")","v":""},null,null,null,null,{"$f":"IFERROR(VLOOKUP(ROWS($AJ$2:AJ1730),O1730:Q3633,3,0),\"\")","v":""},null,{"$f":"IFERROR(VLOOKUP(ROWS(AL$2:$AL1730),N1730:Q3633,4,0),\"\")","v":""}]
[null,null,null,null,null,null,null,null,null,null,null,null,null,0,0,0,null,null,null,null,null,null,null,null,null,null,null,null,null,null,{"$f":"IFERROR(VLOOKUP(ROWS($AE$2:AE1731),P1731:Q3634,2,0),\"\")","v":""},null,null,null,null,{"$f":"IFERROR(VLOOKUP(ROWS($AJ$2:AJ1731),O1731:Q3634,3,0),\"\")","v":""},null,{"$f":"IFERROR(VLOOKUP(ROWS(AL$2:$AL1731),N1731:Q3634,4,0),\"\")","v":""}]
[null,null,null,null,null,null,null,null,null,null,null,null,null,0,0,0,null,null,null,null,null,null,null,null,null,null,null,null,null,null,{"$f":"IFERROR(VLOOKUP(ROWS($AE$2:AE1732),P1732:Q3635,2,0),\"\")","v":""},null,null,null,null,{"$f":"IFERROR(VLOOKUP(ROWS($AJ$2:AJ1732),O1732:Q3635,3,0),\"\")","v":""},null,{"$f":"IFERROR(VLOOKUP(ROWS(AL$2:$AL1732),N1732:Q3635,4,0),\"\")","v":""}]
[null,null,null,null,null,null,null,null,null,null,null,null,null,0,0,0,null,null,null,null,null,null,null,null,null,null,null,null,null,null,{"$f":"IFERROR(VLOOKUP(ROWS($AE$2:AE1733),P1733:Q3636,2,0),\"\")","v":""},null,null,null,null,{"$f":"IFERROR(VLOOKUP(ROWS($AJ$2:AJ1733),O1733:Q3636,3,0),\"\")","v":""},null,{"$f":"IFERROR(VLOOKUP(ROWS(AL$2:$AL1733),N1733:Q3636,4,0),\"\")","v":""}]
[null,null,null,null,null,null,null,null,null,null,null,null,null,0,0,0,null,null,null,null,null,null,null,null,null,null,null,null,null,null,{"$f":"IFERROR(VLOOKUP(ROWS($AE$2:AE1734),P1734:Q3637,2,0),\"\")","v":""},null,null,null,null,{"$f":"IFERROR(VLOOKUP(ROWS($AJ$2:AJ1734),O1734:Q3637,3,0),\"\")","v":""},null,{"$f":"IFERROR(VLOOKUP(ROWS(AL$2:$AL1734),N1734:Q3637,4,0),\"\")","v":""}]
[null,null,null,null,null,null,null,null,null,null,null,null,null,0,0,0,null,null,null,null,null,null,null,null,null,null,null,null,null,null,{"$f":"IFERROR(VLOOKUP(ROWS($AE$2:AE1735),P1735:Q3638,2,0),\"\")","v":""},null,null,null,null,{"$f":"IFERROR(VLOOKUP(ROWS($AJ$2:AJ1735),O1735:Q3638,3,0),\"\")","v":""},null,{"$f":"IFERROR(VLOOKUP(ROWS(AL$2:$AL1735),N1735:Q3638,4,0),\"\")","v":""}]
[null,null,null,null,null,null,null,null,null,null,null,null,null,0,0,0,null,null,null,null,null,null,null,null,null,null,null,null,null,null,{"$f":"IFERROR(VLOOKUP(ROWS($AE$2:AE1736),P1736:Q3639,2,0),\"\")","v":""},null,null,null,null,{"$f":"IFERROR(VLOOKUP(ROWS($AJ$2:AJ1736),O1736:Q3639,3,0),\"\")","v":""},null,{"$f":"IFERROR(VLOOKUP(ROWS(AL$2:$AL1736),N1736:Q3639,4,0),\"\")","v":""}]
[null,null,null,null,null,null,null,null,null,null,null,null,null,0,0,0,null,null,null,null,null,null,null,null,null,null,null,null,null,null,{"$f":"IFERROR(VLOOKUP(ROWS($AE$2:AE1737),P1737:Q3640,2,0),\"\")","v":""},null,null,null,null,{"$f":"IFERROR(VLOOKUP(ROWS($AJ$2:AJ1737),O1737:Q3640,3,0),\"\")","v":""},null,{"$f":"IFERROR(VLOOKUP(ROWS(AL$2:$AL1737),N1737:Q3640,4,0),\"\")","v":""}]
[null,null,null,null,null,null,null,null,null,null,null,null,null,0,0,0,null,null,null,null,null,null,null,null,null,null,null,null,null,null,{"$f":"IFERROR(VLOOKUP(ROWS($AE$2:AE1738),P1738:Q3641,2,0),\"\")","v":""},null,null,null,null,{"$f":"IFERROR(VLOOKUP(ROWS($AJ$2:AJ1738),O1738:Q3641,3,0),\"\")","v":""},null,{"$f":"IFERROR(VLOOKUP(ROWS(AL$2:$AL1738),N1738:Q3641,4,0),\"\")","v":""}]
[null,null,null,null,null,null,null,null,null,null,null,null,null,0,0,0,null,null,null,null,null,null,null,null,null,null,null,null,null,null,{"$f":"IFERROR(VLOOKUP(ROWS($AE$2:AE1739),P1739:Q3642,2,0),\"\")","v":""},null,null,null,null,{"$f":"IFERROR(VLOOKUP(ROWS($AJ$2:AJ1739),O1739:Q3642,3,0),\"\")","v":""},null,{"$f":"IFERROR(VLOOKUP(ROWS(AL$2:$AL1739),N1739:Q3642,4,0),\"\")","v":""}]
[null,null,null,null,null,null,null,null,null,null,null,null,null,0,0,0,null,null,null,null,null,null,null,null,null,null,null,null,null,null,{"$f":"IFERROR(VLOOKUP(ROWS($AE$2:AE1740),P1740:Q3643,2,0),\"\")","v":""},null,null,null,null,{"$f":"IFERROR(VLOOKUP(ROWS($AJ$2:AJ1740),O1740:Q3643,3,0),\"\")","v":""},null,{"$f":"IFERROR(VLOOKUP(ROWS(AL$2:$AL1740),N1740:Q3643,4,0),\"\")","v":""}]
[null,null,null,null,null,null,null,null,null,null,null,null,null,0,0,0,null,null,null,null,null,null,null,null,null,null,null,null,null,null,{"$f":"IFERROR(VLOOKUP(ROWS($AE$2:AE1741),P1741:Q3644,2,0),\"\")","v":""},null,null,null,null,{"$f":"IFERROR(VLOOKUP(ROWS($AJ$2:AJ1741),O1741:Q3644,3,0),\"\")","v":""},null,{"$f":"IFERROR(VLOOKUP(ROWS(AL$2:$AL1741),N1741:Q3644,4,0),\"\")","v":""}]
[null,null,null,null,null,null,null,null,null,null,null,null,null,0,0,0,null,null,null,null,null,null,null,null,null,null,null,null,null,null,{"$f":"IFERROR(VLOOKUP(ROWS($AE$2:AE1742),P1742:Q3645,2,0),\"\")","v":""},null,null,null,null,{"$f":"IFERROR(VLOOKUP(ROWS($AJ$2:AJ1742),O1742:Q3645,3,0),\"\")","v":""},null,{"$f":"IFERROR(VLOOKUP(ROWS(AL$2:$AL1742),N1742:Q3645,4,0),\"\")","v":""}]
[null,null,null,null,null,null,null,null,null,null,null,null,null,0,0,0,null,null,null,null,null,null,null,null,null,null,null,null,null,null,{"$f":"IFERROR(VLOOKUP(ROWS($AE$2:AE1743),P1743:Q3646,2,0),\"\")","v":""},null,null,null,null,{"$f":"IFERROR(VLOOKUP(ROWS($AJ$2:AJ1743),O1743:Q3646,3,0),\"\")","v":""},null,{"$f":"IFERROR(VLOOKUP(ROWS(AL$2:$AL1743),N1743:Q3646,4,0),\"\")","v":""}]
[null,null,null,null,null,null,null,null,null,null,null,null,null,0,0,0,null,null,null,null,null,null,null,null,null,null,null,null,null,null,{"$f":"IFERROR(VLOOKUP(ROWS($AE$2:AE1744),P1744:Q3647,2,0),\"\")","v":""},null,null,null,null,{"$f":"IFERROR(VLOOKUP(ROWS($AJ$2:AJ1744),O1744:Q3647,3,0),\"\")","v":""},null,{"$f":"IFERROR(VLOOKUP(ROWS(AL$2:$AL1744),N1744:Q3647,4,0),\"\")","v":""}]
[null,null,null,null,null,null,null,null,null,null,null,null,null,0,0,0,null,null,null,null,null,null,null,null,null,null,null,null,null,null,{"$f":"IFERROR(VLOOKUP(ROWS($AE$2:AE1745),P1745:Q3648,2,0),\"\")","v":""},null,null,null,null,{"$f":"IFERROR(VLOOKUP(ROWS($AJ$2:AJ1745),O1745:Q3648,3,0),\"\")","v":""},null,{"$f":"IFERROR(VLOOKUP(ROWS(AL$2:$AL1745),N1745:Q3648,4,0),\"\")","v":""}]
[null,null,null,null,null,null,null,null,null,null,null,null,null,0,0,0,null,null,null,null,null,null,null,null,null,null,null,null,null,null,{"$f":"IFERROR(VLOOKUP(ROWS($AE$2:AE1746),P1746:Q3649,2,0),\"\")","v":""},null,null,null,null,{"$f":"IFERROR(VLOOKUP(ROWS($AJ$2:AJ1746),O1746:Q3649,3,0),\"\")","v":""},null,{"$f":"IFERROR(VLOOKUP(ROWS(AL$2:$AL1746),N1746:Q3649,4,0),\"\")","v":""}]
[null,null,null,null,null,null,null,null,null,null,null,null,null,0,0,0,null,null,null,null,null,null,null,null,null,null,null,null,null,null,{"$f":"IFERROR(VLOOKUP(ROWS($AE$2:AE1747),P1747:Q3650,2,0),\"\")","v":""},null,null,null,null,{"$f":"IFERROR(VLOOKUP(ROWS($AJ$2:AJ1747),O1747:Q3650,3,0),\"\")","v":""},null,{"$f":"IFERROR(VLOOKUP(ROWS(AL$2:$AL1747),N1747:Q3650,4,0),\"\")","v":""}]
[null,null,null,null,null,null,null,null,null,null,null,null,null,0,0,0,null,null,null,null,null,null,null,null,null,null,null,null,null,null,{"$f":"IFERROR(VLOOKUP(ROWS($AE$2:AE1748),P1748:Q3651,2,0),\"\")","v":""},null,null,null,null,{"$f":"IFERROR(VLOOKUP(ROWS($AJ$2:AJ1748),O1748:Q3651,3,0),\"\")","v":""},null,{"$f":"IFERROR(VLOOKUP(ROWS(AL$2:$AL1748),N1748:Q3651,4,0),\"\")","v":""}]
[null,null,null,null,null,null,null,null,null,null,null,null,null,0,0,0,null,null,null,null,null,null,null,null,null,null,null,null,null,null,{"$f":"IFERROR(VLOOKUP(ROWS($AE$2:AE1749),P1749:Q3652,2,0),\"\")","v":""},null,null,null,null,{"$f":"IFERROR(VLOOKUP(ROWS($AJ$2:AJ1749),O1749:Q3652,3,0),\"\")","v":""},null,{"$f":"IFERROR(VLOOKUP(ROWS(AL$2:$AL1749),N1749:Q3652,4,0),\"\")","v":""}]
[null,null,null,null,null,null,null,null,null,null,null,null,null,0,0,0,null,null,null,null,null,null,null,null,null,null,null,null,null,null,{"$f":"IFERROR(VLOOKUP(ROWS($AE$2:AE1750),P1750:Q3653,2,0),\"\")","v":""},null,null,null,null,{"$f":"IFERROR(VLOOKUP(ROWS($AJ$2:AJ1750),O1750:Q3653,3,0),\"\")","v":""},null,{"$f":"IFERROR(VLOOKUP(ROWS(AL$2:$AL1750),N1750:Q3653,4,0),\"\")","v":""}]
[null,null,null,null,null,null,null,null,null,null,null,null,null,0,0,0,null,null,null,null,null,null,null,null,null,null,null,null,null,null,{"$f":"IFERROR(VLOOKUP(ROWS($AE$2:AE1751),P1751:Q3654,2,0),\"\")","v":""},null,null,null,null,{"$f":"IFERROR(VLOOKUP(ROWS($AJ$2:AJ1751),O1751:Q3654,3,0),\"\")","v":""},null,{"$f":"IFERROR(VLOOKUP(ROWS(AL$2:$AL1751),N1751:Q3654,4,0),\"\")","v":""}]
[null,null,null,null,null,null,null,null,null,null,null,null,null,0,0,0,null,null,null,null,null,null,null,null,null,null,null,null,null,null,{"$f":"IFERROR(VLOOKUP(ROWS($AE$2:AE1752),P1752:Q3655,2,0),\"\")","v":""},null,null,null,null,{"$f":"IFERROR(VLOOKUP(ROWS($AJ$2:AJ1752),O1752:Q3655,3,0),\"\")","v":""},null,{"$f":"IFERROR(VLOOKUP(ROWS(AL$2:$AL1752),N1752:Q3655,4,0),\"\")","v":""}]
[null,null,null,null,null,null,null,null,null,null,null,null,null,0,0,0,null,null,null,null,null,null,null,null,null,null,null,null,null,null,{"$f":"IFERROR(VLOOKUP(ROWS($AE$2:AE1753),P1753:Q3656,2,0),\"\")","v":""},null,null,null,null,{"$f":"IFERROR(VLOOKUP(ROWS($AJ$2:AJ1753),O1753:Q3656,3,0),\"\")","v":""},null,{"$f":"IFERROR(VLOOKUP(ROWS(AL$2:$AL1753),N1753:Q3656,4,0),\"\")","v":""}]
[null,null,null,null,null,null,null,null,null,null,null,null,null,0,0,0,null,null,null,null,null,null,null,null,null,null,null,null,null,null,{"$f":"IFERROR(VLOOKUP(ROWS($AE$2:AE1754),P1754:Q3657,2,0),\"\")","v":""},null,null,null,null,{"$f":"IFERROR(VLOOKUP(ROWS($AJ$2:AJ1754),O1754:Q3657,3,0),\"\")","v":""},null,{"$f":"IFERROR(VLOOKUP(ROWS(AL$2:$AL1754),N1754:Q3657,4,0),\"\")","v":""}]
[null,null,null,null,null,null,null,null,null,null,null,null,null,0,0,0,null,null,null,null,null,null,null,null,null,null,null,null,null,null,{"$f":"IFERROR(VLOOKUP(ROWS($AE$2:AE1755),P1755:Q3658,2,0),\"\")","v":""},null,null,null,null,{"$f":"IFERROR(VLOOKUP(ROWS($AJ$2:AJ1755),O1755:Q3658,3,0),\"\")","v":""},null,{"$f":"IFERROR(VLOOKUP(ROWS(AL$2:$AL1755),N1755:Q3658,4,0),\"\")","v":""}]
[null,null,null,null,null,null,null,null,null,null,null,null,null,0,0,0,null,null,null,null,null,null,null,null,null,null,null,null,null,null,{"$f":"IFERROR(VLOOKUP(ROWS($AE$2:AE1756),P1756:Q3659,2,0),\"\")","v":""},null,null,null,null,{"$f":"IFERROR(VLOOKUP(ROWS($AJ$2:AJ1756),O1756:Q3659,3,0),\"\")","v":""},null,{"$f":"IFERROR(VLOOKUP(ROWS(AL$2:$AL1756),N1756:Q3659,4,0),\"\")","v":""}]
[null,null,null,null,null,null,null,null,null,null,null,null,null,0,0,0,null,null,null,null,null,null,null,null,null,null,null,null,null,null,{"$f":"IFERROR(VLOOKUP(ROWS($AE$2:AE1757),P1757:Q3660,2,0),\"\")","v":""},null,null,null,null,{"$f":"IFERROR(VLOOKUP(ROWS($AJ$2:AJ1757),O1757:Q3660,3,0),\"\")","v":""},null,{"$f":"IFERROR(VLOOKUP(ROWS(AL$2:$AL1757),N1757:Q3660,4,0),\"\")","v":""}]
[null,null,null,null,null,null,null,null,null,null,null,null,null,0,0,0,null,null,null,null,null,null,null,null,null,null,null,null,null,null,{"$f":"IFERROR(VLOOKUP(ROWS($AE$2:AE1758),P1758:Q3661,2,0),\"\")","v":""},null,null,null,null,{"$f":"IFERROR(VLOOKUP(ROWS($AJ$2:AJ1758),O1758:Q3661,3,0),\"\")","v":""},null,{"$f":"IFERROR(VLOOKUP(ROWS(AL$2:$AL1758),N1758:Q3661,4,0),\"\")","v":""}]
[null,null,null,null,null,null,null,null,null,null,null,null,null,0,0,0,null,null,null,null,null,null,null,null,null,null,null,null,null,null,{"$f":"IFERROR(VLOOKUP(ROWS($AE$2:AE1759),P1759:Q3662,2,0),\"\")","v":""},null,null,null,null,{"$f":"IFERROR(VLOOKUP(ROWS($AJ$2:AJ1759),O1759:Q3662,3,0),\"\")","v":""},null,{"$f":"IFERROR(VLOOKUP(ROWS(AL$2:$AL1759),N1759:Q3662,4,0),\"\")","v":""}]
[null,null,null,null,null,null,null,null,null,null,null,null,null,0,0,0,null,null,null,null,null,null,null,null,null,null,null,null,null,null,{"$f":"IFERROR(VLOOKUP(ROWS($AE$2:AE1760),P1760:Q3663,2,0),\"\")","v":""},null,null,null,null,{"$f":"IFERROR(VLOOKUP(ROWS($AJ$2:AJ1760),O1760:Q3663,3,0),\"\")","v":""},null,{"$f":"IFERROR(VLOOKUP(ROWS(AL$2:$AL1760),N1760:Q3663,4,0),\"\")","v":""}]
[null,null,null,null,null,null,null,null,null,null,null,null,null,0,0,0,null,null,null,null,null,null,null,null,null,null,null,null,null,null,{"$f":"IFERROR(VLOOKUP(ROWS($AE$2:AE1761),P1761:Q3664,2,0),\"\")","v":""},null,null,null,null,{"$f":"IFERROR(VLOOKUP(ROWS($AJ$2:AJ1761),O1761:Q3664,3,0),\"\")","v":""},null,{"$f":"IFERROR(VLOOKUP(ROWS(AL$2:$AL1761),N1761:Q3664,4,0),\"\")","v":""}]
[null,null,null,null,null,null,null,null,null,null,null,null,null,0,0,0,null,null,null,null,null,null,null,null,null,null,null,null,null,null,{"$f":"IFERROR(VLOOKUP(ROWS($AE$2:AE1762),P1762:Q3665,2,0),\"\")","v":""},null,null,null,null,{"$f":"IFERROR(VLOOKUP(ROWS($AJ$2:AJ1762),O1762:Q3665,3,0),\"\")","v":""},null,{"$f":"IFERROR(VLOOKUP(ROWS(AL$2:$AL1762),N1762:Q3665,4,0),\"\")","v":""}]
[null,null,null,null,null,null,null,null,null,null,null,null,null,0,0,0,null,null,null,null,null,null,null,null,null,null,null,null,null,null,{"$f":"IFERROR(VLOOKUP(ROWS($AE$2:AE1763),P1763:Q3666,2,0),\"\")","v":""},null,null,null,null,{"$f":"IFERROR(VLOOKUP(ROWS($AJ$2:AJ1763),O1763:Q3666,3,0),\"\")","v":""},null,{"$f":"IFERROR(VLOOKUP(ROWS(AL$2:$AL1763),N1763:Q3666,4,0),\"\")","v":""}]
[null,null,null,null,null,null,null,null,null,null,null,null,null,0,0,0,null,null,null,null,null,null,null,null,null,null,null,null,null,null,{"$f":"IFERROR(VLOOKUP(ROWS($AE$2:AE1764),P1764:Q3667,2,0),\"\")","v":""},null,null,null,null,{"$f":"IFERROR(VLOOKUP(ROWS($AJ$2:AJ1764),O1764:Q3667,3,0),\"\")","v":""},null,{"$f":"IFERROR(VLOOKUP(ROWS(AL$2:$AL1764),N1764:Q3667,4,0),\"\")","v":""}]
[null,null,null,null,null,null,null,null,null,null,null,null,null,0,0,0,null,null,null,null,null,null,null,null,null,null,null,null,null,null,{"$f":"IFERROR(VLOOKUP(ROWS($AE$2:AE1765),P1765:Q3668,2,0),\"\")","v":""},null,null,null,null,{"$f":"IFERROR(VLOOKUP(ROWS($AJ$2:AJ1765),O1765:Q3668,3,0),\"\")","v":""},null,{"$f":"IFERROR(VLOOKUP(ROWS(AL$2:$AL1765),N1765:Q3668,4,0),\"\")","v":""}]
[null,null,null,null,null,null,null,null,null,null,null,null,null,0,0,0,null,null,null,null,null,null,null,null,null,null,null,null,null,null,{"$f":"IFERROR(VLOOKUP(ROWS($AE$2:AE1766),P1766:Q3669,2,0),\"\")","v":""},null,null,null,null,{"$f":"IFERROR(VLOOKUP(ROWS($AJ$2:AJ1766),O1766:Q3669,3,0),\"\")","v":""},null,{"$f":"IFERROR(VLOOKUP(ROWS(AL$2:$AL1766),N1766:Q3669,4,0),\"\")","v":""}]
[null,null,null,null,null,null,null,null,null,null,null,null,null,0,0,0,null,null,null,null,null,null,null,null,null,null,null,null,null,null,{"$f":"IFERROR(VLOOKUP(ROWS($AE$2:AE1767),P1767:Q3670,2,0),\"\")","v":""},null,null,null,null,{"$f":"IFERROR(VLOOKUP(ROWS($AJ$2:AJ1767),O1767:Q3670,3,0),\"\")","v":""},null,{"$f":"IFERROR(VLOOKUP(ROWS(AL$2:$AL1767),N1767:Q3670,4,0),\"\")","v":""}]
[null,null,null,null,null,null,null,null,null,null,null,null,null,0,0,0,null,null,null,null,null,null,null,null,null,null,null,null,null,null,{"$f":"IFERROR(VLOOKUP(ROWS($AE$2:AE1768),P1768:Q3671,2,0),\"\")","v":""},null,null,null,null,{"$f":"IFERROR(VLOOKUP(ROWS($AJ$2:AJ1768),O1768:Q3671,3,0),\"\")","v":""},null,{"$f":"IFERROR(VLOOKUP(ROWS(AL$2:$AL1768),N1768:Q3671,4,0),\"\")","v":""}]
[null,null,null,null,null,null,null,null,null,null,null,null,null,0,0,0,null,null,null,null,null,null,null,null,null,null,null,null,null,null,{"$f":"IFERROR(VLOOKUP(ROWS($AE$2:AE1769),P1769:Q3672,2,0),\"\")","v":""},null,null,null,null,{"$f":"IFERROR(VLOOKUP(ROWS($AJ$2:AJ1769),O1769:Q3672,3,0),\"\")","v":""},null,{"$f":"IFERROR(VLOOKUP(ROWS(AL$2:$AL1769),N1769:Q3672,4,0),\"\")","v":""}]
[null,null,null,null,null,null,null,null,null,null,null,null,null,0,0,0,null,null,null,null,null,null,null,null,null,null,null,null,null,null,{"$f":"IFERROR(VLOOKUP(ROWS($AE$2:AE1770),P1770:Q3673,2,0),\"\")","v":""},null,null,null,null,{"$f":"IFERROR(VLOOKUP(ROWS($AJ$2:AJ1770),O1770:Q3673,3,0),\"\")","v":""},null,{"$f":"IFERROR(VLOOKUP(ROWS(AL$2:$AL1770),N1770:Q3673,4,0),\"\")","v":""}]
[null,null,null,null,null,null,null,null,null,null,null,null,null,0,0,0,null,null,null,null,null,null,null,null,null,null,null,null,null,null,{"$f":"IFERROR(VLOOKUP(ROWS($AE$2:AE1771),P1771:Q3674,2,0),\"\")","v":""},null,null,null,null,{"$f":"IFERROR(VLOOKUP(ROWS($AJ$2:AJ1771),O1771:Q3674,3,0),\"\")","v":""},null,{"$f":"IFERROR(VLOOKUP(ROWS(AL$2:$AL1771),N1771:Q3674,4,0),\"\")","v":""}]
[null,null,null,null,null,null,null,null,null,null,null,null,null,0,0,0,null,null,null,null,null,null,null,null,null,null,null,null,null,null,{"$f":"IFERROR(VLOOKUP(ROWS($AE$2:AE1772),P1772:Q3675,2,0),\"\")","v":""},null,null,null,null,{"$f":"IFERROR(VLOOKUP(ROWS($AJ$2:AJ1772),O1772:Q3675,3,0),\"\")","v":""},null,{"$f":"IFERROR(VLOOKUP(ROWS(AL$2:$AL1772),N1772:Q3675,4,0),\"\")","v":""}]
[null,null,null,null,null,null,null,null,null,null,null,null,null,0,0,0,null,null,null,null,null,null,null,null,null,null,null,null,null,null,{"$f":"IFERROR(VLOOKUP(ROWS($AE$2:AE1773),P1773:Q3676,2,0),\"\")","v":""},null,null,null,null,{"$f":"IFERROR(VLOOKUP(ROWS($AJ$2:AJ1773),O1773:Q3676,3,0),\"\")","v":""},null,{"$f":"IFERROR(VLOOKUP(ROWS(AL$2:$AL1773),N1773:Q3676,4,0),\"\")","v":""}]
[null,null,null,null,null,null,null,null,null,null,null,null,null,0,0,0,null,null,null,null,null,null,null,null,null,null,null,null,null,null,{"$f":"IFERROR(VLOOKUP(ROWS($AE$2:AE1774),P1774:Q3677,2,0),\"\")","v":""},null,null,null,null,{"$f":"IFERROR(VLOOKUP(ROWS($AJ$2:AJ1774),O1774:Q3677,3,0),\"\")","v":""},null,{"$f":"IFERROR(VLOOKUP(ROWS(AL$2:$AL1774),N1774:Q3677,4,0),\"\")","v":""}]
[null,null,null,null,null,null,null,null,null,null,null,null,null,{"$f":"IF(ISNUMBER(SEARCH($H$16,Q1775)),MAX($N$1,N1774)+1,0)","v":0},{"$f":"IF(ISNUMBER(SEARCH($H$11,Q1775)),MAX($O$1,O1774)+1,0)","v":0},{"$f":"IF(ISNUMBER(SEARCH($H$6,Q1775)),MAX($P$1,P1774)+1,0)","v":0},null,null,null,null,null,null,null,null,null,null,null,null,null,null,{"$f":"IFERROR(VLOOKUP(ROWS($AE$2:AE1775),P1775:Q3678,2,0),\"\")","v":""},null,null,null,null,{"$f":"IFERROR(VLOOKUP(ROWS($AJ$2:AJ1775),O1775:Q3678,3,0),\"\")","v":""},null,{"$f":"IFERROR(VLOOKUP(ROWS(AL$2:$AL1775),N1775:Q3678,4,0),\"\")","v":""}]
[null,null,null,null,null,null,null,null,null,null,null,null,null,0,0,0,null,null,null,null,null,null,null,null,null,null,null,null,null,null,{"$f":"IFERROR(VLOOKUP(ROWS($AE$2:AE1776),P1776:Q3679,2,0),\"\")","v":""},null,null,null,null,{"$f":"IFERROR(VLOOKUP(ROWS($AJ$2:AJ1776),O1776:Q3679,3,0),\"\")","v":""},null,{"$f":"IFERROR(VLOOKUP(ROWS(AL$2:$AL1776),N1776:Q3679,4,0),\"\")","v":""}]
[null,null,null,null,null,null,null,null,null,null,null,null,null,0,0,0,null,null,null,null,null,null,null,null,null,null,null,null,null,null,{"$f":"IFERROR(VLOOKUP(ROWS($AE$2:AE1777),P1777:Q3680,2,0),\"\")","v":""},null,null,null,null,{"$f":"IFERROR(VLOOKUP(ROWS($AJ$2:AJ1777),O1777:Q3680,3,0),\"\")","v":""},null,{"$f":"IFERROR(VLOOKUP(ROWS(AL$2:$AL1777),N1777:Q3680,4,0),\"\")","v":""}]
[null,null,null,null,null,null,null,null,null,null,null,null,null,0,0,0,null,null,null,null,null,null,null,null,null,null,null,null,null,null,{"$f":"IFERROR(VLOOKUP(ROWS($AE$2:AE1778),P1778:Q3681,2,0),\"\")","v":""},null,null,null,null,{"$f":"IFERROR(VLOOKUP(ROWS($AJ$2:AJ1778),O1778:Q3681,3,0),\"\")","v":""},null,{"$f":"IFERROR(VLOOKUP(ROWS(AL$2:$AL1778),N1778:Q3681,4,0),\"\")","v":""}]
[null,null,null,null,null,null,null,null,null,null,null,null,null,0,0,0,null,null,null,null,null,null,null,null,null,null,null,null,null,null,{"$f":"IFERROR(VLOOKUP(ROWS($AE$2:AE1779),P1779:Q3682,2,0),\"\")","v":""},null,null,null,null,{"$f":"IFERROR(VLOOKUP(ROWS($AJ$2:AJ1779),O1779:Q3682,3,0),\"\")","v":""},null,{"$f":"IFERROR(VLOOKUP(ROWS(AL$2:$AL1779),N1779:Q3682,4,0),\"\")","v":""}]
[null,null,null,null,null,null,null,null,null,null,null,null,null,0,0,0,null,null,null,null,null,null,null,null,null,null,null,null,null,null,{"$f":"IFERROR(VLOOKUP(ROWS($AE$2:AE1780),P1780:Q3683,2,0),\"\")","v":""},null,null,null,null,{"$f":"IFERROR(VLOOKUP(ROWS($AJ$2:AJ1780),O1780:Q3683,3,0),\"\")","v":""},null,{"$f":"IFERROR(VLOOKUP(ROWS(AL$2:$AL1780),N1780:Q3683,4,0),\"\")","v":""}]
[null,null,null,null,null,null,null,null,null,null,null,null,null,0,0,0,null,null,null,null,null,null,null,null,null,null,null,null,null,null,{"$f":"IFERROR(VLOOKUP(ROWS($AE$2:AE1781),P1781:Q3684,2,0),\"\")","v":""},null,null,null,null,{"$f":"IFERROR(VLOOKUP(ROWS($AJ$2:AJ1781),O1781:Q3684,3,0),\"\")","v":""},null,{"$f":"IFERROR(VLOOKUP(ROWS(AL$2:$AL1781),N1781:Q3684,4,0),\"\")","v":""}]
[null,null,null,null,null,null,null,null,null,null,null,null,null,0,0,0,null,null,null,null,null,null,null,null,null,null,null,null,null,null,{"$f":"IFERROR(VLOOKUP(ROWS($AE$2:AE1782),P1782:Q3685,2,0),\"\")","v":""},null,null,null,null,{"$f":"IFERROR(VLOOKUP(ROWS($AJ$2:AJ1782),O1782:Q3685,3,0),\"\")","v":""},null,{"$f":"IFERROR(VLOOKUP(ROWS(AL$2:$AL1782),N1782:Q3685,4,0),\"\")","v":""}]
[null,null,null,null,null,null,null,null,null,null,null,null,null,0,0,0,null,null,null,null,null,null,null,null,null,null,null,null,null,null,{"$f":"IFERROR(VLOOKUP(ROWS($AE$2:AE1783),P1783:Q3686,2,0),\"\")","v":""},null,null,null,null,{"$f":"IFERROR(VLOOKUP(ROWS($AJ$2:AJ1783),O1783:Q3686,3,0),\"\")","v":""},null,{"$f":"IFERROR(VLOOKUP(ROWS(AL$2:$AL1783),N1783:Q3686,4,0),\"\")","v":""}]
[null,null,null,null,null,null,null,null,null,null,null,null,null,0,0,0,null,null,null,null,null,null,null,null,null,null,null,null,null,null,{"$f":"IFERROR(VLOOKUP(ROWS($AE$2:AE1784),P1784:Q3687,2,0),\"\")","v":""},null,null,null,null,{"$f":"IFERROR(VLOOKUP(ROWS($AJ$2:AJ1784),O1784:Q3687,3,0),\"\")","v":""},null,{"$f":"IFERROR(VLOOKUP(ROWS(AL$2:$AL1784),N1784:Q3687,4,0),\"\")","v":""}]
[null,null,null,null,null,null,null,null,null,null,null,null,null,0,0,0,null,null,null,null,null,null,null,null,null,null,null,null,null,null,{"$f":"IFERROR(VLOOKUP(ROWS($AE$2:AE1785),P1785:Q3688,2,0),\"\")","v":""},null,null,null,null,{"$f":"IFERROR(VLOOKUP(ROWS($AJ$2:AJ1785),O1785:Q3688,3,0),\"\")","v":""},null,{"$f":"IFERROR(VLOOKUP(ROWS(AL$2:$AL1785),N1785:Q3688,4,0),\"\")","v":""}]
[null,null,null,null,null,null,null,null,null,null,null,null,null,0,0,0,null,null,null,null,null,null,null,null,null,null,null,null,null,null,{"$f":"IFERROR(VLOOKUP(ROWS($AE$2:AE1786),P1786:Q3689,2,0),\"\")","v":""},null,null,null,null,{"$f":"IFERROR(VLOOKUP(ROWS($AJ$2:AJ1786),O1786:Q3689,3,0),\"\")","v":""},null,{"$f":"IFERROR(VLOOKUP(ROWS(AL$2:$AL1786),N1786:Q3689,4,0),\"\")","v":""}]
[null,null,null,null,null,null,null,null,null,null,null,null,null,0,0,0,null,null,null,null,null,null,null,null,null,null,null,null,null,null,{"$f":"IFERROR(VLOOKUP(ROWS($AE$2:AE1787),P1787:Q3690,2,0),\"\")","v":""},null,null,null,null,{"$f":"IFERROR(VLOOKUP(ROWS($AJ$2:AJ1787),O1787:Q3690,3,0),\"\")","v":""},null,{"$f":"IFERROR(VLOOKUP(ROWS(AL$2:$AL1787),N1787:Q3690,4,0),\"\")","v":""}]
[null,null,null,null,null,null,null,null,null,null,null,null,null,0,0,0,null,null,null,null,null,null,null,null,null,null,null,null,null,null,{"$f":"IFERROR(VLOOKUP(ROWS($AE$2:AE1788),P1788:Q3691,2,0),\"\")","v":""},null,null,null,null,{"$f":"IFERROR(VLOOKUP(ROWS($AJ$2:AJ1788),O1788:Q3691,3,0),\"\")","v":""},null,{"$f":"IFERROR(VLOOKUP(ROWS(AL$2:$AL1788),N1788:Q3691,4,0),\"\")","v":""}]
[null,null,null,null,null,null,null,null,null,null,null,null,null,0,0,0,null,null,null,null,null,null,null,null,null,null,null,null,null,null,{"$f":"IFERROR(VLOOKUP(ROWS($AE$2:AE1789),P1789:Q3692,2,0),\"\")","v":""},null,null,null,null,{"$f":"IFERROR(VLOOKUP(ROWS($AJ$2:AJ1789),O1789:Q3692,3,0),\"\")","v":""},null,{"$f":"IFERROR(VLOOKUP(ROWS(AL$2:$AL1789),N1789:Q3692,4,0),\"\")","v":""}]
[null,null,null,null,null,null,null,null,null,null,null,null,null,0,0,0,null,null,null,null,null,null,null,null,null,null,null,null,null,null,{"$f":"IFERROR(VLOOKUP(ROWS($AE$2:AE1790),P1790:Q3693,2,0),\"\")","v":""},null,null,null,null,{"$f":"IFERROR(VLOOKUP(ROWS($AJ$2:AJ1790),O1790:Q3693,3,0),\"\")","v":""},null,{"$f":"IFERROR(VLOOKUP(ROWS(AL$2:$AL1790),N1790:Q3693,4,0),\"\")","v":""}]
[null,null,null,null,null,null,null,null,null,null,null,null,null,0,0,0,null,null,null,null,null,null,null,null,null,null,null,null,null,null,{"$f":"IFERROR(VLOOKUP(ROWS($AE$2:AE1791),P1791:Q3694,2,0),\"\")","v":""},null,null,null,null,{"$f":"IFERROR(VLOOKUP(ROWS($AJ$2:AJ1791),O1791:Q3694,3,0),\"\")","v":""},null,{"$f":"IFERROR(VLOOKUP(ROWS(AL$2:$AL1791),N1791:Q3694,4,0),\"\")","v":""}]
[null,null,null,null,null,null,null,null,null,null,null,null,null,0,0,0,null,null,null,null,null,null,null,null,null,null,null,null,null,null,{"$f":"IFERROR(VLOOKUP(ROWS($AE$2:AE1792),P1792:Q3695,2,0),\"\")","v":""},null,null,null,null,{"$f":"IFERROR(VLOOKUP(ROWS($AJ$2:AJ1792),O1792:Q3695,3,0),\"\")","v":""},null,{"$f":"IFERROR(VLOOKUP(ROWS(AL$2:$AL1792),N1792:Q3695,4,0),\"\")","v":""}]
[null,null,null,null,null,null,null,null,null,null,null,null,null,0,0,0,null,null,null,null,null,null,null,null,null,null,null,null,null,null,{"$f":"IFERROR(VLOOKUP(ROWS($AE$2:AE1793),P1793:Q3696,2,0),\"\")","v":""},null,null,null,null,{"$f":"IFERROR(VLOOKUP(ROWS($AJ$2:AJ1793),O1793:Q3696,3,0),\"\")","v":""},null,{"$f":"IFERROR(VLOOKUP(ROWS(AL$2:$AL1793),N1793:Q3696,4,0),\"\")","v":""}]
[null,null,null,null,null,null,null,null,null,null,null,null,null,0,0,0,null,null,null,null,null,null,null,null,null,null,null,null,null,null,{"$f":"IFERROR(VLOOKUP(ROWS($AE$2:AE1794),P1794:Q3697,2,0),\"\")","v":""},null,null,null,null,{"$f":"IFERROR(VLOOKUP(ROWS($AJ$2:AJ1794),O1794:Q3697,3,0),\"\")","v":""},null,{"$f":"IFERROR(VLOOKUP(ROWS(AL$2:$AL1794),N1794:Q3697,4,0),\"\")","v":""}]
[null,null,null,null,null,null,null,null,null,null,null,null,null,0,0,0,null,null,null,null,null,null,null,null,null,null,null,null,null,null,{"$f":"IFERROR(VLOOKUP(ROWS($AE$2:AE1795),P1795:Q3698,2,0),\"\")","v":""},null,null,null,null,{"$f":"IFERROR(VLOOKUP(ROWS($AJ$2:AJ1795),O1795:Q3698,3,0),\"\")","v":""},null,{"$f":"IFERROR(VLOOKUP(ROWS(AL$2:$AL1795),N1795:Q3698,4,0),\"\")","v":""}]
[null,null,null,null,null,null,null,null,null,null,null,null,null,0,0,0,null,null,null,null,null,null,null,null,null,null,null,null,null,null,{"$f":"IFERROR(VLOOKUP(ROWS($AE$2:AE1796),P1796:Q3699,2,0),\"\")","v":""},null,null,null,null,{"$f":"IFERROR(VLOOKUP(ROWS($AJ$2:AJ1796),O1796:Q3699,3,0),\"\")","v":""},null,{"$f":"IFERROR(VLOOKUP(ROWS(AL$2:$AL1796),N1796:Q3699,4,0),\"\")","v":""}]
[null,null,null,null,null,null,null,null,null,null,null,null,null,0,0,0,null,null,null,null,null,null,null,null,null,null,null,null,null,null,{"$f":"IFERROR(VLOOKUP(ROWS($AE$2:AE1797),P1797:Q3700,2,0),\"\")","v":""},null,null,null,null,{"$f":"IFERROR(VLOOKUP(ROWS($AJ$2:AJ1797),O1797:Q3700,3,0),\"\")","v":""},null,{"$f":"IFERROR(VLOOKUP(ROWS(AL$2:$AL1797),N1797:Q3700,4,0),\"\")","v":""}]
[null,null,null,null,null,null,null,null,null,null,null,null,null,0,0,0,null,null,null,null,null,null,null,null,null,null,null,null,null,null,{"$f":"IFERROR(VLOOKUP(ROWS($AE$2:AE1798),P1798:Q3701,2,0),\"\")","v":""},null,null,null,null,{"$f":"IFERROR(VLOOKUP(ROWS($AJ$2:AJ1798),O1798:Q3701,3,0),\"\")","v":""},null,{"$f":"IFERROR(VLOOKUP(ROWS(AL$2:$AL1798),N1798:Q3701,4,0),\"\")","v":""}]
[null,null,null,null,null,null,null,null,null,null,null,null,null,0,0,0,null,null,null,null,null,null,null,null,null,null,null,null,null,null,{"$f":"IFERROR(VLOOKUP(ROWS($AE$2:AE1799),P1799:Q3702,2,0),\"\")","v":""},null,null,null,null,{"$f":"IFERROR(VLOOKUP(ROWS($AJ$2:AJ1799),O1799:Q3702,3,0),\"\")","v":""},null,{"$f":"IFERROR(VLOOKUP(ROWS(AL$2:$AL1799),N1799:Q3702,4,0),\"\")","v":""}]
[null,null,null,null,null,null,null,null,null,null,null,null,null,0,0,0,null,null,null,null,null,null,null,null,null,null,null,null,null,null,{"$f":"IFERROR(VLOOKUP(ROWS($AE$2:AE1800),P1800:Q3703,2,0),\"\")","v":""},null,null,null,null,{"$f":"IFERROR(VLOOKUP(ROWS($AJ$2:AJ1800),O1800:Q3703,3,0),\"\")","v":""},null,{"$f":"IFERROR(VLOOKUP(ROWS(AL$2:$AL1800),N1800:Q3703,4,0),\"\")","v":""}]
[null,null,null,null,null,null,null,null,null,null,null,null,null,0,0,0,null,null,null,null,null,null,null,null,null,null,null,null,null,null,{"$f":"IFERROR(VLOOKUP(ROWS($AE$2:AE1801),P1801:Q3704,2,0),\"\")","v":""},null,null,null,null,{"$f":"IFERROR(VLOOKUP(ROWS($AJ$2:AJ1801),O1801:Q3704,3,0),\"\")","v":""},null,{"$f":"IFERROR(VLOOKUP(ROWS(AL$2:$AL1801),N1801:Q3704,4,0),\"\")","v":""}]
[null,null,null,null,null,null,null,null,null,null,null,null,null,0,0,0,null,null,null,null,null,null,null,null,null,null,null,null,null,null,{"$f":"IFERROR(VLOOKUP(ROWS($AE$2:AE1802),P1802:Q3705,2,0),\"\")","v":""},null,null,null,null,{"$f":"IFERROR(VLOOKUP(ROWS($AJ$2:AJ1802),O1802:Q3705,3,0),\"\")","v":""},null,{"$f":"IFERROR(VLOOKUP(ROWS(AL$2:$AL1802),N1802:Q3705,4,0),\"\")","v":""}]
[null,null,null,null,null,null,null,null,null,null,null,null,null,0,0,0,null,null,null,null,null,null,null,null,null,null,null,null,null,null,{"$f":"IFERROR(VLOOKUP(ROWS($AE$2:AE1803),P1803:Q3706,2,0),\"\")","v":""},null,null,null,null,{"$f":"IFERROR(VLOOKUP(ROWS($AJ$2:AJ1803),O1803:Q3706,3,0),\"\")","v":""},null,{"$f":"IFERROR(VLOOKUP(ROWS(AL$2:$AL1803),N1803:Q3706,4,0),\"\")","v":""}]
[null,null,null,null,null,null,null,null,null,null,null,null,null,0,0,0,null,null,null,null,null,null,null,null,null,null,null,null,null,null,{"$f":"IFERROR(VLOOKUP(ROWS($AE$2:AE1804),P1804:Q3707,2,0),\"\")","v":""},null,null,null,null,{"$f":"IFERROR(VLOOKUP(ROWS($AJ$2:AJ1804),O1804:Q3707,3,0),\"\")","v":""},null,{"$f":"IFERROR(VLOOKUP(ROWS(AL$2:$AL1804),N1804:Q3707,4,0),\"\")","v":""}]
[null,null,null,null,null,null,null,null,null,null,null,null,null,0,0,0,null,null,null,null,null,null,null,null,null,null,null,null,null,null,{"$f":"IFERROR(VLOOKUP(ROWS($AE$2:AE1805),P1805:Q3708,2,0),\"\")","v":""},null,null,null,null,{"$f":"IFERROR(VLOOKUP(ROWS($AJ$2:AJ1805),O1805:Q3708,3,0),\"\")","v":""},null,{"$f":"IFERROR(VLOOKUP(ROWS(AL$2:$AL1805),N1805:Q3708,4,0),\"\")","v":""}]
[null,null,null,null,null,null,null,null,null,null,null,null,null,0,0,0,null,null,null,null,null,null,null,null,null,null,null,null,null,null,{"$f":"IFERROR(VLOOKUP(ROWS($AE$2:AE1806),P1806:Q3709,2,0),\"\")","v":""},null,null,null,null,{"$f":"IFERROR(VLOOKUP(ROWS($AJ$2:AJ1806),O1806:Q3709,3,0),\"\")","v":""},null,{"$f":"IFERROR(VLOOKUP(ROWS(AL$2:$AL1806),N1806:Q3709,4,0),\"\")","v":""}]
[null,null,null,null,null,null,null,null,null,null,null,null,null,0,0,0,null,null,null,null,null,null,null,null,null,null,null,null,null,null,{"$f":"IFERROR(VLOOKUP(ROWS($AE$2:AE1807),P1807:Q3710,2,0),\"\")","v":""},null,null,null,null,{"$f":"IFERROR(VLOOKUP(ROWS($AJ$2:AJ1807),O1807:Q3710,3,0),\"\")","v":""},null,{"$f":"IFERROR(VLOOKUP(ROWS(AL$2:$AL1807),N1807:Q3710,4,0),\"\")","v":""}]
[null,null,null,null,null,null,null,null,null,null,null,null,null,0,0,0,null,null,null,null,null,null,null,null,null,null,null,null,null,null,{"$f":"IFERROR(VLOOKUP(ROWS($AE$2:AE1808),P1808:Q3711,2,0),\"\")","v":""},null,null,null,null,{"$f":"IFERROR(VLOOKUP(ROWS($AJ$2:AJ1808),O1808:Q3711,3,0),\"\")","v":""},null,{"$f":"IFERROR(VLOOKUP(ROWS(AL$2:$AL1808),N1808:Q3711,4,0),\"\")","v":""}]
[null,null,null,null,null,null,null,null,null,null,null,null,null,0,0,0,null,null,null,null,null,null,null,null,null,null,null,null,null,null,{"$f":"IFERROR(VLOOKUP(ROWS($AE$2:AE1809),P1809:Q3712,2,0),\"\")","v":""},null,null,null,null,{"$f":"IFERROR(VLOOKUP(ROWS($AJ$2:AJ1809),O1809:Q3712,3,0),\"\")","v":""},null,{"$f":"IFERROR(VLOOKUP(ROWS(AL$2:$AL1809),N1809:Q3712,4,0),\"\")","v":""}]
[null,null,null,null,null,null,null,null,null,null,null,null,null,0,0,0,null,null,null,null,null,null,null,null,null,null,null,null,null,null,{"$f":"IFERROR(VLOOKUP(ROWS($AE$2:AE1810),P1810:Q3713,2,0),\"\")","v":""},null,null,null,null,{"$f":"IFERROR(VLOOKUP(ROWS($AJ$2:AJ1810),O1810:Q3713,3,0),\"\")","v":""},null,{"$f":"IFERROR(VLOOKUP(ROWS(AL$2:$AL1810),N1810:Q3713,4,0),\"\")","v":""}]
[null,null,null,null,null,null,null,null,null,null,null,null,null,0,0,0,null,null,null,null,null,null,null,null,null,null,null,null,null,null,{"$f":"IFERROR(VLOOKUP(ROWS($AE$2:AE1811),P1811:Q3714,2,0),\"\")","v":""},null,null,null,null,{"$f":"IFERROR(VLOOKUP(ROWS($AJ$2:AJ1811),O1811:Q3714,3,0),\"\")","v":""},null,{"$f":"IFERROR(VLOOKUP(ROWS(AL$2:$AL1811),N1811:Q3714,4,0),\"\")","v":""}]
[null,null,null,null,null,null,null,null,null,null,null,null,null,0,0,0,null,null,null,null,null,null,null,null,null,null,null,null,null,null,{"$f":"IFERROR(VLOOKUP(ROWS($AE$2:AE1812),P1812:Q3715,2,0),\"\")","v":""},null,null,null,null,{"$f":"IFERROR(VLOOKUP(ROWS($AJ$2:AJ1812),O1812:Q3715,3,0),\"\")","v":""},null,{"$f":"IFERROR(VLOOKUP(ROWS(AL$2:$AL1812),N1812:Q3715,4,0),\"\")","v":""}]
[null,null,null,null,null,null,null,null,null,null,null,null,null,0,0,0,null,null,null,null,null,null,null,null,null,null,null,null,null,null,{"$f":"IFERROR(VLOOKUP(ROWS($AE$2:AE1813),P1813:Q3716,2,0),\"\")","v":""},null,null,null,null,{"$f":"IFERROR(VLOOKUP(ROWS($AJ$2:AJ1813),O1813:Q3716,3,0),\"\")","v":""},null,{"$f":"IFERROR(VLOOKUP(ROWS(AL$2:$AL1813),N1813:Q3716,4,0),\"\")","v":""}]
[null,null,null,null,null,null,null,null,null,null,null,null,null,0,0,0,null,null,null,null,null,null,null,null,null,null,null,null,null,null,{"$f":"IFERROR(VLOOKUP(ROWS($AE$2:AE1814),P1814:Q3717,2,0),\"\")","v":""},null,null,null,null,{"$f":"IFERROR(VLOOKUP(ROWS($AJ$2:AJ1814),O1814:Q3717,3,0),\"\")","v":""},null,{"$f":"IFERROR(VLOOKUP(ROWS(AL$2:$AL1814),N1814:Q3717,4,0),\"\")","v":""}]
[null,null,null,null,null,null,null,null,null,null,null,null,null,0,0,0,null,null,null,null,null,null,null,null,null,null,null,null,null,null,{"$f":"IFERROR(VLOOKUP(ROWS($AE$2:AE1815),P1815:Q3718,2,0),\"\")","v":""},null,null,null,null,{"$f":"IFERROR(VLOOKUP(ROWS($AJ$2:AJ1815),O1815:Q3718,3,0),\"\")","v":""},null,{"$f":"IFERROR(VLOOKUP(ROWS(AL$2:$AL1815),N1815:Q3718,4,0),\"\")","v":""}]
[null,null,null,null,null,null,null,null,null,null,null,null,null,0,0,0,null,null,null,null,null,null,null,null,null,null,null,null,null,null,{"$f":"IFERROR(VLOOKUP(ROWS($AE$2:AE1816),P1816:Q3719,2,0),\"\")","v":""},null,null,null,null,{"$f":"IFERROR(VLOOKUP(ROWS($AJ$2:AJ1816),O1816:Q3719,3,0),\"\")","v":""},null,{"$f":"IFERROR(VLOOKUP(ROWS(AL$2:$AL1816),N1816:Q3719,4,0),\"\")","v":""}]
[null,null,null,null,null,null,null,null,null,null,null,null,null,0,0,0,null,null,null,null,null,null,null,null,null,null,null,null,null,null,{"$f":"IFERROR(VLOOKUP(ROWS($AE$2:AE1817),P1817:Q3720,2,0),\"\")","v":""},null,null,null,null,{"$f":"IFERROR(VLOOKUP(ROWS($AJ$2:AJ1817),O1817:Q3720,3,0),\"\")","v":""},null,{"$f":"IFERROR(VLOOKUP(ROWS(AL$2:$AL1817),N1817:Q3720,4,0),\"\")","v":""}]
[null,null,null,null,null,null,null,null,null,null,null,null,null,0,0,0,null,null,null,null,null,null,null,null,null,null,null,null,null,null,{"$f":"IFERROR(VLOOKUP(ROWS($AE$2:AE1818),P1818:Q3721,2,0),\"\")","v":""},null,null,null,null,{"$f":"IFERROR(VLOOKUP(ROWS($AJ$2:AJ1818),O1818:Q3721,3,0),\"\")","v":""},null,{"$f":"IFERROR(VLOOKUP(ROWS(AL$2:$AL1818),N1818:Q3721,4,0),\"\")","v":""}]
[null,null,null,null,null,null,null,null,null,null,null,null,null,0,0,0,null,null,null,null,null,null,null,null,null,null,null,null,null,null,{"$f":"IFERROR(VLOOKUP(ROWS($AE$2:AE1819),P1819:Q3722,2,0),\"\")","v":""},null,null,null,null,{"$f":"IFERROR(VLOOKUP(ROWS($AJ$2:AJ1819),O1819:Q3722,3,0),\"\")","v":""},null,{"$f":"IFERROR(VLOOKUP(ROWS(AL$2:$AL1819),N1819:Q3722,4,0),\"\")","v":""}]
[null,null,null,null,null,null,null,null,null,null,null,null,null,0,0,0,null,null,null,null,null,null,null,null,null,null,null,null,null,null,{"$f":"IFERROR(VLOOKUP(ROWS($AE$2:AE1820),P1820:Q3723,2,0),\"\")","v":""},null,null,null,null,{"$f":"IFERROR(VLOOKUP(ROWS($AJ$2:AJ1820),O1820:Q3723,3,0),\"\")","v":""},null,{"$f":"IFERROR(VLOOKUP(ROWS(AL$2:$AL1820),N1820:Q3723,4,0),\"\")","v":""}]
[null,null,null,null,null,null,null,null,null,null,null,null,null,0,0,0,null,null,null,null,null,null,null,null,null,null,null,null,null,null,{"$f":"IFERROR(VLOOKUP(ROWS($AE$2:AE1821),P1821:Q3724,2,0),\"\")","v":""},null,null,null,null,{"$f":"IFERROR(VLOOKUP(ROWS($AJ$2:AJ1821),O1821:Q3724,3,0),\"\")","v":""},null,{"$f":"IFERROR(VLOOKUP(ROWS(AL$2:$AL1821),N1821:Q3724,4,0),\"\")","v":""}]
[null,null,null,null,null,null,null,null,null,null,null,null,null,0,0,0,null,null,null,null,null,null,null,null,null,null,null,null,null,null,{"$f":"IFERROR(VLOOKUP(ROWS($AE$2:AE1822),P1822:Q3725,2,0),\"\")","v":""},null,null,null,null,{"$f":"IFERROR(VLOOKUP(ROWS($AJ$2:AJ1822),O1822:Q3725,3,0),\"\")","v":""},null,{"$f":"IFERROR(VLOOKUP(ROWS(AL$2:$AL1822),N1822:Q3725,4,0),\"\")","v":""}]
[null,null,null,null,null,null,null,null,null,null,null,null,null,0,0,0,null,null,null,null,null,null,null,null,null,null,null,null,null,null,{"$f":"IFERROR(VLOOKUP(ROWS($AE$2:AE1823),P1823:Q3726,2,0),\"\")","v":""},null,null,null,null,{"$f":"IFERROR(VLOOKUP(ROWS($AJ$2:AJ1823),O1823:Q3726,3,0),\"\")","v":""},null,{"$f":"IFERROR(VLOOKUP(ROWS(AL$2:$AL1823),N1823:Q3726,4,0),\"\")","v":""}]
[null,null,null,null,null,null,null,null,null,null,null,null,null,0,0,0,null,null,null,null,null,null,null,null,null,null,null,null,null,null,{"$f":"IFERROR(VLOOKUP(ROWS($AE$2:AE1824),P1824:Q3727,2,0),\"\")","v":""},null,null,null,null,{"$f":"IFERROR(VLOOKUP(ROWS($AJ$2:AJ1824),O1824:Q3727,3,0),\"\")","v":""},null,{"$f":"IFERROR(VLOOKUP(ROWS(AL$2:$AL1824),N1824:Q3727,4,0),\"\")","v":""}]
[null,null,null,null,null,null,null,null,null,null,null,null,null,0,0,0,null,null,null,null,null,null,null,null,null,null,null,null,null,null,{"$f":"IFERROR(VLOOKUP(ROWS($AE$2:AE1825),P1825:Q3728,2,0),\"\")","v":""},null,null,null,null,{"$f":"IFERROR(VLOOKUP(ROWS($AJ$2:AJ1825),O1825:Q3728,3,0),\"\")","v":""},null,{"$f":"IFERROR(VLOOKUP(ROWS(AL$2:$AL1825),N1825:Q3728,4,0),\"\")","v":""}]
[null,null,null,null,null,null,null,null,null,null,null,null,null,0,0,0,null,null,null,null,null,null,null,null,null,null,null,null,null,null,{"$f":"IFERROR(VLOOKUP(ROWS($AE$2:AE1826),P1826:Q3729,2,0),\"\")","v":""},null,null,null,null,{"$f":"IFERROR(VLOOKUP(ROWS($AJ$2:AJ1826),O1826:Q3729,3,0),\"\")","v":""},null,{"$f":"IFERROR(VLOOKUP(ROWS(AL$2:$AL1826),N1826:Q3729,4,0),\"\")","v":""}]
[null,null,null,null,null,null,null,null,null,null,null,null,null,0,0,0,null,null,null,null,null,null,null,null,null,null,null,null,null,null,{"$f":"IFERROR(VLOOKUP(ROWS($AE$2:AE1827),P1827:Q3730,2,0),\"\")","v":""},null,null,null,null,{"$f":"IFERROR(VLOOKUP(ROWS($AJ$2:AJ1827),O1827:Q3730,3,0),\"\")","v":""},null,{"$f":"IFERROR(VLOOKUP(ROWS(AL$2:$AL1827),N1827:Q3730,4,0),\"\")","v":""}]
[null,null,null,null,null,null,null,null,null,null,null,null,null,0,0,0,null,null,null,null,null,null,null,null,null,null,null,null,null,null,{"$f":"IFERROR(VLOOKUP(ROWS($AE$2:AE1828),P1828:Q3731,2,0),\"\")","v":""},null,null,null,null,{"$f":"IFERROR(VLOOKUP(ROWS($AJ$2:AJ1828),O1828:Q3731,3,0),\"\")","v":""},null,{"$f":"IFERROR(VLOOKUP(ROWS(AL$2:$AL1828),N1828:Q3731,4,0),\"\")","v":""}]
[null,null,null,null,null,null,null,null,null,null,null,null,null,0,0,0,null,null,null,null,null,null,null,null,null,null,null,null,null,null,{"$f":"IFERROR(VLOOKUP(ROWS($AE$2:AE1829),P1829:Q3732,2,0),\"\")","v":""},null,null,null,null,{"$f":"IFERROR(VLOOKUP(ROWS($AJ$2:AJ1829),O1829:Q3732,3,0),\"\")","v":""},null,{"$f":"IFERROR(VLOOKUP(ROWS(AL$2:$AL1829),N1829:Q3732,4,0),\"\")","v":""}]
[null,null,null,null,null,null,null,null,null,null,null,null,null,0,0,0,null,null,null,null,null,null,null,null,null,null,null,null,null,null,{"$f":"IFERROR(VLOOKUP(ROWS($AE$2:AE1830),P1830:Q3733,2,0),\"\")","v":""},null,null,null,null,{"$f":"IFERROR(VLOOKUP(ROWS($AJ$2:AJ1830),O1830:Q3733,3,0),\"\")","v":""},null,{"$f":"IFERROR(VLOOKUP(ROWS(AL$2:$AL1830),N1830:Q3733,4,0),\"\")","v":""}]
[null,null,null,null,null,null,null,null,null,null,null,null,null,0,0,0,null,null,null,null,null,null,null,null,null,null,null,null,null,null,{"$f":"IFERROR(VLOOKUP(ROWS($AE$2:AE1831),P1831:Q3734,2,0),\"\")","v":""},null,null,null,null,{"$f":"IFERROR(VLOOKUP(ROWS($AJ$2:AJ1831),O1831:Q3734,3,0),\"\")","v":""},null,{"$f":"IFERROR(VLOOKUP(ROWS(AL$2:$AL1831),N1831:Q3734,4,0),\"\")","v":""}]
[null,null,null,null,null,null,null,null,null,null,null,null,null,0,0,0,null,null,null,null,null,null,null,null,null,null,null,null,null,null,{"$f":"IFERROR(VLOOKUP(ROWS($AE$2:AE1832),P1832:Q3735,2,0),\"\")","v":""},null,null,null,null,{"$f":"IFERROR(VLOOKUP(ROWS($AJ$2:AJ1832),O1832:Q3735,3,0),\"\")","v":""},null,{"$f":"IFERROR(VLOOKUP(ROWS(AL$2:$AL1832),N1832:Q3735,4,0),\"\")","v":""}]
[null,null,null,null,null,null,null,null,null,null,null,null,null,0,0,0,null,null,null,null,null,null,null,null,null,null,null,null,null,null,{"$f":"IFERROR(VLOOKUP(ROWS($AE$2:AE1833),P1833:Q3736,2,0),\"\")","v":""},null,null,null,null,{"$f":"IFERROR(VLOOKUP(ROWS($AJ$2:AJ1833),O1833:Q3736,3,0),\"\")","v":""},null,{"$f":"IFERROR(VLOOKUP(ROWS(AL$2:$AL1833),N1833:Q3736,4,0),\"\")","v":""}]
[null,null,null,null,null,null,null,null,null,null,null,null,null,0,0,0,null,null,null,null,null,null,null,null,null,null,null,null,null,null,{"$f":"IFERROR(VLOOKUP(ROWS($AE$2:AE1834),P1834:Q3737,2,0),\"\")","v":""},null,null,null,null,{"$f":"IFERROR(VLOOKUP(ROWS($AJ$2:AJ1834),O1834:Q3737,3,0),\"\")","v":""},null,{"$f":"IFERROR(VLOOKUP(ROWS(AL$2:$AL1834),N1834:Q3737,4,0),\"\")","v":""}]
[null,null,null,null,null,null,null,null,null,null,null,null,null,0,0,0,null,null,null,null,null,null,null,null,null,null,null,null,null,null,{"$f":"IFERROR(VLOOKUP(ROWS($AE$2:AE1835),P1835:Q3738,2,0),\"\")","v":""},null,null,null,null,{"$f":"IFERROR(VLOOKUP(ROWS($AJ$2:AJ1835),O1835:Q3738,3,0),\"\")","v":""},null,{"$f":"IFERROR(VLOOKUP(ROWS(AL$2:$AL1835),N1835:Q3738,4,0),\"\")","v":""}]
[null,null,null,null,null,null,null,null,null,null,null,null,null,0,0,0,null,null,null,null,null,null,null,null,null,null,null,null,null,null,{"$f":"IFERROR(VLOOKUP(ROWS($AE$2:AE1836),P1836:Q3739,2,0),\"\")","v":""},null,null,null,null,{"$f":"IFERROR(VLOOKUP(ROWS($AJ$2:AJ1836),O1836:Q3739,3,0),\"\")","v":""},null,{"$f":"IFERROR(VLOOKUP(ROWS(AL$2:$AL1836),N1836:Q3739,4,0),\"\")","v":""}]
[null,null,null,null,null,null,null,null,null,null,null,null,null,0,0,0,null,null,null,null,null,null,null,null,null,null,null,null,null,null,{"$f":"IFERROR(VLOOKUP(ROWS($AE$2:AE1837),P1837:Q3740,2,0),\"\")","v":""},null,null,null,null,{"$f":"IFERROR(VLOOKUP(ROWS($AJ$2:AJ1837),O1837:Q3740,3,0),\"\")","v":""},null,{"$f":"IFERROR(VLOOKUP(ROWS(AL$2:$AL1837),N1837:Q3740,4,0),\"\")","v":""}]
[null,null,null,null,null,null,null,null,null,null,null,null,null,0,0,0,null,null,null,null,null,null,null,null,null,null,null,null,null,null,{"$f":"IFERROR(VLOOKUP(ROWS($AE$2:AE1838),P1838:Q3741,2,0),\"\")","v":""},null,null,null,null,{"$f":"IFERROR(VLOOKUP(ROWS($AJ$2:AJ1838),O1838:Q3741,3,0),\"\")","v":""},null,{"$f":"IFERROR(VLOOKUP(ROWS(AL$2:$AL1838),N1838:Q3741,4,0),\"\")","v":""}]
[null,null,null,null,null,null,null,null,null,null,null,null,null,{"$f":"IF(ISNUMBER(SEARCH($H$16,Q1839)),MAX($N$1,N1838)+1,0)","v":0},{"$f":"IF(ISNUMBER(SEARCH($H$11,Q1839)),MAX($O$1,O1838)+1,0)","v":0},{"$f":"IF(ISNUMBER(SEARCH($H$6,Q1839)),MAX($P$1,P1838)+1,0)","v":0},null,null,null,null,null,null,null,null,null,null,null,null,null,null,{"$f":"IFERROR(VLOOKUP(ROWS($AE$2:AE1839),P1839:Q3742,2,0),\"\")","v":""},null,null,null,null,{"$f":"IFERROR(VLOOKUP(ROWS($AJ$2:AJ1839),O1839:Q3742,3,0),\"\")","v":""},null,{"$f":"IFERROR(VLOOKUP(ROWS(AL$2:$AL1839),N1839:Q3742,4,0),\"\")","v":""}]
[null,null,null,null,null,null,null,null,null,null,null,null,null,0,0,0,null,null,null,null,null,null,null,null,null,null,null,null,null,null,{"$f":"IFERROR(VLOOKUP(ROWS($AE$2:AE1840),P1840:Q3743,2,0),\"\")","v":""},null,null,null,null,{"$f":"IFERROR(VLOOKUP(ROWS($AJ$2:AJ1840),O1840:Q3743,3,0),\"\")","v":""},null,{"$f":"IFERROR(VLOOKUP(ROWS(AL$2:$AL1840),N1840:Q3743,4,0),\"\")","v":""}]
[null,null,null,null,null,null,null,null,null,null,null,null,null,0,0,0,null,null,null,null,null,null,null,null,null,null,null,null,null,null,{"$f":"IFERROR(VLOOKUP(ROWS($AE$2:AE1841),P1841:Q3744,2,0),\"\")","v":""},null,null,null,null,{"$f":"IFERROR(VLOOKUP(ROWS($AJ$2:AJ1841),O1841:Q3744,3,0),\"\")","v":""},null,{"$f":"IFERROR(VLOOKUP(ROWS(AL$2:$AL1841),N1841:Q3744,4,0),\"\")","v":""}]
[null,null,null,null,null,null,null,null,null,null,null,null,null,0,0,0,null,null,null,null,null,null,null,null,null,null,null,null,null,null,{"$f":"IFERROR(VLOOKUP(ROWS($AE$2:AE1842),P1842:Q3745,2,0),\"\")","v":""},null,null,null,null,{"$f":"IFERROR(VLOOKUP(ROWS($AJ$2:AJ1842),O1842:Q3745,3,0),\"\")","v":""},null,{"$f":"IFERROR(VLOOKUP(ROWS(AL$2:$AL1842),N1842:Q3745,4,0),\"\")","v":""}]
[null,null,null,null,null,null,null,null,null,null,null,null,null,0,0,0,null,null,null,null,null,null,null,null,null,null,null,null,null,null,{"$f":"IFERROR(VLOOKUP(ROWS($AE$2:AE1843),P1843:Q3746,2,0),\"\")","v":""},null,null,null,null,{"$f":"IFERROR(VLOOKUP(ROWS($AJ$2:AJ1843),O1843:Q3746,3,0),\"\")","v":""},null,{"$f":"IFERROR(VLOOKUP(ROWS(AL$2:$AL1843),N1843:Q3746,4,0),\"\")","v":""}]
[null,null,null,null,null,null,null,null,null,null,null,null,null,0,0,0,null,null,null,null,null,null,null,null,null,null,null,null,null,null,{"$f":"IFERROR(VLOOKUP(ROWS($AE$2:AE1844),P1844:Q3747,2,0),\"\")","v":""},null,null,null,null,{"$f":"IFERROR(VLOOKUP(ROWS($AJ$2:AJ1844),O1844:Q3747,3,0),\"\")","v":""},null,{"$f":"IFERROR(VLOOKUP(ROWS(AL$2:$AL1844),N1844:Q3747,4,0),\"\")","v":""}]
[null,null,null,null,null,null,null,null,null,null,null,null,null,0,0,0,null,null,null,null,null,null,null,null,null,null,null,null,null,null,{"$f":"IFERROR(VLOOKUP(ROWS($AE$2:AE1845),P1845:Q3748,2,0),\"\")","v":""},null,null,null,null,{"$f":"IFERROR(VLOOKUP(ROWS($AJ$2:AJ1845),O1845:Q3748,3,0),\"\")","v":""},null,{"$f":"IFERROR(VLOOKUP(ROWS(AL$2:$AL1845),N1845:Q3748,4,0),\"\")","v":""}]
[null,null,null,null,null,null,null,null,null,null,null,null,null,0,0,0,null,null,null,null,null,null,null,null,null,null,null,null,null,null,{"$f":"IFERROR(VLOOKUP(ROWS($AE$2:AE1846),P1846:Q3749,2,0),\"\")","v":""},null,null,null,null,{"$f":"IFERROR(VLOOKUP(ROWS($AJ$2:AJ1846),O1846:Q3749,3,0),\"\")","v":""},null,{"$f":"IFERROR(VLOOKUP(ROWS(AL$2:$AL1846),N1846:Q3749,4,0),\"\")","v":""}]
[null,null,null,null,null,null,null,null,null,null,null,null,null,0,0,0,null,null,null,null,null,null,null,null,null,null,null,null,null,null,{"$f":"IFERROR(VLOOKUP(ROWS($AE$2:AE1847),P1847:Q3750,2,0),\"\")","v":""},null,null,null,null,{"$f":"IFERROR(VLOOKUP(ROWS($AJ$2:AJ1847),O1847:Q3750,3,0),\"\")","v":""},null,{"$f":"IFERROR(VLOOKUP(ROWS(AL$2:$AL1847),N1847:Q3750,4,0),\"\")","v":""}]
[null,null,null,null,null,null,null,null,null,null,null,null,null,0,0,0,null,null,null,null,null,null,null,null,null,null,null,null,null,null,{"$f":"IFERROR(VLOOKUP(ROWS($AE$2:AE1848),P1848:Q3751,2,0),\"\")","v":""},null,null,null,null,{"$f":"IFERROR(VLOOKUP(ROWS($AJ$2:AJ1848),O1848:Q3751,3,0),\"\")","v":""},null,{"$f":"IFERROR(VLOOKUP(ROWS(AL$2:$AL1848),N1848:Q3751,4,0),\"\")","v":""}]
[null,null,null,null,null,null,null,null,null,null,null,null,null,0,0,0,null,null,null,null,null,null,null,null,null,null,null,null,null,null,{"$f":"IFERROR(VLOOKUP(ROWS($AE$2:AE1849),P1849:Q3752,2,0),\"\")","v":""},null,null,null,null,{"$f":"IFERROR(VLOOKUP(ROWS($AJ$2:AJ1849),O1849:Q3752,3,0),\"\")","v":""},null,{"$f":"IFERROR(VLOOKUP(ROWS(AL$2:$AL1849),N1849:Q3752,4,0),\"\")","v":""}]
[null,null,null,null,null,null,null,null,null,null,null,null,null,0,0,0,null,null,null,null,null,null,null,null,null,null,null,null,null,null,{"$f":"IFERROR(VLOOKUP(ROWS($AE$2:AE1850),P1850:Q3753,2,0),\"\")","v":""},null,null,null,null,{"$f":"IFERROR(VLOOKUP(ROWS($AJ$2:AJ1850),O1850:Q3753,3,0),\"\")","v":""},null,{"$f":"IFERROR(VLOOKUP(ROWS(AL$2:$AL1850),N1850:Q3753,4,0),\"\")","v":""}]
[null,null,null,null,null,null,null,null,null,null,null,null,null,0,0,0,null,null,null,null,null,null,null,null,null,null,null,null,null,null,{"$f":"IFERROR(VLOOKUP(ROWS($AE$2:AE1851),P1851:Q3754,2,0),\"\")","v":""},null,null,null,null,{"$f":"IFERROR(VLOOKUP(ROWS($AJ$2:AJ1851),O1851:Q3754,3,0),\"\")","v":""},null,{"$f":"IFERROR(VLOOKUP(ROWS(AL$2:$AL1851),N1851:Q3754,4,0),\"\")","v":""}]
[null,null,null,null,null,null,null,null,null,null,null,null,null,0,0,0,null,null,null,null,null,null,null,null,null,null,null,null,null,null,{"$f":"IFERROR(VLOOKUP(ROWS($AE$2:AE1852),P1852:Q3755,2,0),\"\")","v":""},null,null,null,null,{"$f":"IFERROR(VLOOKUP(ROWS($AJ$2:AJ1852),O1852:Q3755,3,0),\"\")","v":""},null,{"$f":"IFERROR(VLOOKUP(ROWS(AL$2:$AL1852),N1852:Q3755,4,0),\"\")","v":""}]
[null,null,null,null,null,null,null,null,null,null,null,null,null,0,0,0,null,null,null,null,null,null,null,null,null,null,null,null,null,null,{"$f":"IFERROR(VLOOKUP(ROWS($AE$2:AE1853),P1853:Q3756,2,0),\"\")","v":""},null,null,null,null,{"$f":"IFERROR(VLOOKUP(ROWS($AJ$2:AJ1853),O1853:Q3756,3,0),\"\")","v":""},null,{"$f":"IFERROR(VLOOKUP(ROWS(AL$2:$AL1853),N1853:Q3756,4,0),\"\")","v":""}]
[null,null,null,null,null,null,null,null,null,null,null,null,null,0,0,0,null,null,null,null,null,null,null,null,null,null,null,null,null,null,{"$f":"IFERROR(VLOOKUP(ROWS($AE$2:AE1854),P1854:Q3757,2,0),\"\")","v":""},null,null,null,null,{"$f":"IFERROR(VLOOKUP(ROWS($AJ$2:AJ1854),O1854:Q3757,3,0),\"\")","v":""},null,{"$f":"IFERROR(VLOOKUP(ROWS(AL$2:$AL1854),N1854:Q3757,4,0),\"\")","v":""}]
[null,null,null,null,null,null,null,null,null,null,null,null,null,0,0,0,null,null,null,null,null,null,null,null,null,null,null,null,null,null,{"$f":"IFERROR(VLOOKUP(ROWS($AE$2:AE1855),P1855:Q3758,2,0),\"\")","v":""},null,null,null,null,{"$f":"IFERROR(VLOOKUP(ROWS($AJ$2:AJ1855),O1855:Q3758,3,0),\"\")","v":""},null,{"$f":"IFERROR(VLOOKUP(ROWS(AL$2:$AL1855),N1855:Q3758,4,0),\"\")","v":""}]
[null,null,null,null,null,null,null,null,null,null,null,null,null,0,0,0,null,null,null,null,null,null,null,null,null,null,null,null,null,null,{"$f":"IFERROR(VLOOKUP(ROWS($AE$2:AE1856),P1856:Q3759,2,0),\"\")","v":""},null,null,null,null,{"$f":"IFERROR(VLOOKUP(ROWS($AJ$2:AJ1856),O1856:Q3759,3,0),\"\")","v":""},null,{"$f":"IFERROR(VLOOKUP(ROWS(AL$2:$AL1856),N1856:Q3759,4,0),\"\")","v":""}]
[null,null,null,null,null,null,null,null,null,null,null,null,null,0,0,0,null,null,null,null,null,null,null,null,null,null,null,null,null,null,{"$f":"IFERROR(VLOOKUP(ROWS($AE$2:AE1857),P1857:Q3760,2,0),\"\")","v":""},null,null,null,null,{"$f":"IFERROR(VLOOKUP(ROWS($AJ$2:AJ1857),O1857:Q3760,3,0),\"\")","v":""},null,{"$f":"IFERROR(VLOOKUP(ROWS(AL$2:$AL1857),N1857:Q3760,4,0),\"\")","v":""}]
[null,null,null,null,null,null,null,null,null,null,null,null,null,0,0,0,null,null,null,null,null,null,null,null,null,null,null,null,null,null,{"$f":"IFERROR(VLOOKUP(ROWS($AE$2:AE1858),P1858:Q3761,2,0),\"\")","v":""},null,null,null,null,{"$f":"IFERROR(VLOOKUP(ROWS($AJ$2:AJ1858),O1858:Q3761,3,0),\"\")","v":""},null,{"$f":"IFERROR(VLOOKUP(ROWS(AL$2:$AL1858),N1858:Q3761,4,0),\"\")","v":""}]
[null,null,null,null,null,null,null,null,null,null,null,null,null,0,0,0,null,null,null,null,null,null,null,null,null,null,null,null,null,null,{"$f":"IFERROR(VLOOKUP(ROWS($AE$2:AE1859),P1859:Q3762,2,0),\"\")","v":""},null,null,null,null,{"$f":"IFERROR(VLOOKUP(ROWS($AJ$2:AJ1859),O1859:Q3762,3,0),\"\")","v":""},null,{"$f":"IFERROR(VLOOKUP(ROWS(AL$2:$AL1859),N1859:Q3762,4,0),\"\")","v":""}]
[null,null,null,null,null,null,null,null,null,null,null,null,null,0,0,0,null,null,null,null,null,null,null,null,null,null,null,null,null,null,{"$f":"IFERROR(VLOOKUP(ROWS($AE$2:AE1860),P1860:Q3763,2,0),\"\")","v":""},null,null,null,null,{"$f":"IFERROR(VLOOKUP(ROWS($AJ$2:AJ1860),O1860:Q3763,3,0),\"\")","v":""},null,{"$f":"IFERROR(VLOOKUP(ROWS(AL$2:$AL1860),N1860:Q3763,4,0),\"\")","v":""}]
[null,null,null,null,null,null,null,null,null,null,null,null,null,0,0,0,null,null,null,null,null,null,null,null,null,null,null,null,null,null,{"$f":"IFERROR(VLOOKUP(ROWS($AE$2:AE1861),P1861:Q3764,2,0),\"\")","v":""},null,null,null,null,{"$f":"IFERROR(VLOOKUP(ROWS($AJ$2:AJ1861),O1861:Q3764,3,0),\"\")","v":""},null,{"$f":"IFERROR(VLOOKUP(ROWS(AL$2:$AL1861),N1861:Q3764,4,0),\"\")","v":""}]
[null,null,null,null,null,null,null,null,null,null,null,null,null,0,0,0,null,null,null,null,null,null,null,null,null,null,null,null,null,null,{"$f":"IFERROR(VLOOKUP(ROWS($AE$2:AE1862),P1862:Q3765,2,0),\"\")","v":""},null,null,null,null,{"$f":"IFERROR(VLOOKUP(ROWS($AJ$2:AJ1862),O1862:Q3765,3,0),\"\")","v":""},null,{"$f":"IFERROR(VLOOKUP(ROWS(AL$2:$AL1862),N1862:Q3765,4,0),\"\")","v":""}]
[null,null,null,null,null,null,null,null,null,null,null,null,null,0,0,0,null,null,null,null,null,null,null,null,null,null,null,null,null,null,{"$f":"IFERROR(VLOOKUP(ROWS($AE$2:AE1863),P1863:Q3766,2,0),\"\")","v":""},null,null,null,null,{"$f":"IFERROR(VLOOKUP(ROWS($AJ$2:AJ1863),O1863:Q3766,3,0),\"\")","v":""},null,{"$f":"IFERROR(VLOOKUP(ROWS(AL$2:$AL1863),N1863:Q3766,4,0),\"\")","v":""}]
[null,null,null,null,null,null,null,null,null,null,null,null,null,0,0,0,null,null,null,null,null,null,null,null,null,null,null,null,null,null,{"$f":"IFERROR(VLOOKUP(ROWS($AE$2:AE1864),P1864:Q3767,2,0),\"\")","v":""},null,null,null,null,{"$f":"IFERROR(VLOOKUP(ROWS($AJ$2:AJ1864),O1864:Q3767,3,0),\"\")","v":""},null,{"$f":"IFERROR(VLOOKUP(ROWS(AL$2:$AL1864),N1864:Q3767,4,0),\"\")","v":""}]
[null,null,null,null,null,null,null,null,null,null,null,null,null,0,0,0,null,null,null,null,null,null,null,null,null,null,null,null,null,null,{"$f":"IFERROR(VLOOKUP(ROWS($AE$2:AE1865),P1865:Q3768,2,0),\"\")","v":""},null,null,null,null,{"$f":"IFERROR(VLOOKUP(ROWS($AJ$2:AJ1865),O1865:Q3768,3,0),\"\")","v":""},null,{"$f":"IFERROR(VLOOKUP(ROWS(AL$2:$AL1865),N1865:Q3768,4,0),\"\")","v":""}]
[null,null,null,null,null,null,null,null,null,null,null,null,null,0,0,0,null,null,null,null,null,null,null,null,null,null,null,null,null,null,{"$f":"IFERROR(VLOOKUP(ROWS($AE$2:AE1866),P1866:Q3769,2,0),\"\")","v":""},null,null,null,null,{"$f":"IFERROR(VLOOKUP(ROWS($AJ$2:AJ1866),O1866:Q3769,3,0),\"\")","v":""},null,{"$f":"IFERROR(VLOOKUP(ROWS(AL$2:$AL1866),N1866:Q3769,4,0),\"\")","v":""}]
[null,null,null,null,null,null,null,null,null,null,null,null,null,0,0,0,null,null,null,null,null,null,null,null,null,null,null,null,null,null,{"$f":"IFERROR(VLOOKUP(ROWS($AE$2:AE1867),P1867:Q3770,2,0),\"\")","v":""},null,null,null,null,{"$f":"IFERROR(VLOOKUP(ROWS($AJ$2:AJ1867),O1867:Q3770,3,0),\"\")","v":""},null,{"$f":"IFERROR(VLOOKUP(ROWS(AL$2:$AL1867),N1867:Q3770,4,0),\"\")","v":""}]
[null,null,null,null,null,null,null,null,null,null,null,null,null,0,0,0,null,null,null,null,null,null,null,null,null,null,null,null,null,null,{"$f":"IFERROR(VLOOKUP(ROWS($AE$2:AE1868),P1868:Q3771,2,0),\"\")","v":""},null,null,null,null,{"$f":"IFERROR(VLOOKUP(ROWS($AJ$2:AJ1868),O1868:Q3771,3,0),\"\")","v":""},null,{"$f":"IFERROR(VLOOKUP(ROWS(AL$2:$AL1868),N1868:Q3771,4,0),\"\")","v":""}]
[null,null,null,null,null,null,null,null,null,null,null,null,null,0,0,0,null,null,null,null,null,null,null,null,null,null,null,null,null,null,{"$f":"IFERROR(VLOOKUP(ROWS($AE$2:AE1869),P1869:Q3772,2,0),\"\")","v":""},null,null,null,null,{"$f":"IFERROR(VLOOKUP(ROWS($AJ$2:AJ1869),O1869:Q3772,3,0),\"\")","v":""},null,{"$f":"IFERROR(VLOOKUP(ROWS(AL$2:$AL1869),N1869:Q3772,4,0),\"\")","v":""}]
[null,null,null,null,null,null,null,null,null,null,null,null,null,0,0,0,null,null,null,null,null,null,null,null,null,null,null,null,null,null,{"$f":"IFERROR(VLOOKUP(ROWS($AE$2:AE1870),P1870:Q3773,2,0),\"\")","v":""},null,null,null,null,{"$f":"IFERROR(VLOOKUP(ROWS($AJ$2:AJ1870),O1870:Q3773,3,0),\"\")","v":""},null,{"$f":"IFERROR(VLOOKUP(ROWS(AL$2:$AL1870),N1870:Q3773,4,0),\"\")","v":""}]
[null,null,null,null,null,null,null,null,null,null,null,null,null,0,0,0,null,null,null,null,null,null,null,null,null,null,null,null,null,null,{"$f":"IFERROR(VLOOKUP(ROWS($AE$2:AE1871),P1871:Q3774,2,0),\"\")","v":""},null,null,null,null,{"$f":"IFERROR(VLOOKUP(ROWS($AJ$2:AJ1871),O1871:Q3774,3,0),\"\")","v":""},null,{"$f":"IFERROR(VLOOKUP(ROWS(AL$2:$AL1871),N1871:Q3774,4,0),\"\")","v":""}]
[null,null,null,null,null,null,null,null,null,null,null,null,null,0,0,0,null,null,null,null,null,null,null,null,null,null,null,null,null,null,{"$f":"IFERROR(VLOOKUP(ROWS($AE$2:AE1872),P1872:Q3775,2,0),\"\")","v":""},null,null,null,null,{"$f":"IFERROR(VLOOKUP(ROWS($AJ$2:AJ1872),O1872:Q3775,3,0),\"\")","v":""},null,{"$f":"IFERROR(VLOOKUP(ROWS(AL$2:$AL1872),N1872:Q3775,4,0),\"\")","v":""}]
[null,null,null,null,null,null,null,null,null,null,null,null,null,0,0,0,null,null,null,null,null,null,null,null,null,null,null,null,null,null,{"$f":"IFERROR(VLOOKUP(ROWS($AE$2:AE1873),P1873:Q3776,2,0),\"\")","v":""},null,null,null,null,{"$f":"IFERROR(VLOOKUP(ROWS($AJ$2:AJ1873),O1873:Q3776,3,0),\"\")","v":""},null,{"$f":"IFERROR(VLOOKUP(ROWS(AL$2:$AL1873),N1873:Q3776,4,0),\"\")","v":""}]
[null,null,null,null,null,null,null,null,null,null,null,null,null,0,0,0,null,null,null,null,null,null,null,null,null,null,null,null,null,null,{"$f":"IFERROR(VLOOKUP(ROWS($AE$2:AE1874),P1874:Q3777,2,0),\"\")","v":""},null,null,null,null,{"$f":"IFERROR(VLOOKUP(ROWS($AJ$2:AJ1874),O1874:Q3777,3,0),\"\")","v":""},null,{"$f":"IFERROR(VLOOKUP(ROWS(AL$2:$AL1874),N1874:Q3777,4,0),\"\")","v":""}]
[null,null,null,null,null,null,null,null,null,null,null,null,null,0,0,0,null,null,null,null,null,null,null,null,null,null,null,null,null,null,{"$f":"IFERROR(VLOOKUP(ROWS($AE$2:AE1875),P1875:Q3778,2,0),\"\")","v":""},null,null,null,null,{"$f":"IFERROR(VLOOKUP(ROWS($AJ$2:AJ1875),O1875:Q3778,3,0),\"\")","v":""},null,{"$f":"IFERROR(VLOOKUP(ROWS(AL$2:$AL1875),N1875:Q3778,4,0),\"\")","v":""}]
[null,null,null,null,null,null,null,null,null,null,null,null,null,0,0,0,null,null,null,null,null,null,null,null,null,null,null,null,null,null,{"$f":"IFERROR(VLOOKUP(ROWS($AE$2:AE1876),P1876:Q3779,2,0),\"\")","v":""},null,null,null,null,{"$f":"IFERROR(VLOOKUP(ROWS($AJ$2:AJ1876),O1876:Q3779,3,0),\"\")","v":""},null,{"$f":"IFERROR(VLOOKUP(ROWS(AL$2:$AL1876),N1876:Q3779,4,0),\"\")","v":""}]
[null,null,null,null,null,null,null,null,null,null,null,null,null,0,0,0,null,null,null,null,null,null,null,null,null,null,null,null,null,null,{"$f":"IFERROR(VLOOKUP(ROWS($AE$2:AE1877),P1877:Q3780,2,0),\"\")","v":""},null,null,null,null,{"$f":"IFERROR(VLOOKUP(ROWS($AJ$2:AJ1877),O1877:Q3780,3,0),\"\")","v":""},null,{"$f":"IFERROR(VLOOKUP(ROWS(AL$2:$AL1877),N1877:Q3780,4,0),\"\")","v":""}]
[null,null,null,null,null,null,null,null,null,null,null,null,null,0,0,0,null,null,null,null,null,null,null,null,null,null,null,null,null,null,{"$f":"IFERROR(VLOOKUP(ROWS($AE$2:AE1878),P1878:Q3781,2,0),\"\")","v":""},null,null,null,null,{"$f":"IFERROR(VLOOKUP(ROWS($AJ$2:AJ1878),O1878:Q3781,3,0),\"\")","v":""},null,{"$f":"IFERROR(VLOOKUP(ROWS(AL$2:$AL1878),N1878:Q3781,4,0),\"\")","v":""}]
[null,null,null,null,null,null,null,null,null,null,null,null,null,0,0,0,null,null,null,null,null,null,null,null,null,null,null,null,null,null,{"$f":"IFERROR(VLOOKUP(ROWS($AE$2:AE1879),P1879:Q3782,2,0),\"\")","v":""},null,null,null,null,{"$f":"IFERROR(VLOOKUP(ROWS($AJ$2:AJ1879),O1879:Q3782,3,0),\"\")","v":""},null,{"$f":"IFERROR(VLOOKUP(ROWS(AL$2:$AL1879),N1879:Q3782,4,0),\"\")","v":""}]
[null,null,null,null,null,null,null,null,null,null,null,null,null,0,0,0,null,null,null,null,null,null,null,null,null,null,null,null,null,null,{"$f":"IFERROR(VLOOKUP(ROWS($AE$2:AE1880),P1880:Q3783,2,0),\"\")","v":""},null,null,null,null,{"$f":"IFERROR(VLOOKUP(ROWS($AJ$2:AJ1880),O1880:Q3783,3,0),\"\")","v":""},null,{"$f":"IFERROR(VLOOKUP(ROWS(AL$2:$AL1880),N1880:Q3783,4,0),\"\")","v":""}]
[null,null,null,null,null,null,null,null,null,null,null,null,null,0,0,0,null,null,null,null,null,null,null,null,null,null,null,null,null,null,{"$f":"IFERROR(VLOOKUP(ROWS($AE$2:AE1881),P1881:Q3784,2,0),\"\")","v":""},null,null,null,null,{"$f":"IFERROR(VLOOKUP(ROWS($AJ$2:AJ1881),O1881:Q3784,3,0),\"\")","v":""},null,{"$f":"IFERROR(VLOOKUP(ROWS(AL$2:$AL1881),N1881:Q3784,4,0),\"\")","v":""}]
[null,null,null,null,null,null,null,null,null,null,null,null,null,0,0,0,null,null,null,null,null,null,null,null,null,null,null,null,null,null,{"$f":"IFERROR(VLOOKUP(ROWS($AE$2:AE1882),P1882:Q3785,2,0),\"\")","v":""},null,null,null,null,{"$f":"IFERROR(VLOOKUP(ROWS($AJ$2:AJ1882),O1882:Q3785,3,0),\"\")","v":""},null,{"$f":"IFERROR(VLOOKUP(ROWS(AL$2:$AL1882),N1882:Q3785,4,0),\"\")","v":""}]
[null,null,null,null,null,null,null,null,null,null,null,null,null,0,0,0,null,null,null,null,null,null,null,null,null,null,null,null,null,null,{"$f":"IFERROR(VLOOKUP(ROWS($AE$2:AE1883),P1883:Q3786,2,0),\"\")","v":""},null,null,null,null,{"$f":"IFERROR(VLOOKUP(ROWS($AJ$2:AJ1883),O1883:Q3786,3,0),\"\")","v":""},null,{"$f":"IFERROR(VLOOKUP(ROWS(AL$2:$AL1883),N1883:Q3786,4,0),\"\")","v":""}]
[null,null,null,null,null,null,null,null,null,null,null,null,null,0,0,0,null,null,null,null,null,null,null,null,null,null,null,null,null,null,{"$f":"IFERROR(VLOOKUP(ROWS($AE$2:AE1884),P1884:Q3787,2,0),\"\")","v":""},null,null,null,null,{"$f":"IFERROR(VLOOKUP(ROWS($AJ$2:AJ1884),O1884:Q3787,3,0),\"\")","v":""},null,{"$f":"IFERROR(VLOOKUP(ROWS(AL$2:$AL1884),N1884:Q3787,4,0),\"\")","v":""}]
[null,null,null,null,null,null,null,null,null,null,null,null,null,0,0,0,null,null,null,null,null,null,null,null,null,null,null,null,null,null,{"$f":"IFERROR(VLOOKUP(ROWS($AE$2:AE1885),P1885:Q3788,2,0),\"\")","v":""},null,null,null,null,{"$f":"IFERROR(VLOOKUP(ROWS($AJ$2:AJ1885),O1885:Q3788,3,0),\"\")","v":""},null,{"$f":"IFERROR(VLOOKUP(ROWS(AL$2:$AL1885),N1885:Q3788,4,0),\"\")","v":""}]
[null,null,null,null,null,null,null,null,null,null,null,null,null,0,0,0,null,null,null,null,null,null,null,null,null,null,null,null,null,null,{"$f":"IFERROR(VLOOKUP(ROWS($AE$2:AE1886),P1886:Q3789,2,0),\"\")","v":""},null,null,null,null,{"$f":"IFERROR(VLOOKUP(ROWS($AJ$2:AJ1886),O1886:Q3789,3,0),\"\")","v":""},null,{"$f":"IFERROR(VLOOKUP(ROWS(AL$2:$AL1886),N1886:Q3789,4,0),\"\")","v":""}]
[null,null,null,null,null,null,null,null,null,null,null,null,null,0,0,0,null,null,null,null,null,null,null,null,null,null,null,null,null,null,{"$f":"IFERROR(VLOOKUP(ROWS($AE$2:AE1887),P1887:Q3790,2,0),\"\")","v":""},null,null,null,null,{"$f":"IFERROR(VLOOKUP(ROWS($AJ$2:AJ1887),O1887:Q3790,3,0),\"\")","v":""},null,{"$f":"IFERROR(VLOOKUP(ROWS(AL$2:$AL1887),N1887:Q3790,4,0),\"\")","v":""}]
[null,null,null,null,null,null,null,null,null,null,null,null,null,0,0,0,null,null,null,null,null,null,null,null,null,null,null,null,null,null,{"$f":"IFERROR(VLOOKUP(ROWS($AE$2:AE1888),P1888:Q3791,2,0),\"\")","v":""},null,null,null,null,{"$f":"IFERROR(VLOOKUP(ROWS($AJ$2:AJ1888),O1888:Q3791,3,0),\"\")","v":""},null,{"$f":"IFERROR(VLOOKUP(ROWS(AL$2:$AL1888),N1888:Q3791,4,0),\"\")","v":""}]
[null,null,null,null,null,null,null,null,null,null,null,null,null,0,0,0,null,null,null,null,null,null,null,null,null,null,null,null,null,null,{"$f":"IFERROR(VLOOKUP(ROWS($AE$2:AE1889),P1889:Q3792,2,0),\"\")","v":""},null,null,null,null,{"$f":"IFERROR(VLOOKUP(ROWS($AJ$2:AJ1889),O1889:Q3792,3,0),\"\")","v":""},null,{"$f":"IFERROR(VLOOKUP(ROWS(AL$2:$AL1889),N1889:Q3792,4,0),\"\")","v":""}]
[null,null,null,null,null,null,null,null,null,null,null,null,null,0,0,0,null,null,null,null,null,null,null,null,null,null,null,null,null,null,{"$f":"IFERROR(VLOOKUP(ROWS($AE$2:AE1890),P1890:Q3793,2,0),\"\")","v":""},null,null,null,null,{"$f":"IFERROR(VLOOKUP(ROWS($AJ$2:AJ1890),O1890:Q3793,3,0),\"\")","v":""},null,{"$f":"IFERROR(VLOOKUP(ROWS(AL$2:$AL1890),N1890:Q3793,4,0),\"\")","v":""}]
[null,null,null,null,null,null,null,null,null,null,null,null,null,0,0,0,null,null,null,null,null,null,null,null,null,null,null,null,null,null,{"$f":"IFERROR(VLOOKUP(ROWS($AE$2:AE1891),P1891:Q3794,2,0),\"\")","v":""},null,null,null,null,{"$f":"IFERROR(VLOOKUP(ROWS($AJ$2:AJ1891),O1891:Q3794,3,0),\"\")","v":""},null,{"$f":"IFERROR(VLOOKUP(ROWS(AL$2:$AL1891),N1891:Q3794,4,0),\"\")","v":""}]
[null,null,null,null,null,null,null,null,null,null,null,null,null,0,0,0,null,null,null,null,null,null,null,null,null,null,null,null,null,null,{"$f":"IFERROR(VLOOKUP(ROWS($AE$2:AE1892),P1892:Q3795,2,0),\"\")","v":""},null,null,null,null,{"$f":"IFERROR(VLOOKUP(ROWS($AJ$2:AJ1892),O1892:Q3795,3,0),\"\")","v":""},null,{"$f":"IFERROR(VLOOKUP(ROWS(AL$2:$AL1892),N1892:Q3795,4,0),\"\")","v":""}]
[null,null,null,null,null,null,null,null,null,null,null,null,null,0,0,0,null,null,null,null,null,null,null,null,null,null,null,null,null,null,{"$f":"IFERROR(VLOOKUP(ROWS($AE$2:AE1893),P1893:Q3796,2,0),\"\")","v":""},null,null,null,null,{"$f":"IFERROR(VLOOKUP(ROWS($AJ$2:AJ1893),O1893:Q3796,3,0),\"\")","v":""},null,{"$f":"IFERROR(VLOOKUP(ROWS(AL$2:$AL1893),N1893:Q3796,4,0),\"\")","v":""}]
[null,null,null,null,null,null,null,null,null,null,null,null,null,0,0,0,null,null,null,null,null,null,null,null,null,null,null,null,null,null,{"$f":"IFERROR(VLOOKUP(ROWS($AE$2:AE1894),P1894:Q3797,2,0),\"\")","v":""},null,null,null,null,{"$f":"IFERROR(VLOOKUP(ROWS($AJ$2:AJ1894),O1894:Q3797,3,0),\"\")","v":""},null,{"$f":"IFERROR(VLOOKUP(ROWS(AL$2:$AL1894),N1894:Q3797,4,0),\"\")","v":""}]
[null,null,null,null,null,null,null,null,null,null,null,null,null,0,0,0,null,null,null,null,null,null,null,null,null,null,null,null,null,null,{"$f":"IFERROR(VLOOKUP(ROWS($AE$2:AE1895),P1895:Q3798,2,0),\"\")","v":""},null,null,null,null,{"$f":"IFERROR(VLOOKUP(ROWS($AJ$2:AJ1895),O1895:Q3798,3,0),\"\")","v":""},null,{"$f":"IFERROR(VLOOKUP(ROWS(AL$2:$AL1895),N1895:Q3798,4,0),\"\")","v":""}]
[null,null,null,null,null,null,null,null,null,null,null,null,null,0,0,0,null,null,null,null,null,null,null,null,null,null,null,null,null,null,{"$f":"IFERROR(VLOOKUP(ROWS($AE$2:AE1896),P1896:Q3799,2,0),\"\")","v":""},null,null,null,null,{"$f":"IFERROR(VLOOKUP(ROWS($AJ$2:AJ1896),O1896:Q3799,3,0),\"\")","v":""},null,{"$f":"IFERROR(VLOOKUP(ROWS(AL$2:$AL1896),N1896:Q3799,4,0),\"\")","v":""}]
[null,null,null,null,null,null,null,null,null,null,null,null,null,0,0,0,null,null,null,null,null,null,null,null,null,null,null,null,null,null,{"$f":"IFERROR(VLOOKUP(ROWS($AE$2:AE1897),P1897:Q3800,2,0),\"\")","v":""},null,null,null,null,{"$f":"IFERROR(VLOOKUP(ROWS($AJ$2:AJ1897),O1897:Q3800,3,0),\"\")","v":""},null,{"$f":"IFERROR(VLOOKUP(ROWS(AL$2:$AL1897),N1897:Q3800,4,0),\"\")","v":""}]
[null,null,null,null,null,null,null,null,null,null,null,null,null,0,0,0,null,null,null,null,null,null,null,null,null,null,null,null,null,null,{"$f":"IFERROR(VLOOKUP(ROWS($AE$2:AE1898),P1898:Q3801,2,0),\"\")","v":""},null,null,null,null,{"$f":"IFERROR(VLOOKUP(ROWS($AJ$2:AJ1898),O1898:Q3801,3,0),\"\")","v":""},null,{"$f":"IFERROR(VLOOKUP(ROWS(AL$2:$AL1898),N1898:Q3801,4,0),\"\")","v":""}]
[null,null,null,null,null,null,null,null,null,null,null,null,null,0,0,0,null,null,null,null,null,null,null,null,null,null,null,null,null,null,{"$f":"IFERROR(VLOOKUP(ROWS($AE$2:AE1899),P1899:Q3802,2,0),\"\")","v":""},null,null,null,null,{"$f":"IFERROR(VLOOKUP(ROWS($AJ$2:AJ1899),O1899:Q3802,3,0),\"\")","v":""},null,{"$f":"IFERROR(VLOOKUP(ROWS(AL$2:$AL1899),N1899:Q3802,4,0),\"\")","v":""}]
[null,null,null,null,null,null,null,null,null,null,null,null,null,0,0,0,null,null,null,null,null,null,null,null,null,null,null,null,null,null,{"$f":"IFERROR(VLOOKUP(ROWS($AE$2:AE1900),P1900:Q3803,2,0),\"\")","v":""},null,null,null,null,{"$f":"IFERROR(VLOOKUP(ROWS($AJ$2:AJ1900),O1900:Q3803,3,0),\"\")","v":""},null,{"$f":"IFERROR(VLOOKUP(ROWS(AL$2:$AL1900),N1900:Q3803,4,0),\"\")","v":""}]
[null,null,null,null,null,null,null,null,null,null,null,null,null,0,0,0,null,null,null,null,null,null,null,null,null,null,null,null,null,null,{"$f":"IFERROR(VLOOKUP(ROWS($AE$2:AE1901),P1901:Q3804,2,0),\"\")","v":""},null,null,null,null,{"$f":"IFERROR(VLOOKUP(ROWS($AJ$2:AJ1901),O1901:Q3804,3,0),\"\")","v":""},null,{"$f":"IFERROR(VLOOKUP(ROWS(AL$2:$AL1901),N1901:Q3804,4,0),\"\")","v":""}]
[null,null,null,null,null,null,null,null,null,null,null,null,null,0,0,0,null,null,null,null,null,null,null,null,null,null,null,null,null,null,{"$f":"IFERROR(VLOOKUP(ROWS($AE$2:AE1902),P1902:Q3805,2,0),\"\")","v":""},null,null,null,null,{"$f":"IFERROR(VLOOKUP(ROWS($AJ$2:AJ1902),O1902:Q3805,3,0),\"\")","v":""},null,{"$f":"IFERROR(VLOOKUP(ROWS(AL$2:$AL1902),N1902:Q3805,4,0),\"\")","v":""}]
[null,null,null,null,null,null,null,null,null,null,null,null,null,{"$f":"IF(ISNUMBER(SEARCH($H$16,Q1903)),MAX($N$1,N1902)+1,0)","v":0},{"$f":"IF(ISNUMBER(SEARCH($H$11,Q1903)),MAX($O$1,O1902)+1,0)","v":0},{"$f":"IF(ISNUMBER(SEARCH($H$6,Q1903)),MAX($P$1,P1902)+1,0)","v":0},null,null,null,null,null,null,null,null,null,null,null,null,null,null,{"$f":"IFERROR(VLOOKUP(ROWS($AE$2:AE1903),P1903:Q3806,2,0),\"\")","v":""},null,null,null,null,{"$f":"IFERROR(VLOOKUP(ROWS($AJ$2:AJ1903),O1903:Q3806,3,0),\"\")","v":""},null,{"$f":"IFERROR(VLOOKUP(ROWS(AL$2:$AL1903),N1903:Q3806,4,0),\"\")","v":""}]
[null,null,null,null,null,null,null,null,null,null,null,null,null,{"$f":"IF(ISNUMBER(SEARCH($H$16,Q1904)),MAX($N$1,N1903)+1,0)","v":0},{"$f":"IF(ISNUMBER(SEARCH($H$11,Q1904)),MAX($O$1,O1903)+1,0)","v":0},{"$f":"IF(ISNUMBER(SEARCH($H$6,Q1904)),MAX($P$1,P1903)+1,0)","v":0},null,null,null,null,null,null,null,null,null,null,null,null,null,null,{"$f":"IFERROR(VLOOKUP(ROWS($AE$2:AE1904),P1904:Q3807,2,0),\"\")","v":""},null,null,null,null,{"$f":"IFERROR(VLOOKUP(ROWS($AJ$2:AJ1904),O1904:Q3807,3,0),\"\")","v":""},null,{"$f":"IFERROR(VLOOKUP(ROWS(AL$2:$AL1904),N1904:Q3807,4,0),\"\")","v":""}]
[null,null,null,null,null,null,null,null,null,null,null,null,null,{"$f":"IF(ISNUMBER(SEARCH($H$16,Q1905)),MAX($N$1,N1904)+1,0)","v":0},{"$f":"IF(ISNUMBER(SEARCH($H$11,Q1905)),MAX($O$1,O1904)+1,0)","v":0},{"$f":"IF(ISNUMBER(SEARCH($H$6,Q1905)),MAX($P$1,P1904)+1,0)","v":0},null,null,null,null,null,null,null,null,null,null,null,null,null,null,{"$f":"IFERROR(VLOOKUP(ROWS($AE$2:AE1905),P1905:Q3808,2,0),\"\")","v":""},null,null,null,null,{"$f":"IFERROR(VLOOKUP(ROWS($AJ$2:AJ1905),O1905:Q3808,3,0),\"\")","v":""},null,{"$f":"IFERROR(VLOOKUP(ROWS(AL$2:$AL1905),N1905:Q3808,4,0),\"\")","v":""}]

{"sheet":"Results-simple","index":2,"n_rows":103,"n_cols":28,"rows_kept":103,"cut":false,"hidden":false,"merged":[[17,2,18,2],[17,3,18,3],[15,1,16,1],[9,1,10,1],[9,2,10,2],[12,2,13,2],[15,2,16,2],[12,1,13,1],[0,35,0,40],[0,25,0,30],[0,17,0,21],[0,9,0,14]]}
[null,{"$f":"'mf1'!A1","v":"hdfc top 200 fund"},{"$f":"'mf2'!A1","v":"hdfc equity fund"},{"$f":"'mf3'!A1","v":"hdfc prudence fund"},null,null,{"$f":"IF(ISERROR(MATCH(\"debt\",'mf1'!A1:A1068,0)),MATCH(\"Money Market\",'mf1'!A1:A1068,0),MATCH(\"debt\",'mf1'!A1:A1068,0))","v":77},{"$f":"MATCH(\"Money Market\",'mf1'!A1:A1068,0)+1","v":78},null,"mf1 vsmf2",null,null,null,null,null,null,null,"mf2 vsmf3",null,null,null,null,null,null,null,"mf1 vsmf3"]
["Category (see definitions page)",{"$f":"INDEX(Main!Q2:S1905,MATCH(Main!F8,Main!Q2:Q1905,0),3)","v":"Large Cap"},{"$f":"INDEX(Main!Q2:S1905,MATCH(Main!F13,Main!Q2:Q1905,0),3)","v":"Diversified equity"},{"$f":"INDEX(Main!Q2:S1905,MATCH(Main!F18,Main!Q2:Q1905,0),3)","v":"Balanced"},null,null,{"$f":"IF(ISERROR(MATCH(\"debt\",'mf2'!A1:A1068,0)),MATCH(\"Money Market\",'mf2'!A1:A1068,0),MATCH(\"debt\",'mf2'!A1:A1068,0))","v":61},{"$f":"MATCH(\"Money Market\",'mf2'!A1:A1068,0)+1","v":62},1,{"$f":"INDEX(INDIRECT(\"mf2!A\"&$G$11):INDIRECT(\"mf2!A\"&$H$11),MATCH('mf1'!A5,INDIRECT(\"mf2!A\"&$G$11):INDIRECT(\"mf2!A\"&$H$11),0),1)","v":"SBI"},{"$f":"INDEX('mf2'!$A$5:$E$100,MATCH('mf1'!A5,'mf2'!$A$5:$A$100,0),5)","v":8.5299999999999994},{"$f":"IF(ISERROR(J2),0,1)","v":1},null,null,{"$f":"IF(ISERROR(INDEX('mf2'!$A$5:$A$100,MATCH('mf1'!F5,'mf2'!$A$5:$A$100,0),1)),\"\",INDEX('mf2'!$A$5:$A$100,MATCH('mf1'!F5,'mf2'!$A$5:$A$100,0),1))","v":""},null,null,{"$f":"INDEX(INDIRECT(\"mf3!A\"&$G$12):INDIRECT(\"mf3!A\"&$H$12),MATCH('mf2'!A5,INDIRECT(\"mf3!A\"&$G$12):INDIRECT(\"mf3!A\"&$H$12),0),1)","v":"SBI"},{"$f":"INDEX('mf3'!$A$5:$E$100,MATCH('mf2'!A5,'mf3'!$A$5:$A$100,0),5)","v":5.38},{"$f":"IF(ISERROR(R2),0,1)","v":1},null,null,null,null,null,{"$f":"INDEX(INDIRECT(\"mf3!A\"&$G$12):INDIRECT(\"mf3!A\"&$H$12),MATCH('mf1'!A5,INDIRECT(\"mf3!A\"&$G$12):INDIRECT(\"mf3!A\"&$H$12),0),1)","v":"SBI"},{"$f":"INDEX('mf3'!$A$5:$E$100,MATCH('mf1'!A5,'mf3'!$A$5:$A$100,0),5)","v":5.38},{"$f":"IF(ISERROR(Z2),0,1)","v":1}]
["Number of Stocks",{"$f":"H10-G10+1-J103","v":72},{"$f":"H11-G11+1-R103","v":55},{"$f":"H12-G12+1-Z103","v":87},null,null,{"$f":"IF(ISERROR(MATCH(\"debt\",'mf3'!A1:A1068,0)),MATCH(\"Money Market\",'mf3'!A1:A1068,0),MATCH(\"debt\",'mf3'!A1:A1068,0))","v":92},{"$f":"MATCH(\"Money Market\",'mf3'!A1:A1068,0)+1","v":119},{"$f":"I2+1","v":2},{"$f":"INDEX(INDIRECT(\"mf2!A\"&$G$11):INDIRECT(\"mf2!A\"&$H$11),MATCH('mf1'!A6,INDIRECT(\"mf2!A\"&$G$11):INDIRECT(\"mf2!A\"&$H$11),0),1)","v":"ICICI Bank"},{"$f":"INDEX('mf2'!$A$5:$E$100,MATCH('mf1'!A6,'mf2'!$A$5:$A$100,0),5)","v":8.16},{"$f":"IF(ISERROR(J3),0,1)","v":1},null,null,null,null,null,{"$f":"INDEX(INDIRECT(\"mf3!A\"&$G$12):INDIRECT(\"mf3!A\"&$H$12),MATCH('mf2'!A6,INDIRECT(\"mf3!A\"&$G$12):INDIRECT(\"mf3!A\"&$H$12),0),1)","v":"ICICI Bank"},{"$f":"INDEX('mf3'!$A$5:$E$100,MATCH('mf2'!A6,'mf3'!$A$5:$A$100,0),5)","v":5.57},{"$f":"IF(ISERROR(R3),0,1)","v":1},null,null,null,null,null,{"$f":"INDEX(INDIRECT(\"mf3!A\"&$G$12):INDIRECT(\"mf3!A\"&$H$12),MATCH('mf1'!A6,INDIRECT(\"mf3!A\"&$G$12):INDIRECT(\"mf3!A\"&$H$12),0),1)","v":"ICICI Bank"},{"$f":"INDEX('mf3'!$A$5:$E$100,MATCH('mf1'!A6,'mf3'!$A$5:$A$100,0),5)","v":5.57},{"$f":"IF(ISERROR(Z3),0,1)","v":1}]
["% equity portfolio displayed byMOney control",{"$f":"SUM('mf1'!E5:E100)","v":98.499999999999915},{"$f":"SUM('mf2'!E5:E100)","v":98.109999999999985},{"$f":"SUM('mf3'!E5:E100)","v":74.810000000000031},null,null,null,null,{"$f":"I3+1","v":3},{"$f":"INDEX(INDIRECT(\"mf2!A\"&$G$11):INDIRECT(\"mf2!A\"&$H$11),MATCH('mf1'!A7,INDIRECT(\"mf2!A\"&$G$11):INDIRECT(\"mf2!A\"&$H$11),0),1)","v":"Larsen"},{"$f":"INDEX('mf2'!$A$5:$E$100,MATCH('mf1'!A7,'mf2'!$A$5:$A$100,0),5)","v":7.55},1,null,null,null,null,null,{"$f":"INDEX(INDIRECT(\"mf3!A\"&$G$12):INDIRECT(\"mf3!A\"&$H$12),MATCH('mf2'!A7,INDIRECT(\"mf3!A\"&$G$12):INDIRECT(\"mf3!A\"&$H$12),0),1)","v":"Larsen"},{"$f":"INDEX('mf3'!$A$5:$E$100,MATCH('mf2'!A7,'mf3'!$A$5:$A$100,0),5)","v":5.13},1,null,null,null,null,null,{"$f":"INDEX(INDIRECT(\"mf3!A\"&$G$12):INDIRECT(\"mf3!A\"&$H$12),MATCH('mf1'!A7,INDIRECT(\"mf3!A\"&$G$12):INDIRECT(\"mf3!A\"&$H$12),0),1)","v":"Larsen"},{"$f":"INDEX('mf3'!$A$5:$E$100,MATCH('mf1'!A7,'mf3'!$A$5:$A$100,0),5)","v":5.13},1]
["Money Market",{"$f":"INDIRECT(\"mf1!D\"&H1)","v":1.56},{"$f":"INDIRECT(\"mf2!D\"&H2)","v":0.53},{"$f":"INDIRECT(\"mf3!D\"&H3)","v":1.22},null,null,null,{"$f":"MATCH(\"Cash / Call\",'mf1'!A1:A1068,0)+1","v":80},4,{"$f":"INDEX(INDIRECT(\"mf2!A\"&$G$11):INDIRECT(\"mf2!A\"&$H$11),MATCH('mf1'!A8,INDIRECT(\"mf2!A\"&$G$11):INDIRECT(\"mf2!A\"&$H$11),0),1)","v":"Infosys"},{"$f":"INDEX('mf2'!$A$5:$E$100,MATCH('mf1'!A8,'mf2'!$A$5:$A$100,0),5)","v":6.81},1,null,null,null,null,null,{"$f":"INDEX(INDIRECT(\"mf3!A\"&$G$12):INDIRECT(\"mf3!A\"&$H$12),MATCH('mf2'!A8,INDIRECT(\"mf3!A\"&$G$12):INDIRECT(\"mf3!A\"&$H$12),0),1)","v":"Infosys"},{"$f":"INDEX('mf3'!$A$5:$E$100,MATCH('mf2'!A8,'mf3'!$A$5:$A$100,0),5)","v":5.26},1,null,null,null,null,null,{"$f":"INDEX(INDIRECT(\"mf3!A\"&$G$12):INDIRECT(\"mf3!A\"&$H$12),MATCH('mf1'!A8,INDIRECT(\"mf3!A\"&$G$12):INDIRECT(\"mf3!A\"&$H$12),0),1)","v":"Infosys"},{"$f":"INDEX('mf3'!$A$5:$E$100,MATCH('mf1'!A8,'mf3'!$A$5:$A$100,0),5)","v":5.26},1]
["Cash / Call",{"$f":"INDIRECT(\"mf1!D\"&H5)","v":-0.06},{"$f":"INDIRECT(\"mf2!D\"&H6)","v":0.65},{"$f":"INDIRECT(\"mf3!D\"&H7)","v":0.36},null,null,null,{"$f":"MATCH(\"Cash / Call\",'mf2'!A1:A1068,0)+1","v":64},5,{"$f":"INDEX(INDIRECT(\"mf2!A\"&$G$11):INDIRECT(\"mf2!A\"&$H$11),MATCH('mf1'!A9,INDIRECT(\"mf2!A\"&$G$11):INDIRECT(\"mf2!A\"&$H$11),0),1)","v":"HDFC Bank"},{"$f":"INDEX('mf2'!$A$5:$E$100,MATCH('mf1'!A9,'mf2'!$A$5:$A$100,0),5)","v":3.1},1,null,null,null,null,null,{"$f":"INDEX(INDIRECT(\"mf3!A\"&$G$12):INDIRECT(\"mf3!A\"&$H$12),MATCH('mf2'!A9,INDIRECT(\"mf3!A\"&$G$12):INDIRECT(\"mf3!A\"&$H$12),0),1)","v":"Maruti Suzuki"},{"$f":"INDEX('mf3'!$A$5:$E$100,MATCH('mf2'!A9,'mf3'!$A$5:$A$100,0),5)","v":3.05},1,null,null,null,null,null,{"$f":"INDEX(INDIRECT(\"mf3!A\"&$G$12):INDIRECT(\"mf3!A\"&$H$12),MATCH('mf1'!A9,INDIRECT(\"mf3!A\"&$G$12):INDIRECT(\"mf3!A\"&$H$12),0),1)","v":{"$error":"#N/A"}},{"$f":"INDEX('mf3'!$A$5:$E$100,MATCH('mf1'!A9,'mf3'!$A$5:$A$100,0),5)","v":{"$error":"#N/A"}},0]
["Debt",{"$f":"100-SUM(B4:B6)","v":0},{"$f":"100-SUM(C4:C6)","v":0.71000000000000796},{"$f":"100-SUM(D4:D6)","v":23.609999999999971},null,null,null,{"$f":"MATCH(\"Cash / Call\",'mf3'!A1:A1068,0)+1","v":121},6,{"$f":"INDEX(INDIRECT(\"mf2!A\"&$G$11):INDIRECT(\"mf2!A\"&$H$11),MATCH('mf1'!A10,INDIRECT(\"mf2!A\"&$G$11):INDIRECT(\"mf2!A\"&$H$11),0),1)","v":"Maruti Suzuki"},{"$f":"INDEX('mf2'!$A$5:$E$100,MATCH('mf1'!A10,'mf2'!$A$5:$A$100,0),5)","v":5.39},1,null,null,null,null,null,{"$f":"INDEX(INDIRECT(\"mf3!A\"&$G$12):INDIRECT(\"mf3!A\"&$H$12),MATCH('mf2'!A10,INDIRECT(\"mf3!A\"&$G$12):INDIRECT(\"mf3!A\"&$H$12),0),1)","v":"BPCL"},{"$f":"INDEX('mf3'!$A$5:$E$100,MATCH('mf2'!A10,'mf3'!$A$5:$A$100,0),5)","v":1.44},1,null,null,null,null,null,{"$f":"INDEX(INDIRECT(\"mf3!A\"&$G$12):INDIRECT(\"mf3!A\"&$H$12),MATCH('mf1'!A10,INDIRECT(\"mf3!A\"&$G$12):INDIRECT(\"mf3!A\"&$H$12),0),1)","v":"Maruti Suzuki"},{"$f":"INDEX('mf3'!$A$5:$E$100,MATCH('mf1'!A10,'mf3'!$A$5:$A$100,0),5)","v":3.05},1]
[null,null,null,null,null,null,null,null,7,{"$f":"INDEX(INDIRECT(\"mf2!A\"&$G$11):INDIRECT(\"mf2!A\"&$H$11),MATCH('mf1'!A11,INDIRECT(\"mf2!A\"&$G$11):INDIRECT(\"mf2!A\"&$H$11),0),1)","v":"Reliance"},{"$f":"INDEX('mf2'!$A$5:$E$100,MATCH('mf1'!A11,'mf2'!$A$5:$A$100,0),5)","v":1.98},1,null,null,null,null,null,{"$f":"INDEX(INDIRECT(\"mf3!A\"&$G$12):INDIRECT(\"mf3!A\"&$H$12),MATCH('mf2'!A11,INDIRECT(\"mf3!A\"&$G$12):INDIRECT(\"mf3!A\"&$H$12),0),1)","v":"Aurobindo Pharm"},{"$f":"INDEX('mf3'!$A$5:$E$100,MATCH('mf2'!A11,'mf3'!$A$5:$A$100,0),5)","v":2.68},1,null,null,null,null,null,{"$f":"INDEX(INDIRECT(\"mf3!A\"&$G$12):INDIRECT(\"mf3!A\"&$H$12),MATCH('mf1'!A11,INDIRECT(\"mf3!A\"&$G$12):INDIRECT(\"mf3!A\"&$H$12),0),1)","v":"Reliance"},{"$f":"INDEX('mf3'!$A$5:$E$100,MATCH('mf1'!A11,'mf3'!$A$5:$A$100,0),5)","v":0.8},1]
["Overlap in equity portfolio","% percentage","No of common stocks",null,null,null,null,null,8,{"$f":"INDEX(INDIRECT(\"mf2!A\"&$G$11):INDIRECT(\"mf2!A\"&$H$11),MATCH('mf1'!A12,INDIRECT(\"mf2!A\"&$G$11):INDIRECT(\"mf2!A\"&$H$11),0),1)","v":"BPCL"},{"$f":"INDEX('mf2'!$A$5:$E$100,MATCH('mf1'!A12,'mf2'!$A$5:$A$100,0),5)","v":4.3600000000000003},1,null,null,null,null,null,{"$f":"INDEX(INDIRECT(\"mf3!A\"&$G$12):INDIRECT(\"mf3!A\"&$H$12),MATCH('mf2'!A12,INDIRECT(\"mf3!A\"&$G$12):INDIRECT(\"mf3!A\"&$H$12),0),1)","v":"Bharti Airtel"},{"$f":"INDEX('mf3'!$A$5:$E$100,MATCH('mf2'!A12,'mf3'!$A$5:$A$100,0),5)","v":2.4900000000000002},1,null,null,null,null,null,{"$f":"INDEX(INDIRECT(\"mf3!A\"&$G$12):INDIRECT(\"mf3!A\"&$H$12),MATCH('mf1'!A12,INDIRECT(\"mf3!A\"&$G$12):INDIRECT(\"mf3!A\"&$H$12),0),1)","v":"BPCL"},{"$f":"INDEX('mf3'!$A$5:$E$100,MATCH('mf1'!A12,'mf3'!$A$5:$A$100,0),5)","v":1.44},1]
[{"$f":"B1","v":"hdfc top 200 fund"},{"$f":"L102/B3","v":0.52777777777777779},{"$f":"L102","v":38},null,null,null,5,{"$f":"G1-1","v":76},9,{"$f":"INDEX(INDIRECT(\"mf2!A\"&$G$11):INDIRECT(\"mf2!A\"&$H$11),MATCH('mf1'!A13,INDIRECT(\"mf2!A\"&$G$11):INDIRECT(\"mf2!A\"&$H$11),0),1)","v":"Axis Bank"},{"$f":"INDEX('mf2'!$A$5:$E$100,MATCH('mf1'!A13,'mf2'!$A$5:$A$100,0),5)","v":2.2599999999999998},1,null,null,null,null,null,{"$f":"INDEX(INDIRECT(\"mf3!A\"&$G$12):INDIRECT(\"mf3!A\"&$H$12),MATCH('mf2'!A13,INDIRECT(\"mf3!A\"&$G$12):INDIRECT(\"mf3!A\"&$H$12),0),1)","v":"Tata Motors"},{"$f":"INDEX('mf3'!$A$5:$E$100,MATCH('mf2'!A13,'mf3'!$A$5:$A$100,0),5)","v":1.8},1,null,null,null,null,null,{"$f":"INDEX(INDIRECT(\"mf3!A\"&$G$12):INDIRECT(\"mf3!A\"&$H$12),MATCH('mf1'!A13,INDIRECT(\"mf3!A\"&$G$12):INDIRECT(\"mf3!A\"&$H$12),0),1)","v":"Axis Bank"},{"$f":"INDEX('mf3'!$A$5:$E$100,MATCH('mf1'!A13,'mf3'!$A$5:$A$100,0),5)","v":0.99},1]
[{"$f":"C1","v":"hdfc equity fund"},null,null,null,null,null,5,{"$f":"G2-1","v":60},10,{"$f":"INDEX(INDIRECT(\"mf2!A\"&$G$11):INDIRECT(\"mf2!A\"&$H$11),MATCH('mf1'!A14,INDIRECT(\"mf2!A\"&$G$11):INDIRECT(\"mf2!A\"&$H$11),0),1)","v":"Aurobindo Pharm"},{"$f":"INDEX('mf2'!$A$5:$E$100,MATCH('mf1'!A14,'mf2'!$A$5:$A$100,0),5)","v":3.95},1,null,null,null,null,null,{"$f":"INDEX(INDIRECT(\"mf3!A\"&$G$12):INDIRECT(\"mf3!A\"&$H$12),MATCH('mf2'!A14,INDIRECT(\"mf3!A\"&$G$12):INDIRECT(\"mf3!A\"&$H$12),0),1)","v":{"$error":"#N/A"}},{"$f":"INDEX('mf3'!$A$5:$E$100,MATCH('mf2'!A14,'mf3'!$A$5:$A$100,0),5)","v":{"$error":"#N/A"}},0,null,null,null,null,null,{"$f":"INDEX(INDIRECT(\"mf3!A\"&$G$12):INDIRECT(\"mf3!A\"&$H$12),MATCH('mf1'!A14,INDIRECT(\"mf3!A\"&$G$12):INDIRECT(\"mf3!A\"&$H$12),0),1)","v":"Aurobindo Pharm"},{"$f":"INDEX('mf3'!$A$5:$E$100,MATCH('mf1'!A14,'mf3'!$A$5:$A$100,0),5)","v":2.68},1]
[null,null,null,null,"Click to view MF1 Fund Page at Moneycontrol",null,5,{"$f":"G3-1","v":91},11,{"$f":"INDEX(INDIRECT(\"mf2!A\"&$G$11):INDIRECT(\"mf2!A\"&$H$11),MATCH('mf1'!A15,INDIRECT(\"mf2!A\"&$G$11):INDIRECT(\"mf2!A\"&$H$11),0),1)","v":"ITC"},{"$f":"INDEX('mf2'!$A$5:$E$100,MATCH('mf1'!A15,'mf2'!$A$5:$A$100,0),5)","v":1.1200000000000001},1,null,null,null,null,null,{"$f":"INDEX(INDIRECT(\"mf3!A\"&$G$12):INDIRECT(\"mf3!A\"&$H$12),MATCH('mf2'!A15,INDIRECT(\"mf3!A\"&$G$12):INDIRECT(\"mf3!A\"&$H$12),0),1)","v":"Bank of Baroda"},{"$f":"INDEX('mf3'!$A$5:$E$100,MATCH('mf2'!A15,'mf3'!$A$5:$A$100,0),5)","v":1.79},1,null,null,null,null,null,{"$f":"INDEX(INDIRECT(\"mf3!A\"&$G$12):INDIRECT(\"mf3!A\"&$H$12),MATCH('mf1'!A15,INDIRECT(\"mf3!A\"&$G$12):INDIRECT(\"mf3!A\"&$H$12),0),1)","v":{"$error":"#N/A"}},{"$f":"INDEX('mf3'!$A$5:$E$100,MATCH('mf1'!A15,'mf3'!$A$5:$A$100,0),5)","v":{"$error":"#N/A"}},0]
[{"$f":"C1","v":"hdfc equity fund"},{"$f":"T102/C3","v":0.76363636363636367},{"$f":"T102","v":42},null,null,null,null,null,12,{"$f":"INDEX(INDIRECT(\"mf2!A\"&$G$11):INDIRECT(\"mf2!A\"&$H$11),MATCH('mf1'!A16,INDIRECT(\"mf2!A\"&$G$11):INDIRECT(\"mf2!A\"&$H$11),0),1)","v":"Tata Motors"},{"$f":"INDEX('mf2'!$A$5:$E$100,MATCH('mf1'!A16,'mf2'!$A$5:$A$100,0),5)","v":3.28},1,null,null,null,null,null,{"$f":"INDEX(INDIRECT(\"mf3!A\"&$G$12):INDIRECT(\"mf3!A\"&$H$12),MATCH('mf2'!A16,INDIRECT(\"mf3!A\"&$G$12):INDIRECT(\"mf3!A\"&$H$12),0),1)","v":"Axis Bank"},{"$f":"INDEX('mf3'!$A$5:$E$100,MATCH('mf2'!A16,'mf3'!$A$5:$A$100,0),5)","v":0.99},1,null,null,null,null,null,{"$f":"INDEX(INDIRECT(\"mf3!A\"&$G$12):INDIRECT(\"mf3!A\"&$H$12),MATCH('mf1'!A16,INDIRECT(\"mf3!A\"&$G$12):INDIRECT(\"mf3!A\"&$H$12),0),1)","v":"Tata Motors"},{"$f":"INDEX('mf3'!$A$5:$E$100,MATCH('mf1'!A16,'mf3'!$A$5:$A$100,0),5)","v":1.8},1]
[{"$f":"D1","v":"hdfc prudence fund"},null,null,null,"Click to view MF2 Fund Page at Moneycontrol",null,null,null,13,{"$f":"INDEX(INDIRECT(\"mf2!A\"&$G$11):INDIRECT(\"mf2!A\"&$H$11),MATCH('mf1'!A17,INDIRECT(\"mf2!A\"&$G$11):INDIRECT(\"mf2!A\"&$H$11),0),1)","v":"HDFC"},{"$f":"INDEX('mf2'!$A$5:$E$100,MATCH('mf1'!A17,'mf2'!$A$5:$A$100,0),5)","v":1.6},1,null,null,null,null,null,{"$f":"INDEX(INDIRECT(\"mf3!A\"&$G$12):INDIRECT(\"mf3!A\"&$H$12),MATCH('mf2'!A17,INDIRECT(\"mf3!A\"&$G$12):INDIRECT(\"mf3!A\"&$H$12),0),1)","v":"Reliance"},{"$f":"INDEX('mf3'!$A$5:$E$100,MATCH('mf2'!A17,'mf3'!$A$5:$A$100,0),5)","v":0.8},1,null,null,null,null,null,{"$f":"INDEX(INDIRECT(\"mf3!A\"&$G$12):INDIRECT(\"mf3!A\"&$H$12),MATCH('mf1'!A17,INDIRECT(\"mf3!A\"&$G$12):INDIRECT(\"mf3!A\"&$H$12),0),1)","v":{"$error":"#N/A"}},{"$f":"INDEX('mf3'!$A$5:$E$100,MATCH('mf1'!A17,'mf3'!$A$5:$A$100,0),5)","v":{"$error":"#N/A"}},0]
[null,null,null,null,null,null,null,null,14,{"$f":"INDEX(INDIRECT(\"mf2!A\"&$G$11):INDIRECT(\"mf2!A\"&$H$11),MATCH('mf1'!A18,INDIRECT(\"mf2!A\"&$G$11):INDIRECT(\"mf2!A\"&$H$11),0),1)","v":"Bharti Airtel"},{"$f":"INDEX('mf2'!$A$5:$E$100,MATCH('mf1'!A18,'mf2'!$A$5:$A$100,0),5)","v":3.56},1,null,null,null,null,null,{"$f":"INDEX(INDIRECT(\"mf3!A\"&$G$12):INDIRECT(\"mf3!A\"&$H$12),MATCH('mf2'!A18,INDIRECT(\"mf3!A\"&$G$12):INDIRECT(\"mf3!A\"&$H$12),0),1)","v":"Grasim"},{"$f":"INDEX('mf3'!$A$5:$E$100,MATCH('mf2'!A18,'mf3'!$A$5:$A$100,0),5)","v":0.73},1,null,null,null,null,null,{"$f":"INDEX(INDIRECT(\"mf3!A\"&$G$12):INDIRECT(\"mf3!A\"&$H$12),MATCH('mf1'!A18,INDIRECT(\"mf3!A\"&$G$12):INDIRECT(\"mf3!A\"&$H$12),0),1)","v":"Bharti Airtel"},{"$f":"INDEX('mf3'!$A$5:$E$100,MATCH('mf1'!A18,'mf3'!$A$5:$A$100,0),5)","v":2.4900000000000002},1]
[{"$f":"B1","v":"hdfc top 200 fund"},{"$f":"AB102/B3","v":0.44444444444444442},{"$f":"AB102","v":32},null,"Click to view MF3 Fund Page at Moneycontrol",null,null,null,15,{"$f":"INDEX(INDIRECT(\"mf2!A\"&$G$11):INDIRECT(\"mf2!A\"&$H$11),MATCH('mf1'!A19,INDIRECT(\"mf2!A\"&$G$11):INDIRECT(\"mf2!A\"&$H$11),0),1)","v":"Bank of Baroda"},{"$f":"INDEX('mf2'!$A$5:$E$100,MATCH('mf1'!A19,'mf2'!$A$5:$A$100,0),5)","v":2.69},1,null,null,null,null,null,{"$f":"INDEX(INDIRECT(\"mf3!A\"&$G$12):INDIRECT(\"mf3!A\"&$H$12),MATCH('mf2'!A19,INDIRECT(\"mf3!A\"&$G$12):INDIRECT(\"mf3!A\"&$H$12),0),1)","v":"CESC"},{"$f":"INDEX('mf3'!$A$5:$E$100,MATCH('mf2'!A19,'mf3'!$A$5:$A$100,0),5)","v":0.46},1,null,null,null,null,null,{"$f":"INDEX(INDIRECT(\"mf3!A\"&$G$12):INDIRECT(\"mf3!A\"&$H$12),MATCH('mf1'!A19,INDIRECT(\"mf3!A\"&$G$12):INDIRECT(\"mf3!A\"&$H$12),0),1)","v":"Bank of Baroda"},{"$f":"INDEX('mf3'!$A$5:$E$100,MATCH('mf1'!A19,'mf3'!$A$5:$A$100,0),5)","v":1.79},1]
[{"$f":"D1","v":"hdfc prudence fund"},null,null,null,null,null,null,null,16,{"$f":"INDEX(INDIRECT(\"mf2!A\"&$G$11):INDIRECT(\"mf2!A\"&$H$11),MATCH('mf1'!A20,INDIRECT(\"mf2!A\"&$G$11):INDIRECT(\"mf2!A\"&$H$11),0),1)","v":"Crompton Greave"},{"$f":"INDEX('mf2'!$A$5:$E$100,MATCH('mf1'!A20,'mf2'!$A$5:$A$100,0),5)","v":1.6},1,null,null,null,null,null,{"$f":"INDEX(INDIRECT(\"mf3!A\"&$G$12):INDIRECT(\"mf3!A\"&$H$12),MATCH('mf2'!A20,INDIRECT(\"mf3!A\"&$G$12):INDIRECT(\"mf3!A\"&$H$12),0),1)","v":"Oracle Fin Serv"},{"$f":"INDEX('mf3'!$A$5:$E$100,MATCH('mf2'!A20,'mf3'!$A$5:$A$100,0),5)","v":1.06},1,null,null,null,null,null,{"$f":"INDEX(INDIRECT(\"mf3!A\"&$G$12):INDIRECT(\"mf3!A\"&$H$12),MATCH('mf1'!A20,INDIRECT(\"mf3!A\"&$G$12):INDIRECT(\"mf3!A\"&$H$12),0),1)","v":"Crompton Greave"},{"$f":"INDEX('mf3'!$A$5:$E$100,MATCH('mf1'!A20,'mf3'!$A$5:$A$100,0),5)","v":1.46},1]
[null,null,null,null,"Click on above links to check if the correct porftolio has been downloaded",null,null,null,17,{"$f":"INDEX(INDIRECT(\"mf2!A\"&$G$11):INDIRECT(\"mf2!A\"&$H$11),MATCH('mf1'!A21,INDIRECT(\"mf2!A\"&$G$11):INDIRECT(\"mf2!A\"&$H$11),0),1)","v":"CESC"},{"$f":"INDEX('mf2'!$A$5:$E$100,MATCH('mf1'!A21,'mf2'!$A$5:$A$100,0),5)","v":1.87},1,null,null,null,null,null,{"$f":"INDEX(INDIRECT(\"mf3!A\"&$G$12):INDIRECT(\"mf3!A\"&$H$12),MATCH('mf2'!A21,INDIRECT(\"mf3!A\"&$G$12):INDIRECT(\"mf3!A\"&$H$12),0),1)","v":"CMC"},{"$f":"INDEX('mf3'!$A$5:$E$100,MATCH('mf2'!A21,'mf3'!$A$5:$A$100,0),5)","v":1.03},1,null,null,null,null,null,{"$f":"INDEX(INDIRECT(\"mf3!A\"&$G$12):INDIRECT(\"mf3!A\"&$H$12),MATCH('mf1'!A21,INDIRECT(\"mf3!A\"&$G$12):INDIRECT(\"mf3!A\"&$H$12),0),1)","v":"CESC"},{"$f":"INDEX('mf3'!$A$5:$E$100,MATCH('mf1'!A21,'mf3'!$A$5:$A$100,0),5)","v":0.46},1]
[null,null,null,null,null,null,{"$f":"INDEX(INDIRECT(\"mf3!A\"&$G$12):INDIRECT(\"mf3!A\"&$H$12),MATCH('mf1'!A5,INDIRECT(\"mf3!A\"&$G$12):INDIRECT(\"mf3!A\"&$H$12),0),1)","v":"SBI"},null,18,{"$f":"INDEX(INDIRECT(\"mf2!A\"&$G$11):INDIRECT(\"mf2!A\"&$H$11),MATCH('mf1'!A22,INDIRECT(\"mf2!A\"&$G$11):INDIRECT(\"mf2!A\"&$H$11),0),1)","v":"Grasim"},{"$f":"INDEX('mf2'!$A$5:$E$100,MATCH('mf1'!A22,'mf2'!$A$5:$A$100,0),5)","v":1.97},1,null,null,null,null,null,{"$f":"INDEX(INDIRECT(\"mf3!A\"&$G$12):INDIRECT(\"mf3!A\"&$H$12),MATCH('mf2'!A22,INDIRECT(\"mf3!A\"&$G$12):INDIRECT(\"mf3!A\"&$H$12),0),1)","v":"Siemens"},{"$f":"INDEX('mf3'!$A$5:$E$100,MATCH('mf2'!A22,'mf3'!$A$5:$A$100,0),5)","v":0.78},1,null,null,null,null,null,{"$f":"INDEX(INDIRECT(\"mf3!A\"&$G$12):INDIRECT(\"mf3!A\"&$H$12),MATCH('mf1'!A22,INDIRECT(\"mf3!A\"&$G$12):INDIRECT(\"mf3!A\"&$H$12),0),1)","v":"Grasim"},{"$f":"INDEX('mf3'!$A$5:$E$100,MATCH('mf1'!A22,'mf3'!$A$5:$A$100,0),5)","v":0.73},1]
["Portfolio Breakup for Equity and Equity oriented Balanced Funds (excluding international stocks)",null,null,null,null,null,null,null,19,{"$f":"INDEX(INDIRECT(\"mf2!A\"&$G$11):INDIRECT(\"mf2!A\"&$H$11),MATCH('mf1'!A23,INDIRECT(\"mf2!A\"&$G$11):INDIRECT(\"mf2!A\"&$H$11),0),1)","v":"Oracle Fin Serv"},{"$f":"INDEX('mf2'!$A$5:$E$100,MATCH('mf1'!A23,'mf2'!$A$5:$A$100,0),5)","v":1.85},1,null,null,null,null,null,{"$f":"INDEX(INDIRECT(\"mf3!A\"&$G$12):INDIRECT(\"mf3!A\"&$H$12),MATCH('mf2'!A23,INDIRECT(\"mf3!A\"&$G$12):INDIRECT(\"mf3!A\"&$H$12),0),1)","v":"Balkrishna Ind"},{"$f":"INDEX('mf3'!$A$5:$E$100,MATCH('mf2'!A23,'mf3'!$A$5:$A$100,0),5)","v":0.59},1,null,null,null,null,null,{"$f":"INDEX(INDIRECT(\"mf3!A\"&$G$12):INDIRECT(\"mf3!A\"&$H$12),MATCH('mf1'!A23,INDIRECT(\"mf3!A\"&$G$12):INDIRECT(\"mf3!A\"&$H$12),0),1)","v":"Oracle Fin Serv"},{"$f":"INDEX('mf3'!$A$5:$E$100,MATCH('mf1'!A23,'mf3'!$A$5:$A$100,0),5)","v":1.06},1]
[null,{"$f":"B1","v":"hdfc top 200 fund"},{"$f":"C1","v":"hdfc equity fund"},{"$f":"D1","v":"hdfc prudence fund"},null,null,null,null,20,{"$f":"INDEX(INDIRECT(\"mf2!A\"&$G$11):INDIRECT(\"mf2!A\"&$H$11),MATCH('mf1'!A24,INDIRECT(\"mf2!A\"&$G$11):INDIRECT(\"mf2!A\"&$H$11),0),1)","v":"Tata Motors"},{"$f":"INDEX('mf2'!$A$5:$E$100,MATCH('mf1'!A24,'mf2'!$A$5:$A$100,0),5)","v":3.28},1,null,null,null,null,null,{"$f":"INDEX(INDIRECT(\"mf3!A\"&$G$12):INDIRECT(\"mf3!A\"&$H$12),MATCH('mf2'!A24,INDIRECT(\"mf3!A\"&$G$12):INDIRECT(\"mf3!A\"&$H$12),0),1)","v":"Crompton Greave"},{"$f":"INDEX('mf3'!$A$5:$E$100,MATCH('mf2'!A24,'mf3'!$A$5:$A$100,0),5)","v":1.46},1,null,null,null,null,null,{"$f":"INDEX(INDIRECT(\"mf3!A\"&$G$12):INDIRECT(\"mf3!A\"&$H$12),MATCH('mf1'!A24,INDIRECT(\"mf3!A\"&$G$12):INDIRECT(\"mf3!A\"&$H$12),0),1)","v":"Tata Motors"},{"$f":"INDEX('mf3'!$A$5:$E$100,MATCH('mf1'!A24,'mf3'!$A$5:$A$100,0),5)","v":1.8},1]
["Automotive",{"$f":"SUMIF('mf1'!$B$5:$E$146,A22,'mf1'!$E$5:$E$146)","v":8.4400000000000013},{"$f":"SUMIF('mf2'!$B$5:$E$146,A22,'mf2'!$E$5:$E$146)","v":11.46},{"$f":"SUMIF('mf3'!$B$5:$E$146,A22,'mf3'!$E$5:$E$146)","v":6.3699999999999992},null,null,null,null,21,{"$f":"INDEX(INDIRECT(\"mf2!A\"&$G$11):INDIRECT(\"mf2!A\"&$H$11),MATCH('mf1'!A25,INDIRECT(\"mf2!A\"&$G$11):INDIRECT(\"mf2!A\"&$H$11),0),1)","v":"Power Grid Corp"},{"$f":"INDEX('mf2'!$A$5:$E$100,MATCH('mf1'!A25,'mf2'!$A$5:$A$100,0),5)","v":0.6},1,null,null,null,null,null,{"$f":"INDEX(INDIRECT(\"mf3!A\"&$G$12):INDIRECT(\"mf3!A\"&$H$12),MATCH('mf2'!A25,INDIRECT(\"mf3!A\"&$G$12):INDIRECT(\"mf3!A\"&$H$12),0),1)","v":{"$error":"#N/A"}},{"$f":"INDEX('mf3'!$A$5:$E$100,MATCH('mf2'!A25,'mf3'!$A$5:$A$100,0),5)","v":{"$error":"#N/A"}},0,null,null,null,null,null,{"$f":"INDEX(INDIRECT(\"mf3!A\"&$G$12):INDIRECT(\"mf3!A\"&$H$12),MATCH('mf1'!A25,INDIRECT(\"mf3!A\"&$G$12):INDIRECT(\"mf3!A\"&$H$12),0),1)","v":{"$error":"#N/A"}},{"$f":"INDEX('mf3'!$A$5:$E$100,MATCH('mf1'!A25,'mf3'!$A$5:$A$100,0),5)","v":{"$error":"#N/A"}},0]
["Banking & Financial Services",{"$f":"SUMIF('mf1'!$B$5:$E$146,A23,'mf1'!$E$5:$E$146)","v":34.83},{"$f":"SUMIF('mf2'!$B$5:$E$146,A23,'mf2'!$E$5:$E$146)","v":30.970000000000002},{"$f":"SUMIF('mf3'!$B$5:$E$146,A23,'mf3'!$E$5:$E$146)","v":18.480000000000004},null,null,null,null,22,{"$f":"INDEX(INDIRECT(\"mf2!A\"&$G$11):INDIRECT(\"mf2!A\"&$H$11),MATCH('mf1'!A26,INDIRECT(\"mf2!A\"&$G$11):INDIRECT(\"mf2!A\"&$H$11),0),1)","v":"Siemens"},{"$f":"INDEX('mf2'!$A$5:$E$100,MATCH('mf1'!A26,'mf2'!$A$5:$A$100,0),5)","v":1.77},1,null,null,null,null,null,{"$f":"INDEX(INDIRECT(\"mf3!A\"&$G$12):INDIRECT(\"mf3!A\"&$H$12),MATCH('mf2'!A26,INDIRECT(\"mf3!A\"&$G$12):INDIRECT(\"mf3!A\"&$H$12),0),1)","v":"P and G"},{"$f":"INDEX('mf3'!$A$5:$E$100,MATCH('mf2'!A26,'mf3'!$A$5:$A$100,0),5)","v":1.72},1,null,null,null,null,null,{"$f":"INDEX(INDIRECT(\"mf3!A\"&$G$12):INDIRECT(\"mf3!A\"&$H$12),MATCH('mf1'!A26,INDIRECT(\"mf3!A\"&$G$12):INDIRECT(\"mf3!A\"&$H$12),0),1)","v":"Siemens"},{"$f":"INDEX('mf3'!$A$5:$E$100,MATCH('mf1'!A26,'mf3'!$A$5:$A$100,0),5)","v":0.78},1]
["Cement & Construction",{"$f":"SUMIF('mf1'!$B$5:$E$146,A24,'mf1'!$E$5:$E$146)","v":1.65},{"$f":"SUMIF('mf2'!$B$5:$E$146,A24,'mf2'!$E$5:$E$146)","v":1.9000000000000001},{"$f":"SUMIF('mf3'!$B$5:$E$146,A24,'mf3'!$E$5:$E$146)","v":2.9399999999999995},null,null,null,null,23,{"$f":"INDEX(INDIRECT(\"mf2!A\"&$G$11):INDIRECT(\"mf2!A\"&$H$11),MATCH('mf1'!A27,INDIRECT(\"mf2!A\"&$G$11):INDIRECT(\"mf2!A\"&$H$11),0),1)","v":"Tata Steel"},{"$f":"INDEX('mf2'!$A$5:$E$100,MATCH('mf1'!A27,'mf2'!$A$5:$A$100,0),5)","v":1.17},1,null,null,null,null,null,{"$f":"INDEX(INDIRECT(\"mf3!A\"&$G$12):INDIRECT(\"mf3!A\"&$H$12),MATCH('mf2'!A27,INDIRECT(\"mf3!A\"&$G$12):INDIRECT(\"mf3!A\"&$H$12),0),1)","v":"Info Edge"},{"$f":"INDEX('mf3'!$A$5:$E$100,MATCH('mf2'!A27,'mf3'!$A$5:$A$100,0),5)","v":0.59},1,null,null,null,null,null,{"$f":"INDEX(INDIRECT(\"mf3!A\"&$G$12):INDIRECT(\"mf3!A\"&$H$12),MATCH('mf1'!A27,INDIRECT(\"mf3!A\"&$G$12):INDIRECT(\"mf3!A\"&$H$12),0),1)","v":"Tata Steel"},{"$f":"INDEX('mf3'!$A$5:$E$100,MATCH('mf1'!A27,'mf3'!$A$5:$A$100,0),5)","v":0.6},1]
["Chemicals",{"$f":"SUMIF('mf1'!$B$5:$E$146,A25,'mf1'!$E$5:$E$146)","v":0.5},{"$f":"SUMIF('mf2'!$B$5:$E$146,A25,'mf2'!$E$5:$E$146)","v":0.94},{"$f":"SUMIF('mf3'!$B$5:$E$146,A25,'mf3'!$E$5:$E$146)","v":4.05},null,null,null,null,24,{"$f":"INDEX(INDIRECT(\"mf2!A\"&$G$11):INDIRECT(\"mf2!A\"&$H$11),MATCH('mf1'!A28,INDIRECT(\"mf2!A\"&$G$11):INDIRECT(\"mf2!A\"&$H$11),0),1)","v":{"$error":"#N/A"}},{"$f":"INDEX('mf2'!$A$5:$E$100,MATCH('mf1'!A28,'mf2'!$A$5:$A$100,0),5)","v":{"$error":"#N/A"}},0,null,null,null,null,null,{"$f":"INDEX(INDIRECT(\"mf3!A\"&$G$12):INDIRECT(\"mf3!A\"&$H$12),MATCH('mf2'!A28,INDIRECT(\"mf3!A\"&$G$12):INDIRECT(\"mf3!A\"&$H$12),0),1)","v":"Tata Steel"},{"$f":"INDEX('mf3'!$A$5:$E$100,MATCH('mf2'!A28,'mf3'!$A$5:$A$100,0),5)","v":0.6},1,null,null,null,null,null,{"$f":"INDEX(INDIRECT(\"mf3!A\"&$G$12):INDIRECT(\"mf3!A\"&$H$12),MATCH('mf1'!A28,INDIRECT(\"mf3!A\"&$G$12):INDIRECT(\"mf3!A\"&$H$12),0),1)","v":{"$error":"#N/A"}},{"$f":"INDEX('mf3'!$A$5:$E$100,MATCH('mf1'!A28,'mf3'!$A$5:$A$100,0),5)","v":{"$error":"#N/A"}},0]
["Conglomerates",{"$f":"SUMIF('mf1'!$B$5:$E$146,A26,'mf1'!$E$5:$E$146)","v":1.51},{"$f":"SUMIF('mf2'!$B$5:$E$146,A26,'mf2'!$E$5:$E$146)","v":1.97},{"$f":"SUMIF('mf3'!$B$5:$E$146,A26,'mf3'!$E$5:$E$146)","v":0.73},null,null,null,null,25,{"$f":"INDEX(INDIRECT(\"mf2!A\"&$G$11):INDIRECT(\"mf2!A\"&$H$11),MATCH('mf1'!A29,INDIRECT(\"mf2!A\"&$G$11):INDIRECT(\"mf2!A\"&$H$11),0),1)","v":{"$error":"#N/A"}},{"$f":"INDEX('mf2'!$A$5:$E$100,MATCH('mf1'!A29,'mf2'!$A$5:$A$100,0),5)","v":{"$error":"#N/A"}},0,null,null,null,null,null,{"$f":"INDEX(INDIRECT(\"mf3!A\"&$G$12):INDIRECT(\"mf3!A\"&$H$12),MATCH('mf2'!A29,INDIRECT(\"mf3!A\"&$G$12):INDIRECT(\"mf3!A\"&$H$12),0),1)","v":"Tata Motors"},{"$f":"INDEX('mf3'!$A$5:$E$100,MATCH('mf2'!A29,'mf3'!$A$5:$A$100,0),5)","v":1.8},1,null,null,null,null,null,{"$f":"INDEX(INDIRECT(\"mf3!A\"&$G$12):INDIRECT(\"mf3!A\"&$H$12),MATCH('mf1'!A29,INDIRECT(\"mf3!A\"&$G$12):INDIRECT(\"mf3!A\"&$H$12),0),1)","v":{"$error":"#N/A"}},{"$f":"INDEX('mf3'!$A$5:$E$100,MATCH('mf1'!A29,'mf3'!$A$5:$A$100,0),5)","v":{"$error":"#N/A"}},0]
["Consumer Durables",{"$f":"SUMIF('mf1'!$B$5:$E$146,A27,'mf1'!$E$5:$E$146)","v":0},{"$f":"SUMIF('mf2'!$B$5:$E$146,A27,'mf2'!$E$5:$E$146)","v":0},{"$f":"SUMIF('mf3'!$B$5:$E$146,A27,'mf3'!$E$5:$E$146)","v":0.79},null,null,null,null,26,{"$f":"INDEX(INDIRECT(\"mf2!A\"&$G$11):INDIRECT(\"mf2!A\"&$H$11),MATCH('mf1'!A30,INDIRECT(\"mf2!A\"&$G$11):INDIRECT(\"mf2!A\"&$H$11),0),1)","v":"Wipro"},{"$f":"INDEX('mf2'!$A$5:$E$100,MATCH('mf1'!A30,'mf2'!$A$5:$A$100,0),5)","v":1.04},1,null,null,null,null,null,{"$f":"INDEX(INDIRECT(\"mf3!A\"&$G$12):INDIRECT(\"mf3!A\"&$H$12),MATCH('mf2'!A30,INDIRECT(\"mf3!A\"&$G$12):INDIRECT(\"mf3!A\"&$H$12),0),1)","v":"Oil India"},{"$f":"INDEX('mf3'!$A$5:$E$100,MATCH('mf2'!A30,'mf3'!$A$5:$A$100,0),5)","v":0.53},{"$f":"IF(ISERROR(R27),0,1)","v":1},null,null,null,null,null,{"$f":"INDEX(INDIRECT(\"mf3!A\"&$G$12):INDIRECT(\"mf3!A\"&$H$12),MATCH('mf1'!A30,INDIRECT(\"mf3!A\"&$G$12):INDIRECT(\"mf3!A\"&$H$12),0),1)","v":"Wipro"},{"$f":"INDEX('mf3'!$A$5:$E$100,MATCH('mf1'!A30,'mf3'!$A$5:$A$100,0),5)","v":0.8},1]
["Consumer Non-durables",{"$f":"SUMIF('mf1'!$B$5:$E$146,A28,'mf1'!$E$5:$E$146)","v":0.24},{"$f":"SUMIF('mf2'!$B$5:$E$146,A28,'mf2'!$E$5:$E$146)","v":1.58},{"$f":"SUMIF('mf3'!$B$5:$E$146,A28,'mf3'!$E$5:$E$146)","v":1.72},null,null,null,null,27,{"$f":"INDEX(INDIRECT(\"mf2!A\"&$G$11):INDIRECT(\"mf2!A\"&$H$11),MATCH('mf1'!A31,INDIRECT(\"mf2!A\"&$G$11):INDIRECT(\"mf2!A\"&$H$11),0),1)","v":"REC"},{"$f":"INDEX('mf2'!$A$5:$E$100,MATCH('mf1'!A31,'mf2'!$A$5:$A$100,0),5)","v":1.1299999999999999},1,null,null,null,null,null,{"$f":"INDEX(INDIRECT(\"mf3!A\"&$G$12):INDIRECT(\"mf3!A\"&$H$12),MATCH('mf2'!A31,INDIRECT(\"mf3!A\"&$G$12):INDIRECT(\"mf3!A\"&$H$12),0),1)","v":"REC"},{"$f":"INDEX('mf3'!$A$5:$E$100,MATCH('mf2'!A31,'mf3'!$A$5:$A$100,0),5)","v":0.76},{"$f":"IF(ISERROR(R28),0,1)","v":1},null,null,null,null,null,{"$f":"INDEX(INDIRECT(\"mf3!A\"&$G$12):INDIRECT(\"mf3!A\"&$H$12),MATCH('mf1'!A31,INDIRECT(\"mf3!A\"&$G$12):INDIRECT(\"mf3!A\"&$H$12),0),1)","v":"REC"},{"$f":"INDEX('mf3'!$A$5:$E$100,MATCH('mf1'!A31,'mf3'!$A$5:$A$100,0),5)","v":0.76},1]
["Engineering & Capital Goods",{"$f":"SUMIF('mf1'!$B$5:$E$146,A29,'mf1'!$E$5:$E$146)","v":11.130000000000003},{"$f":"SUMIF('mf2'!$B$5:$E$146,A29,'mf2'!$E$5:$E$146)","v":13.159999999999998},{"$f":"SUMIF('mf3'!$B$5:$E$146,A29,'mf3'!$E$5:$E$146)","v":12.939999999999998},null,null,null,null,28,{"$f":"INDEX(INDIRECT(\"mf2!A\"&$G$11):INDIRECT(\"mf2!A\"&$H$11),MATCH('mf1'!A32,INDIRECT(\"mf2!A\"&$G$11):INDIRECT(\"mf2!A\"&$H$11),0),1)","v":{"$error":"#N/A"}},{"$f":"INDEX('mf2'!$A$5:$E$100,MATCH('mf1'!A32,'mf2'!$A$5:$A$100,0),5)","v":{"$error":"#N/A"}},0,null,null,null,null,null,{"$f":"INDEX(INDIRECT(\"mf3!A\"&$G$12):INDIRECT(\"mf3!A\"&$H$12),MATCH('mf2'!A32,INDIRECT(\"mf3!A\"&$G$12):INDIRECT(\"mf3!A\"&$H$12),0),1)","v":{"$error":"#N/A"}},{"$f":"INDEX('mf3'!$A$5:$E$100,MATCH('mf2'!A32,'mf3'!$A$5:$A$100,0),5)","v":{"$error":"#N/A"}},0,null,null,null,null,null,{"$f":"INDEX(INDIRECT(\"mf3!A\"&$G$12):INDIRECT(\"mf3!A\"&$H$12),MATCH('mf1'!A32,INDIRECT(\"mf3!A\"&$G$12):INDIRECT(\"mf3!A\"&$H$12),0),1)","v":"Union Bank"},{"$f":"INDEX('mf3'!$A$5:$E$100,MATCH('mf1'!A32,'mf3'!$A$5:$A$100,0),5)","v":0.77},1]
["Food & Beverages",{"$f":"SUMIF('mf1'!$B$5:$E$146,A30,'mf1'!$E$5:$E$146)","v":0},{"$f":"SUMIF('mf2'!$B$5:$E$146,A30,'mf2'!$E$5:$E$146)","v":0},{"$f":"SUMIF('mf3'!$B$5:$E$146,A30,'mf3'!$E$5:$E$146)","v":0},null,null,null,null,29,{"$f":"INDEX(INDIRECT(\"mf2!A\"&$G$11):INDIRECT(\"mf2!A\"&$H$11),MATCH('mf1'!A33,INDIRECT(\"mf2!A\"&$G$11):INDIRECT(\"mf2!A\"&$H$11),0),1)","v":"Canara Bank"},{"$f":"INDEX('mf2'!$A$5:$E$100,MATCH('mf1'!A33,'mf2'!$A$5:$A$100,0),5)","v":0.79},1,null,null,null,null,null,{"$f":"INDEX(INDIRECT(\"mf3!A\"&$G$12):INDIRECT(\"mf3!A\"&$H$12),MATCH('mf2'!A33,INDIRECT(\"mf3!A\"&$G$12):INDIRECT(\"mf3!A\"&$H$12),0),1)","v":"Wipro"},{"$f":"INDEX('mf3'!$A$5:$E$100,MATCH('mf2'!A33,'mf3'!$A$5:$A$100,0),5)","v":0.8},1,null,null,null,null,null,{"$f":"INDEX(INDIRECT(\"mf3!A\"&$G$12):INDIRECT(\"mf3!A\"&$H$12),MATCH('mf1'!A33,INDIRECT(\"mf3!A\"&$G$12):INDIRECT(\"mf3!A\"&$H$12),0),1)","v":"Canara Bank"},{"$f":"INDEX('mf3'!$A$5:$E$100,MATCH('mf1'!A33,'mf3'!$A$5:$A$100,0),5)","v":0.64},1]
["Information Technology",{"$f":"SUMIF('mf1'!$B$5:$E$146,A31,'mf1'!$E$5:$E$146)","v":10.410000000000002},{"$f":"SUMIF('mf2'!$B$5:$E$146,A31,'mf2'!$E$5:$E$146)","v":12.139999999999999},{"$f":"SUMIF('mf3'!$B$5:$E$146,A31,'mf3'!$E$5:$E$146)","v":8.65},null,null,null,null,30,{"$f":"INDEX(INDIRECT(\"mf2!A\"&$G$11):INDIRECT(\"mf2!A\"&$H$11),MATCH('mf1'!A34,INDIRECT(\"mf2!A\"&$G$11):INDIRECT(\"mf2!A\"&$H$11),0),1)","v":"Cipla"},{"$f":"INDEX('mf2'!$A$5:$E$100,MATCH('mf1'!A34,'mf2'!$A$5:$A$100,0),5)","v":0.84},1,null,null,null,null,null,{"$f":"INDEX(INDIRECT(\"mf3!A\"&$G$12):INDIRECT(\"mf3!A\"&$H$12),MATCH('mf2'!A34,INDIRECT(\"mf3!A\"&$G$12):INDIRECT(\"mf3!A\"&$H$12),0),1)","v":"PNB"},{"$f":"INDEX('mf3'!$A$5:$E$100,MATCH('mf2'!A34,'mf3'!$A$5:$A$100,0),5)","v":0.46},1,null,null,null,null,null,{"$f":"INDEX(INDIRECT(\"mf3!A\"&$G$12):INDIRECT(\"mf3!A\"&$H$12),MATCH('mf1'!A34,INDIRECT(\"mf3!A\"&$G$12):INDIRECT(\"mf3!A\"&$H$12),0),1)","v":"Cipla"},{"$f":"INDEX('mf3'!$A$5:$E$100,MATCH('mf1'!A34,'mf3'!$A$5:$A$100,0),5)","v":0.15},1]
["Manufacturing",{"$f":"SUMIF('mf1'!$B$5:$E$146,A32,'mf1'!$E$5:$E$146)","v":0.51},{"$f":"SUMIF('mf2'!$B$5:$E$146,A32,'mf2'!$E$5:$E$146)","v":0.24},{"$f":"SUMIF('mf3'!$B$5:$E$146,A32,'mf3'!$E$5:$E$146)","v":2.98},null,null,null,null,31,{"$f":"INDEX(INDIRECT(\"mf2!A\"&$G$11):INDIRECT(\"mf2!A\"&$H$11),MATCH('mf1'!A35,INDIRECT(\"mf2!A\"&$G$11):INDIRECT(\"mf2!A\"&$H$11),0),1)","v":{"$error":"#N/A"}},{"$f":"INDEX('mf2'!$A$5:$E$100,MATCH('mf1'!A35,'mf2'!$A$5:$A$100,0),5)","v":{"$error":"#N/A"}},0,null,null,null,null,null,{"$f":"INDEX(INDIRECT(\"mf3!A\"&$G$12):INDIRECT(\"mf3!A\"&$H$12),MATCH('mf2'!A35,INDIRECT(\"mf3!A\"&$G$12):INDIRECT(\"mf3!A\"&$H$12),0),1)","v":"IOC"},{"$f":"INDEX('mf3'!$A$5:$E$100,MATCH('mf2'!A35,'mf3'!$A$5:$A$100,0),5)","v":0.17},1,null,null,null,null,null,{"$f":"INDEX(INDIRECT(\"mf3!A\"&$G$12):INDIRECT(\"mf3!A\"&$H$12),MATCH('mf1'!A35,INDIRECT(\"mf3!A\"&$G$12):INDIRECT(\"mf3!A\"&$H$12),0),1)","v":{"$error":"#N/A"}},{"$f":"INDEX('mf3'!$A$5:$E$100,MATCH('mf1'!A35,'mf3'!$A$5:$A$100,0),5)","v":{"$error":"#N/A"}},0]
["Media & Entertainment",{"$f":"SUMIF('mf1'!$B$5:$E$146,A33,'mf1'!$E$5:$E$146)","v":0.79},{"$f":"SUMIF('mf2'!$B$5:$E$146,A33,'mf2'!$E$5:$E$146)","v":0.30000000000000004},{"$f":"SUMIF('mf3'!$B$5:$E$146,A33,'mf3'!$E$5:$E$146)","v":0.67},null,null,null,null,32,{"$f":"INDEX(INDIRECT(\"mf2!A\"&$G$11):INDIRECT(\"mf2!A\"&$H$11),MATCH('mf1'!A36,INDIRECT(\"mf2!A\"&$G$11):INDIRECT(\"mf2!A\"&$H$11),0),1)","v":{"$error":"#N/A"}},{"$f":"INDEX('mf2'!$A$5:$E$100,MATCH('mf1'!A36,'mf2'!$A$5:$A$100,0),5)","v":{"$error":"#N/A"}},0,null,null,null,null,null,{"$f":"INDEX(INDIRECT(\"mf3!A\"&$G$12):INDIRECT(\"mf3!A\"&$H$12),MATCH('mf2'!A36,INDIRECT(\"mf3!A\"&$G$12):INDIRECT(\"mf3!A\"&$H$12),0),1)","v":"Prism Cement"},{"$f":"INDEX('mf3'!$A$5:$E$100,MATCH('mf2'!A36,'mf3'!$A$5:$A$100,0),5)","v":0.35},1,null,null,null,null,null,{"$f":"INDEX(INDIRECT(\"mf3!A\"&$G$12):INDIRECT(\"mf3!A\"&$H$12),MATCH('mf1'!A36,INDIRECT(\"mf3!A\"&$G$12):INDIRECT(\"mf3!A\"&$H$12),0),1)","v":{"$error":"#N/A"}},{"$f":"INDEX('mf3'!$A$5:$E$100,MATCH('mf1'!A36,'mf3'!$A$5:$A$100,0),5)","v":{"$error":"#N/A"}},0]
["Metals & Mining",{"$f":"SUMIF('mf1'!$B$5:$E$146,A34,'mf1'!$E$5:$E$146)","v":3.14},{"$f":"SUMIF('mf2'!$B$5:$E$146,A34,'mf2'!$E$5:$E$146)","v":1.17},{"$f":"SUMIF('mf3'!$B$5:$E$146,A34,'mf3'!$E$5:$E$146)","v":1.1099999999999999},null,null,null,null,33,{"$f":"INDEX(INDIRECT(\"mf2!A\"&$G$11):INDIRECT(\"mf2!A\"&$H$11),MATCH('mf1'!A37,INDIRECT(\"mf2!A\"&$G$11):INDIRECT(\"mf2!A\"&$H$11),0),1)","v":"Zee Entertain"},{"$f":"INDEX('mf2'!$A$5:$E$100,MATCH('mf1'!A37,'mf2'!$A$5:$A$100,0),5)","v":0.02},1,null,null,null,null,null,{"$f":"INDEX(INDIRECT(\"mf3!A\"&$G$12):INDIRECT(\"mf3!A\"&$H$12),MATCH('mf2'!A37,INDIRECT(\"mf3!A\"&$G$12):INDIRECT(\"mf3!A\"&$H$12),0),1)","v":"Cipla"},{"$f":"INDEX('mf3'!$A$5:$E$100,MATCH('mf2'!A37,'mf3'!$A$5:$A$100,0),5)","v":0.15},1,null,null,null,null,null,{"$f":"INDEX(INDIRECT(\"mf3!A\"&$G$12):INDIRECT(\"mf3!A\"&$H$12),MATCH('mf1'!A37,INDIRECT(\"mf3!A\"&$G$12):INDIRECT(\"mf3!A\"&$H$12),0),1)","v":{"$error":"#N/A"}},{"$f":"INDEX('mf3'!$A$5:$E$100,MATCH('mf1'!A37,'mf3'!$A$5:$A$100,0),5)","v":{"$error":"#N/A"}},0]
["Miscellaneous",{"$f":"SUMIF('mf1'!$B$5:$E$146,A35,'mf1'!$E$5:$E$146)","v":0.4},{"$f":"SUMIF('mf2'!$B$5:$E$146,A35,'mf2'!$E$5:$E$146)","v":1.28},{"$f":"SUMIF('mf3'!$B$5:$E$146,A35,'mf3'!$E$5:$E$146)","v":2.19},null,null,null,null,34,{"$f":"INDEX(INDIRECT(\"mf2!A\"&$G$11):INDIRECT(\"mf2!A\"&$H$11),MATCH('mf1'!A38,INDIRECT(\"mf2!A\"&$G$11):INDIRECT(\"mf2!A\"&$H$11),0),1)","v":"Oil India"},{"$f":"INDEX('mf2'!$A$5:$E$100,MATCH('mf1'!A38,'mf2'!$A$5:$A$100,0),5)","v":1.1499999999999999},1,null,null,null,null,null,{"$f":"INDEX(INDIRECT(\"mf3!A\"&$G$12):INDIRECT(\"mf3!A\"&$H$12),MATCH('mf2'!A38,INDIRECT(\"mf3!A\"&$G$12):INDIRECT(\"mf3!A\"&$H$12),0),1)","v":{"$error":"#N/A"}},{"$f":"INDEX('mf3'!$A$5:$E$100,MATCH('mf2'!A38,'mf3'!$A$5:$A$100,0),5)","v":{"$error":"#N/A"}},0,null,null,null,null,null,{"$f":"INDEX(INDIRECT(\"mf3!A\"&$G$12):INDIRECT(\"mf3!A\"&$H$12),MATCH('mf1'!A38,INDIRECT(\"mf3!A\"&$G$12):INDIRECT(\"mf3!A\"&$H$12),0),1)","v":"Oil India"},{"$f":"INDEX('mf3'!$A$5:$E$100,MATCH('mf1'!A38,'mf3'!$A$5:$A$100,0),5)","v":0.53},1]
["Oil & Gas",{"$f":"SUMIF('mf1'!$B$5:$E$146,A36,'mf1'!$E$5:$E$146)","v":9.9700000000000006},{"$f":"SUMIF('mf2'!$B$5:$E$146,A36,'mf2'!$E$5:$E$146)","v":8.44},{"$f":"SUMIF('mf3'!$B$5:$E$146,A36,'mf3'!$E$5:$E$146)","v":3.3300000000000005},null,null,null,null,35,{"$f":"INDEX(INDIRECT(\"mf2!A\"&$G$11):INDIRECT(\"mf2!A\"&$H$11),MATCH('mf1'!A39,INDIRECT(\"mf2!A\"&$G$11):INDIRECT(\"mf2!A\"&$H$11),0),1)","v":{"$error":"#N/A"}},{"$f":"INDEX('mf2'!$A$5:$E$100,MATCH('mf1'!A39,'mf2'!$A$5:$A$100,0),5)","v":{"$error":"#N/A"}},0,null,null,null,null,null,{"$f":"INDEX(INDIRECT(\"mf3!A\"&$G$12):INDIRECT(\"mf3!A\"&$H$12),MATCH('mf2'!A39,INDIRECT(\"mf3!A\"&$G$12):INDIRECT(\"mf3!A\"&$H$12),0),1)","v":"Canara Bank"},{"$f":"INDEX('mf3'!$A$5:$E$100,MATCH('mf2'!A39,'mf3'!$A$5:$A$100,0),5)","v":0.64},1,null,null,null,null,null,{"$f":"INDEX(INDIRECT(\"mf3!A\"&$G$12):INDIRECT(\"mf3!A\"&$H$12),MATCH('mf1'!A39,INDIRECT(\"mf3!A\"&$G$12):INDIRECT(\"mf3!A\"&$H$12),0),1)","v":{"$error":"#N/A"}},{"$f":"INDEX('mf3'!$A$5:$E$100,MATCH('mf1'!A39,'mf3'!$A$5:$A$100,0),5)","v":{"$error":"#N/A"}},0]
["Pharmaceuticals",{"$f":"SUMIF('mf1'!$B$5:$E$146,A37,'mf1'!$E$5:$E$146)","v":4.8600000000000003},{"$f":"SUMIF('mf2'!$B$5:$E$146,A37,'mf2'!$E$5:$E$146)","v":4.79},{"$f":"SUMIF('mf3'!$B$5:$E$146,A37,'mf3'!$E$5:$E$146)","v":3.15},null,null,null,null,36,{"$f":"INDEX(INDIRECT(\"mf2!A\"&$G$11):INDIRECT(\"mf2!A\"&$H$11),MATCH('mf1'!A40,INDIRECT(\"mf2!A\"&$G$11):INDIRECT(\"mf2!A\"&$H$11),0),1)","v":"PNB"},{"$f":"INDEX('mf2'!$A$5:$E$100,MATCH('mf1'!A40,'mf2'!$A$5:$A$100,0),5)","v":1.04},1,null,null,null,null,null,{"$f":"INDEX(INDIRECT(\"mf3!A\"&$G$12):INDIRECT(\"mf3!A\"&$H$12),MATCH('mf2'!A40,INDIRECT(\"mf3!A\"&$G$12):INDIRECT(\"mf3!A\"&$H$12),0),1)","v":{"$error":"#N/A"}},{"$f":"INDEX('mf3'!$A$5:$E$100,MATCH('mf2'!A40,'mf3'!$A$5:$A$100,0),5)","v":{"$error":"#N/A"}},0,null,null,null,null,null,{"$f":"INDEX(INDIRECT(\"mf3!A\"&$G$12):INDIRECT(\"mf3!A\"&$H$12),MATCH('mf1'!A40,INDIRECT(\"mf3!A\"&$G$12):INDIRECT(\"mf3!A\"&$H$12),0),1)","v":"PNB"},{"$f":"INDEX('mf3'!$A$5:$E$100,MATCH('mf1'!A40,'mf3'!$A$5:$A$100,0),5)","v":0.46},1]
["Services",{"$f":"SUMIF('mf1'!$B$5:$E$146,A38,'mf1'!$E$5:$E$146)","v":0},{"$f":"SUMIF('mf2'!$B$5:$E$146,A38,'mf2'!$E$5:$E$146)","v":0},{"$f":"SUMIF('mf3'!$B$5:$E$146,A38,'mf3'!$E$5:$E$146)","v":0.73},null,null,null,null,37,{"$f":"INDEX(INDIRECT(\"mf2!A\"&$G$11):INDIRECT(\"mf2!A\"&$H$11),MATCH('mf1'!A41,INDIRECT(\"mf2!A\"&$G$11):INDIRECT(\"mf2!A\"&$H$11),0),1)","v":"IOC"},{"$f":"INDEX('mf2'!$A$5:$E$100,MATCH('mf1'!A41,'mf2'!$A$5:$A$100,0),5)","v":0.95},1,null,null,null,null,null,{"$f":"INDEX(INDIRECT(\"mf3!A\"&$G$12):INDIRECT(\"mf3!A\"&$H$12),MATCH('mf2'!A41,INDIRECT(\"mf3!A\"&$G$12):INDIRECT(\"mf3!A\"&$H$12),0),1)","v":"State B Bikaner"},{"$f":"INDEX('mf3'!$A$5:$E$100,MATCH('mf2'!A41,'mf3'!$A$5:$A$100,0),5)","v":0.48},1,null,null,null,null,null,{"$f":"INDEX(INDIRECT(\"mf3!A\"&$G$12):INDIRECT(\"mf3!A\"&$H$12),MATCH('mf1'!A41,INDIRECT(\"mf3!A\"&$G$12):INDIRECT(\"mf3!A\"&$H$12),0),1)","v":"IOC"},{"$f":"INDEX('mf3'!$A$5:$E$100,MATCH('mf1'!A41,'mf3'!$A$5:$A$100,0),5)","v":0.17},1]
["Telecommunication",{"$f":"SUMIF('mf1'!$B$5:$E$146,A39,'mf1'!$E$5:$E$146)","v":3.59},{"$f":"SUMIF('mf2'!$B$5:$E$146,A39,'mf2'!$E$5:$E$146)","v":3.56},{"$f":"SUMIF('mf3'!$B$5:$E$146,A39,'mf3'!$E$5:$E$146)","v":3.0100000000000002},null,null,null,null,38,{"$f":"INDEX(INDIRECT(\"mf2!A\"&$G$11):INDIRECT(\"mf2!A\"&$H$11),MATCH('mf1'!A42,INDIRECT(\"mf2!A\"&$G$11):INDIRECT(\"mf2!A\"&$H$11),0),1)","v":{"$error":"#N/A"}},{"$f":"INDEX('mf2'!$A$5:$E$100,MATCH('mf1'!A42,'mf2'!$A$5:$A$100,0),5)","v":{"$error":"#N/A"}},0,null,null,null,null,null,{"$f":"INDEX(INDIRECT(\"mf3!A\"&$G$12):INDIRECT(\"mf3!A\"&$H$12),MATCH('mf2'!A42,INDIRECT(\"mf3!A\"&$G$12):INDIRECT(\"mf3!A\"&$H$12),0),1)","v":{"$error":"#N/A"}},{"$f":"INDEX('mf3'!$A$5:$E$100,MATCH('mf2'!A42,'mf3'!$A$5:$A$100,0),5)","v":{"$error":"#N/A"}},0,null,null,null,null,null,{"$f":"INDEX(INDIRECT(\"mf3!A\"&$G$12):INDIRECT(\"mf3!A\"&$H$12),MATCH('mf1'!A42,INDIRECT(\"mf3!A\"&$G$12):INDIRECT(\"mf3!A\"&$H$12),0),1)","v":{"$error":"#N/A"}},{"$f":"INDEX('mf3'!$A$5:$E$100,MATCH('mf1'!A42,'mf3'!$A$5:$A$100,0),5)","v":{"$error":"#N/A"}},0]
["Utilities",{"$f":"SUMIF('mf1'!$B$5:$E$146,A40,'mf1'!$E$5:$E$146)","v":3.4099999999999993},{"$f":"SUMIF('mf2'!$B$5:$E$146,A40,'mf2'!$E$5:$E$146)","v":3.0900000000000003},{"$f":"SUMIF('mf3'!$B$5:$E$146,A40,'mf3'!$E$5:$E$146)","v":0.97},null,null,null,null,39,{"$f":"INDEX(INDIRECT(\"mf2!A\"&$G$11):INDIRECT(\"mf2!A\"&$H$11),MATCH('mf1'!A43,INDIRECT(\"mf2!A\"&$G$11):INDIRECT(\"mf2!A\"&$H$11),0),1)","v":{"$error":"#N/A"}},{"$f":"INDEX('mf2'!$A$5:$E$100,MATCH('mf1'!A43,'mf2'!$A$5:$A$100,0),5)","v":{"$error":"#N/A"}},0,null,null,null,null,null,{"$f":"INDEX(INDIRECT(\"mf3!A\"&$G$12):INDIRECT(\"mf3!A\"&$H$12),MATCH('mf2'!A43,INDIRECT(\"mf3!A\"&$G$12):INDIRECT(\"mf3!A\"&$H$12),0),1)","v":{"$error":"#N/A"}},{"$f":"INDEX('mf3'!$A$5:$E$100,MATCH('mf2'!A43,'mf3'!$A$5:$A$100,0),5)","v":{"$error":"#N/A"}},0,null,null,null,null,null,{"$f":"INDEX(INDIRECT(\"mf3!A\"&$G$12):INDIRECT(\"mf3!A\"&$H$12),MATCH('mf1'!A43,INDIRECT(\"mf3!A\"&$G$12):INDIRECT(\"mf3!A\"&$H$12),0),1)","v":{"$error":"#N/A"}},{"$f":"INDEX('mf3'!$A$5:$E$100,MATCH('mf1'!A43,'mf3'!$A$5:$A$100,0),5)","v":{"$error":"#N/A"}},0]
[null,{"$f":"SUMIF('mf1'!$B$5:$E$146,A41,'mf1'!$E$5:$E$146)","v":0},{"$f":"SUMIF('mf2'!$B$5:$E$146,A41,'mf2'!$E$5:$E$146)","v":0},{"$f":"SUMIF('mf3'!$B$5:$E$146,A41,'mf3'!$E$5:$E$146)","v":0},null,null,null,null,40,{"$f":"INDEX(INDIRECT(\"mf2!A\"&$G$11):INDIRECT(\"mf2!A\"&$H$11),MATCH('mf1'!A44,INDIRECT(\"mf2!A\"&$G$11):INDIRECT(\"mf2!A\"&$H$11),0),1)","v":{"$error":"#N/A"}},{"$f":"INDEX('mf2'!$A$5:$E$100,MATCH('mf1'!A44,'mf2'!$A$5:$A$100,0),5)","v":{"$error":"#N/A"}},0,null,null,null,null,null,{"$f":"INDEX(INDIRECT(\"mf3!A\"&$G$12):INDIRECT(\"mf3!A\"&$H$12),MATCH('mf2'!A44,INDIRECT(\"mf3!A\"&$G$12):INDIRECT(\"mf3!A\"&$H$12),0),1)","v":"Ramco System"},{"$f":"INDEX('mf3'!$A$5:$E$100,MATCH('mf2'!A44,'mf3'!$A$5:$A$100,0),5)","v":0.5},1,null,null,null,null,null,{"$f":"INDEX(INDIRECT(\"mf3!A\"&$G$12):INDIRECT(\"mf3!A\"&$H$12),MATCH('mf1'!A44,INDIRECT(\"mf3!A\"&$G$12):INDIRECT(\"mf3!A\"&$H$12),0),1)","v":{"$error":"#N/A"}},{"$f":"INDEX('mf3'!$A$5:$E$100,MATCH('mf1'!A44,'mf3'!$A$5:$A$100,0),5)","v":{"$error":"#N/A"}},0]
[null,{"$f":"SUMIF('mf1'!$B$5:$E$146,A42,'mf1'!$E$5:$E$146)","v":0},{"$f":"SUMIF('mf2'!$B$5:$E$146,A42,'mf2'!$E$5:$E$146)","v":0},{"$f":"SUMIF('mf3'!$B$5:$E$146,A42,'mf3'!$E$5:$E$146)","v":0},null,null,null,null,41,{"$f":"INDEX(INDIRECT(\"mf2!A\"&$G$11):INDIRECT(\"mf2!A\"&$H$11),MATCH('mf1'!A45,INDIRECT(\"mf2!A\"&$G$11):INDIRECT(\"mf2!A\"&$H$11),0),1)","v":{"$error":"#N/A"}},{"$f":"INDEX('mf2'!$A$5:$E$100,MATCH('mf1'!A45,'mf2'!$A$5:$A$100,0),5)","v":{"$error":"#N/A"}},0,null,null,null,null,null,{"$f":"INDEX(INDIRECT(\"mf3!A\"&$G$12):INDIRECT(\"mf3!A\"&$H$12),MATCH('mf2'!A45,INDIRECT(\"mf3!A\"&$G$12):INDIRECT(\"mf3!A\"&$H$12),0),1)","v":{"$error":"#N/A"}},{"$f":"INDEX('mf3'!$A$5:$E$100,MATCH('mf2'!A45,'mf3'!$A$5:$A$100,0),5)","v":{"$error":"#N/A"}},0,null,null,null,null,null,{"$f":"INDEX(INDIRECT(\"mf3!A\"&$G$12):INDIRECT(\"mf3!A\"&$H$12),MATCH('mf1'!A45,INDIRECT(\"mf3!A\"&$G$12):INDIRECT(\"mf3!A\"&$H$12),0),1)","v":{"$error":"#N/A"}},{"$f":"INDEX('mf3'!$A$5:$E$100,MATCH('mf1'!A45,'mf3'!$A$5:$A$100,0),5)","v":{"$error":"#N/A"}},0]
[null,{"$f":"SUMIF('mf1'!$B$5:$E$146,A43,'mf1'!$E$5:$E$146)","v":0},{"$f":"SUMIF('mf2'!$B$5:$E$146,A43,'mf2'!$E$5:$E$146)","v":0},{"$f":"SUMIF('mf3'!$B$5:$E$146,A43,'mf3'!$E$5:$E$146)","v":0},null,null,null,null,42,{"$f":"INDEX(INDIRECT(\"mf2!A\"&$G$11):INDIRECT(\"mf2!A\"&$H$11),MATCH('mf1'!A46,INDIRECT(\"mf2!A\"&$G$11):INDIRECT(\"mf2!A\"&$H$11),0),1)","v":{"$error":"#N/A"}},{"$f":"INDEX('mf2'!$A$5:$E$100,MATCH('mf1'!A46,'mf2'!$A$5:$A$100,0),5)","v":{"$error":"#N/A"}},0,null,null,null,null,null,{"$f":"INDEX(INDIRECT(\"mf3!A\"&$G$12):INDIRECT(\"mf3!A\"&$H$12),MATCH('mf2'!A46,INDIRECT(\"mf3!A\"&$G$12):INDIRECT(\"mf3!A\"&$H$12),0),1)","v":{"$error":"#N/A"}},{"$f":"INDEX('mf3'!$A$5:$E$100,MATCH('mf2'!A46,'mf3'!$A$5:$A$100,0),5)","v":{"$error":"#N/A"}},0,null,null,null,null,null,{"$f":"INDEX(INDIRECT(\"mf3!A\"&$G$12):INDIRECT(\"mf3!A\"&$H$12),MATCH('mf1'!A46,INDIRECT(\"mf3!A\"&$G$12):INDIRECT(\"mf3!A\"&$H$12),0),1)","v":{"$error":"#N/A"}},{"$f":"INDEX('mf3'!$A$5:$E$100,MATCH('mf1'!A46,'mf3'!$A$5:$A$100,0),5)","v":{"$error":"#N/A"}},0]
[null,{"$f":"SUMIF('mf1'!$B$5:$E$146,A44,'mf1'!$E$5:$E$146)","v":0},{"$f":"SUMIF('mf2'!$B$5:$E$146,A44,'mf2'!$E$5:$E$146)","v":0},{"$f":"SUMIF('mf3'!$B$5:$E$146,A44,'mf3'!$E$5:$E$146)","v":0},null,null,null,null,43,{"$f":"INDEX(INDIRECT(\"mf2!A\"&$G$11):INDIRECT(\"mf2!A\"&$H$11),MATCH('mf1'!A47,INDIRECT(\"mf2!A\"&$G$11):INDIRECT(\"mf2!A\"&$H$11),0),1)","v":{"$error":"#N/A"}},{"$f":"INDEX('mf2'!$A$5:$E$100,MATCH('mf1'!A47,'mf2'!$A$5:$A$100,0),5)","v":{"$error":"#N/A"}},0,null,null,null,null,null,{"$f":"INDEX(INDIRECT(\"mf3!A\"&$G$12):INDIRECT(\"mf3!A\"&$H$12),MATCH('mf2'!A47,INDIRECT(\"mf3!A\"&$G$12):INDIRECT(\"mf3!A\"&$H$12),0),1)","v":"KSK Energy Vent"},{"$f":"INDEX('mf3'!$A$5:$E$100,MATCH('mf2'!A47,'mf3'!$A$5:$A$100,0),5)","v":0.3},1,null,null,null,null,null,{"$f":"INDEX(INDIRECT(\"mf3!A\"&$G$12):INDIRECT(\"mf3!A\"&$H$12),MATCH('mf1'!A47,INDIRECT(\"mf3!A\"&$G$12):INDIRECT(\"mf3!A\"&$H$12),0),1)","v":{"$error":"#N/A"}},{"$f":"INDEX('mf3'!$A$5:$E$100,MATCH('mf1'!A47,'mf3'!$A$5:$A$100,0),5)","v":{"$error":"#N/A"}},0]
[null,{"$f":"SUMIF('mf1'!$B$5:$E$146,A45,'mf1'!$E$5:$E$146)","v":0},{"$f":"SUMIF('mf2'!$B$5:$E$146,A45,'mf2'!$E$5:$E$146)","v":0},{"$f":"SUMIF('mf3'!$B$5:$E$146,A45,'mf3'!$E$5:$E$146)","v":0},null,null,null,null,44,{"$f":"INDEX(INDIRECT(\"mf2!A\"&$G$11):INDIRECT(\"mf2!A\"&$H$11),MATCH('mf1'!A48,INDIRECT(\"mf2!A\"&$G$11):INDIRECT(\"mf2!A\"&$H$11),0),1)","v":{"$error":"#N/A"}},{"$f":"INDEX('mf2'!$A$5:$E$100,MATCH('mf1'!A48,'mf2'!$A$5:$A$100,0),5)","v":{"$error":"#N/A"}},0,null,null,null,null,null,{"$f":"INDEX(INDIRECT(\"mf3!A\"&$G$12):INDIRECT(\"mf3!A\"&$H$12),MATCH('mf2'!A48,INDIRECT(\"mf3!A\"&$G$12):INDIRECT(\"mf3!A\"&$H$12),0),1)","v":{"$error":"#N/A"}},{"$f":"INDEX('mf3'!$A$5:$E$100,MATCH('mf2'!A48,'mf3'!$A$5:$A$100,0),5)","v":{"$error":"#N/A"}},0,null,null,null,null,null,{"$f":"INDEX(INDIRECT(\"mf3!A\"&$G$12):INDIRECT(\"mf3!A\"&$H$12),MATCH('mf1'!A48,INDIRECT(\"mf3!A\"&$G$12):INDIRECT(\"mf3!A\"&$H$12),0),1)","v":{"$error":"#N/A"}},{"$f":"INDEX('mf3'!$A$5:$E$100,MATCH('mf1'!A48,'mf3'!$A$5:$A$100,0),5)","v":{"$error":"#N/A"}},0]
[null,{"$f":"SUMIF('mf1'!$B$5:$E$146,A46,'mf1'!$E$5:$E$146)","v":0},{"$f":"SUMIF('mf2'!$B$5:$E$146,A46,'mf2'!$E$5:$E$146)","v":0},{"$f":"SUMIF('mf3'!$B$5:$E$146,A46,'mf3'!$E$5:$E$146)","v":0},null,null,null,null,45,{"$f":"INDEX(INDIRECT(\"mf2!A\"&$G$11):INDIRECT(\"mf2!A\"&$H$11),MATCH('mf1'!A49,INDIRECT(\"mf2!A\"&$G$11):INDIRECT(\"mf2!A\"&$H$11),0),1)","v":{"$error":"#N/A"}},{"$f":"INDEX('mf2'!$A$5:$E$100,MATCH('mf1'!A49,'mf2'!$A$5:$A$100,0),5)","v":{"$error":"#N/A"}},0,null,null,null,null,null,{"$f":"INDEX(INDIRECT(\"mf3!A\"&$G$12):INDIRECT(\"mf3!A\"&$H$12),MATCH('mf2'!A49,INDIRECT(\"mf3!A\"&$G$12):INDIRECT(\"mf3!A\"&$H$12),0),1)","v":"Oriental Bank"},{"$f":"INDEX('mf3'!$A$5:$E$100,MATCH('mf2'!A49,'mf3'!$A$5:$A$100,0),5)","v":0.35},1,null,null,null,null,null,{"$f":"INDEX(INDIRECT(\"mf3!A\"&$G$12):INDIRECT(\"mf3!A\"&$H$12),MATCH('mf1'!A49,INDIRECT(\"mf3!A\"&$G$12):INDIRECT(\"mf3!A\"&$H$12),0),1)","v":{"$error":"#N/A"}},{"$f":"INDEX('mf3'!$A$5:$E$100,MATCH('mf1'!A49,'mf3'!$A$5:$A$100,0),5)","v":{"$error":"#N/A"}},0]
[null,{"$f":"SUMIF('mf1'!$B$5:$E$146,A47,'mf1'!$E$5:$E$146)","v":0},{"$f":"SUMIF('mf2'!$B$5:$E$146,A47,'mf2'!$E$5:$E$146)","v":0},{"$f":"SUMIF('mf3'!$B$5:$E$146,A47,'mf3'!$E$5:$E$146)","v":0},null,null,null,null,46,{"$f":"INDEX(INDIRECT(\"mf2!A\"&$G$11):INDIRECT(\"mf2!A\"&$H$11),MATCH('mf1'!A50,INDIRECT(\"mf2!A\"&$G$11):INDIRECT(\"mf2!A\"&$H$11),0),1)","v":{"$error":"#N/A"}},{"$f":"INDEX('mf2'!$A$5:$E$100,MATCH('mf1'!A50,'mf2'!$A$5:$A$100,0),5)","v":{"$error":"#N/A"}},0,null,null,null,null,null,{"$f":"INDEX(INDIRECT(\"mf3!A\"&$G$12):INDIRECT(\"mf3!A\"&$H$12),MATCH('mf2'!A50,INDIRECT(\"mf3!A\"&$G$12):INDIRECT(\"mf3!A\"&$H$12),0),1)","v":"Hind Constr"},{"$f":"INDEX('mf3'!$A$5:$E$100,MATCH('mf2'!A50,'mf3'!$A$5:$A$100,0),5)","v":0.37},1,null,null,null,null,null,{"$f":"INDEX(INDIRECT(\"mf3!A\"&$G$12):INDIRECT(\"mf3!A\"&$H$12),MATCH('mf1'!A50,INDIRECT(\"mf3!A\"&$G$12):INDIRECT(\"mf3!A\"&$H$12),0),1)","v":{"$error":"#N/A"}},{"$f":"INDEX('mf3'!$A$5:$E$100,MATCH('mf1'!A50,'mf3'!$A$5:$A$100,0),5)","v":{"$error":"#N/A"}},0]
[null,{"$f":"SUMIF('mf1'!$B$5:$E$146,A48,'mf1'!$E$5:$E$146)","v":0},{"$f":"SUMIF('mf2'!$B$5:$E$146,A48,'mf2'!$E$5:$E$146)","v":0},{"$f":"SUMIF('mf3'!$B$5:$E$146,A48,'mf3'!$E$5:$E$146)","v":0},null,null,null,null,47,{"$f":"INDEX(INDIRECT(\"mf2!A\"&$G$11):INDIRECT(\"mf2!A\"&$H$11),MATCH('mf1'!A51,INDIRECT(\"mf2!A\"&$G$11):INDIRECT(\"mf2!A\"&$H$11),0),1)","v":{"$error":"#N/A"}},{"$f":"INDEX('mf2'!$A$5:$E$100,MATCH('mf1'!A51,'mf2'!$A$5:$A$100,0),5)","v":{"$error":"#N/A"}},0,null,null,null,null,null,{"$f":"INDEX(INDIRECT(\"mf3!A\"&$G$12):INDIRECT(\"mf3!A\"&$H$12),MATCH('mf2'!A51,INDIRECT(\"mf3!A\"&$G$12):INDIRECT(\"mf3!A\"&$H$12),0),1)","v":"Simplex Infra"},{"$f":"INDEX('mf3'!$A$5:$E$100,MATCH('mf2'!A51,'mf3'!$A$5:$A$100,0),5)","v":0.74},1,null,null,null,null,null,{"$f":"INDEX(INDIRECT(\"mf3!A\"&$G$12):INDIRECT(\"mf3!A\"&$H$12),MATCH('mf1'!A51,INDIRECT(\"mf3!A\"&$G$12):INDIRECT(\"mf3!A\"&$H$12),0),1)","v":{"$error":"#N/A"}},{"$f":"INDEX('mf3'!$A$5:$E$100,MATCH('mf1'!A51,'mf3'!$A$5:$A$100,0),5)","v":{"$error":"#N/A"}},0]
[null,{"$f":"SUMIF('mf1'!$B$5:$E$146,A49,'mf1'!$E$5:$E$146)","v":0},{"$f":"SUMIF('mf2'!$B$5:$E$146,A49,'mf2'!$E$5:$E$146)","v":0},{"$f":"SUMIF('mf3'!$B$5:$E$146,A49,'mf3'!$E$5:$E$146)","v":0},null,null,null,null,48,{"$f":"INDEX(INDIRECT(\"mf2!A\"&$G$11):INDIRECT(\"mf2!A\"&$H$11),MATCH('mf1'!A52,INDIRECT(\"mf2!A\"&$G$11):INDIRECT(\"mf2!A\"&$H$11),0),1)","v":{"$error":"#N/A"}},{"$f":"INDEX('mf2'!$A$5:$E$100,MATCH('mf1'!A52,'mf2'!$A$5:$A$100,0),5)","v":{"$error":"#N/A"}},0,null,null,null,null,null,{"$f":"INDEX(INDIRECT(\"mf3!A\"&$G$12):INDIRECT(\"mf3!A\"&$H$12),MATCH('mf2'!A52,INDIRECT(\"mf3!A\"&$G$12):INDIRECT(\"mf3!A\"&$H$12),0),1)","v":{"$error":"#N/A"}},{"$f":"INDEX('mf3'!$A$5:$E$100,MATCH('mf2'!A52,'mf3'!$A$5:$A$100,0),5)","v":{"$error":"#N/A"}},0,null,null,null,null,null,{"$f":"INDEX(INDIRECT(\"mf3!A\"&$G$12):INDIRECT(\"mf3!A\"&$H$12),MATCH('mf1'!A52,INDIRECT(\"mf3!A\"&$G$12):INDIRECT(\"mf3!A\"&$H$12),0),1)","v":{"$error":"#N/A"}},{"$f":"INDEX('mf3'!$A$5:$E$100,MATCH('mf1'!A52,'mf3'!$A$5:$A$100,0),5)","v":{"$error":"#N/A"}},0]
[null,{"$f":"SUMIF('mf1'!$B$5:$E$146,A50,'mf1'!$E$5:$E$146)","v":0},{"$f":"SUMIF('mf2'!$B$5:$E$146,A50,'mf2'!$E$5:$E$146)","v":0},{"$f":"SUMIF('mf3'!$B$5:$E$146,A50,'mf3'!$E$5:$E$146)","v":0},null,null,null,null,49,{"$f":"INDEX(INDIRECT(\"mf2!A\"&$G$11):INDIRECT(\"mf2!A\"&$H$11),MATCH('mf1'!A53,INDIRECT(\"mf2!A\"&$G$11):INDIRECT(\"mf2!A\"&$H$11),0),1)","v":{"$error":"#N/A"}},{"$f":"INDEX('mf2'!$A$5:$E$100,MATCH('mf1'!A53,'mf2'!$A$5:$A$100,0),5)","v":{"$error":"#N/A"}},0,null,null,null,null,null,{"$f":"INDEX(INDIRECT(\"mf3!A\"&$G$12):INDIRECT(\"mf3!A\"&$H$12),MATCH('mf2'!A53,INDIRECT(\"mf3!A\"&$G$12):INDIRECT(\"mf3!A\"&$H$12),0),1)","v":"Savita Oil Tech"},{"$f":"INDEX('mf3'!$A$5:$E$100,MATCH('mf2'!A53,'mf3'!$A$5:$A$100,0),5)","v":0.31},1,null,null,null,null,null,{"$f":"INDEX(INDIRECT(\"mf3!A\"&$G$12):INDIRECT(\"mf3!A\"&$H$12),MATCH('mf1'!A53,INDIRECT(\"mf3!A\"&$G$12):INDIRECT(\"mf3!A\"&$H$12),0),1)","v":{"$error":"#N/A"}},{"$f":"INDEX('mf3'!$A$5:$E$100,MATCH('mf1'!A53,'mf3'!$A$5:$A$100,0),5)","v":{"$error":"#N/A"}},0]
[null,null,null,null,null,null,null,null,50,{"$f":"INDEX(INDIRECT(\"mf2!A\"&$G$11):INDIRECT(\"mf2!A\"&$H$11),MATCH('mf1'!A54,INDIRECT(\"mf2!A\"&$G$11):INDIRECT(\"mf2!A\"&$H$11),0),1)","v":{"$error":"#N/A"}},{"$f":"INDEX('mf2'!$A$5:$E$100,MATCH('mf1'!A54,'mf2'!$A$5:$A$100,0),5)","v":{"$error":"#N/A"}},0,null,null,null,null,null,{"$f":"INDEX(INDIRECT(\"mf3!A\"&$G$12):INDIRECT(\"mf3!A\"&$H$12),MATCH('mf2'!A54,INDIRECT(\"mf3!A\"&$G$12):INDIRECT(\"mf3!A\"&$H$12),0),1)","v":"Time Techno"},{"$f":"INDEX('mf3'!$A$5:$E$100,MATCH('mf2'!A54,'mf3'!$A$5:$A$100,0),5)","v":0.59},1,null,null,null,null,null,{"$f":"INDEX(INDIRECT(\"mf3!A\"&$G$12):INDIRECT(\"mf3!A\"&$H$12),MATCH('mf1'!A54,INDIRECT(\"mf3!A\"&$G$12):INDIRECT(\"mf3!A\"&$H$12),0),1)","v":{"$error":"#N/A"}},{"$f":"INDEX('mf3'!$A$5:$E$100,MATCH('mf1'!A54,'mf3'!$A$5:$A$100,0),5)","v":{"$error":"#N/A"}},0]
[null,null,null,null,null,null,null,null,51,{"$f":"INDEX(INDIRECT(\"mf2!A\"&$G$11):INDIRECT(\"mf2!A\"&$H$11),MATCH('mf1'!A55,INDIRECT(\"mf2!A\"&$G$11):INDIRECT(\"mf2!A\"&$H$11),0),1)","v":{"$error":"#N/A"}},{"$f":"INDEX('mf2'!$A$5:$E$100,MATCH('mf1'!A55,'mf2'!$A$5:$A$100,0),5)","v":{"$error":"#N/A"}},0,null,null,null,null,null,{"$f":"INDEX(INDIRECT(\"mf3!A\"&$G$12):INDIRECT(\"mf3!A\"&$H$12),MATCH('mf2'!A55,INDIRECT(\"mf3!A\"&$G$12):INDIRECT(\"mf3!A\"&$H$12),0),1)","v":"Lakshmi Machine"},{"$f":"INDEX('mf3'!$A$5:$E$100,MATCH('mf2'!A55,'mf3'!$A$5:$A$100,0),5)","v":0.17},1,null,null,null,null,null,{"$f":"INDEX(INDIRECT(\"mf3!A\"&$G$12):INDIRECT(\"mf3!A\"&$H$12),MATCH('mf1'!A55,INDIRECT(\"mf3!A\"&$G$12):INDIRECT(\"mf3!A\"&$H$12),0),1)","v":{"$error":"#N/A"}},{"$f":"INDEX('mf3'!$A$5:$E$100,MATCH('mf1'!A55,'mf3'!$A$5:$A$100,0),5)","v":{"$error":"#N/A"}},0]
[null,null,null,null,null,null,null,null,52,{"$f":"INDEX(INDIRECT(\"mf2!A\"&$G$11):INDIRECT(\"mf2!A\"&$H$11),MATCH('mf1'!A56,INDIRECT(\"mf2!A\"&$G$11):INDIRECT(\"mf2!A\"&$H$11),0),1)","v":"Info Edge"},{"$f":"INDEX('mf2'!$A$5:$E$100,MATCH('mf1'!A56,'mf2'!$A$5:$A$100,0),5)","v":1.28},1,null,null,null,null,null,{"$f":"INDEX(INDIRECT(\"mf3!A\"&$G$12):INDIRECT(\"mf3!A\"&$H$12),MATCH('mf2'!A56,INDIRECT(\"mf3!A\"&$G$12):INDIRECT(\"mf3!A\"&$H$12),0),1)","v":"Jaiprakash Pow"},{"$f":"INDEX('mf3'!$A$5:$E$100,MATCH('mf2'!A56,'mf3'!$A$5:$A$100,0),5)","v":0.21},1,null,null,null,null,null,{"$f":"INDEX(INDIRECT(\"mf3!A\"&$G$12):INDIRECT(\"mf3!A\"&$H$12),MATCH('mf1'!A56,INDIRECT(\"mf3!A\"&$G$12):INDIRECT(\"mf3!A\"&$H$12),0),1)","v":"Info Edge"},{"$f":"INDEX('mf3'!$A$5:$E$100,MATCH('mf1'!A56,'mf3'!$A$5:$A$100,0),5)","v":0.59},1]
[null,null,null,null,null,null,null,null,53,{"$f":"INDEX(INDIRECT(\"mf2!A\"&$G$11):INDIRECT(\"mf2!A\"&$H$11),MATCH('mf1'!A57,INDIRECT(\"mf2!A\"&$G$11):INDIRECT(\"mf2!A\"&$H$11),0),1)","v":{"$error":"#N/A"}},{"$f":"INDEX('mf2'!$A$5:$E$100,MATCH('mf1'!A57,'mf2'!$A$5:$A$100,0),5)","v":{"$error":"#N/A"}},0,null,null,null,null,null,{"$f":"INDEX(INDIRECT(\"mf3!A\"&$G$12):INDIRECT(\"mf3!A\"&$H$12),MATCH('mf2'!A57,INDIRECT(\"mf3!A\"&$G$12):INDIRECT(\"mf3!A\"&$H$12),0),1)","v":{"$error":"#N/A"}},{"$f":"INDEX('mf3'!$A$5:$E$100,MATCH('mf2'!A57,'mf3'!$A$5:$A$100,0),5)","v":{"$error":"#N/A"}},0,null,null,null,null,null,{"$f":"INDEX(INDIRECT(\"mf3!A\"&$G$12):INDIRECT(\"mf3!A\"&$H$12),MATCH('mf1'!A57,INDIRECT(\"mf3!A\"&$G$12):INDIRECT(\"mf3!A\"&$H$12),0),1)","v":{"$error":"#N/A"}},{"$f":"INDEX('mf3'!$A$5:$E$100,MATCH('mf1'!A57,'mf3'!$A$5:$A$100,0),5)","v":{"$error":"#N/A"}},0]
[null,null,null,null,null,null,null,null,54,{"$f":"INDEX(INDIRECT(\"mf2!A\"&$G$11):INDIRECT(\"mf2!A\"&$H$11),MATCH('mf1'!A58,INDIRECT(\"mf2!A\"&$G$11):INDIRECT(\"mf2!A\"&$H$11),0),1)","v":{"$error":"#N/A"}},{"$f":"INDEX('mf2'!$A$5:$E$100,MATCH('mf1'!A58,'mf2'!$A$5:$A$100,0),5)","v":{"$error":"#N/A"}},0,null,null,null,null,null,{"$f":"INDEX(INDIRECT(\"mf3!A\"&$G$12):INDIRECT(\"mf3!A\"&$H$12),MATCH('mf2'!A58,INDIRECT(\"mf3!A\"&$G$12):INDIRECT(\"mf3!A\"&$H$12),0),1)","v":"Others / Unlisted"},{"$f":"INDEX('mf3'!$A$5:$E$100,MATCH('mf2'!A58,'mf3'!$A$5:$A$100,0),5)","v":0},1,null,null,null,null,null,{"$f":"INDEX(INDIRECT(\"mf3!A\"&$G$12):INDIRECT(\"mf3!A\"&$H$12),MATCH('mf1'!A58,INDIRECT(\"mf3!A\"&$G$12):INDIRECT(\"mf3!A\"&$H$12),0),1)","v":{"$error":"#N/A"}},{"$f":"INDEX('mf3'!$A$5:$E$100,MATCH('mf1'!A58,'mf3'!$A$5:$A$100,0),5)","v":{"$error":"#N/A"}},0]
[null,null,null,null,null,null,null,null,55,{"$f":"INDEX(INDIRECT(\"mf2!A\"&$G$11):INDIRECT(\"mf2!A\"&$H$11),MATCH('mf1'!A59,INDIRECT(\"mf2!A\"&$G$11):INDIRECT(\"mf2!A\"&$H$11),0),1)","v":"Oriental Bank"},{"$f":"INDEX('mf2'!$A$5:$E$100,MATCH('mf1'!A59,'mf2'!$A$5:$A$100,0),5)","v":0.35},1,null,null,null,null,null,{"$f":"INDEX(INDIRECT(\"mf3!A\"&$G$12):INDIRECT(\"mf3!A\"&$H$12),MATCH('mf2'!A59,INDIRECT(\"mf3!A\"&$G$12):INDIRECT(\"mf3!A\"&$H$12),0),1)","v":{"$error":"#N/A"}},{"$f":"INDEX('mf3'!$A$5:$E$100,MATCH('mf2'!A59,'mf3'!$A$5:$A$100,0),5)","v":{"$error":"#N/A"}},0,null,null,null,null,null,{"$f":"INDEX(INDIRECT(\"mf3!A\"&$G$12):INDIRECT(\"mf3!A\"&$H$12),MATCH('mf1'!A59,INDIRECT(\"mf3!A\"&$G$12):INDIRECT(\"mf3!A\"&$H$12),0),1)","v":"Oriental Bank"},{"$f":"INDEX('mf3'!$A$5:$E$100,MATCH('mf1'!A59,'mf3'!$A$5:$A$100,0),5)","v":0.35},1]
[null,null,null,null,null,null,null,null,56,{"$f":"INDEX(INDIRECT(\"mf2!A\"&$G$11):INDIRECT(\"mf2!A\"&$H$11),MATCH('mf1'!A60,INDIRECT(\"mf2!A\"&$G$11):INDIRECT(\"mf2!A\"&$H$11),0),1)","v":{"$error":"#N/A"}},{"$f":"INDEX('mf2'!$A$5:$E$100,MATCH('mf1'!A60,'mf2'!$A$5:$A$100,0),5)","v":{"$error":"#N/A"}},0,null,null,null,null,null,{"$f":"INDEX(INDIRECT(\"mf3!A\"&$G$12):INDIRECT(\"mf3!A\"&$H$12),MATCH('mf2'!A60,INDIRECT(\"mf3!A\"&$G$12):INDIRECT(\"mf3!A\"&$H$12),0),1)","v":"Nirvikara Paper Mills Ltd."},{"$f":"INDEX('mf3'!$A$5:$E$100,MATCH('mf2'!A60,'mf3'!$A$5:$A$100,0),5)","v":0},1,null,null,null,null,null,{"$f":"INDEX(INDIRECT(\"mf3!A\"&$G$12):INDIRECT(\"mf3!A\"&$H$12),MATCH('mf1'!A60,INDIRECT(\"mf3!A\"&$G$12):INDIRECT(\"mf3!A\"&$H$12),0),1)","v":{"$error":"#N/A"}},{"$f":"INDEX('mf3'!$A$5:$E$100,MATCH('mf1'!A60,'mf3'!$A$5:$A$100,0),5)","v":{"$error":"#N/A"}},0]
[null,null,null,null,null,null,null,null,57,{"$f":"INDEX(INDIRECT(\"mf2!A\"&$G$11):INDIRECT(\"mf2!A\"&$H$11),MATCH('mf1'!A61,INDIRECT(\"mf2!A\"&$G$11):INDIRECT(\"mf2!A\"&$H$11),0),1)","v":"Power Finance"},{"$f":"INDEX('mf2'!$A$5:$E$100,MATCH('mf1'!A61,'mf2'!$A$5:$A$100,0),5)","v":0.59},1,null,null,null,null,null,{"$f":"INDEX(INDIRECT(\"mf3!A\"&$G$12):INDIRECT(\"mf3!A\"&$H$12),MATCH('mf2'!A61,INDIRECT(\"mf3!A\"&$G$12):INDIRECT(\"mf3!A\"&$H$12),0),1)","v":{"$error":"#N/A"}},{"$f":"INDEX('mf3'!$A$5:$E$100,MATCH('mf2'!A61,'mf3'!$A$5:$A$100,0),5)","v":{"$error":"#N/A"}},0,null,null,null,null,null,{"$f":"INDEX(INDIRECT(\"mf3!A\"&$G$12):INDIRECT(\"mf3!A\"&$H$12),MATCH('mf1'!A61,INDIRECT(\"mf3!A\"&$G$12):INDIRECT(\"mf3!A\"&$H$12),0),1)","v":{"$error":"#N/A"}},{"$f":"INDEX('mf3'!$A$5:$E$100,MATCH('mf1'!A61,'mf3'!$A$5:$A$100,0),5)","v":{"$error":"#N/A"}},0]
[null,null,null,null,null,null,null,null,58,{"$f":"INDEX(INDIRECT(\"mf2!A\"&$G$11):INDIRECT(\"mf2!A\"&$H$11),MATCH('mf1'!A62,INDIRECT(\"mf2!A\"&$G$11):INDIRECT(\"mf2!A\"&$H$11),0),1)","v":"UPL"},{"$f":"INDEX('mf2'!$A$5:$E$100,MATCH('mf1'!A62,'mf2'!$A$5:$A$100,0),5)","v":0.69},1,null,null,null,null,null,{"$f":"INDEX(INDIRECT(\"mf3!A\"&$G$12):INDIRECT(\"mf3!A\"&$H$12),MATCH('mf2'!A62,INDIRECT(\"mf3!A\"&$G$12):INDIRECT(\"mf3!A\"&$H$12),0),1)","v":{"$error":"#N/A"}},{"$f":"INDEX('mf3'!$A$5:$E$100,MATCH('mf2'!A62,'mf3'!$A$5:$A$100,0),5)","v":{"$error":"#N/A"}},0,null,null,null,null,null,{"$f":"INDEX(INDIRECT(\"mf3!A\"&$G$12):INDIRECT(\"mf3!A\"&$H$12),MATCH('mf1'!A62,INDIRECT(\"mf3!A\"&$G$12):INDIRECT(\"mf3!A\"&$H$12),0),1)","v":{"$error":"#N/A"}},{"$f":"INDEX('mf3'!$A$5:$E$100,MATCH('mf1'!A62,'mf3'!$A$5:$A$100,0),5)","v":{"$error":"#N/A"}},0]
[null,null,null,null,null,null,null,null,59,{"$f":"INDEX(INDIRECT(\"mf2!A\"&$G$11):INDIRECT(\"mf2!A\"&$H$11),MATCH('mf1'!A63,INDIRECT(\"mf2!A\"&$G$11):INDIRECT(\"mf2!A\"&$H$11),0),1)","v":{"$error":"#N/A"}},{"$f":"INDEX('mf2'!$A$5:$E$100,MATCH('mf1'!A63,'mf2'!$A$5:$A$100,0),5)","v":{"$error":"#N/A"}},0,null,null,null,null,null,{"$f":"INDEX(INDIRECT(\"mf3!A\"&$G$12):INDIRECT(\"mf3!A\"&$H$12),MATCH('mf2'!A63,INDIRECT(\"mf3!A\"&$G$12):INDIRECT(\"mf3!A\"&$H$12),0),1)","v":{"$error":"#N/A"}},{"$f":"INDEX('mf3'!$A$5:$E$100,MATCH('mf2'!A63,'mf3'!$A$5:$A$100,0),5)","v":{"$error":"#N/A"}},0,null,null,null,null,null,{"$f":"INDEX(INDIRECT(\"mf3!A\"&$G$12):INDIRECT(\"mf3!A\"&$H$12),MATCH('mf1'!A63,INDIRECT(\"mf3!A\"&$G$12):INDIRECT(\"mf3!A\"&$H$12),0),1)","v":{"$error":"#N/A"}},{"$f":"INDEX('mf3'!$A$5:$E$100,MATCH('mf1'!A63,'mf3'!$A$5:$A$100,0),5)","v":{"$error":"#N/A"}},0]
[null,null,null,null,null,null,null,null,60,{"$f":"INDEX(INDIRECT(\"mf2!A\"&$G$11):INDIRECT(\"mf2!A\"&$H$11),MATCH('mf1'!A64,INDIRECT(\"mf2!A\"&$G$11):INDIRECT(\"mf2!A\"&$H$11),0),1)","v":{"$error":"#N/A"}},{"$f":"INDEX('mf2'!$A$5:$E$100,MATCH('mf1'!A64,'mf2'!$A$5:$A$100,0),5)","v":{"$error":"#N/A"}},0,null,null,null,null,null,{"$f":"INDEX(INDIRECT(\"mf3!A\"&$G$12):INDIRECT(\"mf3!A\"&$H$12),MATCH('mf2'!A64,INDIRECT(\"mf3!A\"&$G$12):INDIRECT(\"mf3!A\"&$H$12),0),1)","v":{"$error":"#N/A"}},{"$f":"INDEX('mf3'!$A$5:$E$100,MATCH('mf2'!A64,'mf3'!$A$5:$A$100,0),5)","v":{"$error":"#N/A"}},0,null,null,null,null,null,{"$f":"INDEX(INDIRECT(\"mf3!A\"&$G$12):INDIRECT(\"mf3!A\"&$H$12),MATCH('mf1'!A64,INDIRECT(\"mf3!A\"&$G$12):INDIRECT(\"mf3!A\"&$H$12),0),1)","v":{"$error":"#N/A"}},{"$f":"INDEX('mf3'!$A$5:$E$100,MATCH('mf1'!A64,'mf3'!$A$5:$A$100,0),5)","v":{"$error":"#N/A"}},0]
[null,null,null,null,null,null,null,null,61,{"$f":"INDEX(INDIRECT(\"mf2!A\"&$G$11):INDIRECT(\"mf2!A\"&$H$11),MATCH('mf1'!A65,INDIRECT(\"mf2!A\"&$G$11):INDIRECT(\"mf2!A\"&$H$11),0),1)","v":{"$error":"#N/A"}},{"$f":"INDEX('mf2'!$A$5:$E$100,MATCH('mf1'!A65,'mf2'!$A$5:$A$100,0),5)","v":{"$error":"#N/A"}},0,null,null,null,null,null,{"$f":"INDEX(INDIRECT(\"mf3!A\"&$G$12):INDIRECT(\"mf3!A\"&$H$12),MATCH('mf2'!A65,INDIRECT(\"mf3!A\"&$G$12):INDIRECT(\"mf3!A\"&$H$12),0),1)","v":{"$error":"#N/A"}},{"$f":"INDEX('mf3'!$A$5:$E$100,MATCH('mf2'!A65,'mf3'!$A$5:$A$100,0),5)","v":{"$error":"#N/A"}},0,null,null,null,null,null,{"$f":"INDEX(INDIRECT(\"mf3!A\"&$G$12):INDIRECT(\"mf3!A\"&$H$12),MATCH('mf1'!A65,INDIRECT(\"mf3!A\"&$G$12):INDIRECT(\"mf3!A\"&$H$12),0),1)","v":{"$error":"#N/A"}},{"$f":"INDEX('mf3'!$A$5:$E$100,MATCH('mf1'!A65,'mf3'!$A$5:$A$100,0),5)","v":{"$error":"#N/A"}},0]
[null,null,null,null,null,null,null,null,62,{"$f":"INDEX(INDIRECT(\"mf2!A\"&$G$11):INDIRECT(\"mf2!A\"&$H$11),MATCH('mf1'!A66,INDIRECT(\"mf2!A\"&$G$11):INDIRECT(\"mf2!A\"&$H$11),0),1)","v":"P and G"},{"$f":"INDEX('mf2'!$A$5:$E$100,MATCH('mf1'!A66,'mf2'!$A$5:$A$100,0),5)","v":1.58},1,null,null,null,null,null,{"$f":"INDEX(INDIRECT(\"mf3!A\"&$G$12):INDIRECT(\"mf3!A\"&$H$12),MATCH('mf2'!A66,INDIRECT(\"mf3!A\"&$G$12):INDIRECT(\"mf3!A\"&$H$12),0),1)","v":{"$error":"#N/A"}},{"$f":"INDEX('mf3'!$A$5:$E$100,MATCH('mf2'!A66,'mf3'!$A$5:$A$100,0),5)","v":{"$error":"#N/A"}},0,null,null,null,null,null,{"$f":"INDEX(INDIRECT(\"mf3!A\"&$G$12):INDIRECT(\"mf3!A\"&$H$12),MATCH('mf1'!A66,INDIRECT(\"mf3!A\"&$G$12):INDIRECT(\"mf3!A\"&$H$12),0),1)","v":"P and G"},{"$f":"INDEX('mf3'!$A$5:$E$100,MATCH('mf1'!A66,'mf3'!$A$5:$A$100,0),5)","v":1.72},1]
[null,null,null,null,null,null,null,null,63,{"$f":"INDEX(INDIRECT(\"mf2!A\"&$G$11):INDIRECT(\"mf2!A\"&$H$11),MATCH('mf1'!A67,INDIRECT(\"mf2!A\"&$G$11):INDIRECT(\"mf2!A\"&$H$11),0),1)","v":{"$error":"#N/A"}},{"$f":"INDEX('mf2'!$A$5:$E$100,MATCH('mf1'!A67,'mf2'!$A$5:$A$100,0),5)","v":{"$error":"#N/A"}},0,null,null,null,null,null,{"$f":"INDEX(INDIRECT(\"mf3!A\"&$G$12):INDIRECT(\"mf3!A\"&$H$12),MATCH('mf2'!A67,INDIRECT(\"mf3!A\"&$G$12):INDIRECT(\"mf3!A\"&$H$12),0),1)","v":{"$error":"#N/A"}},{"$f":"INDEX('mf3'!$A$5:$E$100,MATCH('mf2'!A67,'mf3'!$A$5:$A$100,0),5)","v":{"$error":"#N/A"}},0,null,null,null,null,null,{"$f":"INDEX(INDIRECT(\"mf3!A\"&$G$12):INDIRECT(\"mf3!A\"&$H$12),MATCH('mf1'!A67,INDIRECT(\"mf3!A\"&$G$12):INDIRECT(\"mf3!A\"&$H$12),0),1)","v":{"$error":"#N/A"}},{"$f":"INDEX('mf3'!$A$5:$E$100,MATCH('mf1'!A67,'mf3'!$A$5:$A$100,0),5)","v":{"$error":"#N/A"}},0]
[null,null,null,null,null,null,null,null,64,{"$f":"INDEX(INDIRECT(\"mf2!A\"&$G$11):INDIRECT(\"mf2!A\"&$H$11),MATCH('mf1'!A68,INDIRECT(\"mf2!A\"&$G$11):INDIRECT(\"mf2!A\"&$H$11),0),1)","v":{"$error":"#N/A"}},{"$f":"INDEX('mf2'!$A$5:$E$100,MATCH('mf1'!A68,'mf2'!$A$5:$A$100,0),5)","v":{"$error":"#N/A"}},0,null,null,null,null,null,{"$f":"INDEX(INDIRECT(\"mf3!A\"&$G$12):INDIRECT(\"mf3!A\"&$H$12),MATCH('mf2'!A68,INDIRECT(\"mf3!A\"&$G$12):INDIRECT(\"mf3!A\"&$H$12),0),1)","v":{"$error":"#N/A"}},{"$f":"INDEX('mf3'!$A$5:$E$100,MATCH('mf2'!A68,'mf3'!$A$5:$A$100,0),5)","v":{"$error":"#N/A"}},0,null,null,null,null,null,{"$f":"INDEX(INDIRECT(\"mf3!A\"&$G$12):INDIRECT(\"mf3!A\"&$H$12),MATCH('mf1'!A68,INDIRECT(\"mf3!A\"&$G$12):INDIRECT(\"mf3!A\"&$H$12),0),1)","v":{"$error":"#N/A"}},{"$f":"INDEX('mf3'!$A$5:$E$100,MATCH('mf1'!A68,'mf3'!$A$5:$A$100,0),5)","v":{"$error":"#N/A"}},0]
[null,null,null,null,null,null,null,null,65,{"$f":"INDEX(INDIRECT(\"mf2!A\"&$G$11):INDIRECT(\"mf2!A\"&$H$11),MATCH('mf1'!A69,INDIRECT(\"mf2!A\"&$G$11):INDIRECT(\"mf2!A\"&$H$11),0),1)","v":{"$error":"#N/A"}},{"$f":"INDEX('mf2'!$A$5:$E$100,MATCH('mf1'!A69,'mf2'!$A$5:$A$100,0),5)","v":{"$error":"#N/A"}},0,null,null,null,null,null,{"$f":"INDEX(INDIRECT(\"mf3!A\"&$G$12):INDIRECT(\"mf3!A\"&$H$12),MATCH('mf2'!A69,INDIRECT(\"mf3!A\"&$G$12):INDIRECT(\"mf3!A\"&$H$12),0),1)","v":{"$error":"#N/A"}},{"$f":"INDEX('mf3'!$A$5:$E$100,MATCH('mf2'!A69,'mf3'!$A$5:$A$100,0),5)","v":{"$error":"#N/A"}},0,null,null,null,null,null,{"$f":"INDEX(INDIRECT(\"mf3!A\"&$G$12):INDIRECT(\"mf3!A\"&$H$12),MATCH('mf1'!A69,INDIRECT(\"mf3!A\"&$G$12):INDIRECT(\"mf3!A\"&$H$12),0),1)","v":{"$error":"#N/A"}},{"$f":"INDEX('mf3'!$A$5:$E$100,MATCH('mf1'!A69,'mf3'!$A$5:$A$100,0),5)","v":{"$error":"#N/A"}},0]
[null,null,null,null,null,null,null,null,66,{"$f":"INDEX(INDIRECT(\"mf2!A\"&$G$11):INDIRECT(\"mf2!A\"&$H$11),MATCH('mf1'!A70,INDIRECT(\"mf2!A\"&$G$11):INDIRECT(\"mf2!A\"&$H$11),0),1)","v":{"$error":"#N/A"}},{"$f":"INDEX('mf2'!$A$5:$E$100,MATCH('mf1'!A70,'mf2'!$A$5:$A$100,0),5)","v":{"$error":"#N/A"}},{"$f":"IF(ISERROR(J67),0,1)","v":0},null,null,null,null,null,{"$f":"INDEX(INDIRECT(\"mf3!A\"&$G$12):INDIRECT(\"mf3!A\"&$H$12),MATCH('mf2'!A70,INDIRECT(\"mf3!A\"&$G$12):INDIRECT(\"mf3!A\"&$H$12),0),1)","v":{"$error":"#N/A"}},{"$f":"INDEX('mf3'!$A$5:$E$100,MATCH('mf2'!A70,'mf3'!$A$5:$A$100,0),5)","v":{"$error":"#N/A"}},0,null,null,null,null,null,{"$f":"INDEX(INDIRECT(\"mf3!A\"&$G$12):INDIRECT(\"mf3!A\"&$H$12),MATCH('mf1'!A70,INDIRECT(\"mf3!A\"&$G$12):INDIRECT(\"mf3!A\"&$H$12),0),1)","v":{"$error":"#N/A"}},{"$f":"INDEX('mf3'!$A$5:$E$100,MATCH('mf1'!A70,'mf3'!$A$5:$A$100,0),5)","v":{"$error":"#N/A"}},{"$f":"IF(ISERROR(Z67),0,1)","v":0}]
[null,null,null,null,null,null,null,null,{"$f":"I67+1","v":67},{"$f":"INDEX(INDIRECT(\"mf2!A\"&$G$11):INDIRECT(\"mf2!A\"&$H$11),MATCH('mf1'!A71,INDIRECT(\"mf2!A\"&$G$11):INDIRECT(\"mf2!A\"&$H$11),0),1)","v":{"$error":"#N/A"}},{"$f":"INDEX('mf2'!$A$5:$E$100,MATCH('mf1'!A71,'mf2'!$A$5:$A$100,0),5)","v":{"$error":"#N/A"}},0,null,null,null,null,null,{"$f":"INDEX(INDIRECT(\"mf3!A\"&$G$12):INDIRECT(\"mf3!A\"&$H$12),MATCH('mf2'!A71,INDIRECT(\"mf3!A\"&$G$12):INDIRECT(\"mf3!A\"&$H$12),0),1)","v":{"$error":"#N/A"}},{"$f":"INDEX('mf3'!$A$5:$E$100,MATCH('mf2'!A71,'mf3'!$A$5:$A$100,0),5)","v":{"$error":"#N/A"}},0,null,null,null,null,null,{"$f":"INDEX(INDIRECT(\"mf3!A\"&$G$12):INDIRECT(\"mf3!A\"&$H$12),MATCH('mf1'!A71,INDIRECT(\"mf3!A\"&$G$12):INDIRECT(\"mf3!A\"&$H$12),0),1)","v":{"$error":"#N/A"}},{"$f":"INDEX('mf3'!$A$5:$E$100,MATCH('mf1'!A71,'mf3'!$A$5:$A$100,0),5)","v":{"$error":"#N/A"}},0]
[null,null,null,null,null,null,null,null,68,{"$f":"INDEX(INDIRECT(\"mf2!A\"&$G$11):INDIRECT(\"mf2!A\"&$H$11),MATCH('mf1'!A72,INDIRECT(\"mf2!A\"&$G$11):INDIRECT(\"mf2!A\"&$H$11),0),1)","v":{"$error":"#N/A"}},{"$f":"INDEX('mf2'!$A$5:$E$100,MATCH('mf1'!A72,'mf2'!$A$5:$A$100,0),5)","v":{"$error":"#N/A"}},0,null,null,null,null,null,{"$f":"INDEX(INDIRECT(\"mf3!A\"&$G$12):INDIRECT(\"mf3!A\"&$H$12),MATCH('mf2'!A72,INDIRECT(\"mf3!A\"&$G$12):INDIRECT(\"mf3!A\"&$H$12),0),1)","v":{"$error":"#N/A"}},{"$f":"INDEX('mf3'!$A$5:$E$100,MATCH('mf2'!A72,'mf3'!$A$5:$A$100,0),5)","v":{"$error":"#N/A"}},0,null,null,null,null,null,{"$f":"INDEX(INDIRECT(\"mf3!A\"&$G$12):INDIRECT(\"mf3!A\"&$H$12),MATCH('mf1'!A72,INDIRECT(\"mf3!A\"&$G$12):INDIRECT(\"mf3!A\"&$H$12),0),1)","v":{"$error":"#N/A"}},{"$f":"INDEX('mf3'!$A$5:$E$100,MATCH('mf1'!A72,'mf3'!$A$5:$A$100,0),5)","v":{"$error":"#N/A"}},0]
[null,null,null,null,null,null,null,null,69,{"$f":"INDEX(INDIRECT(\"mf2!A\"&$G$11):INDIRECT(\"mf2!A\"&$H$11),MATCH('mf1'!A73,INDIRECT(\"mf2!A\"&$G$11):INDIRECT(\"mf2!A\"&$H$11),0),1)","v":{"$error":"#N/A"}},{"$f":"INDEX('mf2'!$A$5:$E$100,MATCH('mf1'!A73,'mf2'!$A$5:$A$100,0),5)","v":{"$error":"#N/A"}},0,null,null,null,null,null,{"$f":"INDEX(INDIRECT(\"mf3!A\"&$G$12):INDIRECT(\"mf3!A\"&$H$12),MATCH('mf2'!A73,INDIRECT(\"mf3!A\"&$G$12):INDIRECT(\"mf3!A\"&$H$12),0),1)","v":{"$error":"#N/A"}},{"$f":"INDEX('mf3'!$A$5:$E$100,MATCH('mf2'!A73,'mf3'!$A$5:$A$100,0),5)","v":{"$error":"#N/A"}},0,null,null,null,null,null,{"$f":"INDEX(INDIRECT(\"mf3!A\"&$G$12):INDIRECT(\"mf3!A\"&$H$12),MATCH('mf1'!A73,INDIRECT(\"mf3!A\"&$G$12):INDIRECT(\"mf3!A\"&$H$12),0),1)","v":{"$error":"#N/A"}},{"$f":"INDEX('mf3'!$A$5:$E$100,MATCH('mf1'!A73,'mf3'!$A$5:$A$100,0),5)","v":{"$error":"#N/A"}},0]
[null,null,null,null,null,null,null,null,70,{"$f":"INDEX(INDIRECT(\"mf2!A\"&$G$11):INDIRECT(\"mf2!A\"&$H$11),MATCH('mf1'!A74,INDIRECT(\"mf2!A\"&$G$11):INDIRECT(\"mf2!A\"&$H$11),0),1)","v":"Jaiprakash Pow"},{"$f":"INDEX('mf2'!$A$5:$E$100,MATCH('mf1'!A74,'mf2'!$A$5:$A$100,0),5)","v":0.17},1,null,null,null,null,null,{"$f":"INDEX(INDIRECT(\"mf3!A\"&$G$12):INDIRECT(\"mf3!A\"&$H$12),MATCH('mf2'!A74,INDIRECT(\"mf3!A\"&$G$12):INDIRECT(\"mf3!A\"&$H$12),0),1)","v":{"$error":"#N/A"}},{"$f":"INDEX('mf3'!$A$5:$E$100,MATCH('mf2'!A74,'mf3'!$A$5:$A$100,0),5)","v":{"$error":"#N/A"}},0,null,null,null,null,null,{"$f":"INDEX(INDIRECT(\"mf3!A\"&$G$12):INDIRECT(\"mf3!A\"&$H$12),MATCH('mf1'!A74,INDIRECT(\"mf3!A\"&$G$12):INDIRECT(\"mf3!A\"&$H$12),0),1)","v":"Jaiprakash Pow"},{"$f":"INDEX('mf3'!$A$5:$E$100,MATCH('mf1'!A74,'mf3'!$A$5:$A$100,0),5)","v":0.21},1]
[null,null,null,null,null,null,null,null,71,{"$f":"INDEX(INDIRECT(\"mf2!A\"&$G$11):INDIRECT(\"mf2!A\"&$H$11),MATCH('mf1'!A75,INDIRECT(\"mf2!A\"&$G$11):INDIRECT(\"mf2!A\"&$H$11),0),1)","v":{"$error":"#N/A"}},{"$f":"INDEX('mf2'!$A$5:$E$100,MATCH('mf1'!A75,'mf2'!$A$5:$A$100,0),5)","v":{"$error":"#N/A"}},0,null,null,null,null,null,{"$f":"INDEX(INDIRECT(\"mf3!A\"&$G$12):INDIRECT(\"mf3!A\"&$H$12),MATCH('mf2'!A75,INDIRECT(\"mf3!A\"&$G$12):INDIRECT(\"mf3!A\"&$H$12),0),1)","v":{"$error":"#N/A"}},{"$f":"INDEX('mf3'!$A$5:$E$100,MATCH('mf2'!A75,'mf3'!$A$5:$A$100,0),5)","v":{"$error":"#N/A"}},0,null,null,null,null,null,{"$f":"INDEX(INDIRECT(\"mf3!A\"&$G$12):INDIRECT(\"mf3!A\"&$H$12),MATCH('mf1'!A75,INDIRECT(\"mf3!A\"&$G$12):INDIRECT(\"mf3!A\"&$H$12),0),1)","v":"Allahabad Bank"},{"$f":"INDEX('mf3'!$A$5:$E$100,MATCH('mf1'!A75,'mf3'!$A$5:$A$100,0),5)","v":0.12},1]
[null,null,null,null,null,null,null,null,72,{"$f":"INDEX(INDIRECT(\"mf2!A\"&$G$11):INDIRECT(\"mf2!A\"&$H$11),MATCH('mf1'!A76,INDIRECT(\"mf2!A\"&$G$11):INDIRECT(\"mf2!A\"&$H$11),0),1)","v":"Zee Entertain"},{"$f":"INDEX('mf2'!$A$5:$E$100,MATCH('mf1'!A76,'mf2'!$A$5:$A$100,0),5)","v":0.02},1,null,null,null,null,null,{"$f":"INDEX(INDIRECT(\"mf3!A\"&$G$12):INDIRECT(\"mf3!A\"&$H$12),MATCH('mf2'!A76,INDIRECT(\"mf3!A\"&$G$12):INDIRECT(\"mf3!A\"&$H$12),0),1)","v":{"$error":"#N/A"}},{"$f":"INDEX('mf3'!$A$5:$E$100,MATCH('mf2'!A76,'mf3'!$A$5:$A$100,0),5)","v":{"$error":"#N/A"}},0,null,null,null,null,null,{"$f":"INDEX(INDIRECT(\"mf3!A\"&$G$12):INDIRECT(\"mf3!A\"&$H$12),MATCH('mf1'!A76,INDIRECT(\"mf3!A\"&$G$12):INDIRECT(\"mf3!A\"&$H$12),0),1)","v":{"$error":"#N/A"}},{"$f":"INDEX('mf3'!$A$5:$E$100,MATCH('mf1'!A76,'mf3'!$A$5:$A$100,0),5)","v":{"$error":"#N/A"}},0]
[null,null,null,null,null,null,null,null,73,{"$f":"INDEX(INDIRECT(\"mf2!A\"&$G$11):INDIRECT(\"mf2!A\"&$H$11),MATCH('mf1'!A77,INDIRECT(\"mf2!A\"&$G$11):INDIRECT(\"mf2!A\"&$H$11),0),1)","v":{"$error":"#N/A"}},{"$f":"INDEX('mf2'!$A$5:$E$100,MATCH('mf1'!A77,'mf2'!$A$5:$A$100,0),5)","v":0},0,null,null,null,null,null,{"$f":"INDEX(INDIRECT(\"mf3!A\"&$G$12):INDIRECT(\"mf3!A\"&$H$12),MATCH('mf2'!A77,INDIRECT(\"mf3!A\"&$G$12):INDIRECT(\"mf3!A\"&$H$12),0),1)","v":{"$error":"#N/A"}},{"$f":"INDEX('mf3'!$A$5:$E$100,MATCH('mf2'!A77,'mf3'!$A$5:$A$100,0),5)","v":{"$error":"#N/A"}},0,null,null,null,null,null,{"$f":"INDEX(INDIRECT(\"mf3!A\"&$G$12):INDIRECT(\"mf3!A\"&$H$12),MATCH('mf1'!A77,INDIRECT(\"mf3!A\"&$G$12):INDIRECT(\"mf3!A\"&$H$12),0),1)","v":{"$error":"#N/A"}},{"$f":"INDEX('mf3'!$A$5:$E$100,MATCH('mf1'!A77,'mf3'!$A$5:$A$100,0),5)","v":{"$error":"#N/A"}},0]
[null,null,null,null,null,null,null,null,74,{"$f":"INDEX(INDIRECT(\"mf2!A\"&$G$11):INDIRECT(\"mf2!A\"&$H$11),MATCH('mf1'!A78,INDIRECT(\"mf2!A\"&$G$11):INDIRECT(\"mf2!A\"&$H$11),0),1)","v":{"$error":"#N/A"}},{"$f":"INDEX('mf2'!$A$5:$E$100,MATCH('mf1'!A78,'mf2'!$A$5:$A$100,0),5)","v":0},0,null,null,null,null,null,{"$f":"INDEX(INDIRECT(\"mf3!A\"&$G$12):INDIRECT(\"mf3!A\"&$H$12),MATCH('mf2'!A78,INDIRECT(\"mf3!A\"&$G$12):INDIRECT(\"mf3!A\"&$H$12),0),1)","v":{"$error":"#N/A"}},{"$f":"INDEX('mf3'!$A$5:$E$100,MATCH('mf2'!A78,'mf3'!$A$5:$A$100,0),5)","v":{"$error":"#N/A"}},0,null,null,null,null,null,{"$f":"INDEX(INDIRECT(\"mf3!A\"&$G$12):INDIRECT(\"mf3!A\"&$H$12),MATCH('mf1'!A78,INDIRECT(\"mf3!A\"&$G$12):INDIRECT(\"mf3!A\"&$H$12),0),1)","v":{"$error":"#N/A"}},{"$f":"INDEX('mf3'!$A$5:$E$100,MATCH('mf1'!A78,'mf3'!$A$5:$A$100,0),5)","v":{"$error":"#N/A"}},0]
[null,null,null,null,null,null,null,null,75,{"$f":"INDEX(INDIRECT(\"mf2!A\"&$G$11):INDIRECT(\"mf2!A\"&$H$11),MATCH('mf1'!A79,INDIRECT(\"mf2!A\"&$G$11):INDIRECT(\"mf2!A\"&$H$11),0),1)","v":{"$error":"#N/A"}},{"$f":"INDEX('mf2'!$A$5:$E$100,MATCH('mf1'!A79,'mf2'!$A$5:$A$100,0),5)","v":0},0,null,null,null,null,null,{"$f":"INDEX(INDIRECT(\"mf3!A\"&$G$12):INDIRECT(\"mf3!A\"&$H$12),MATCH('mf2'!A79,INDIRECT(\"mf3!A\"&$G$12):INDIRECT(\"mf3!A\"&$H$12),0),1)","v":{"$error":"#N/A"}},{"$f":"INDEX('mf3'!$A$5:$E$100,MATCH('mf2'!A79,'mf3'!$A$5:$A$100,0),5)","v":{"$error":"#N/A"}},0,null,null,null,null,null,{"$f":"INDEX(INDIRECT(\"mf3!A\"&$G$12):INDIRECT(\"mf3!A\"&$H$12),MATCH('mf1'!A79,INDIRECT(\"mf3!A\"&$G$12):INDIRECT(\"mf3!A\"&$H$12),0),1)","v":{"$error":"#N/A"}},{"$f":"INDEX('mf3'!$A$5:$E$100,MATCH('mf1'!A79,'mf3'!$A$5:$A$100,0),5)","v":{"$error":"#N/A"}},0]
[null,null,null,null,null,null,null,null,76,{"$f":"INDEX(INDIRECT(\"mf2!A\"&$G$11):INDIRECT(\"mf2!A\"&$H$11),MATCH('mf1'!A80,INDIRECT(\"mf2!A\"&$G$11):INDIRECT(\"mf2!A\"&$H$11),0),1)","v":{"$error":"#N/A"}},{"$f":"INDEX('mf2'!$A$5:$E$100,MATCH('mf1'!A80,'mf2'!$A$5:$A$100,0),5)","v":0},0,null,null,null,null,null,{"$f":"INDEX(INDIRECT(\"mf3!A\"&$G$12):INDIRECT(\"mf3!A\"&$H$12),MATCH('mf2'!A80,INDIRECT(\"mf3!A\"&$G$12):INDIRECT(\"mf3!A\"&$H$12),0),1)","v":{"$error":"#N/A"}},{"$f":"INDEX('mf3'!$A$5:$E$100,MATCH('mf2'!A80,'mf3'!$A$5:$A$100,0),5)","v":{"$error":"#N/A"}},0,null,null,null,null,null,{"$f":"INDEX(INDIRECT(\"mf3!A\"&$G$12):INDIRECT(\"mf3!A\"&$H$12),MATCH('mf1'!A80,INDIRECT(\"mf3!A\"&$G$12):INDIRECT(\"mf3!A\"&$H$12),0),1)","v":{"$error":"#N/A"}},{"$f":"INDEX('mf3'!$A$5:$E$100,MATCH('mf1'!A80,'mf3'!$A$5:$A$100,0),5)","v":{"$error":"#N/A"}},0]
[null,null,null,null,null,null,null,null,77,{"$f":"INDEX(INDIRECT(\"mf2!A\"&$G$11):INDIRECT(\"mf2!A\"&$H$11),MATCH('mf1'!A81,INDIRECT(\"mf2!A\"&$G$11):INDIRECT(\"mf2!A\"&$H$11),0),1)","v":{"$error":"#N/A"}},{"$f":"INDEX('mf2'!$A$5:$E$100,MATCH('mf1'!A81,'mf2'!$A$5:$A$100,0),5)","v":{"$error":"#N/A"}},0,null,null,null,null,null,{"$f":"INDEX(INDIRECT(\"mf3!A\"&$G$12):INDIRECT(\"mf3!A\"&$H$12),MATCH('mf2'!A81,INDIRECT(\"mf3!A\"&$G$12):INDIRECT(\"mf3!A\"&$H$12),0),1)","v":{"$error":"#N/A"}},{"$f":"INDEX('mf3'!$A$5:$E$100,MATCH('mf2'!A81,'mf3'!$A$5:$A$100,0),5)","v":{"$error":"#N/A"}},0,null,null,null,null,null,{"$f":"INDEX(INDIRECT(\"mf3!A\"&$G$12):INDIRECT(\"mf3!A\"&$H$12),MATCH('mf1'!A81,INDIRECT(\"mf3!A\"&$G$12):INDIRECT(\"mf3!A\"&$H$12),0),1)","v":{"$error":"#N/A"}},{"$f":"INDEX('mf3'!$A$5:$E$100,MATCH('mf1'!A81,'mf3'!$A$5:$A$100,0),5)","v":{"$error":"#N/A"}},0]
[null,null,null,null,null,null,null,null,78,{"$f":"INDEX(INDIRECT(\"mf2!A\"&$G$11):INDIRECT(\"mf2!A\"&$H$11),MATCH('mf1'!A82,INDIRECT(\"mf2!A\"&$G$11):INDIRECT(\"mf2!A\"&$H$11),0),1)","v":{"$error":"#N/A"}},{"$f":"INDEX('mf2'!$A$5:$E$100,MATCH('mf1'!A82,'mf2'!$A$5:$A$100,0),5)","v":{"$error":"#N/A"}},0,null,null,null,null,null,{"$f":"INDEX(INDIRECT(\"mf3!A\"&$G$12):INDIRECT(\"mf3!A\"&$H$12),MATCH('mf2'!A82,INDIRECT(\"mf3!A\"&$G$12):INDIRECT(\"mf3!A\"&$H$12),0),1)","v":{"$error":"#N/A"}},{"$f":"INDEX('mf3'!$A$5:$E$100,MATCH('mf2'!A82,'mf3'!$A$5:$A$100,0),5)","v":{"$error":"#N/A"}},0,null,null,null,null,null,{"$f":"INDEX(INDIRECT(\"mf3!A\"&$G$12):INDIRECT(\"mf3!A\"&$H$12),MATCH('mf1'!A82,INDIRECT(\"mf3!A\"&$G$12):INDIRECT(\"mf3!A\"&$H$12),0),1)","v":{"$error":"#N/A"}},{"$f":"INDEX('mf3'!$A$5:$E$100,MATCH('mf1'!A82,'mf3'!$A$5:$A$100,0),5)","v":{"$error":"#N/A"}},0]
[null,null,null,null,null,null,null,null,79,{"$f":"INDEX(INDIRECT(\"mf2!A\"&$G$11):INDIRECT(\"mf2!A\"&$H$11),MATCH('mf1'!A83,INDIRECT(\"mf2!A\"&$G$11):INDIRECT(\"mf2!A\"&$H$11),0),1)","v":{"$error":"#N/A"}},{"$f":"INDEX('mf2'!$A$5:$E$100,MATCH('mf1'!A83,'mf2'!$A$5:$A$100,0),5)","v":{"$error":"#N/A"}},0,null,null,null,null,null,{"$f":"INDEX(INDIRECT(\"mf3!A\"&$G$12):INDIRECT(\"mf3!A\"&$H$12),MATCH('mf2'!A83,INDIRECT(\"mf3!A\"&$G$12):INDIRECT(\"mf3!A\"&$H$12),0),1)","v":{"$error":"#N/A"}},{"$f":"INDEX('mf3'!$A$5:$E$100,MATCH('mf2'!A83,'mf3'!$A$5:$A$100,0),5)","v":{"$error":"#N/A"}},0,null,null,null,null,null,{"$f":"INDEX(INDIRECT(\"mf3!A\"&$G$12):INDIRECT(\"mf3!A\"&$H$12),MATCH('mf1'!A83,INDIRECT(\"mf3!A\"&$G$12):INDIRECT(\"mf3!A\"&$H$12),0),1)","v":{"$error":"#N/A"}},{"$f":"INDEX('mf3'!$A$5:$E$100,MATCH('mf1'!A83,'mf3'!$A$5:$A$100,0),5)","v":{"$error":"#N/A"}},0]
[null,null,null,null,null,null,null,null,80,{"$f":"INDEX(INDIRECT(\"mf2!A\"&$G$11):INDIRECT(\"mf2!A\"&$H$11),MATCH('mf1'!A84,INDIRECT(\"mf2!A\"&$G$11):INDIRECT(\"mf2!A\"&$H$11),0),1)","v":{"$error":"#N/A"}},{"$f":"INDEX('mf2'!$A$5:$E$100,MATCH('mf1'!A84,'mf2'!$A$5:$A$100,0),5)","v":{"$error":"#N/A"}},0,null,null,null,null,null,{"$f":"INDEX(INDIRECT(\"mf3!A\"&$G$12):INDIRECT(\"mf3!A\"&$H$12),MATCH('mf2'!A84,INDIRECT(\"mf3!A\"&$G$12):INDIRECT(\"mf3!A\"&$H$12),0),1)","v":{"$error":"#N/A"}},{"$f":"INDEX('mf3'!$A$5:$E$100,MATCH('mf2'!A84,'mf3'!$A$5:$A$100,0),5)","v":{"$error":"#N/A"}},0,null,null,null,null,null,{"$f":"INDEX(INDIRECT(\"mf3!A\"&$G$12):INDIRECT(\"mf3!A\"&$H$12),MATCH('mf1'!A84,INDIRECT(\"mf3!A\"&$G$12):INDIRECT(\"mf3!A\"&$H$12),0),1)","v":{"$error":"#N/A"}},{"$f":"INDEX('mf3'!$A$5:$E$100,MATCH('mf1'!A84,'mf3'!$A$5:$A$100,0),5)","v":{"$error":"#N/A"}},0]
[null,null,null,null,null,null,null,null,81,{"$f":"INDEX(INDIRECT(\"mf2!A\"&$G$11):INDIRECT(\"mf2!A\"&$H$11),MATCH('mf1'!A85,INDIRECT(\"mf2!A\"&$G$11):INDIRECT(\"mf2!A\"&$H$11),0),1)","v":{"$error":"#N/A"}},{"$f":"INDEX('mf2'!$A$5:$E$100,MATCH('mf1'!A85,'mf2'!$A$5:$A$100,0),5)","v":{"$error":"#N/A"}},0,null,null,null,null,null,{"$f":"INDEX(INDIRECT(\"mf3!A\"&$G$12):INDIRECT(\"mf3!A\"&$H$12),MATCH('mf2'!A85,INDIRECT(\"mf3!A\"&$G$12):INDIRECT(\"mf3!A\"&$H$12),0),1)","v":{"$error":"#N/A"}},{"$f":"INDEX('mf3'!$A$5:$E$100,MATCH('mf2'!A85,'mf3'!$A$5:$A$100,0),5)","v":{"$error":"#N/A"}},0,null,null,null,null,null,{"$f":"INDEX(INDIRECT(\"mf3!A\"&$G$12):INDIRECT(\"mf3!A\"&$H$12),MATCH('mf1'!A85,INDIRECT(\"mf3!A\"&$G$12):INDIRECT(\"mf3!A\"&$H$12),0),1)","v":{"$error":"#N/A"}},{"$f":"INDEX('mf3'!$A$5:$E$100,MATCH('mf1'!A85,'mf3'!$A$5:$A$100,0),5)","v":{"$error":"#N/A"}},0]
[null,null,null,null,null,null,null,null,82,{"$f":"INDEX(INDIRECT(\"mf2!A\"&$G$11):INDIRECT(\"mf2!A\"&$H$11),MATCH('mf1'!A86,INDIRECT(\"mf2!A\"&$G$11):INDIRECT(\"mf2!A\"&$H$11),0),1)","v":{"$error":"#N/A"}},{"$f":"INDEX('mf2'!$A$5:$E$100,MATCH('mf1'!A86,'mf2'!$A$5:$A$100,0),5)","v":{"$error":"#N/A"}},0,null,null,null,null,null,{"$f":"INDEX(INDIRECT(\"mf3!A\"&$G$12):INDIRECT(\"mf3!A\"&$H$12),MATCH('mf2'!A86,INDIRECT(\"mf3!A\"&$G$12):INDIRECT(\"mf3!A\"&$H$12),0),1)","v":{"$error":"#N/A"}},{"$f":"INDEX('mf3'!$A$5:$E$100,MATCH('mf2'!A86,'mf3'!$A$5:$A$100,0),5)","v":{"$error":"#N/A"}},0,null,null,null,null,null,{"$f":"INDEX(INDIRECT(\"mf3!A\"&$G$12):INDIRECT(\"mf3!A\"&$H$12),MATCH('mf1'!A86,INDIRECT(\"mf3!A\"&$G$12):INDIRECT(\"mf3!A\"&$H$12),0),1)","v":{"$error":"#N/A"}},{"$f":"INDEX('mf3'!$A$5:$E$100,MATCH('mf1'!A86,'mf3'!$A$5:$A$100,0),5)","v":{"$error":"#N/A"}},0]
[null,null,null,null,null,null,null,null,83,{"$f":"INDEX(INDIRECT(\"mf2!A\"&$G$11):INDIRECT(\"mf2!A\"&$H$11),MATCH('mf1'!A87,INDIRECT(\"mf2!A\"&$G$11):INDIRECT(\"mf2!A\"&$H$11),0),1)","v":{"$error":"#N/A"}},{"$f":"INDEX('mf2'!$A$5:$E$100,MATCH('mf1'!A87,'mf2'!$A$5:$A$100,0),5)","v":{"$error":"#N/A"}},0,null,null,null,null,null,{"$f":"INDEX(INDIRECT(\"mf3!A\"&$G$12):INDIRECT(\"mf3!A\"&$H$12),MATCH('mf2'!A87,INDIRECT(\"mf3!A\"&$G$12):INDIRECT(\"mf3!A\"&$H$12),0),1)","v":{"$error":"#N/A"}},{"$f":"INDEX('mf3'!$A$5:$E$100,MATCH('mf2'!A87,'mf3'!$A$5:$A$100,0),5)","v":{"$error":"#N/A"}},0,null,null,null,null,null,{"$f":"INDEX(INDIRECT(\"mf3!A\"&$G$12):INDIRECT(\"mf3!A\"&$H$12),MATCH('mf1'!A87,INDIRECT(\"mf3!A\"&$G$12):INDIRECT(\"mf3!A\"&$H$12),0),1)","v":{"$error":"#N/A"}},{"$f":"INDEX('mf3'!$A$5:$E$100,MATCH('mf1'!A87,'mf3'!$A$5:$A$100,0),5)","v":{"$error":"#N/A"}},0]
[null,null,null,null,null,null,null,null,84,{"$f":"INDEX(INDIRECT(\"mf2!A\"&$G$11):INDIRECT(\"mf2!A\"&$H$11),MATCH('mf1'!A88,INDIRECT(\"mf2!A\"&$G$11):INDIRECT(\"mf2!A\"&$H$11),0),1)","v":{"$error":"#N/A"}},{"$f":"INDEX('mf2'!$A$5:$E$100,MATCH('mf1'!A88,'mf2'!$A$5:$A$100,0),5)","v":{"$error":"#N/A"}},0,null,null,null,null,null,{"$f":"INDEX(INDIRECT(\"mf3!A\"&$G$12):INDIRECT(\"mf3!A\"&$H$12),MATCH('mf2'!A88,INDIRECT(\"mf3!A\"&$G$12):INDIRECT(\"mf3!A\"&$H$12),0),1)","v":{"$error":"#N/A"}},{"$f":"INDEX('mf3'!$A$5:$E$100,MATCH('mf2'!A88,'mf3'!$A$5:$A$100,0),5)","v":{"$error":"#N/A"}},0,null,null,null,null,null,{"$f":"INDEX(INDIRECT(\"mf3!A\"&$G$12):INDIRECT(\"mf3!A\"&$H$12),MATCH('mf1'!A88,INDIRECT(\"mf3!A\"&$G$12):INDIRECT(\"mf3!A\"&$H$12),0),1)","v":{"$error":"#N/A"}},{"$f":"INDEX('mf3'!$A$5:$E$100,MATCH('mf1'!A88,'mf3'!$A$5:$A$100,0),5)","v":{"$error":"#N/A"}},0]
[null,null,null,null,null,null,null,null,85,{"$f":"INDEX(INDIRECT(\"mf2!A\"&$G$11):INDIRECT(\"mf2!A\"&$H$11),MATCH('mf1'!A89,INDIRECT(\"mf2!A\"&$G$11):INDIRECT(\"mf2!A\"&$H$11),0),1)","v":{"$error":"#N/A"}},{"$f":"INDEX('mf2'!$A$5:$E$100,MATCH('mf1'!A89,'mf2'!$A$5:$A$100,0),5)","v":{"$error":"#N/A"}},0,null,null,null,null,null,{"$f":"INDEX(INDIRECT(\"mf3!A\"&$G$12):INDIRECT(\"mf3!A\"&$H$12),MATCH('mf2'!A89,INDIRECT(\"mf3!A\"&$G$12):INDIRECT(\"mf3!A\"&$H$12),0),1)","v":{"$error":"#N/A"}},{"$f":"INDEX('mf3'!$A$5:$E$100,MATCH('mf2'!A89,'mf3'!$A$5:$A$100,0),5)","v":{"$error":"#N/A"}},0,null,null,null,null,null,{"$f":"INDEX(INDIRECT(\"mf3!A\"&$G$12):INDIRECT(\"mf3!A\"&$H$12),MATCH('mf1'!A89,INDIRECT(\"mf3!A\"&$G$12):INDIRECT(\"mf3!A\"&$H$12),0),1)","v":{"$error":"#N/A"}},{"$f":"INDEX('mf3'!$A$5:$E$100,MATCH('mf1'!A89,'mf3'!$A$5:$A$100,0),5)","v":{"$error":"#N/A"}},0]
[null,null,null,null,null,null,null,null,86,{"$f":"INDEX(INDIRECT(\"mf2!A\"&$G$11):INDIRECT(\"mf2!A\"&$H$11),MATCH('mf1'!A90,INDIRECT(\"mf2!A\"&$G$11):INDIRECT(\"mf2!A\"&$H$11),0),1)","v":{"$error":"#N/A"}},{"$f":"INDEX('mf2'!$A$5:$E$100,MATCH('mf1'!A90,'mf2'!$A$5:$A$100,0),5)","v":{"$error":"#N/A"}},0,null,null,null,null,null,{"$f":"INDEX(INDIRECT(\"mf3!A\"&$G$12):INDIRECT(\"mf3!A\"&$H$12),MATCH('mf2'!A90,INDIRECT(\"mf3!A\"&$G$12):INDIRECT(\"mf3!A\"&$H$12),0),1)","v":{"$error":"#N/A"}},{"$f":"INDEX('mf3'!$A$5:$E$100,MATCH('mf2'!A90,'mf3'!$A$5:$A$100,0),5)","v":{"$error":"#N/A"}},0,null,null,null,null,null,{"$f":"INDEX(INDIRECT(\"mf3!A\"&$G$12):INDIRECT(\"mf3!A\"&$H$12),MATCH('mf1'!A90,INDIRECT(\"mf3!A\"&$G$12):INDIRECT(\"mf3!A\"&$H$12),0),1)","v":{"$error":"#N/A"}},{"$f":"INDEX('mf3'!$A$5:$E$100,MATCH('mf1'!A90,'mf3'!$A$5:$A$100,0),5)","v":{"$error":"#N/A"}},0]
[null,null,null,null,null,null,null,null,87,{"$f":"INDEX(INDIRECT(\"mf2!A\"&$G$11):INDIRECT(\"mf2!A\"&$H$11),MATCH('mf1'!A91,INDIRECT(\"mf2!A\"&$G$11):INDIRECT(\"mf2!A\"&$H$11),0),1)","v":{"$error":"#N/A"}},{"$f":"INDEX('mf2'!$A$5:$E$100,MATCH('mf1'!A91,'mf2'!$A$5:$A$100,0),5)","v":{"$error":"#N/A"}},0,null,null,null,null,null,{"$f":"INDEX(INDIRECT(\"mf3!A\"&$G$12):INDIRECT(\"mf3!A\"&$H$12),MATCH('mf2'!A91,INDIRECT(\"mf3!A\"&$G$12):INDIRECT(\"mf3!A\"&$H$12),0),1)","v":{"$error":"#N/A"}},{"$f":"INDEX('mf3'!$A$5:$E$100,MATCH('mf2'!A91,'mf3'!$A$5:$A$100,0),5)","v":{"$error":"#N/A"}},0,null,null,null,null,null,{"$f":"INDEX(INDIRECT(\"mf3!A\"&$G$12):INDIRECT(\"mf3!A\"&$H$12),MATCH('mf1'!A91,INDIRECT(\"mf3!A\"&$G$12):INDIRECT(\"mf3!A\"&$H$12),0),1)","v":{"$error":"#N/A"}},{"$f":"INDEX('mf3'!$A$5:$E$100,MATCH('mf1'!A91,'mf3'!$A$5:$A$100,0),5)","v":{"$error":"#N/A"}},0]
[null,null,null,null,null,null,null,null,88,{"$f":"INDEX(INDIRECT(\"mf2!A\"&$G$11):INDIRECT(\"mf2!A\"&$H$11),MATCH('mf1'!A92,INDIRECT(\"mf2!A\"&$G$11):INDIRECT(\"mf2!A\"&$H$11),0),1)","v":{"$error":"#N/A"}},{"$f":"INDEX('mf2'!$A$5:$E$100,MATCH('mf1'!A92,'mf2'!$A$5:$A$100,0),5)","v":{"$error":"#N/A"}},0,null,null,null,null,null,{"$f":"INDEX(INDIRECT(\"mf3!A\"&$G$12):INDIRECT(\"mf3!A\"&$H$12),MATCH('mf2'!A92,INDIRECT(\"mf3!A\"&$G$12):INDIRECT(\"mf3!A\"&$H$12),0),1)","v":{"$error":"#N/A"}},{"$f":"INDEX('mf3'!$A$5:$E$100,MATCH('mf2'!A92,'mf3'!$A$5:$A$100,0),5)","v":{"$error":"#N/A"}},0,null,null,null,null,null,{"$f":"INDEX(INDIRECT(\"mf3!A\"&$G$12):INDIRECT(\"mf3!A\"&$H$12),MATCH('mf1'!A92,INDIRECT(\"mf3!A\"&$G$12):INDIRECT(\"mf3!A\"&$H$12),0),1)","v":{"$error":"#N/A"}},{"$f":"INDEX('mf3'!$A$5:$E$100,MATCH('mf1'!A92,'mf3'!$A$5:$A$100,0),5)","v":{"$error":"#N/A"}},0]
[null,null,null,null,null,null,null,null,89,{"$f":"INDEX(INDIRECT(\"mf2!A\"&$G$11):INDIRECT(\"mf2!A\"&$H$11),MATCH('mf1'!A93,INDIRECT(\"mf2!A\"&$G$11):INDIRECT(\"mf2!A\"&$H$11),0),1)","v":{"$error":"#N/A"}},{"$f":"INDEX('mf2'!$A$5:$E$100,MATCH('mf1'!A93,'mf2'!$A$5:$A$100,0),5)","v":{"$error":"#N/A"}},0,null,null,null,null,null,{"$f":"INDEX(INDIRECT(\"mf3!A\"&$G$12):INDIRECT(\"mf3!A\"&$H$12),MATCH('mf2'!A93,INDIRECT(\"mf3!A\"&$G$12):INDIRECT(\"mf3!A\"&$H$12),0),1)","v":{"$error":"#N/A"}},{"$f":"INDEX('mf3'!$A$5:$E$100,MATCH('mf2'!A93,'mf3'!$A$5:$A$100,0),5)","v":{"$error":"#N/A"}},0,null,null,null,null,null,{"$f":"INDEX(INDIRECT(\"mf3!A\"&$G$12):INDIRECT(\"mf3!A\"&$H$12),MATCH('mf1'!A93,INDIRECT(\"mf3!A\"&$G$12):INDIRECT(\"mf3!A\"&$H$12),0),1)","v":{"$error":"#N/A"}},{"$f":"INDEX('mf3'!$A$5:$E$100,MATCH('mf1'!A93,'mf3'!$A$5:$A$100,0),5)","v":{"$error":"#N/A"}},0]
[null,null,null,null,null,null,null,null,90,{"$f":"INDEX(INDIRECT(\"mf2!A\"&$G$11):INDIRECT(\"mf2!A\"&$H$11),MATCH('mf1'!A94,INDIRECT(\"mf2!A\"&$G$11):INDIRECT(\"mf2!A\"&$H$11),0),1)","v":{"$error":"#N/A"}},{"$f":"INDEX('mf2'!$A$5:$E$100,MATCH('mf1'!A94,'mf2'!$A$5:$A$100,0),5)","v":{"$error":"#N/A"}},0,null,null,null,null,null,{"$f":"INDEX(INDIRECT(\"mf3!A\"&$G$12):INDIRECT(\"mf3!A\"&$H$12),MATCH('mf2'!A94,INDIRECT(\"mf3!A\"&$G$12):INDIRECT(\"mf3!A\"&$H$12),0),1)","v":{"$error":"#N/A"}},{"$f":"INDEX('mf3'!$A$5:$E$100,MATCH('mf2'!A94,'mf3'!$A$5:$A$100,0),5)","v":{"$error":"#N/A"}},0,null,null,null,null,null,{"$f":"INDEX(INDIRECT(\"mf3!A\"&$G$12):INDIRECT(\"mf3!A\"&$H$12),MATCH('mf1'!A94,INDIRECT(\"mf3!A\"&$G$12):INDIRECT(\"mf3!A\"&$H$12),0),1)","v":{"$error":"#N/A"}},{"$f":"INDEX('mf3'!$A$5:$E$100,MATCH('mf1'!A94,'mf3'!$A$5:$A$100,0),5)","v":{"$error":"#N/A"}},0]
[null,null,null,null,null,null,null,null,91,{"$f":"INDEX(INDIRECT(\"mf2!A\"&$G$11):INDIRECT(\"mf2!A\"&$H$11),MATCH('mf1'!A95,INDIRECT(\"mf2!A\"&$G$11):INDIRECT(\"mf2!A\"&$H$11),0),1)","v":{"$error":"#N/A"}},{"$f":"INDEX('mf2'!$A$5:$E$100,MATCH('mf1'!A95,'mf2'!$A$5:$A$100,0),5)","v":{"$error":"#N/A"}},0,null,null,null,null,null,{"$f":"INDEX(INDIRECT(\"mf3!A\"&$G$12):INDIRECT(\"mf3!A\"&$H$12),MATCH('mf2'!A95,INDIRECT(\"mf3!A\"&$G$12):INDIRECT(\"mf3!A\"&$H$12),0),1)","v":{"$error":"#N/A"}},{"$f":"INDEX('mf3'!$A$5:$E$100,MATCH('mf2'!A95,'mf3'!$A$5:$A$100,0),5)","v":{"$error":"#N/A"}},{"$f":"IF(ISERROR(R92),0,1)","v":0},null,null,null,null,null,{"$f":"INDEX(INDIRECT(\"mf3!A\"&$G$12):INDIRECT(\"mf3!A\"&$H$12),MATCH('mf1'!A95,INDIRECT(\"mf3!A\"&$G$12):INDIRECT(\"mf3!A\"&$H$12),0),1)","v":{"$error":"#N/A"}},{"$f":"INDEX('mf3'!$A$5:$E$100,MATCH('mf1'!A95,'mf3'!$A$5:$A$100,0),5)","v":{"$error":"#N/A"}},0]
[null,null,null,null,null,null,null,null,92,{"$f":"INDEX(INDIRECT(\"mf2!A\"&$G$11):INDIRECT(\"mf2!A\"&$H$11),MATCH('mf1'!A96,INDIRECT(\"mf2!A\"&$G$11):INDIRECT(\"mf2!A\"&$H$11),0),1)","v":{"$error":"#N/A"}},{"$f":"INDEX('mf2'!$A$5:$E$100,MATCH('mf1'!A96,'mf2'!$A$5:$A$100,0),5)","v":{"$error":"#N/A"}},0,null,null,null,null,null,{"$f":"INDEX(INDIRECT(\"mf3!A\"&$G$12):INDIRECT(\"mf3!A\"&$H$12),MATCH('mf2'!A96,INDIRECT(\"mf3!A\"&$G$12):INDIRECT(\"mf3!A\"&$H$12),0),1)","v":{"$error":"#N/A"}},{"$f":"INDEX('mf3'!$A$5:$E$100,MATCH('mf2'!A96,'mf3'!$A$5:$A$100,0),5)","v":{"$error":"#N/A"}},0,null,null,null,null,null,{"$f":"INDEX(INDIRECT(\"mf3!A\"&$G$12):INDIRECT(\"mf3!A\"&$H$12),MATCH('mf1'!A96,INDIRECT(\"mf3!A\"&$G$12):INDIRECT(\"mf3!A\"&$H$12),0),1)","v":{"$error":"#N/A"}},{"$f":"INDEX('mf3'!$A$5:$E$100,MATCH('mf1'!A96,'mf3'!$A$5:$A$100,0),5)","v":{"$error":"#N/A"}},0]
[null,null,null,null,null,null,null,null,{"$f":"I93+1","v":93},{"$f":"INDEX(INDIRECT(\"mf2!A\"&$G$11):INDIRECT(\"mf2!A\"&$H$11),MATCH('mf1'!A97,INDIRECT(\"mf2!A\"&$G$11):INDIRECT(\"mf2!A\"&$H$11),0),1)","v":{"$error":"#N/A"}},{"$f":"INDEX('mf2'!$A$5:$E$100,MATCH('mf1'!A97,'mf2'!$A$5:$A$100,0),5)","v":{"$error":"#N/A"}},0,null,null,null,null,null,{"$f":"INDEX(INDIRECT(\"mf3!A\"&$G$12):INDIRECT(\"mf3!A\"&$H$12),MATCH('mf2'!A97,INDIRECT(\"mf3!A\"&$G$12):INDIRECT(\"mf3!A\"&$H$12),0),1)","v":{"$error":"#N/A"}},{"$f":"INDEX('mf3'!$A$5:$E$100,MATCH('mf2'!A97,'mf3'!$A$5:$A$100,0),5)","v":{"$error":"#N/A"}},0,null,null,null,null,null,{"$f":"INDEX(INDIRECT(\"mf3!A\"&$G$12):INDIRECT(\"mf3!A\"&$H$12),MATCH('mf1'!A97,INDIRECT(\"mf3!A\"&$G$12):INDIRECT(\"mf3!A\"&$H$12),0),1)","v":{"$error":"#N/A"}},{"$f":"INDEX('mf3'!$A$5:$E$100,MATCH('mf1'!A97,'mf3'!$A$5:$A$100,0),5)","v":{"$error":"#N/A"}},0]
[null,null,null,null,null,null,null,null,94,{"$f":"INDEX(INDIRECT(\"mf2!A\"&$G$11):INDIRECT(\"mf2!A\"&$H$11),MATCH('mf1'!A98,INDIRECT(\"mf2!A\"&$G$11):INDIRECT(\"mf2!A\"&$H$11),0),1)","v":{"$error":"#N/A"}},{"$f":"INDEX('mf2'!$A$5:$E$100,MATCH('mf1'!A98,'mf2'!$A$5:$A$100,0),5)","v":{"$error":"#N/A"}},0,null,null,null,null,null,{"$f":"INDEX(INDIRECT(\"mf3!A\"&$G$12):INDIRECT(\"mf3!A\"&$H$12),MATCH('mf2'!A98,INDIRECT(\"mf3!A\"&$G$12):INDIRECT(\"mf3!A\"&$H$12),0),1)","v":{"$error":"#N/A"}},{"$f":"INDEX('mf3'!$A$5:$E$100,MATCH('mf2'!A98,'mf3'!$A$5:$A$100,0),5)","v":{"$error":"#N/A"}},0,null,null,null,null,null,{"$f":"INDEX(INDIRECT(\"mf3!A\"&$G$12):INDIRECT(\"mf3!A\"&$H$12),MATCH('mf1'!A98,INDIRECT(\"mf3!A\"&$G$12):INDIRECT(\"mf3!A\"&$H$12),0),1)","v":{"$error":"#N/A"}},{"$f":"INDEX('mf3'!$A$5:$E$100,MATCH('mf1'!A98,'mf3'!$A$5:$A$100,0),5)","v":{"$error":"#N/A"}},0]
[null,null,null,null,null,null,null,null,95,{"$f":"INDEX(INDIRECT(\"mf2!A\"&$G$11):INDIRECT(\"mf2!A\"&$H$11),MATCH('mf1'!A99,INDIRECT(\"mf2!A\"&$G$11):INDIRECT(\"mf2!A\"&$H$11),0),1)","v":{"$error":"#N/A"}},{"$f":"INDEX('mf2'!$A$5:$E$100,MATCH('mf1'!A99,'mf2'!$A$5:$A$100,0),5)","v":{"$error":"#N/A"}},0,null,null,null,null,null,{"$f":"INDEX(INDIRECT(\"mf3!A\"&$G$12):INDIRECT(\"mf3!A\"&$H$12),MATCH('mf2'!A99,INDIRECT(\"mf3!A\"&$G$12):INDIRECT(\"mf3!A\"&$H$12),0),1)","v":{"$error":"#N/A"}},{"$f":"INDEX('mf3'!$A$5:$E$100,MATCH('mf2'!A99,'mf3'!$A$5:$A$100,0),5)","v":{"$error":"#N/A"}},0,null,null,null,null,null,{"$f":"INDEX(INDIRECT(\"mf3!A\"&$G$12):INDIRECT(\"mf3!A\"&$H$12),MATCH('mf1'!A99,INDIRECT(\"mf3!A\"&$G$12):INDIRECT(\"mf3!A\"&$H$12),0),1)","v":{"$error":"#N/A"}},{"$f":"INDEX('mf3'!$A$5:$E$100,MATCH('mf1'!A99,'mf3'!$A$5:$A$100,0),5)","v":{"$error":"#N/A"}},0]
[null,null,null,null,null,null,null,null,96,{"$f":"INDEX(INDIRECT(\"mf2!A\"&$G$11):INDIRECT(\"mf2!A\"&$H$11),MATCH('mf1'!A100,INDIRECT(\"mf2!A\"&$G$11):INDIRECT(\"mf2!A\"&$H$11),0),1)","v":{"$error":"#N/A"}},{"$f":"INDEX('mf2'!$A$5:$E$100,MATCH('mf1'!A100,'mf2'!$A$5:$A$100,0),5)","v":{"$error":"#N/A"}},0,null,null,null,null,null,{"$f":"INDEX(INDIRECT(\"mf3!A\"&$G$12):INDIRECT(\"mf3!A\"&$H$12),MATCH('mf2'!A100,INDIRECT(\"mf3!A\"&$G$12):INDIRECT(\"mf3!A\"&$H$12),0),1)","v":{"$error":"#N/A"}},{"$f":"INDEX('mf3'!$A$5:$E$100,MATCH('mf2'!A100,'mf3'!$A$5:$A$100,0),5)","v":{"$error":"#N/A"}},0,null,null,null,null,null,{"$f":"INDEX(INDIRECT(\"mf3!A\"&$G$12):INDIRECT(\"mf3!A\"&$H$12),MATCH('mf1'!A100,INDIRECT(\"mf3!A\"&$G$12):INDIRECT(\"mf3!A\"&$H$12),0),1)","v":{"$error":"#N/A"}},{"$f":"INDEX('mf3'!$A$5:$E$100,MATCH('mf1'!A100,'mf3'!$A$5:$A$100,0),5)","v":{"$error":"#N/A"}},0]
[null,null,null,null,null,null,null,null,97,{"$f":"INDEX(INDIRECT(\"mf2!A\"&$G$11):INDIRECT(\"mf2!A\"&$H$11),MATCH('mf1'!A101,INDIRECT(\"mf2!A\"&$G$11):INDIRECT(\"mf2!A\"&$H$11),0),1)","v":{"$error":"#N/A"}},{"$f":"INDEX('mf2'!$A$5:$E$100,MATCH('mf1'!A101,'mf2'!$A$5:$A$100,0),5)","v":{"$error":"#N/A"}},0,null,null,null,null,null,{"$f":"INDEX(INDIRECT(\"mf3!A\"&$G$12):INDIRECT(\"mf3!A\"&$H$12),MATCH('mf2'!A101,INDIRECT(\"mf3!A\"&$G$12):INDIRECT(\"mf3!A\"&$H$12),0),1)","v":{"$error":"#N/A"}},{"$f":"INDEX('mf3'!$A$5:$E$100,MATCH('mf2'!A101,'mf3'!$A$5:$A$100,0),5)","v":{"$error":"#N/A"}},0,null,null,null,null,null,{"$f":"INDEX(INDIRECT(\"mf3!A\"&$G$12):INDIRECT(\"mf3!A\"&$H$12),MATCH('mf1'!A101,INDIRECT(\"mf3!A\"&$G$12):INDIRECT(\"mf3!A\"&$H$12),0),1)","v":{"$error":"#N/A"}},{"$f":"INDEX('mf3'!$A$5:$E$100,MATCH('mf1'!A101,'mf3'!$A$5:$A$100,0),5)","v":{"$error":"#N/A"}},0]
[null,null,null,null,null,null,null,null,98,{"$f":"INDEX(INDIRECT(\"mf2!A\"&$G$11):INDIRECT(\"mf2!A\"&$H$11),MATCH('mf1'!A102,INDIRECT(\"mf2!A\"&$G$11):INDIRECT(\"mf2!A\"&$H$11),0),1)","v":{"$error":"#N/A"}},{"$f":"INDEX('mf2'!$A$5:$E$100,MATCH('mf1'!A102,'mf2'!$A$5:$A$100,0),5)","v":{"$error":"#N/A"}},0,null,null,null,null,null,{"$f":"INDEX(INDIRECT(\"mf3!A\"&$G$12):INDIRECT(\"mf3!A\"&$H$12),MATCH('mf2'!A102,INDIRECT(\"mf3!A\"&$G$12):INDIRECT(\"mf3!A\"&$H$12),0),1)","v":{"$error":"#N/A"}},{"$f":"INDEX('mf3'!$A$5:$E$100,MATCH('mf2'!A102,'mf3'!$A$5:$A$100,0),5)","v":{"$error":"#N/A"}},0,null,null,null,null,null,{"$f":"INDEX(INDIRECT(\"mf3!A\"&$G$12):INDIRECT(\"mf3!A\"&$H$12),MATCH('mf1'!A102,INDIRECT(\"mf3!A\"&$G$12):INDIRECT(\"mf3!A\"&$H$12),0),1)","v":{"$error":"#N/A"}},{"$f":"INDEX('mf3'!$A$5:$E$100,MATCH('mf1'!A102,'mf3'!$A$5:$A$100,0),5)","v":{"$error":"#N/A"}},0]
[null,null,null,null,null,null,null,null,99,{"$f":"INDEX(INDIRECT(\"mf2!A\"&$G$11):INDIRECT(\"mf2!A\"&$H$11),MATCH('mf1'!A103,INDIRECT(\"mf2!A\"&$G$11):INDIRECT(\"mf2!A\"&$H$11),0),1)","v":{"$error":"#N/A"}},{"$f":"INDEX('mf2'!$A$5:$E$100,MATCH('mf1'!A103,'mf2'!$A$5:$A$100,0),5)","v":{"$error":"#N/A"}},0,null,null,null,null,null,{"$f":"INDEX(INDIRECT(\"mf3!A\"&$G$12):INDIRECT(\"mf3!A\"&$H$12),MATCH('mf2'!A103,INDIRECT(\"mf3!A\"&$G$12):INDIRECT(\"mf3!A\"&$H$12),0),1)","v":{"$error":"#N/A"}},{"$f":"INDEX('mf3'!$A$5:$E$100,MATCH('mf2'!A103,'mf3'!$A$5:$A$100,0),5)","v":{"$error":"#N/A"}},0,null,null,null,null,null,{"$f":"INDEX(INDIRECT(\"mf3!A\"&$G$12):INDIRECT(\"mf3!A\"&$H$12),MATCH('mf1'!A103,INDIRECT(\"mf3!A\"&$G$12):INDIRECT(\"mf3!A\"&$H$12),0),1)","v":{"$error":"#N/A"}},{"$f":"INDEX('mf3'!$A$5:$E$100,MATCH('mf1'!A103,'mf3'!$A$5:$A$100,0),5)","v":{"$error":"#N/A"}},0]
[null,null,null,null,null,null,null,null,100,{"$f":"INDEX(INDIRECT(\"mf2!A\"&$G$11):INDIRECT(\"mf2!A\"&$H$11),MATCH('mf1'!A104,INDIRECT(\"mf2!A\"&$G$11):INDIRECT(\"mf2!A\"&$H$11),0),1)","v":{"$error":"#N/A"}},{"$f":"INDEX('mf2'!$A$5:$E$100,MATCH('mf1'!A104,'mf2'!$A$5:$A$100,0),5)","v":{"$error":"#N/A"}},0,null,null,null,null,null,{"$f":"INDEX(INDIRECT(\"mf3!A\"&$G$12):INDIRECT(\"mf3!A\"&$H$12),MATCH('mf2'!A104,INDIRECT(\"mf3!A\"&$G$12):INDIRECT(\"mf3!A\"&$H$12),0),1)","v":{"$error":"#N/A"}},{"$f":"INDEX('mf3'!$A$5:$E$100,MATCH('mf2'!A104,'mf3'!$A$5:$A$100,0),5)","v":{"$error":"#N/A"}},0,null,null,null,null,null,{"$f":"INDEX(INDIRECT(\"mf3!A\"&$G$12):INDIRECT(\"mf3!A\"&$H$12),MATCH('mf1'!A104,INDIRECT(\"mf3!A\"&$G$12):INDIRECT(\"mf3!A\"&$H$12),0),1)","v":{"$error":"#N/A"}},{"$f":"INDEX('mf3'!$A$5:$E$100,MATCH('mf1'!A104,'mf3'!$A$5:$A$100,0),5)","v":{"$error":"#N/A"}},0]
[null,null,null,null,null,null,null,null,null,null,null,{"$f":"SUM(L2:L101)-J103","v":38},null,null,null,null,null,null,null,{"$f":"SUM(T2:T101)-R103","v":42},null,null,null,null,null,null,null,{"$f":"SUM(AB2:AB101)-Z103","v":32}]
[null,null,null,null,null,null,null,null,null,{"$f":"IF(ISERROR(MATCH(\"Others / Unlisted\",J2:J101,0)),0,1)","v":0},null,null,null,null,null,null,null,{"$f":"IF(ISERROR(MATCH(\"Others / Unlisted\",R2:R101,0)),0,1)","v":1},null,null,null,null,null,null,null,{"$f":"IF(ISERROR(MATCH(\"Others / Unlisted\",Z2:Z101,0)),0,1)","v":0}]

{"sheet":"Results-advanced","index":3,"n_rows":100,"n_cols":22,"rows_kept":100,"cut":false,"hidden":false,"merged":[]}
[]
[]
[]
[]
["Common Stocks (% in equity folio, excluding internationl stocks). Ignore Zztock entry!",{"$f":"'Results-simple'!B1","v":"hdfc top 200 fund"},{"$f":"'Results-simple'!C1","v":"hdfc equity fund"},"Value",null,"Common Stocks (% in equity folio)",{"$f":"'Results-simple'!C1","v":"hdfc equity fund"},{"$f":"'Results-simple'!D1","v":"hdfc prudence fund"},"Value",null,null,null,null,{"$f":"IF(O5=\"\",IF(O6=\"\",IF(O7=\"\",IF(O8=\"\",IF(O9=\"\",IF(O10=\"\",IF(O11=\"\",IF(O12=\"\",IF(O13=\"\",IF(O14=\"\",IF(O15=\"\",IF(O16=\"\",IF(O17=\"\",IF(O18=\"\",IF(O19=\"\",IF(O20=\"\",IF(O21=\"\",IF(O22=\"\",IF(O23=\"\",IF(O24=\"\",IF(O25=\"\",IF(O26=\"\",IF(O27=\"\",IF(O28=\"\",IF(O29=\"\",IF(O30=\"\",O31,O30),O29),O28),O27),O26),O25),O24),O23),O22),O21),O20),O19),O18),O17),O16),O15),O14),O13),O12),O11),O10),O9),O8),O7),O6),O5)","v":"Aurobindo Pharm"},{"$f":"IF(ISERROR(INDEX($F$6:$F$30,MATCH(A6,$F$6:$F$30,0),1)),\"\",INDEX($F$6:$F$30,MATCH(A6,$F$6:$F$30,0),1))","v":"Aurobindo Pharm"},null,null,null,"Common Stocks (% in equity folio)",{"$f":"'Results-simple'!B1","v":"hdfc top 200 fund"},{"$f":"'Results-simple'!D1","v":"hdfc prudence fund"},"Value"]
["Aurobindo Pharm",{"$f":"  IF(ISERROR(A6),\"\",IF(A6=0,\"\",INDEX('mf1'!$A$5:$E$100,MATCH(A6,'mf1'!$A$5:$A$100,0),5)))","v":3.12},{"$f":"  IF(ISERROR(A6),\"\",IF(A6=0,\"\",INDEX('mf2'!$A$5:$E$100,MATCH(A6,'mf2'!$A$5:$A$100,0),5)))","v":3.95},{"$f":" IF(ISERROR(A6),\"\",IF(A6=0,\"\",(mf2value*'Results-advanced'!B6+mf1value*'Results-advanced'!C6)/100))","v":10190},null,"Aurobindo Pharm",{"$f":"  IF(ISERROR(F6),\"\",IF(F6=0,\"\",INDEX('mf2'!$A$5:$E$100,MATCH(F6,'mf2'!$A$5:$A$100,0),5)))","v":3.95},{"$f":"  IF(ISERROR(F6),\"\",IF(F6=0,\"\",INDEX('mf3'!$A$5:$E$100,MATCH(F6,'mf3'!$A$5:$A$100,0),5)))","v":2.68},{"$f":"  IF(ISERROR(F6),\"\",IF(F6=0,\"\",(mf3value*'Results-advanced'!G6+'Results-advanced'!H6*mf2value)/100))","v":17210},null,null,null,{"$f":"INDEX(common3,MATCH(0,COUNTIF($M$5:M5,common3),0))","v":"Aurobindo Pharm"},{"$f":"IF(O6=\"\",IF(O7=\"\",IF(O8=\"\",IF(O9=\"\",IF(O10=\"\",IF(O11=\"\",IF(O12=\"\",IF(O13=\"\",IF(O14=\"\",IF(O15=\"\",IF(O16=\"\",IF(O17=\"\",IF(O18=\"\",IF(O19=\"\",IF(O20=\"\",IF(O21=\"\",IF(O22=\"\",IF(O23=\"\",IF(O24=\"\",IF(O25=\"\",IF(O26=\"\",IF(O27=\"\",IF(O28=\"\",IF(O29=\"\",IF(O30=\"\",IF(O31=\"\",O32,O31),O30),O29),O28),O27),O26),O25),O24),O23),O22),O21),O20),O19),O18),O17),O16),O15),O14),O13),O12),O11),O10),O9),O8),O7),O6)","v":"Axis Bank"},"Axis Bank",null,null,null,"Allahabad Bank",{"$f":"  IF(ISERROR(S6),\"\",IF(S6=0,\"\",INDEX('mf1'!$A$5:$E$100,MATCH(S6,'mf1'!$A$5:$A$100,0),5)))","v":0.05},{"$f":"  IF(ISERROR(S6),\"\",IF(S6=0,\"\",INDEX('mf3'!$A$5:$E$100,MATCH(S6,'mf3'!$A$5:$A$100,0),5)))","v":0.12},{"$f":"  IF(ISERROR(S6),\"\",IF(S6=0,\"\",(mf3value*'Results-advanced'!T6+'Results-advanced'!U6*mf2value)/100))","v":390}]
["Axis Bank",{"$f":"  IF(ISERROR(A7),\"\",IF(A7=0,\"\",INDEX('mf1'!$A$5:$E$100,MATCH(A7,'mf1'!$A$5:$A$100,0),5)))","v":3.15},{"$f":"  IF(ISERROR(A7),\"\",IF(A7=0,\"\",INDEX('mf2'!$A$5:$E$100,MATCH(A7,'mf2'!$A$5:$A$100,0),5)))","v":2.2599999999999998},{"$f":" IF(ISERROR(A7),\"\",IF(A7=0,\"\",(mf2value*'Results-advanced'!B7+mf1value*'Results-advanced'!C7)/100))","v":8560},null,"Axis Bank",{"$f":"  IF(ISERROR(F7),\"\",IF(F7=0,\"\",INDEX('mf2'!$A$5:$E$100,MATCH(F7,'mf2'!$A$5:$A$100,0),5)))","v":2.2599999999999998},{"$f":"  IF(ISERROR(F7),\"\",IF(F7=0,\"\",INDEX('mf3'!$A$5:$E$100,MATCH(F7,'mf3'!$A$5:$A$100,0),5)))","v":0.99},{"$f":"  IF(ISERROR(F7),\"\",IF(F7=0,\"\",(mf3value*'Results-advanced'!G7+'Results-advanced'!H7*mf2value)/100))","v":8759.9999999999982},null,null,null,{"$f":"INDEX(common3,MATCH(0,COUNTIF($M$5:M6,common3),0))","v":"Axis Bank"},"Bank of Baroda","Bank of Baroda",null,null,null,"Aurobindo Pharm",{"$f":"  IF(ISERROR(S7),\"\",IF(S7=0,\"\",INDEX('mf1'!$A$5:$E$100,MATCH(S7,'mf1'!$A$5:$A$100,0),5)))","v":3.12},{"$f":"  IF(ISERROR(S7),\"\",IF(S7=0,\"\",INDEX('mf3'!$A$5:$E$100,MATCH(S7,'mf3'!$A$5:$A$100,0),5)))","v":2.68},{"$f":"  IF(ISERROR(S7),\"\",IF(S7=0,\"\",(mf3value*'Results-advanced'!T7+'Results-advanced'!U7*mf2value)/100))","v":14720}]
["Bank of Baroda",{"$f":"  IF(ISERROR(A8),\"\",IF(A8=0,\"\",INDEX('mf1'!$A$5:$E$100,MATCH(A8,'mf1'!$A$5:$A$100,0),5)))","v":2.23},{"$f":"  IF(ISERROR(A8),\"\",IF(A8=0,\"\",INDEX('mf2'!$A$5:$E$100,MATCH(A8,'mf2'!$A$5:$A$100,0),5)))","v":2.69},{"$f":" IF(ISERROR(A8),\"\",IF(A8=0,\"\",(mf2value*'Results-advanced'!B8+mf1value*'Results-advanced'!C8)/100))","v":7150},null,"Balkrishna Ind",{"$f":"  IF(ISERROR(F8),\"\",IF(F8=0,\"\",INDEX('mf2'!$A$5:$E$100,MATCH(F8,'mf2'!$A$5:$A$100,0),5)))","v":1.64},{"$f":"  IF(ISERROR(F8),\"\",IF(F8=0,\"\",INDEX('mf3'!$A$5:$E$100,MATCH(F8,'mf3'!$A$5:$A$100,0),5)))","v":0.59},{"$f":"  IF(ISERROR(F8),\"\",IF(F8=0,\"\",(mf3value*'Results-advanced'!G8+'Results-advanced'!H8*mf2value)/100))","v":6100},null,null,null,{"$f":"INDEX(common3,MATCH(0,COUNTIF($M$5:M7,common3),0))","v":"Bank of Baroda"},"Bharti Airtel","Bharti Airtel",null,null,null,"Axis Bank",{"$f":"  IF(ISERROR(S8),\"\",IF(S8=0,\"\",INDEX('mf1'!$A$5:$E$100,MATCH(S8,'mf1'!$A$5:$A$100,0),5)))","v":3.15},{"$f":"  IF(ISERROR(S8),\"\",IF(S8=0,\"\",INDEX('mf3'!$A$5:$E$100,MATCH(S8,'mf3'!$A$5:$A$100,0),5)))","v":0.99},{"$f":"  IF(ISERROR(S8),\"\",IF(S8=0,\"\",(mf3value*'Results-advanced'!T8+'Results-advanced'!U8*mf2value)/100))","v":11430}]
["Bharti Airtel",{"$f":"  IF(ISERROR(A9),\"\",IF(A9=0,\"\",INDEX('mf1'!$A$5:$E$100,MATCH(A9,'mf1'!$A$5:$A$100,0),5)))","v":2.69},{"$f":"  IF(ISERROR(A9),\"\",IF(A9=0,\"\",INDEX('mf2'!$A$5:$E$100,MATCH(A9,'mf2'!$A$5:$A$100,0),5)))","v":3.56},{"$f":" IF(ISERROR(A9),\"\",IF(A9=0,\"\",(mf2value*'Results-advanced'!B9+mf1value*'Results-advanced'!C9)/100))","v":8940},null,"Bank of Baroda",{"$f":"  IF(ISERROR(F9),\"\",IF(F9=0,\"\",INDEX('mf2'!$A$5:$E$100,MATCH(F9,'mf2'!$A$5:$A$100,0),5)))","v":2.69},{"$f":"  IF(ISERROR(F9),\"\",IF(F9=0,\"\",INDEX('mf3'!$A$5:$E$100,MATCH(F9,'mf3'!$A$5:$A$100,0),5)))","v":1.79},{"$f":"  IF(ISERROR(F9),\"\",IF(F9=0,\"\",(mf3value*'Results-advanced'!G9+'Results-advanced'!H9*mf2value)/100))","v":11650},null,null,null,{"$f":"INDEX(common3,MATCH(0,COUNTIF($M$5:M8,common3),0))","v":"Bharti Airtel"},"BPCL","BPCL",null,null,null,"Bank of Baroda",{"$f":"  IF(ISERROR(S9),\"\",IF(S9=0,\"\",INDEX('mf1'!$A$5:$E$100,MATCH(S9,'mf1'!$A$5:$A$100,0),5)))","v":2.23},{"$f":"  IF(ISERROR(S9),\"\",IF(S9=0,\"\",INDEX('mf3'!$A$5:$E$100,MATCH(S9,'mf3'!$A$5:$A$100,0),5)))","v":1.79},{"$f":"  IF(ISERROR(S9),\"\",IF(S9=0,\"\",(mf3value*'Results-advanced'!T9+'Results-advanced'!U9*mf2value)/100))","v":10270}]
["BPCL",{"$f":"  IF(ISERROR(A10),\"\",IF(A10=0,\"\",INDEX('mf1'!$A$5:$E$100,MATCH(A10,'mf1'!$A$5:$A$100,0),5)))","v":3.72},{"$f":"  IF(ISERROR(A10),\"\",IF(A10=0,\"\",INDEX('mf2'!$A$5:$E$100,MATCH(A10,'mf2'!$A$5:$A$100,0),5)))","v":4.3600000000000003},{"$f":" IF(ISERROR(A10),\"\",IF(A10=0,\"\",(mf2value*'Results-advanced'!B10+mf1value*'Results-advanced'!C10)/100))","v":11800},null,"Bharti Airtel",{"$f":"  IF(ISERROR(F10),\"\",IF(F10=0,\"\",INDEX('mf2'!$A$5:$E$100,MATCH(F10,'mf2'!$A$5:$A$100,0),5)))","v":3.56},{"$f":"  IF(ISERROR(F10),\"\",IF(F10=0,\"\",INDEX('mf3'!$A$5:$E$100,MATCH(F10,'mf3'!$A$5:$A$100,0),5)))","v":2.4900000000000002},{"$f":"  IF(ISERROR(F10),\"\",IF(F10=0,\"\",(mf3value*'Results-advanced'!G10+'Results-advanced'!H10*mf2value)/100))","v":15660},null,null,null,{"$f":"INDEX(common3,MATCH(0,COUNTIF($M$5:M9,common3),0))","v":"BPCL"},"Canara Bank","Canara Bank",null,null,null,"Bharti Airtel",{"$f":"  IF(ISERROR(S10),\"\",IF(S10=0,\"\",INDEX('mf1'!$A$5:$E$100,MATCH(S10,'mf1'!$A$5:$A$100,0),5)))","v":2.69},{"$f":"  IF(ISERROR(S10),\"\",IF(S10=0,\"\",INDEX('mf3'!$A$5:$E$100,MATCH(S10,'mf3'!$A$5:$A$100,0),5)))","v":2.4900000000000002},{"$f":"  IF(ISERROR(S10),\"\",IF(S10=0,\"\",(mf3value*'Results-advanced'!T10+'Results-advanced'!U10*mf2value)/100))","v":13050}]
["Canara Bank",{"$f":"  IF(ISERROR(A11),\"\",IF(A11=0,\"\",INDEX('mf1'!$A$5:$E$100,MATCH(A11,'mf1'!$A$5:$A$100,0),5)))","v":0.83},{"$f":"  IF(ISERROR(A11),\"\",IF(A11=0,\"\",INDEX('mf2'!$A$5:$E$100,MATCH(A11,'mf2'!$A$5:$A$100,0),5)))","v":0.79},{"$f":" IF(ISERROR(A11),\"\",IF(A11=0,\"\",(mf2value*'Results-advanced'!B11+mf1value*'Results-advanced'!C11)/100))","v":2450},null,"BPCL",{"$f":"  IF(ISERROR(F11),\"\",IF(F11=0,\"\",INDEX('mf2'!$A$5:$E$100,MATCH(F11,'mf2'!$A$5:$A$100,0),5)))","v":4.3600000000000003},{"$f":"  IF(ISERROR(F11),\"\",IF(F11=0,\"\",INDEX('mf3'!$A$5:$E$100,MATCH(F11,'mf3'!$A$5:$A$100,0),5)))","v":1.44},{"$f":"  IF(ISERROR(F11),\"\",IF(F11=0,\"\",(mf3value*'Results-advanced'!G11+'Results-advanced'!H11*mf2value)/100))","v":15960},null,null,null,{"$f":"INDEX(common3,MATCH(0,COUNTIF($M$5:M10,common3),0))","v":"Canara Bank"},"CESC","CESC",null,null,null,"BPCL",{"$f":"  IF(ISERROR(S11),\"\",IF(S11=0,\"\",INDEX('mf1'!$A$5:$E$100,MATCH(S11,'mf1'!$A$5:$A$100,0),5)))","v":3.72},{"$f":"  IF(ISERROR(S11),\"\",IF(S11=0,\"\",INDEX('mf3'!$A$5:$E$100,MATCH(S11,'mf3'!$A$5:$A$100,0),5)))","v":1.44},{"$f":"  IF(ISERROR(S11),\"\",IF(S11=0,\"\",(mf3value*'Results-advanced'!T11+'Results-advanced'!U11*mf2value)/100))","v":14040}]
["CESC",{"$f":"  IF(ISERROR(A12),\"\",IF(A12=0,\"\",INDEX('mf1'!$A$5:$E$100,MATCH(A12,'mf1'!$A$5:$A$100,0),5)))","v":1.72},{"$f":"  IF(ISERROR(A12),\"\",IF(A12=0,\"\",INDEX('mf2'!$A$5:$E$100,MATCH(A12,'mf2'!$A$5:$A$100,0),5)))","v":1.87},{"$f":" IF(ISERROR(A12),\"\",IF(A12=0,\"\",(mf2value*'Results-advanced'!B12+mf1value*'Results-advanced'!C12)/100))","v":5310},null,"Canara Bank",{"$f":"  IF(ISERROR(F12),\"\",IF(F12=0,\"\",INDEX('mf2'!$A$5:$E$100,MATCH(F12,'mf2'!$A$5:$A$100,0),5)))","v":0.79},{"$f":"  IF(ISERROR(F12),\"\",IF(F12=0,\"\",INDEX('mf3'!$A$5:$E$100,MATCH(F12,'mf3'!$A$5:$A$100,0),5)))","v":0.64},{"$f":"  IF(ISERROR(F12),\"\",IF(F12=0,\"\",(mf3value*'Results-advanced'!G12+'Results-advanced'!H12*mf2value)/100))","v":3650},null,null,null,{"$f":"INDEX(common3,MATCH(0,COUNTIF($M$5:M11,common3),0))","v":"CESC"},"Cipla","Cipla",null,null,null,"Canara Bank",{"$f":"  IF(ISERROR(S12),\"\",IF(S12=0,\"\",INDEX('mf1'!$A$5:$E$100,MATCH(S12,'mf1'!$A$5:$A$100,0),5)))","v":0.83},{"$f":"  IF(ISERROR(S12),\"\",IF(S12=0,\"\",INDEX('mf3'!$A$5:$E$100,MATCH(S12,'mf3'!$A$5:$A$100,0),5)))","v":0.64},{"$f":"  IF(ISERROR(S12),\"\",IF(S12=0,\"\",(mf3value*'Results-advanced'!T12+'Results-advanced'!U12*mf2value)/100))","v":3770}]
["Cipla",{"$f":"  IF(ISERROR(A13),\"\",IF(A13=0,\"\",INDEX('mf1'!$A$5:$E$100,MATCH(A13,'mf1'!$A$5:$A$100,0),5)))","v":0.82},{"$f":"  IF(ISERROR(A13),\"\",IF(A13=0,\"\",INDEX('mf2'!$A$5:$E$100,MATCH(A13,'mf2'!$A$5:$A$100,0),5)))","v":0.84},{"$f":" IF(ISERROR(A13),\"\",IF(A13=0,\"\",(mf2value*'Results-advanced'!B13+mf1value*'Results-advanced'!C13)/100))","v":2480},null,"CESC",{"$f":"  IF(ISERROR(F13),\"\",IF(F13=0,\"\",INDEX('mf2'!$A$5:$E$100,MATCH(F13,'mf2'!$A$5:$A$100,0),5)))","v":1.87},{"$f":"  IF(ISERROR(F13),\"\",IF(F13=0,\"\",INDEX('mf3'!$A$5:$E$100,MATCH(F13,'mf3'!$A$5:$A$100,0),5)))","v":0.46},{"$f":"  IF(ISERROR(F13),\"\",IF(F13=0,\"\",(mf3value*'Results-advanced'!G13+'Results-advanced'!H13*mf2value)/100))","v":6530},null,null,null,{"$f":"INDEX(common3,MATCH(0,COUNTIF($M$5:M12,common3),0))","v":"Cipla"},"Crompton Greave","Crompton Greave",null,null,null,"CESC",{"$f":"  IF(ISERROR(S13),\"\",IF(S13=0,\"\",INDEX('mf1'!$A$5:$E$100,MATCH(S13,'mf1'!$A$5:$A$100,0),5)))","v":1.72},{"$f":"  IF(ISERROR(S13),\"\",IF(S13=0,\"\",INDEX('mf3'!$A$5:$E$100,MATCH(S13,'mf3'!$A$5:$A$100,0),5)))","v":0.46},{"$f":"  IF(ISERROR(S13),\"\",IF(S13=0,\"\",(mf3value*'Results-advanced'!T13+'Results-advanced'!U13*mf2value)/100))","v":6080}]
["Crompton Greave",{"$f":"  IF(ISERROR(A14),\"\",IF(A14=0,\"\",INDEX('mf1'!$A$5:$E$100,MATCH(A14,'mf1'!$A$5:$A$100,0),5)))","v":1.97},{"$f":"  IF(ISERROR(A14),\"\",IF(A14=0,\"\",INDEX('mf2'!$A$5:$E$100,MATCH(A14,'mf2'!$A$5:$A$100,0),5)))","v":1.6},{"$f":" IF(ISERROR(A14),\"\",IF(A14=0,\"\",(mf2value*'Results-advanced'!B14+mf1value*'Results-advanced'!C14)/100))","v":5540},null,"Cipla",{"$f":"  IF(ISERROR(F14),\"\",IF(F14=0,\"\",INDEX('mf2'!$A$5:$E$100,MATCH(F14,'mf2'!$A$5:$A$100,0),5)))","v":0.84},{"$f":"  IF(ISERROR(F14),\"\",IF(F14=0,\"\",INDEX('mf3'!$A$5:$E$100,MATCH(F14,'mf3'!$A$5:$A$100,0),5)))","v":0.15},{"$f":"  IF(ISERROR(F14),\"\",IF(F14=0,\"\",(mf3value*'Results-advanced'!G14+'Results-advanced'!H14*mf2value)/100))","v":2820},null,null,null,{"$f":"INDEX(common3,MATCH(0,COUNTIF($M$5:M13,common3),0))","v":"Crompton Greave"},"Grasim","Grasim",null,null,null,"Cipla",{"$f":"  IF(ISERROR(S14),\"\",IF(S14=0,\"\",INDEX('mf1'!$A$5:$E$100,MATCH(S14,'mf1'!$A$5:$A$100,0),5)))","v":0.82},{"$f":"  IF(ISERROR(S14),\"\",IF(S14=0,\"\",INDEX('mf3'!$A$5:$E$100,MATCH(S14,'mf3'!$A$5:$A$100,0),5)))","v":0.15},{"$f":"  IF(ISERROR(S14),\"\",IF(S14=0,\"\",(mf3value*'Results-advanced'!T14+'Results-advanced'!U14*mf2value)/100))","v":2760}]
["Grasim",{"$f":"  IF(ISERROR(A15),\"\",IF(A15=0,\"\",INDEX('mf1'!$A$5:$E$100,MATCH(A15,'mf1'!$A$5:$A$100,0),5)))","v":1.51},{"$f":"  IF(ISERROR(A15),\"\",IF(A15=0,\"\",INDEX('mf2'!$A$5:$E$100,MATCH(A15,'mf2'!$A$5:$A$100,0),5)))","v":1.97},{"$f":" IF(ISERROR(A15),\"\",IF(A15=0,\"\",(mf2value*'Results-advanced'!B15+mf1value*'Results-advanced'!C15)/100))","v":4990},null,"CMC",{"$f":"  IF(ISERROR(F15),\"\",IF(F15=0,\"\",INDEX('mf2'!$A$5:$E$100,MATCH(F15,'mf2'!$A$5:$A$100,0),5)))","v":1.84},{"$f":"  IF(ISERROR(F15),\"\",IF(F15=0,\"\",INDEX('mf3'!$A$5:$E$100,MATCH(F15,'mf3'!$A$5:$A$100,0),5)))","v":1.03},{"$f":"  IF(ISERROR(F15),\"\",IF(F15=0,\"\",(mf3value*'Results-advanced'!G15+'Results-advanced'!H15*mf2value)/100))","v":7580},null,null,null,{"$f":"INDEX(common3,MATCH(0,COUNTIF($M$5:M14,common3),0))","v":"Grasim"},"ICICI Bank","",null,null,null,"Crompton Greave",{"$f":"  IF(ISERROR(S15),\"\",IF(S15=0,\"\",INDEX('mf1'!$A$5:$E$100,MATCH(S15,'mf1'!$A$5:$A$100,0),5)))","v":1.97},{"$f":"  IF(ISERROR(S15),\"\",IF(S15=0,\"\",INDEX('mf3'!$A$5:$E$100,MATCH(S15,'mf3'!$A$5:$A$100,0),5)))","v":1.46},{"$f":"  IF(ISERROR(S15),\"\",IF(S15=0,\"\",(mf3value*'Results-advanced'!T15+'Results-advanced'!U15*mf2value)/100))","v":8830}]
["HDFC",{"$f":"  IF(ISERROR(A16),\"\",IF(A16=0,\"\",INDEX('mf1'!$A$5:$E$100,MATCH(A16,'mf1'!$A$5:$A$100,0),5)))","v":2.79},{"$f":"  IF(ISERROR(A16),\"\",IF(A16=0,\"\",INDEX('mf2'!$A$5:$E$100,MATCH(A16,'mf2'!$A$5:$A$100,0),5)))","v":1.6},{"$f":" IF(ISERROR(A16),\"\",IF(A16=0,\"\",(mf2value*'Results-advanced'!B16+mf1value*'Results-advanced'!C16)/100))","v":7180},null,"Crompton Greave",{"$f":"  IF(ISERROR(F16),\"\",IF(F16=0,\"\",INDEX('mf2'!$A$5:$E$100,MATCH(F16,'mf2'!$A$5:$A$100,0),5)))","v":1.6},{"$f":"  IF(ISERROR(F16),\"\",IF(F16=0,\"\",INDEX('mf3'!$A$5:$E$100,MATCH(F16,'mf3'!$A$5:$A$100,0),5)))","v":1.46},{"$f":"  IF(ISERROR(F16),\"\",IF(F16=0,\"\",(mf3value*'Results-advanced'!G16+'Results-advanced'!H16*mf2value)/100))","v":7720},null,null,null,{"$f":"INDEX(common3,MATCH(0,COUNTIF($M$5:M15,common3),0))","v":"ICICI Bank"},"ICICI Bank","",null,null,null,"Grasim",{"$f":"  IF(ISERROR(S16),\"\",IF(S16=0,\"\",INDEX('mf1'!$A$5:$E$100,MATCH(S16,'mf1'!$A$5:$A$100,0),5)))","v":1.51},{"$f":"  IF(ISERROR(S16),\"\",IF(S16=0,\"\",INDEX('mf3'!$A$5:$E$100,MATCH(S16,'mf3'!$A$5:$A$100,0),5)))","v":0.73},{"$f":"  IF(ISERROR(S16),\"\",IF(S16=0,\"\",(mf3value*'Results-advanced'!T16+'Results-advanced'!U16*mf2value)/100))","v":5990}]
["HDFC Bank",{"$f":"  IF(ISERROR(A17),\"\",IF(A17=0,\"\",INDEX('mf1'!$A$5:$E$100,MATCH(A17,'mf1'!$A$5:$A$100,0),5)))","v":4.6500000000000004},{"$f":"  IF(ISERROR(A17),\"\",IF(A17=0,\"\",INDEX('mf2'!$A$5:$E$100,MATCH(A17,'mf2'!$A$5:$A$100,0),5)))","v":3.1},{"$f":" IF(ISERROR(A17),\"\",IF(A17=0,\"\",(mf2value*'Results-advanced'!B17+mf1value*'Results-advanced'!C17)/100))","v":12400},null,"Grasim",{"$f":"  IF(ISERROR(F17),\"\",IF(F17=0,\"\",INDEX('mf2'!$A$5:$E$100,MATCH(F17,'mf2'!$A$5:$A$100,0),5)))","v":1.97},{"$f":"  IF(ISERROR(F17),\"\",IF(F17=0,\"\",INDEX('mf3'!$A$5:$E$100,MATCH(F17,'mf3'!$A$5:$A$100,0),5)))","v":0.73},{"$f":"  IF(ISERROR(F17),\"\",IF(F17=0,\"\",(mf3value*'Results-advanced'!G17+'Results-advanced'!H17*mf2value)/100))","v":7370},null,null,null,{"$f":"INDEX(common3,MATCH(0,COUNTIF($M$5:M16,common3),0))","v":"Info Edge"},"ICICI Bank","ICICI Bank",null,null,null,"ICICI Bank",{"$f":"  IF(ISERROR(S17),\"\",IF(S17=0,\"\",INDEX('mf1'!$A$5:$E$100,MATCH(S17,'mf1'!$A$5:$A$100,0),5)))","v":6.95},{"$f":"  IF(ISERROR(S17),\"\",IF(S17=0,\"\",INDEX('mf3'!$A$5:$E$100,MATCH(S17,'mf3'!$A$5:$A$100,0),5)))","v":5.57},{"$f":"  IF(ISERROR(S17),\"\",IF(S17=0,\"\",(mf3value*'Results-advanced'!T17+'Results-advanced'!U17*mf2value)/100))","v":31990}]
["ICICI Bank",{"$f":"  IF(ISERROR(A18),\"\",IF(A18=0,\"\",INDEX('mf1'!$A$5:$E$100,MATCH(A18,'mf1'!$A$5:$A$100,0),5)))","v":6.95},{"$f":"  IF(ISERROR(A18),\"\",IF(A18=0,\"\",INDEX('mf2'!$A$5:$E$100,MATCH(A18,'mf2'!$A$5:$A$100,0),5)))","v":8.16},{"$f":" IF(ISERROR(A18),\"\",IF(A18=0,\"\",(mf2value*'Results-advanced'!B18+mf1value*'Results-advanced'!C18)/100))","v":22060},null,"Hind Constr",{"$f":"  IF(ISERROR(F18),\"\",IF(F18=0,\"\",INDEX('mf2'!$A$5:$E$100,MATCH(F18,'mf2'!$A$5:$A$100,0),5)))","v":0.35},{"$f":"  IF(ISERROR(F18),\"\",IF(F18=0,\"\",INDEX('mf3'!$A$5:$E$100,MATCH(F18,'mf3'!$A$5:$A$100,0),5)))","v":0.37},{"$f":"  IF(ISERROR(F18),\"\",IF(F18=0,\"\",(mf3value*'Results-advanced'!G18+'Results-advanced'!H18*mf2value)/100))","v":1790},null,null,null,{"$f":"INDEX(common3,MATCH(0,COUNTIF($M$5:M17,common3),0))","v":"Infosys"},"Info Edge","Info Edge",null,null,null,"Info Edge",{"$f":"  IF(ISERROR(S18),\"\",IF(S18=0,\"\",INDEX('mf1'!$A$5:$E$100,MATCH(S18,'mf1'!$A$5:$A$100,0),5)))","v":0.4},{"$f":"  IF(ISERROR(S18),\"\",IF(S18=0,\"\",INDEX('mf3'!$A$5:$E$100,MATCH(S18,'mf3'!$A$5:$A$100,0),5)))","v":0.59},{"$f":"  IF(ISERROR(S18),\"\",IF(S18=0,\"\",(mf3value*'Results-advanced'!T18+'Results-advanced'!U18*mf2value)/100))","v":2380}]
["Info Edge",{"$f":"  IF(ISERROR(A19),\"\",IF(A19=0,\"\",INDEX('mf1'!$A$5:$E$100,MATCH(A19,'mf1'!$A$5:$A$100,0),5)))","v":0.4},{"$f":"  IF(ISERROR(A19),\"\",IF(A19=0,\"\",INDEX('mf2'!$A$5:$E$100,MATCH(A19,'mf2'!$A$5:$A$100,0),5)))","v":1.28},{"$f":" IF(ISERROR(A19),\"\",IF(A19=0,\"\",(mf2value*'Results-advanced'!B19+mf1value*'Results-advanced'!C19)/100))","v":2080},null,"ICICI Bank",{"$f":"  IF(ISERROR(F19),\"\",IF(F19=0,\"\",INDEX('mf2'!$A$5:$E$100,MATCH(F19,'mf2'!$A$5:$A$100,0),5)))","v":8.16},{"$f":"  IF(ISERROR(F19),\"\",IF(F19=0,\"\",INDEX('mf3'!$A$5:$E$100,MATCH(F19,'mf3'!$A$5:$A$100,0),5)))","v":5.57},{"$f":"  IF(ISERROR(F19),\"\",IF(F19=0,\"\",(mf3value*'Results-advanced'!G19+'Results-advanced'!H19*mf2value)/100))","v":35620},null,null,null,{"$f":"INDEX(common3,MATCH(0,COUNTIF($M$5:M18,common3),0))","v":"IOC"},"Infosys","Infosys",null,null,null,"Infosys",{"$f":"  IF(ISERROR(S19),\"\",IF(S19=0,\"\",INDEX('mf1'!$A$5:$E$100,MATCH(S19,'mf1'!$A$5:$A$100,0),5)))","v":6.16},{"$f":"  IF(ISERROR(S19),\"\",IF(S19=0,\"\",INDEX('mf3'!$A$5:$E$100,MATCH(S19,'mf3'!$A$5:$A$100,0),5)))","v":5.26},{"$f":"  IF(ISERROR(S19),\"\",IF(S19=0,\"\",(mf3value*'Results-advanced'!T19+'Results-advanced'!U19*mf2value)/100))","v":29000}]
["Infosys",{"$f":"  IF(ISERROR(A20),\"\",IF(A20=0,\"\",INDEX('mf1'!$A$5:$E$100,MATCH(A20,'mf1'!$A$5:$A$100,0),5)))","v":6.16},{"$f":"  IF(ISERROR(A20),\"\",IF(A20=0,\"\",INDEX('mf2'!$A$5:$E$100,MATCH(A20,'mf2'!$A$5:$A$100,0),5)))","v":6.81},{"$f":" IF(ISERROR(A20),\"\",IF(A20=0,\"\",(mf2value*'Results-advanced'!B20+mf1value*'Results-advanced'!C20)/100))","v":19130},null,"Info Edge",{"$f":"  IF(ISERROR(F20),\"\",IF(F20=0,\"\",INDEX('mf2'!$A$5:$E$100,MATCH(F20,'mf2'!$A$5:$A$100,0),5)))","v":1.28},{"$f":"  IF(ISERROR(F20),\"\",IF(F20=0,\"\",INDEX('mf3'!$A$5:$E$100,MATCH(F20,'mf3'!$A$5:$A$100,0),5)))","v":0.59},{"$f":"  IF(ISERROR(F20),\"\",IF(F20=0,\"\",(mf3value*'Results-advanced'!G20+'Results-advanced'!H20*mf2value)/100))","v":5020},null,null,null,{"$f":"INDEX(common3,MATCH(0,COUNTIF($M$5:M19,common3),0))","v":"Jaiprakash Pow"},"IOC","IOC",null,null,null,"IOC",{"$f":"  IF(ISERROR(S20),\"\",IF(S20=0,\"\",INDEX('mf1'!$A$5:$E$100,MATCH(S20,'mf1'!$A$5:$A$100,0),5)))","v":0.75},{"$f":"  IF(ISERROR(S20),\"\",IF(S20=0,\"\",INDEX('mf3'!$A$5:$E$100,MATCH(S20,'mf3'!$A$5:$A$100,0),5)))","v":0.17},{"$f":"  IF(ISERROR(S20),\"\",IF(S20=0,\"\",(mf3value*'Results-advanced'!T20+'Results-advanced'!U20*mf2value)/100))","v":2590}]
["IOC",{"$f":"  IF(ISERROR(A21),\"\",IF(A21=0,\"\",INDEX('mf1'!$A$5:$E$100,MATCH(A21,'mf1'!$A$5:$A$100,0),5)))","v":0.75},{"$f":"  IF(ISERROR(A21),\"\",IF(A21=0,\"\",INDEX('mf2'!$A$5:$E$100,MATCH(A21,'mf2'!$A$5:$A$100,0),5)))","v":0.95},{"$f":" IF(ISERROR(A21),\"\",IF(A21=0,\"\",(mf2value*'Results-advanced'!B21+mf1value*'Results-advanced'!C21)/100))","v":2450},null,"Infosys",{"$f":"  IF(ISERROR(F21),\"\",IF(F21=0,\"\",INDEX('mf2'!$A$5:$E$100,MATCH(F21,'mf2'!$A$5:$A$100,0),5)))","v":6.81},{"$f":"  IF(ISERROR(F21),\"\",IF(F21=0,\"\",INDEX('mf3'!$A$5:$E$100,MATCH(F21,'mf3'!$A$5:$A$100,0),5)))","v":5.26},{"$f":"  IF(ISERROR(F21),\"\",IF(F21=0,\"\",(mf3value*'Results-advanced'!G21+'Results-advanced'!H21*mf2value)/100))","v":30950},null,null,null,{"$f":"INDEX(common3,MATCH(0,COUNTIF($M$5:M20,common3),0))","v":"Larsen"},"Jaiprakash Pow","",null,null,null,"Jaiprakash Pow",{"$f":"  IF(ISERROR(S21),\"\",IF(S21=0,\"\",INDEX('mf1'!$A$5:$E$100,MATCH(S21,'mf1'!$A$5:$A$100,0),5)))","v":0.05},{"$f":"  IF(ISERROR(S21),\"\",IF(S21=0,\"\",INDEX('mf3'!$A$5:$E$100,MATCH(S21,'mf3'!$A$5:$A$100,0),5)))","v":0.21},{"$f":"  IF(ISERROR(S21),\"\",IF(S21=0,\"\",(mf3value*'Results-advanced'!T21+'Results-advanced'!U21*mf2value)/100))","v":570}]
["ITC",{"$f":"  IF(ISERROR(A22),\"\",IF(A22=0,\"\",INDEX('mf1'!$A$5:$E$100,MATCH(A22,'mf1'!$A$5:$A$100,0),5)))","v":3.03},{"$f":"  IF(ISERROR(A22),\"\",IF(A22=0,\"\",INDEX('mf2'!$A$5:$E$100,MATCH(A22,'mf2'!$A$5:$A$100,0),5)))","v":1.1200000000000001},{"$f":" IF(ISERROR(A22),\"\",IF(A22=0,\"\",(mf2value*'Results-advanced'!B22+mf1value*'Results-advanced'!C22)/100))","v":7180},null,"IOC",{"$f":"  IF(ISERROR(F22),\"\",IF(F22=0,\"\",INDEX('mf2'!$A$5:$E$100,MATCH(F22,'mf2'!$A$5:$A$100,0),5)))","v":0.95},{"$f":"  IF(ISERROR(F22),\"\",IF(F22=0,\"\",INDEX('mf3'!$A$5:$E$100,MATCH(F22,'mf3'!$A$5:$A$100,0),5)))","v":0.17},{"$f":"  IF(ISERROR(F22),\"\",IF(F22=0,\"\",(mf3value*'Results-advanced'!G22+'Results-advanced'!H22*mf2value)/100))","v":3190},null,null,null,{"$f":"INDEX(common3,MATCH(0,COUNTIF($M$5:M21,common3),0))","v":"Maruti Suzuki"},"Jaiprakash Pow","Jaiprakash Pow",null,null,null,"Larsen",{"$f":"  IF(ISERROR(S22),\"\",IF(S22=0,\"\",INDEX('mf1'!$A$5:$E$100,MATCH(S22,'mf1'!$A$5:$A$100,0),5)))","v":6.33},{"$f":"  IF(ISERROR(S22),\"\",IF(S22=0,\"\",INDEX('mf3'!$A$5:$E$100,MATCH(S22,'mf3'!$A$5:$A$100,0),5)))","v":5.13},{"$f":"  IF(ISERROR(S22),\"\",IF(S22=0,\"\",(mf3value*'Results-advanced'!T22+'Results-advanced'!U22*mf2value)/100))","v":29250}]
["Jaiprakash Pow",{"$f":"  IF(ISERROR(A23),\"\",IF(A23=0,\"\",INDEX('mf1'!$A$5:$E$100,MATCH(A23,'mf1'!$A$5:$A$100,0),5)))","v":0.05},{"$f":"  IF(ISERROR(A23),\"\",IF(A23=0,\"\",INDEX('mf2'!$A$5:$E$100,MATCH(A23,'mf2'!$A$5:$A$100,0),5)))","v":0.17},{"$f":" IF(ISERROR(A23),\"\",IF(A23=0,\"\",(mf2value*'Results-advanced'!B23+mf1value*'Results-advanced'!C23)/100))","v":270},null,"Jaiprakash Pow",{"$f":"  IF(ISERROR(F23),\"\",IF(F23=0,\"\",INDEX('mf2'!$A$5:$E$100,MATCH(F23,'mf2'!$A$5:$A$100,0),5)))","v":0.17},{"$f":"  IF(ISERROR(F23),\"\",IF(F23=0,\"\",INDEX('mf3'!$A$5:$E$100,MATCH(F23,'mf3'!$A$5:$A$100,0),5)))","v":0.21},{"$f":"  IF(ISERROR(F23),\"\",IF(F23=0,\"\",(mf3value*'Results-advanced'!G23+'Results-advanced'!H23*mf2value)/100))","v":930},null,null,null,{"$f":"INDEX(common3,MATCH(0,COUNTIF($M$5:M22,common3),0))","v":"Oil India"},"Larsen","Larsen",null,null,null,"Maruti Suzuki",{"$f":"  IF(ISERROR(S23),\"\",IF(S23=0,\"\",INDEX('mf1'!$A$5:$E$100,MATCH(S23,'mf1'!$A$5:$A$100,0),5)))","v":4.1500000000000004},{"$f":"  IF(ISERROR(S23),\"\",IF(S23=0,\"\",INDEX('mf3'!$A$5:$E$100,MATCH(S23,'mf3'!$A$5:$A$100,0),5)))","v":3.05},{"$f":"  IF(ISERROR(S23),\"\",IF(S23=0,\"\",(mf3value*'Results-advanced'!T23+'Results-advanced'!U23*mf2value)/100))","v":18550}]
["Larsen",{"$f":"  IF(ISERROR(A24),\"\",IF(A24=0,\"\",INDEX('mf1'!$A$5:$E$100,MATCH(A24,'mf1'!$A$5:$A$100,0),5)))","v":6.33},{"$f":"  IF(ISERROR(A24),\"\",IF(A24=0,\"\",INDEX('mf2'!$A$5:$E$100,MATCH(A24,'mf2'!$A$5:$A$100,0),5)))","v":7.55},{"$f":" IF(ISERROR(A24),\"\",IF(A24=0,\"\",(mf2value*'Results-advanced'!B24+mf1value*'Results-advanced'!C24)/100))","v":20210},null,"KSK Energy Vent",{"$f":"  IF(ISERROR(F24),\"\",IF(F24=0,\"\",INDEX('mf2'!$A$5:$E$100,MATCH(F24,'mf2'!$A$5:$A$100,0),5)))","v":0.45},{"$f":"  IF(ISERROR(F24),\"\",IF(F24=0,\"\",INDEX('mf3'!$A$5:$E$100,MATCH(F24,'mf3'!$A$5:$A$100,0),5)))","v":0.3},{"$f":"  IF(ISERROR(F24),\"\",IF(F24=0,\"\",(mf3value*'Results-advanced'!G24+'Results-advanced'!H24*mf2value)/100))","v":1950},null,null,null,{"$f":"INDEX(common3,MATCH(0,COUNTIF($M$5:M23,common3),0))","v":"Oracle Fin Serv"},"Maruti Suzuki","Maruti Suzuki",null,null,null,"Oil India",{"$f":"  IF(ISERROR(S24),\"\",IF(S24=0,\"\",INDEX('mf1'!$A$5:$E$100,MATCH(S24,'mf1'!$A$5:$A$100,0),5)))","v":0.77},{"$f":"  IF(ISERROR(S24),\"\",IF(S24=0,\"\",INDEX('mf3'!$A$5:$E$100,MATCH(S24,'mf3'!$A$5:$A$100,0),5)))","v":0.53},{"$f":"  IF(ISERROR(S24),\"\",IF(S24=0,\"\",(mf3value*'Results-advanced'!T24+'Results-advanced'!U24*mf2value)/100))","v":3370}]
["Maruti Suzuki",{"$f":"  IF(ISERROR(A25),\"\",IF(A25=0,\"\",INDEX('mf1'!$A$5:$E$100,MATCH(A25,'mf1'!$A$5:$A$100,0),5)))","v":4.1500000000000004},{"$f":"  IF(ISERROR(A25),\"\",IF(A25=0,\"\",INDEX('mf2'!$A$5:$E$100,MATCH(A25,'mf2'!$A$5:$A$100,0),5)))","v":5.39},{"$f":" IF(ISERROR(A25),\"\",IF(A25=0,\"\",(mf2value*'Results-advanced'!B25+mf1value*'Results-advanced'!C25)/100))","v":13690},null,"Lakshmi Machine",{"$f":"  IF(ISERROR(F25),\"\",IF(F25=0,\"\",INDEX('mf2'!$A$5:$E$100,MATCH(F25,'mf2'!$A$5:$A$100,0),5)))","v":0.2},{"$f":"  IF(ISERROR(F25),\"\",IF(F25=0,\"\",INDEX('mf3'!$A$5:$E$100,MATCH(F25,'mf3'!$A$5:$A$100,0),5)))","v":0.17},{"$f":"  IF(ISERROR(F25),\"\",IF(F25=0,\"\",(mf3value*'Results-advanced'!G25+'Results-advanced'!H25*mf2value)/100))","v":940},null,null,null,{"$f":"INDEX(common3,MATCH(0,COUNTIF($M$5:M24,common3),0))","v":0},"Oil India","Oil India",null,null,null,"Oracle Fin Serv",{"$f":"  IF(ISERROR(S25),\"\",IF(S25=0,\"\",INDEX('mf1'!$A$5:$E$100,MATCH(S25,'mf1'!$A$5:$A$100,0),5)))","v":1.24},{"$f":"  IF(ISERROR(S25),\"\",IF(S25=0,\"\",INDEX('mf3'!$A$5:$E$100,MATCH(S25,'mf3'!$A$5:$A$100,0),5)))","v":1.06},{"$f":"  IF(ISERROR(S25),\"\",IF(S25=0,\"\",(mf3value*'Results-advanced'!T25+'Results-advanced'!U25*mf2value)/100))","v":5840}]
["Oil India",{"$f":"  IF(ISERROR(A26),\"\",IF(A26=0,\"\",INDEX('mf1'!$A$5:$E$100,MATCH(A26,'mf1'!$A$5:$A$100,0),5)))","v":0.77},{"$f":"  IF(ISERROR(A26),\"\",IF(A26=0,\"\",INDEX('mf2'!$A$5:$E$100,MATCH(A26,'mf2'!$A$5:$A$100,0),5)))","v":1.1499999999999999},{"$f":" IF(ISERROR(A26),\"\",IF(A26=0,\"\",(mf2value*'Results-advanced'!B26+mf1value*'Results-advanced'!C26)/100))","v":2690},null,"Larsen",{"$f":"  IF(ISERROR(F26),\"\",IF(F26=0,\"\",INDEX('mf2'!$A$5:$E$100,MATCH(F26,'mf2'!$A$5:$A$100,0),5)))","v":7.55},{"$f":"  IF(ISERROR(F26),\"\",IF(F26=0,\"\",INDEX('mf3'!$A$5:$E$100,MATCH(F26,'mf3'!$A$5:$A$100,0),5)))","v":5.13},{"$f":"  IF(ISERROR(F26),\"\",IF(F26=0,\"\",(mf3value*'Results-advanced'!G26+'Results-advanced'!H26*mf2value)/100))","v":32910},null,null,null,{"$f":"INDEX(common3,MATCH(0,COUNTIF($M$5:M25,common3),0))","v":{"$error":"#N/A"}},"Oracle Fin Serv","Oracle Fin Serv",null,null,null,"Oriental Bank",{"$f":"  IF(ISERROR(S26),\"\",IF(S26=0,\"\",INDEX('mf1'!$A$5:$E$100,MATCH(S26,'mf1'!$A$5:$A$100,0),5)))","v":0.38},{"$f":"  IF(ISERROR(S26),\"\",IF(S26=0,\"\",INDEX('mf3'!$A$5:$E$100,MATCH(S26,'mf3'!$A$5:$A$100,0),5)))","v":0.35},{"$f":"  IF(ISERROR(S26),\"\",IF(S26=0,\"\",(mf3value*'Results-advanced'!T26+'Results-advanced'!U26*mf2value)/100))","v":1840}]
["Oracle Fin Serv",{"$f":"  IF(ISERROR(A27),\"\",IF(A27=0,\"\",INDEX('mf1'!$A$5:$E$100,MATCH(A27,'mf1'!$A$5:$A$100,0),5)))","v":1.24},{"$f":"  IF(ISERROR(A27),\"\",IF(A27=0,\"\",INDEX('mf2'!$A$5:$E$100,MATCH(A27,'mf2'!$A$5:$A$100,0),5)))","v":1.85},{"$f":" IF(ISERROR(A27),\"\",IF(A27=0,\"\",(mf2value*'Results-advanced'!B27+mf1value*'Results-advanced'!C27)/100))","v":4330},null,"Maruti Suzuki",{"$f":"  IF(ISERROR(F27),\"\",IF(F27=0,\"\",INDEX('mf2'!$A$5:$E$100,MATCH(F27,'mf2'!$A$5:$A$100,0),5)))","v":5.39},{"$f":"  IF(ISERROR(F27),\"\",IF(F27=0,\"\",INDEX('mf3'!$A$5:$E$100,MATCH(F27,'mf3'!$A$5:$A$100,0),5)))","v":3.05},{"$f":"  IF(ISERROR(F27),\"\",IF(F27=0,\"\",(mf3value*'Results-advanced'!G27+'Results-advanced'!H27*mf2value)/100))","v":22270},null,null,null,{"$f":"INDEX(common3,MATCH(0,COUNTIF($M$5:M26,common3),0))","v":{"$error":"#N/A"}},0,"",null,null,null,"P and G",{"$f":"  IF(ISERROR(S27),\"\",IF(S27=0,\"\",INDEX('mf1'!$A$5:$E$100,MATCH(S27,'mf1'!$A$5:$A$100,0),5)))","v":0.24},{"$f":"  IF(ISERROR(S27),\"\",IF(S27=0,\"\",INDEX('mf3'!$A$5:$E$100,MATCH(S27,'mf3'!$A$5:$A$100,0),5)))","v":1.72},{"$f":"  IF(ISERROR(S27),\"\",IF(S27=0,\"\",(mf3value*'Results-advanced'!T27+'Results-advanced'!U27*mf2value)/100))","v":4160}]
["Oriental Bank",{"$f":"  IF(ISERROR(A28),\"\",IF(A28=0,\"\",INDEX('mf1'!$A$5:$E$100,MATCH(A28,'mf1'!$A$5:$A$100,0),5)))","v":0.38},{"$f":"  IF(ISERROR(A28),\"\",IF(A28=0,\"\",INDEX('mf2'!$A$5:$E$100,MATCH(A28,'mf2'!$A$5:$A$100,0),5)))","v":0.35},{"$f":" IF(ISERROR(A28),\"\",IF(A28=0,\"\",(mf2value*'Results-advanced'!B28+mf1value*'Results-advanced'!C28)/100))","v":1110},null,"Nirvikara Paper Mills Ltd.",{"$f":"  IF(ISERROR(F28),\"\",IF(F28=0,\"\",INDEX('mf2'!$A$5:$E$100,MATCH(F28,'mf2'!$A$5:$A$100,0),5)))","v":0},{"$f":"  IF(ISERROR(F28),\"\",IF(F28=0,\"\",INDEX('mf3'!$A$5:$E$100,MATCH(F28,'mf3'!$A$5:$A$100,0),5)))","v":0},{"$f":"  IF(ISERROR(F28),\"\",IF(F28=0,\"\",(mf3value*'Results-advanced'!G28+'Results-advanced'!H28*mf2value)/100))","v":0},null,null,null,{"$f":"INDEX(common3,MATCH(0,COUNTIF($M$5:M27,common3),0))","v":{"$error":"#N/A"}},0,"",null,null,null,"PNB",{"$f":"  IF(ISERROR(S28),\"\",IF(S28=0,\"\",INDEX('mf1'!$A$5:$E$100,MATCH(S28,'mf1'!$A$5:$A$100,0),5)))","v":0.76},{"$f":"  IF(ISERROR(S28),\"\",IF(S28=0,\"\",INDEX('mf3'!$A$5:$E$100,MATCH(S28,'mf3'!$A$5:$A$100,0),5)))","v":0.46},{"$f":"  IF(ISERROR(S28),\"\",IF(S28=0,\"\",(mf3value*'Results-advanced'!T28+'Results-advanced'!U28*mf2value)/100))","v":3200}]
["P and G",{"$f":"  IF(ISERROR(A29),\"\",IF(A29=0,\"\",INDEX('mf1'!$A$5:$E$100,MATCH(A29,'mf1'!$A$5:$A$100,0),5)))","v":0.24},{"$f":"  IF(ISERROR(A29),\"\",IF(A29=0,\"\",INDEX('mf2'!$A$5:$E$100,MATCH(A29,'mf2'!$A$5:$A$100,0),5)))","v":1.58},{"$f":" IF(ISERROR(A29),\"\",IF(A29=0,\"\",(mf2value*'Results-advanced'!B29+mf1value*'Results-advanced'!C29)/100))","v":2060},null,"Oil India",{"$f":"  IF(ISERROR(F29),\"\",IF(F29=0,\"\",INDEX('mf2'!$A$5:$E$100,MATCH(F29,'mf2'!$A$5:$A$100,0),5)))","v":1.1499999999999999},{"$f":"  IF(ISERROR(F29),\"\",IF(F29=0,\"\",INDEX('mf3'!$A$5:$E$100,MATCH(F29,'mf3'!$A$5:$A$100,0),5)))","v":0.53},{"$f":"  IF(ISERROR(F29),\"\",IF(F29=0,\"\",(mf3value*'Results-advanced'!G29+'Results-advanced'!H29*mf2value)/100))","v":4510},null,null,null,{"$f":"INDEX(common3,MATCH(0,COUNTIF($M$5:M28,common3),0))","v":{"$error":"#N/A"}},0,"",null,null,null,"REC",{"$f":"  IF(ISERROR(S29),\"\",IF(S29=0,\"\",INDEX('mf1'!$A$5:$E$100,MATCH(S29,'mf1'!$A$5:$A$100,0),5)))","v":0.86},{"$f":"  IF(ISERROR(S29),\"\",IF(S29=0,\"\",INDEX('mf3'!$A$5:$E$100,MATCH(S29,'mf3'!$A$5:$A$100,0),5)))","v":0.76},{"$f":"  IF(ISERROR(S29),\"\",IF(S29=0,\"\",(mf3value*'Results-advanced'!T29+'Results-advanced'!U29*mf2value)/100))","v":4100}]
["PNB",{"$f":"  IF(ISERROR(A30),\"\",IF(A30=0,\"\",INDEX('mf1'!$A$5:$E$100,MATCH(A30,'mf1'!$A$5:$A$100,0),5)))","v":0.76},{"$f":"  IF(ISERROR(A30),\"\",IF(A30=0,\"\",INDEX('mf2'!$A$5:$E$100,MATCH(A30,'mf2'!$A$5:$A$100,0),5)))","v":1.04},{"$f":" IF(ISERROR(A30),\"\",IF(A30=0,\"\",(mf2value*'Results-advanced'!B30+mf1value*'Results-advanced'!C30)/100))","v":2560},null,"Oracle Fin Serv",{"$f":"  IF(ISERROR(F30),\"\",IF(F30=0,\"\",INDEX('mf2'!$A$5:$E$100,MATCH(F30,'mf2'!$A$5:$A$100,0),5)))","v":1.85},{"$f":"  IF(ISERROR(F30),\"\",IF(F30=0,\"\",INDEX('mf3'!$A$5:$E$100,MATCH(F30,'mf3'!$A$5:$A$100,0),5)))","v":1.06},{"$f":"  IF(ISERROR(F30),\"\",IF(F30=0,\"\",(mf3value*'Results-advanced'!G30+'Results-advanced'!H30*mf2value)/100))","v":7670},null,null,null,{"$f":"INDEX(common3,MATCH(0,COUNTIF($M$5:M29,common3),0))","v":{"$error":"#N/A"}},0,null,null,null,null,"Reliance",{"$f":"  IF(ISERROR(S30),\"\",IF(S30=0,\"\",INDEX('mf1'!$A$5:$E$100,MATCH(S30,'mf1'!$A$5:$A$100,0),5)))","v":3.76},{"$f":"  IF(ISERROR(S30),\"\",IF(S30=0,\"\",INDEX('mf3'!$A$5:$E$100,MATCH(S30,'mf3'!$A$5:$A$100,0),5)))","v":0.8},{"$f":"  IF(ISERROR(S30),\"\",IF(S30=0,\"\",(mf3value*'Results-advanced'!T30+'Results-advanced'!U30*mf2value)/100))","v":12880}]
["Power Finance",{"$f":"  IF(ISERROR(A31),\"\",IF(A31=0,\"\",INDEX('mf1'!$A$5:$E$100,MATCH(A31,'mf1'!$A$5:$A$100,0),5)))","v":0.36},{"$f":"  IF(ISERROR(A31),\"\",IF(A31=0,\"\",INDEX('mf2'!$A$5:$E$100,MATCH(A31,'mf2'!$A$5:$A$100,0),5)))","v":0.59},{"$f":" IF(ISERROR(A31),\"\",IF(A31=0,\"\",(mf2value*'Results-advanced'!B31+mf1value*'Results-advanced'!C31)/100))","v":1310},null,"Oriental Bank",{"$f":"  IF(ISERROR(F31),\"\",IF(F31=0,\"\",INDEX('mf2'!$A$5:$E$100,MATCH(F31,'mf2'!$A$5:$A$100,0),5)))","v":0.35},{"$f":"  IF(ISERROR(F31),\"\",IF(F31=0,\"\",INDEX('mf3'!$A$5:$E$100,MATCH(F31,'mf3'!$A$5:$A$100,0),5)))","v":0.35},{"$f":"  IF(ISERROR(F31),\"\",IF(F31=0,\"\",(mf3value*'Results-advanced'!G31+'Results-advanced'!H31*mf2value)/100))","v":1750},null,null,null,{"$f":"INDEX(common3,MATCH(0,COUNTIF($M$5:M30,common3),0))","v":{"$error":"#N/A"}},null,null,null,null,null,"SBI",{"$f":"  IF(ISERROR(S31),\"\",IF(S31=0,\"\",INDEX('mf1'!$A$5:$E$100,MATCH(S31,'mf1'!$A$5:$A$100,0),5)))","v":7.33},{"$f":"  IF(ISERROR(S31),\"\",IF(S31=0,\"\",INDEX('mf3'!$A$5:$E$100,MATCH(S31,'mf3'!$A$5:$A$100,0),5)))","v":5.38},{"$f":"  IF(ISERROR(S31),\"\",IF(S31=0,\"\",(mf3value*'Results-advanced'!T31+'Results-advanced'!U31*mf2value)/100))","v":32750}]
["Power Grid Corp",{"$f":"  IF(ISERROR(A32),\"\",IF(A32=0,\"\",INDEX('mf1'!$A$5:$E$100,MATCH(A32,'mf1'!$A$5:$A$100,0),5)))","v":1.17},{"$f":"  IF(ISERROR(A32),\"\",IF(A32=0,\"\",INDEX('mf2'!$A$5:$E$100,MATCH(A32,'mf2'!$A$5:$A$100,0),5)))","v":0.6},{"$f":" IF(ISERROR(A32),\"\",IF(A32=0,\"\",(mf2value*'Results-advanced'!B32+mf1value*'Results-advanced'!C32)/100))","v":2940},null,"Others / Unlisted",{"$f":"  IF(ISERROR(F32),\"\",IF(F32=0,\"\",INDEX('mf2'!$A$5:$E$100,MATCH(F32,'mf2'!$A$5:$A$100,0),5)))","v":0},{"$f":"  IF(ISERROR(F32),\"\",IF(F32=0,\"\",INDEX('mf3'!$A$5:$E$100,MATCH(F32,'mf3'!$A$5:$A$100,0),5)))","v":0},{"$f":"  IF(ISERROR(F32),\"\",IF(F32=0,\"\",(mf3value*'Results-advanced'!G32+'Results-advanced'!H32*mf2value)/100))","v":0},null,null,null,null,null,null,null,null,null,"Siemens",{"$f":"  IF(ISERROR(S32),\"\",IF(S32=0,\"\",INDEX('mf1'!$A$5:$E$100,MATCH(S32,'mf1'!$A$5:$A$100,0),5)))","v":1.1399999999999999},{"$f":"  IF(ISERROR(S32),\"\",IF(S32=0,\"\",INDEX('mf3'!$A$5:$E$100,MATCH(S32,'mf3'!$A$5:$A$100,0),5)))","v":0.78},{"$f":"  IF(ISERROR(S32),\"\",IF(S32=0,\"\",(mf3value*'Results-advanced'!T32+'Results-advanced'!U32*mf2value)/100))","v":4979.9999999999991}]
["REC",{"$f":"  IF(ISERROR(A33),\"\",IF(A33=0,\"\",INDEX('mf1'!$A$5:$E$100,MATCH(A33,'mf1'!$A$5:$A$100,0),5)))","v":0.86},{"$f":"  IF(ISERROR(A33),\"\",IF(A33=0,\"\",INDEX('mf2'!$A$5:$E$100,MATCH(A33,'mf2'!$A$5:$A$100,0),5)))","v":1.1299999999999999},{"$f":" IF(ISERROR(A33),\"\",IF(A33=0,\"\",(mf2value*'Results-advanced'!B33+mf1value*'Results-advanced'!C33)/100))","v":2850},null,"P and G",{"$f":"  IF(ISERROR(F33),\"\",IF(F33=0,\"\",INDEX('mf2'!$A$5:$E$100,MATCH(F33,'mf2'!$A$5:$A$100,0),5)))","v":1.58},{"$f":"  IF(ISERROR(F33),\"\",IF(F33=0,\"\",INDEX('mf3'!$A$5:$E$100,MATCH(F33,'mf3'!$A$5:$A$100,0),5)))","v":1.72},{"$f":"  IF(ISERROR(F33),\"\",IF(F33=0,\"\",(mf3value*'Results-advanced'!G33+'Results-advanced'!H33*mf2value)/100))","v":8180},null,null,null,null,null,null,null,null,null,"Tata Motors",{"$f":"  IF(ISERROR(S33),\"\",IF(S33=0,\"\",INDEX('mf1'!$A$5:$E$100,MATCH(S33,'mf1'!$A$5:$A$100,0),5)))","v":2.97},{"$f":"  IF(ISERROR(S33),\"\",IF(S33=0,\"\",INDEX('mf3'!$A$5:$E$100,MATCH(S33,'mf3'!$A$5:$A$100,0),5)))","v":1.8},{"$f":"  IF(ISERROR(S33),\"\",IF(S33=0,\"\",(mf3value*'Results-advanced'!T33+'Results-advanced'!U33*mf2value)/100))","v":12510}]
["Reliance",{"$f":"  IF(ISERROR(A34),\"\",IF(A34=0,\"\",INDEX('mf1'!$A$5:$E$100,MATCH(A34,'mf1'!$A$5:$A$100,0),5)))","v":3.76},{"$f":"  IF(ISERROR(A34),\"\",IF(A34=0,\"\",INDEX('mf2'!$A$5:$E$100,MATCH(A34,'mf2'!$A$5:$A$100,0),5)))","v":1.98},{"$f":" IF(ISERROR(A34),\"\",IF(A34=0,\"\",(mf2value*'Results-advanced'!B34+mf1value*'Results-advanced'!C34)/100))","v":9500},null,"PNB",{"$f":"  IF(ISERROR(F34),\"\",IF(F34=0,\"\",INDEX('mf2'!$A$5:$E$100,MATCH(F34,'mf2'!$A$5:$A$100,0),5)))","v":1.04},{"$f":"  IF(ISERROR(F34),\"\",IF(F34=0,\"\",INDEX('mf3'!$A$5:$E$100,MATCH(F34,'mf3'!$A$5:$A$100,0),5)))","v":0.46},{"$f":"  IF(ISERROR(F34),\"\",IF(F34=0,\"\",(mf3value*'Results-advanced'!G34+'Results-advanced'!H34*mf2value)/100))","v":4040},null,null,null,null,null,null,null,null,null,"Tata Steel",{"$f":"  IF(ISERROR(S34),\"\",IF(S34=0,\"\",INDEX('mf1'!$A$5:$E$100,MATCH(S34,'mf1'!$A$5:$A$100,0),5)))","v":1.1100000000000001},{"$f":"  IF(ISERROR(S34),\"\",IF(S34=0,\"\",INDEX('mf3'!$A$5:$E$100,MATCH(S34,'mf3'!$A$5:$A$100,0),5)))","v":0.6},{"$f":"  IF(ISERROR(S34),\"\",IF(S34=0,\"\",(mf3value*'Results-advanced'!T34+'Results-advanced'!U34*mf2value)/100))","v":4530.0000000000009}]
["SBI",{"$f":"  IF(ISERROR(A35),\"\",IF(A35=0,\"\",INDEX('mf1'!$A$5:$E$100,MATCH(A35,'mf1'!$A$5:$A$100,0),5)))","v":7.33},{"$f":"  IF(ISERROR(A35),\"\",IF(A35=0,\"\",INDEX('mf2'!$A$5:$E$100,MATCH(A35,'mf2'!$A$5:$A$100,0),5)))","v":8.5299999999999994},{"$f":" IF(ISERROR(A35),\"\",IF(A35=0,\"\",(mf2value*'Results-advanced'!B35+mf1value*'Results-advanced'!C35)/100))","v":23190},null,"Prism Cement",{"$f":"  IF(ISERROR(F35),\"\",IF(F35=0,\"\",INDEX('mf2'!$A$5:$E$100,MATCH(F35,'mf2'!$A$5:$A$100,0),5)))","v":0.85},{"$f":"  IF(ISERROR(F35),\"\",IF(F35=0,\"\",INDEX('mf3'!$A$5:$E$100,MATCH(F35,'mf3'!$A$5:$A$100,0),5)))","v":0.35},{"$f":"  IF(ISERROR(F35),\"\",IF(F35=0,\"\",(mf3value*'Results-advanced'!G35+'Results-advanced'!H35*mf2value)/100))","v":3250},null,null,null,null,null,null,null,null,null,"Union Bank",{"$f":"  IF(ISERROR(S35),\"\",IF(S35=0,\"\",INDEX('mf1'!$A$5:$E$100,MATCH(S35,'mf1'!$A$5:$A$100,0),5)))","v":0.86},{"$f":"  IF(ISERROR(S35),\"\",IF(S35=0,\"\",INDEX('mf3'!$A$5:$E$100,MATCH(S35,'mf3'!$A$5:$A$100,0),5)))","v":0.77},{"$f":"  IF(ISERROR(S35),\"\",IF(S35=0,\"\",(mf3value*'Results-advanced'!T35+'Results-advanced'!U35*mf2value)/100))","v":4120}]
["Siemens",{"$f":"  IF(ISERROR(A36),\"\",IF(A36=0,\"\",INDEX('mf1'!$A$5:$E$100,MATCH(A36,'mf1'!$A$5:$A$100,0),5)))","v":1.1399999999999999},{"$f":"  IF(ISERROR(A36),\"\",IF(A36=0,\"\",INDEX('mf2'!$A$5:$E$100,MATCH(A36,'mf2'!$A$5:$A$100,0),5)))","v":1.77},{"$f":" IF(ISERROR(A36),\"\",IF(A36=0,\"\",(mf2value*'Results-advanced'!B36+mf1value*'Results-advanced'!C36)/100))","v":4050},null,"Ramco System",{"$f":"  IF(ISERROR(F36),\"\",IF(F36=0,\"\",INDEX('mf2'!$A$5:$E$100,MATCH(F36,'mf2'!$A$5:$A$100,0),5)))","v":0.6},{"$f":"  IF(ISERROR(F36),\"\",IF(F36=0,\"\",INDEX('mf3'!$A$5:$E$100,MATCH(F36,'mf3'!$A$5:$A$100,0),5)))","v":0.5},{"$f":"  IF(ISERROR(F36),\"\",IF(F36=0,\"\",(mf3value*'Results-advanced'!G36+'Results-advanced'!H36*mf2value)/100))","v":2800},null,null,null,null,null,null,null,null,null,"Wipro",{"$f":"  IF(ISERROR(S36),\"\",IF(S36=0,\"\",INDEX('mf1'!$A$5:$E$100,MATCH(S36,'mf1'!$A$5:$A$100,0),5)))","v":0.94},{"$f":"  IF(ISERROR(S36),\"\",IF(S36=0,\"\",INDEX('mf3'!$A$5:$E$100,MATCH(S36,'mf3'!$A$5:$A$100,0),5)))","v":0.8},{"$f":"  IF(ISERROR(S36),\"\",IF(S36=0,\"\",(mf3value*'Results-advanced'!T36+'Results-advanced'!U36*mf2value)/100))","v":4420}]
["Tata Motors",{"$f":"  IF(ISERROR(A37),\"\",IF(A37=0,\"\",INDEX('mf1'!$A$5:$E$100,MATCH(A37,'mf1'!$A$5:$A$100,0),5)))","v":2.97},{"$f":"  IF(ISERROR(A37),\"\",IF(A37=0,\"\",INDEX('mf2'!$A$5:$E$100,MATCH(A37,'mf2'!$A$5:$A$100,0),5)))","v":3.28},{"$f":" IF(ISERROR(A37),\"\",IF(A37=0,\"\",(mf2value*'Results-advanced'!B37+mf1value*'Results-advanced'!C37)/100))","v":9220},null,"REC",{"$f":"  IF(ISERROR(F37),\"\",IF(F37=0,\"\",INDEX('mf2'!$A$5:$E$100,MATCH(F37,'mf2'!$A$5:$A$100,0),5)))","v":1.1299999999999999},{"$f":"  IF(ISERROR(F37),\"\",IF(F37=0,\"\",INDEX('mf3'!$A$5:$E$100,MATCH(F37,'mf3'!$A$5:$A$100,0),5)))","v":0.76},{"$f":"  IF(ISERROR(F37),\"\",IF(F37=0,\"\",(mf3value*'Results-advanced'!G37+'Results-advanced'!H37*mf2value)/100))","v":4909.9999999999991},null,null,null,null,null,null,null,null,null,"ZZtock",{"$f":"  IF(ISERROR(S37),\"\",IF(S37=0,\"\",INDEX('mf1'!$A$5:$E$100,MATCH(S37,'mf1'!$A$5:$A$100,0),5)))","v":{"$error":"#N/A"}},{"$f":"  IF(ISERROR(S37),\"\",IF(S37=0,\"\",INDEX('mf3'!$A$5:$E$100,MATCH(S37,'mf3'!$A$5:$A$100,0),5)))","v":{"$error":"#N/A"}},{"$f":"  IF(ISERROR(S37),\"\",IF(S37=0,\"\",(mf3value*'Results-advanced'!T37+'Results-advanced'!U37*mf2value)/100))","v":{"$error":"#N/A"}}]
["Tata Steel",{"$f":"  IF(ISERROR(A38),\"\",IF(A38=0,\"\",INDEX('mf1'!$A$5:$E$100,MATCH(A38,'mf1'!$A$5:$A$100,0),5)))","v":1.1100000000000001},{"$f":"  IF(ISERROR(A38),\"\",IF(A38=0,\"\",INDEX('mf2'!$A$5:$E$100,MATCH(A38,'mf2'!$A$5:$A$100,0),5)))","v":1.17},{"$f":" IF(ISERROR(A38),\"\",IF(A38=0,\"\",(mf2value*'Results-advanced'!B38+mf1value*'Results-advanced'!C38)/100))","v":3390},null,"Reliance",{"$f":"  IF(ISERROR(F38),\"\",IF(F38=0,\"\",INDEX('mf2'!$A$5:$E$100,MATCH(F38,'mf2'!$A$5:$A$100,0),5)))","v":1.98},{"$f":"  IF(ISERROR(F38),\"\",IF(F38=0,\"\",INDEX('mf3'!$A$5:$E$100,MATCH(F38,'mf3'!$A$5:$A$100,0),5)))","v":0.8},{"$f":"  IF(ISERROR(F38),\"\",IF(F38=0,\"\",(mf3value*'Results-advanced'!G38+'Results-advanced'!H38*mf2value)/100))","v":7540},null,null,null,null,null,null,null,null,null,null,{"$f":"  IF(ISERROR(S38),\"\",IF(S38=0,\"\",INDEX('mf1'!$A$5:$E$100,MATCH(S38,'mf1'!$A$5:$A$100,0),5)))","v":""},{"$f":"  IF(ISERROR(S38),\"\",IF(S38=0,\"\",INDEX('mf3'!$A$5:$E$100,MATCH(S38,'mf3'!$A$5:$A$100,0),5)))","v":""},{"$f":"  IF(ISERROR(S38),\"\",IF(S38=0,\"\",(mf3value*'Results-advanced'!T38+'Results-advanced'!U38*mf2value)/100))","v":""}]
["UPL",{"$f":"  IF(ISERROR(A39),\"\",IF(A39=0,\"\",INDEX('mf1'!$A$5:$E$100,MATCH(A39,'mf1'!$A$5:$A$100,0),5)))","v":0.33},{"$f":"  IF(ISERROR(A39),\"\",IF(A39=0,\"\",INDEX('mf2'!$A$5:$E$100,MATCH(A39,'mf2'!$A$5:$A$100,0),5)))","v":0.69},{"$f":" IF(ISERROR(A39),\"\",IF(A39=0,\"\",(mf2value*'Results-advanced'!B39+mf1value*'Results-advanced'!C39)/100))","v":1350},null,"Savita Oil Tech",{"$f":"  IF(ISERROR(F39),\"\",IF(F39=0,\"\",INDEX('mf2'!$A$5:$E$100,MATCH(F39,'mf2'!$A$5:$A$100,0),5)))","v":0.25},{"$f":"  IF(ISERROR(F39),\"\",IF(F39=0,\"\",INDEX('mf3'!$A$5:$E$100,MATCH(F39,'mf3'!$A$5:$A$100,0),5)))","v":0.31},{"$f":"  IF(ISERROR(F39),\"\",IF(F39=0,\"\",(mf3value*'Results-advanced'!G39+'Results-advanced'!H39*mf2value)/100))","v":1370},null,null,null,null,null,null,null,null,null,null,{"$f":"  IF(ISERROR(S39),\"\",IF(S39=0,\"\",INDEX('mf1'!$A$5:$E$100,MATCH(S39,'mf1'!$A$5:$A$100,0),5)))","v":""},{"$f":"  IF(ISERROR(S39),\"\",IF(S39=0,\"\",INDEX('mf3'!$A$5:$E$100,MATCH(S39,'mf3'!$A$5:$A$100,0),5)))","v":""},{"$f":"  IF(ISERROR(S39),\"\",IF(S39=0,\"\",(mf3value*'Results-advanced'!T39+'Results-advanced'!U39*mf2value)/100))","v":""}]
["Wipro",{"$f":"  IF(ISERROR(A40),\"\",IF(A40=0,\"\",INDEX('mf1'!$A$5:$E$100,MATCH(A40,'mf1'!$A$5:$A$100,0),5)))","v":0.94},{"$f":"  IF(ISERROR(A40),\"\",IF(A40=0,\"\",INDEX('mf2'!$A$5:$E$100,MATCH(A40,'mf2'!$A$5:$A$100,0),5)))","v":1.04},{"$f":" IF(ISERROR(A40),\"\",IF(A40=0,\"\",(mf2value*'Results-advanced'!B40+mf1value*'Results-advanced'!C40)/100))","v":2920},null,"SBI",{"$f":"  IF(ISERROR(F40),\"\",IF(F40=0,\"\",INDEX('mf2'!$A$5:$E$100,MATCH(F40,'mf2'!$A$5:$A$100,0),5)))","v":8.5299999999999994},{"$f":"  IF(ISERROR(F40),\"\",IF(F40=0,\"\",INDEX('mf3'!$A$5:$E$100,MATCH(F40,'mf3'!$A$5:$A$100,0),5)))","v":5.38},{"$f":"  IF(ISERROR(F40),\"\",IF(F40=0,\"\",(mf3value*'Results-advanced'!G40+'Results-advanced'!H40*mf2value)/100))","v":36350},null,null,null,null,null,null,null,null,null,null,{"$f":"  IF(ISERROR(S40),\"\",IF(S40=0,\"\",INDEX('mf1'!$A$5:$E$100,MATCH(S40,'mf1'!$A$5:$A$100,0),5)))","v":""},{"$f":"  IF(ISERROR(S40),\"\",IF(S40=0,\"\",INDEX('mf3'!$A$5:$E$100,MATCH(S40,'mf3'!$A$5:$A$100,0),5)))","v":""},{"$f":"  IF(ISERROR(S40),\"\",IF(S40=0,\"\",(mf3value*'Results-advanced'!T40+'Results-advanced'!U40*mf2value)/100))","v":""}]
["Zee Entertain",{"$f":"  IF(ISERROR(A41),\"\",IF(A41=0,\"\",INDEX('mf1'!$A$5:$E$100,MATCH(A41,'mf1'!$A$5:$A$100,0),5)))","v":0.77},{"$f":"  IF(ISERROR(A41),\"\",IF(A41=0,\"\",INDEX('mf2'!$A$5:$E$100,MATCH(A41,'mf2'!$A$5:$A$100,0),5)))","v":0.02},{"$f":" IF(ISERROR(A41),\"\",IF(A41=0,\"\",(mf2value*'Results-advanced'!B41+mf1value*'Results-advanced'!C41)/100))","v":1560},null,"Siemens",{"$f":"  IF(ISERROR(F41),\"\",IF(F41=0,\"\",INDEX('mf2'!$A$5:$E$100,MATCH(F41,'mf2'!$A$5:$A$100,0),5)))","v":1.77},{"$f":"  IF(ISERROR(F41),\"\",IF(F41=0,\"\",INDEX('mf3'!$A$5:$E$100,MATCH(F41,'mf3'!$A$5:$A$100,0),5)))","v":0.78},{"$f":"  IF(ISERROR(F41),\"\",IF(F41=0,\"\",(mf3value*'Results-advanced'!G41+'Results-advanced'!H41*mf2value)/100))","v":6870},null,null,null,null,null,null,null,null,null,null,{"$f":"  IF(ISERROR(S41),\"\",IF(S41=0,\"\",INDEX('mf1'!$A$5:$E$100,MATCH(S41,'mf1'!$A$5:$A$100,0),5)))","v":""},{"$f":"  IF(ISERROR(S41),\"\",IF(S41=0,\"\",INDEX('mf3'!$A$5:$E$100,MATCH(S41,'mf3'!$A$5:$A$100,0),5)))","v":""},{"$f":"  IF(ISERROR(S41),\"\",IF(S41=0,\"\",(mf3value*'Results-advanced'!T41+'Results-advanced'!U41*mf2value)/100))","v":""}]
["ZZtock",{"$f":"  IF(ISERROR(A42),\"\",IF(A42=0,\"\",INDEX('mf1'!$A$5:$E$100,MATCH(A42,'mf1'!$A$5:$A$100,0),5)))","v":{"$error":"#N/A"}},{"$f":"  IF(ISERROR(A42),\"\",IF(A42=0,\"\",INDEX('mf2'!$A$5:$E$100,MATCH(A42,'mf2'!$A$5:$A$100,0),5)))","v":{"$error":"#N/A"}},{"$f":" IF(ISERROR(A42),\"\",IF(A42=0,\"\",(mf2value*'Results-advanced'!B42+mf1value*'Results-advanced'!C42)/100))","v":{"$error":"#N/A"}},null,"Simplex Infra",{"$f":"  IF(ISERROR(F42),\"\",IF(F42=0,\"\",INDEX('mf2'!$A$5:$E$100,MATCH(F42,'mf2'!$A$5:$A$100,0),5)))","v":0.32},{"$f":"  IF(ISERROR(F42),\"\",IF(F42=0,\"\",INDEX('mf3'!$A$5:$E$100,MATCH(F42,'mf3'!$A$5:$A$100,0),5)))","v":0.74},{"$f":"  IF(ISERROR(F42),\"\",IF(F42=0,\"\",(mf3value*'Results-advanced'!G42+'Results-advanced'!H42*mf2value)/100))","v":2440},null,null,null,null,null,null,null,null,null,null,{"$f":"  IF(ISERROR(S42),\"\",IF(S42=0,\"\",INDEX('mf1'!$A$5:$E$100,MATCH(S42,'mf1'!$A$5:$A$100,0),5)))","v":""},{"$f":"  IF(ISERROR(S42),\"\",IF(S42=0,\"\",INDEX('mf3'!$A$5:$E$100,MATCH(S42,'mf3'!$A$5:$A$100,0),5)))","v":""},{"$f":"  IF(ISERROR(S42),\"\",IF(S42=0,\"\",(mf3value*'Results-advanced'!T42+'Results-advanced'!U42*mf2value)/100))","v":""}]
[null,{"$f":"  IF(ISERROR(A43),\"\",IF(A43=0,\"\",INDEX('mf1'!$A$5:$E$100,MATCH(A43,'mf1'!$A$5:$A$100,0),5)))","v":""},{"$f":"  IF(ISERROR(A43),\"\",IF(A43=0,\"\",INDEX('mf2'!$A$5:$E$100,MATCH(A43,'mf2'!$A$5:$A$100,0),5)))","v":""},{"$f":" IF(ISERROR(A43),\"\",IF(A43=0,\"\",(mf2value*'Results-advanced'!B43+mf1value*'Results-advanced'!C43)/100))","v":""},null,"State B Bikaner",{"$f":"  IF(ISERROR(F43),\"\",IF(F43=0,\"\",INDEX('mf2'!$A$5:$E$100,MATCH(F43,'mf2'!$A$5:$A$100,0),5)))","v":0.73},{"$f":"  IF(ISERROR(F43),\"\",IF(F43=0,\"\",INDEX('mf3'!$A$5:$E$100,MATCH(F43,'mf3'!$A$5:$A$100,0),5)))","v":0.48},{"$f":"  IF(ISERROR(F43),\"\",IF(F43=0,\"\",(mf3value*'Results-advanced'!G43+'Results-advanced'!H43*mf2value)/100))","v":3150},null,null,null,null,null,null,null,null,null,null,{"$f":"  IF(ISERROR(S43),\"\",IF(S43=0,\"\",INDEX('mf1'!$A$5:$E$100,MATCH(S43,'mf1'!$A$5:$A$100,0),5)))","v":""},{"$f":"  IF(ISERROR(S43),\"\",IF(S43=0,\"\",INDEX('mf3'!$A$5:$E$100,MATCH(S43,'mf3'!$A$5:$A$100,0),5)))","v":""},{"$f":"  IF(ISERROR(S43),\"\",IF(S43=0,\"\",(mf3value*'Results-advanced'!T43+'Results-advanced'!U43*mf2value)/100))","v":""}]
[null,{"$f":"  IF(ISERROR(A44),\"\",IF(A44=0,\"\",INDEX('mf1'!$A$5:$E$100,MATCH(A44,'mf1'!$A$5:$A$100,0),5)))","v":""},{"$f":"  IF(ISERROR(A44),\"\",IF(A44=0,\"\",INDEX('mf2'!$A$5:$E$100,MATCH(A44,'mf2'!$A$5:$A$100,0),5)))","v":""},{"$f":" IF(ISERROR(A44),\"\",IF(A44=0,\"\",(mf2value*'Results-advanced'!B44+mf1value*'Results-advanced'!C44)/100))","v":""},null,"Tata Motors",{"$f":"  IF(ISERROR(F44),\"\",IF(F44=0,\"\",INDEX('mf2'!$A$5:$E$100,MATCH(F44,'mf2'!$A$5:$A$100,0),5)))","v":3.28},{"$f":"  IF(ISERROR(F44),\"\",IF(F44=0,\"\",INDEX('mf3'!$A$5:$E$100,MATCH(F44,'mf3'!$A$5:$A$100,0),5)))","v":1.8},{"$f":"  IF(ISERROR(F44),\"\",IF(F44=0,\"\",(mf3value*'Results-advanced'!G44+'Results-advanced'!H44*mf2value)/100))","v":13440},null,null,null,null,null,null,null,null,null,null,{"$f":"  IF(ISERROR(S44),\"\",IF(S44=0,\"\",INDEX('mf1'!$A$5:$E$100,MATCH(S44,'mf1'!$A$5:$A$100,0),5)))","v":""},{"$f":"  IF(ISERROR(S44),\"\",IF(S44=0,\"\",INDEX('mf3'!$A$5:$E$100,MATCH(S44,'mf3'!$A$5:$A$100,0),5)))","v":""},{"$f":"  IF(ISERROR(S44),\"\",IF(S44=0,\"\",(mf3value*'Results-advanced'!T44+'Results-advanced'!U44*mf2value)/100))","v":""}]
[null,{"$f":"  IF(ISERROR(A45),\"\",IF(A45=0,\"\",INDEX('mf1'!$A$5:$E$100,MATCH(A45,'mf1'!$A$5:$A$100,0),5)))","v":""},{"$f":"  IF(ISERROR(A45),\"\",IF(A45=0,\"\",INDEX('mf2'!$A$5:$E$100,MATCH(A45,'mf2'!$A$5:$A$100,0),5)))","v":""},{"$f":" IF(ISERROR(A45),\"\",IF(A45=0,\"\",(mf2value*'Results-advanced'!B45+mf1value*'Results-advanced'!C45)/100))","v":""},null,"Tata Steel",{"$f":"  IF(ISERROR(F45),\"\",IF(F45=0,\"\",INDEX('mf2'!$A$5:$E$100,MATCH(F45,'mf2'!$A$5:$A$100,0),5)))","v":1.17},{"$f":"  IF(ISERROR(F45),\"\",IF(F45=0,\"\",INDEX('mf3'!$A$5:$E$100,MATCH(F45,'mf3'!$A$5:$A$100,0),5)))","v":0.6},{"$f":"  IF(ISERROR(F45),\"\",IF(F45=0,\"\",(mf3value*'Results-advanced'!G45+'Results-advanced'!H45*mf2value)/100))","v":4710},null,null,null,null,null,null,null,null,null,null,{"$f":"  IF(ISERROR(S45),\"\",IF(S45=0,\"\",INDEX('mf1'!$A$5:$E$100,MATCH(S45,'mf1'!$A$5:$A$100,0),5)))","v":""},{"$f":"  IF(ISERROR(S45),\"\",IF(S45=0,\"\",INDEX('mf3'!$A$5:$E$100,MATCH(S45,'mf3'!$A$5:$A$100,0),5)))","v":""},{"$f":"  IF(ISERROR(S45),\"\",IF(S45=0,\"\",(mf3value*'Results-advanced'!T45+'Results-advanced'!U45*mf2value)/100))","v":""}]
[null,{"$f":"  IF(ISERROR(A46),\"\",IF(A46=0,\"\",INDEX('mf1'!$A$5:$E$100,MATCH(A46,'mf1'!$A$5:$A$100,0),5)))","v":""},{"$f":"  IF(ISERROR(A46),\"\",IF(A46=0,\"\",INDEX('mf2'!$A$5:$E$100,MATCH(A46,'mf2'!$A$5:$A$100,0),5)))","v":""},{"$f":" IF(ISERROR(A46),\"\",IF(A46=0,\"\",(mf2value*'Results-advanced'!B46+mf1value*'Results-advanced'!C46)/100))","v":""},null,"Time Techno",{"$f":"  IF(ISERROR(F46),\"\",IF(F46=0,\"\",INDEX('mf2'!$A$5:$E$100,MATCH(F46,'mf2'!$A$5:$A$100,0),5)))","v":0.24},{"$f":"  IF(ISERROR(F46),\"\",IF(F46=0,\"\",INDEX('mf3'!$A$5:$E$100,MATCH(F46,'mf3'!$A$5:$A$100,0),5)))","v":0.59},{"$f":"  IF(ISERROR(F46),\"\",IF(F46=0,\"\",(mf3value*'Results-advanced'!G46+'Results-advanced'!H46*mf2value)/100))","v":1900},null,null,null,null,null,null,null,null,null,null,{"$f":"  IF(ISERROR(S46),\"\",IF(S46=0,\"\",INDEX('mf1'!$A$5:$E$100,MATCH(S46,'mf1'!$A$5:$A$100,0),5)))","v":""},{"$f":"  IF(ISERROR(S46),\"\",IF(S46=0,\"\",INDEX('mf3'!$A$5:$E$100,MATCH(S46,'mf3'!$A$5:$A$100,0),5)))","v":""},{"$f":"  IF(ISERROR(S46),\"\",IF(S46=0,\"\",(mf3value*'Results-advanced'!T46+'Results-advanced'!U46*mf2value)/100))","v":""}]
[null,{"$f":"  IF(ISERROR(A47),\"\",IF(A47=0,\"\",INDEX('mf1'!$A$5:$E$100,MATCH(A47,'mf1'!$A$5:$A$100,0),5)))","v":""},{"$f":"  IF(ISERROR(A47),\"\",IF(A47=0,\"\",INDEX('mf2'!$A$5:$E$100,MATCH(A47,'mf2'!$A$5:$A$100,0),5)))","v":""},{"$f":" IF(ISERROR(A47),\"\",IF(A47=0,\"\",(mf2value*'Results-advanced'!B47+mf1value*'Results-advanced'!C47)/100))","v":""},null,"Wipro",{"$f":"  IF(ISERROR(F47),\"\",IF(F47=0,\"\",INDEX('mf2'!$A$5:$E$100,MATCH(F47,'mf2'!$A$5:$A$100,0),5)))","v":1.04},{"$f":"  IF(ISERROR(F47),\"\",IF(F47=0,\"\",INDEX('mf3'!$A$5:$E$100,MATCH(F47,'mf3'!$A$5:$A$100,0),5)))","v":0.8},{"$f":"  IF(ISERROR(F47),\"\",IF(F47=0,\"\",(mf3value*'Results-advanced'!G47+'Results-advanced'!H47*mf2value)/100))","v":4720},null,null,null,null,null,null,null,null,null,null,{"$f":"  IF(ISERROR(S47),\"\",IF(S47=0,\"\",INDEX('mf1'!$A$5:$E$100,MATCH(S47,'mf1'!$A$5:$A$100,0),5)))","v":""},{"$f":"  IF(ISERROR(S47),\"\",IF(S47=0,\"\",INDEX('mf3'!$A$5:$E$100,MATCH(S47,'mf3'!$A$5:$A$100,0),5)))","v":""},{"$f":"  IF(ISERROR(S47),\"\",IF(S47=0,\"\",(mf3value*'Results-advanced'!T47+'Results-advanced'!U47*mf2value)/100))","v":""}]
[null,{"$f":"  IF(ISERROR(A48),\"\",IF(A48=0,\"\",INDEX('mf1'!$A$5:$E$100,MATCH(A48,'mf1'!$A$5:$A$100,0),5)))","v":""},{"$f":"  IF(ISERROR(A48),\"\",IF(A48=0,\"\",INDEX('mf2'!$A$5:$E$100,MATCH(A48,'mf2'!$A$5:$A$100,0),5)))","v":""},{"$f":" IF(ISERROR(A48),\"\",IF(A48=0,\"\",(mf2value*'Results-advanced'!B48+mf1value*'Results-advanced'!C48)/100))","v":""},null,"ZZtock",{"$f":"  IF(ISERROR(F48),\"\",IF(F48=0,\"\",INDEX('mf2'!$A$5:$E$100,MATCH(F48,'mf2'!$A$5:$A$100,0),5)))","v":{"$error":"#N/A"}},{"$f":"  IF(ISERROR(F48),\"\",IF(F48=0,\"\",INDEX('mf3'!$A$5:$E$100,MATCH(F48,'mf3'!$A$5:$A$100,0),5)))","v":{"$error":"#N/A"}},{"$f":"  IF(ISERROR(F48),\"\",IF(F48=0,\"\",(mf3value*'Results-advanced'!G48+'Results-advanced'!H48*mf2value)/100))","v":{"$error":"#N/A"}},null,null,null,null,null,null,null,null,null,null,{"$f":"  IF(ISERROR(S48),\"\",IF(S48=0,\"\",INDEX('mf1'!$A$5:$E$100,MATCH(S48,'mf1'!$A$5:$A$100,0),5)))","v":""},{"$f":"  IF(ISERROR(S48),\"\",IF(S48=0,\"\",INDEX('mf3'!$A$5:$E$100,MATCH(S48,'mf3'!$A$5:$A$100,0),5)))","v":""},{"$f":"  IF(ISERROR(S48),\"\",IF(S48=0,\"\",(mf3value*'Results-advanced'!T48+'Results-advanced'!U48*mf2value)/100))","v":""}]
[null,{"$f":"  IF(ISERROR(A49),\"\",IF(A49=0,\"\",INDEX('mf1'!$A$5:$E$100,MATCH(A49,'mf1'!$A$5:$A$100,0),5)))","v":""},{"$f":"  IF(ISERROR(A49),\"\",IF(A49=0,\"\",INDEX('mf2'!$A$5:$E$100,MATCH(A49,'mf2'!$A$5:$A$100,0),5)))","v":""},{"$f":" IF(ISERROR(A49),\"\",IF(A49=0,\"\",(mf2value*'Results-advanced'!B49+mf1value*'Results-advanced'!C49)/100))","v":""},null,null,{"$f":"  IF(ISERROR(F49),\"\",IF(F49=0,\"\",INDEX('mf2'!$A$5:$E$100,MATCH(F49,'mf2'!$A$5:$A$100,0),5)))","v":""},{"$f":"  IF(ISERROR(F49),\"\",IF(F49=0,\"\",INDEX('mf3'!$A$5:$E$100,MATCH(F49,'mf3'!$A$5:$A$100,0),5)))","v":""},{"$f":"  IF(ISERROR(F49),\"\",IF(F49=0,\"\",(mf3value*'Results-advanced'!G49+'Results-advanced'!H49*mf2value)/100))","v":""},null,null,null,null,null,null,null,null,null,null,{"$f":"  IF(ISERROR(S49),\"\",IF(S49=0,\"\",INDEX('mf1'!$A$5:$E$100,MATCH(S49,'mf1'!$A$5:$A$100,0),5)))","v":""},{"$f":"  IF(ISERROR(S49),\"\",IF(S49=0,\"\",INDEX('mf3'!$A$5:$E$100,MATCH(S49,'mf3'!$A$5:$A$100,0),5)))","v":""},{"$f":"  IF(ISERROR(S49),\"\",IF(S49=0,\"\",(mf3value*'Results-advanced'!T49+'Results-advanced'!U49*mf2value)/100))","v":""}]
[null,{"$f":"  IF(ISERROR(A50),\"\",IF(A50=0,\"\",INDEX('mf1'!$A$5:$E$100,MATCH(A50,'mf1'!$A$5:$A$100,0),5)))","v":""},{"$f":"  IF(ISERROR(A50),\"\",IF(A50=0,\"\",INDEX('mf2'!$A$5:$E$100,MATCH(A50,'mf2'!$A$5:$A$100,0),5)))","v":""},{"$f":" IF(ISERROR(A50),\"\",IF(A50=0,\"\",(mf2value*'Results-advanced'!B50+mf1value*'Results-advanced'!C50)/100))","v":""},null,null,{"$f":"  IF(ISERROR(F50),\"\",IF(F50=0,\"\",INDEX('mf2'!$A$5:$E$100,MATCH(F50,'mf2'!$A$5:$A$100,0),5)))","v":""},{"$f":"  IF(ISERROR(F50),\"\",IF(F50=0,\"\",INDEX('mf3'!$A$5:$E$100,MATCH(F50,'mf3'!$A$5:$A$100,0),5)))","v":""},{"$f":"  IF(ISERROR(F50),\"\",IF(F50=0,\"\",(mf3value*'Results-advanced'!G50+'Results-advanced'!H50*mf2value)/100))","v":""},null,null,null,null,null,null,null,null,null,null,{"$f":"  IF(ISERROR(S50),\"\",IF(S50=0,\"\",INDEX('mf1'!$A$5:$E$100,MATCH(S50,'mf1'!$A$5:$A$100,0),5)))","v":""},{"$f":"  IF(ISERROR(S50),\"\",IF(S50=0,\"\",INDEX('mf3'!$A$5:$E$100,MATCH(S50,'mf3'!$A$5:$A$100,0),5)))","v":""},{"$f":"  IF(ISERROR(S50),\"\",IF(S50=0,\"\",(mf3value*'Results-advanced'!T50+'Results-advanced'!U50*mf2value)/100))","v":""}]
[null,{"$f":"  IF(ISERROR(A51),\"\",IF(A51=0,\"\",INDEX('mf1'!$A$5:$E$100,MATCH(A51,'mf1'!$A$5:$A$100,0),5)))","v":""},{"$f":"  IF(ISERROR(A51),\"\",IF(A51=0,\"\",INDEX('mf2'!$A$5:$E$100,MATCH(A51,'mf2'!$A$5:$A$100,0),5)))","v":""},{"$f":" IF(ISERROR(A51),\"\",IF(A51=0,\"\",(mf2value*'Results-advanced'!B51+mf1value*'Results-advanced'!C51)/100))","v":""},null,null,{"$f":"  IF(ISERROR(F51),\"\",IF(F51=0,\"\",INDEX('mf2'!$A$5:$E$100,MATCH(F51,'mf2'!$A$5:$A$100,0),5)))","v":""},{"$f":"  IF(ISERROR(F51),\"\",IF(F51=0,\"\",INDEX('mf3'!$A$5:$E$100,MATCH(F51,'mf3'!$A$5:$A$100,0),5)))","v":""},{"$f":"  IF(ISERROR(F51),\"\",IF(F51=0,\"\",(mf3value*'Results-advanced'!G51+'Results-advanced'!H51*mf2value)/100))","v":""},null,null,null,null,null,null,null,null,null,null,{"$f":"  IF(ISERROR(S51),\"\",IF(S51=0,\"\",INDEX('mf1'!$A$5:$E$100,MATCH(S51,'mf1'!$A$5:$A$100,0),5)))","v":""},{"$f":"  IF(ISERROR(S51),\"\",IF(S51=0,\"\",INDEX('mf3'!$A$5:$E$100,MATCH(S51,'mf3'!$A$5:$A$100,0),5)))","v":""},{"$f":"  IF(ISERROR(S51),\"\",IF(S51=0,\"\",(mf3value*'Results-advanced'!T51+'Results-advanced'!U51*mf2value)/100))","v":""}]
[null,{"$f":"  IF(ISERROR(A52),\"\",IF(A52=0,\"\",INDEX('mf1'!$A$5:$E$100,MATCH(A52,'mf1'!$A$5:$A$100,0),5)))","v":""},{"$f":"  IF(ISERROR(A52),\"\",IF(A52=0,\"\",INDEX('mf2'!$A$5:$E$100,MATCH(A52,'mf2'!$A$5:$A$100,0),5)))","v":""},{"$f":" IF(ISERROR(A52),\"\",IF(A52=0,\"\",(mf2value*'Results-advanced'!B52+mf1value*'Results-advanced'!C52)/100))","v":""},null,null,{"$f":"  IF(ISERROR(F52),\"\",IF(F52=0,\"\",INDEX('mf2'!$A$5:$E$100,MATCH(F52,'mf2'!$A$5:$A$100,0),5)))","v":""},{"$f":"  IF(ISERROR(F52),\"\",IF(F52=0,\"\",INDEX('mf3'!$A$5:$E$100,MATCH(F52,'mf3'!$A$5:$A$100,0),5)))","v":""},{"$f":"  IF(ISERROR(F52),\"\",IF(F52=0,\"\",(mf3value*'Results-advanced'!G52+'Results-advanced'!H52*mf2value)/100))","v":""},null,null,null,null,null,null,null,null,null,null,{"$f":"  IF(ISERROR(S52),\"\",IF(S52=0,\"\",INDEX('mf1'!$A$5:$E$100,MATCH(S52,'mf1'!$A$5:$A$100,0),5)))","v":""},{"$f":"  IF(ISERROR(S52),\"\",IF(S52=0,\"\",INDEX('mf3'!$A$5:$E$100,MATCH(S52,'mf3'!$A$5:$A$100,0),5)))","v":""},{"$f":"  IF(ISERROR(S52),\"\",IF(S52=0,\"\",(mf3value*'Results-advanced'!T52+'Results-advanced'!U52*mf2value)/100))","v":""}]
[null,{"$f":"  IF(ISERROR(A53),\"\",IF(A53=0,\"\",INDEX('mf1'!$A$5:$E$100,MATCH(A53,'mf1'!$A$5:$A$100,0),5)))","v":""},{"$f":"  IF(ISERROR(A53),\"\",IF(A53=0,\"\",INDEX('mf2'!$A$5:$E$100,MATCH(A53,'mf2'!$A$5:$A$100,0),5)))","v":""},{"$f":" IF(ISERROR(A53),\"\",IF(A53=0,\"\",(mf2value*'Results-advanced'!B53+mf1value*'Results-advanced'!C53)/100))","v":""},null,null,{"$f":"  IF(ISERROR(F53),\"\",IF(F53=0,\"\",INDEX('mf2'!$A$5:$E$100,MATCH(F53,'mf2'!$A$5:$A$100,0),5)))","v":""},{"$f":"  IF(ISERROR(F53),\"\",IF(F53=0,\"\",INDEX('mf3'!$A$5:$E$100,MATCH(F53,'mf3'!$A$5:$A$100,0),5)))","v":""},{"$f":"  IF(ISERROR(F53),\"\",IF(F53=0,\"\",(mf3value*'Results-advanced'!G53+'Results-advanced'!H53*mf2value)/100))","v":""},null,null,null,null,null,null,null,null,null,null,{"$f":"  IF(ISERROR(S53),\"\",IF(S53=0,\"\",INDEX('mf1'!$A$5:$E$100,MATCH(S53,'mf1'!$A$5:$A$100,0),5)))","v":""},{"$f":"  IF(ISERROR(S53),\"\",IF(S53=0,\"\",INDEX('mf3'!$A$5:$E$100,MATCH(S53,'mf3'!$A$5:$A$100,0),5)))","v":""},{"$f":"  IF(ISERROR(S53),\"\",IF(S53=0,\"\",(mf3value*'Results-advanced'!T53+'Results-advanced'!U53*mf2value)/100))","v":""}]
[null,{"$f":"  IF(ISERROR(A54),\"\",IF(A54=0,\"\",INDEX('mf1'!$A$5:$E$100,MATCH(A54,'mf1'!$A$5:$A$100,0),5)))","v":""},{"$f":"  IF(ISERROR(A54),\"\",IF(A54=0,\"\",INDEX('mf2'!$A$5:$E$100,MATCH(A54,'mf2'!$A$5:$A$100,0),5)))","v":""},{"$f":" IF(ISERROR(A54),\"\",IF(A54=0,\"\",(mf2value*'Results-advanced'!B54+mf1value*'Results-advanced'!C54)/100))","v":""},null,null,{"$f":"  IF(ISERROR(F54),\"\",IF(F54=0,\"\",INDEX('mf2'!$A$5:$E$100,MATCH(F54,'mf2'!$A$5:$A$100,0),5)))","v":""},{"$f":"  IF(ISERROR(F54),\"\",IF(F54=0,\"\",INDEX('mf3'!$A$5:$E$100,MATCH(F54,'mf3'!$A$5:$A$100,0),5)))","v":""},{"$f":"  IF(ISERROR(F54),\"\",IF(F54=0,\"\",(mf3value*'Results-advanced'!G54+'Results-advanced'!H54*mf2value)/100))","v":""},null,null,null,null,null,null,null,null,null,null,{"$f":"  IF(ISERROR(S54),\"\",IF(S54=0,\"\",INDEX('mf1'!$A$5:$E$100,MATCH(S54,'mf1'!$A$5:$A$100,0),5)))","v":""},{"$f":"  IF(ISERROR(S54),\"\",IF(S54=0,\"\",INDEX('mf3'!$A$5:$E$100,MATCH(S54,'mf3'!$A$5:$A$100,0),5)))","v":""},{"$f":"  IF(ISERROR(S54),\"\",IF(S54=0,\"\",(mf3value*'Results-advanced'!T54+'Results-advanced'!U54*mf2value)/100))","v":""}]
[null,{"$f":"  IF(ISERROR(A55),\"\",IF(A55=0,\"\",INDEX('mf1'!$A$5:$E$100,MATCH(A55,'mf1'!$A$5:$A$100,0),5)))","v":""},{"$f":"  IF(ISERROR(A55),\"\",IF(A55=0,\"\",INDEX('mf2'!$A$5:$E$100,MATCH(A55,'mf2'!$A$5:$A$100,0),5)))","v":""},{"$f":" IF(ISERROR(A55),\"\",IF(A55=0,\"\",(mf2value*'Results-advanced'!B55+mf1value*'Results-advanced'!C55)/100))","v":""},null,null,{"$f":"  IF(ISERROR(F55),\"\",IF(F55=0,\"\",INDEX('mf2'!$A$5:$E$100,MATCH(F55,'mf2'!$A$5:$A$100,0),5)))","v":""},{"$f":"  IF(ISERROR(F55),\"\",IF(F55=0,\"\",INDEX('mf3'!$A$5:$E$100,MATCH(F55,'mf3'!$A$5:$A$100,0),5)))","v":""},{"$f":"  IF(ISERROR(F55),\"\",IF(F55=0,\"\",(mf3value*'Results-advanced'!G55+'Results-advanced'!H55*mf2value)/100))","v":""},null,null,null,null,null,null,null,null,null,null,{"$f":"  IF(ISERROR(S55),\"\",IF(S55=0,\"\",INDEX('mf1'!$A$5:$E$100,MATCH(S55,'mf1'!$A$5:$A$100,0),5)))","v":""},{"$f":"  IF(ISERROR(S55),\"\",IF(S55=0,\"\",INDEX('mf3'!$A$5:$E$100,MATCH(S55,'mf3'!$A$5:$A$100,0),5)))","v":""},{"$f":"  IF(ISERROR(S55),\"\",IF(S55=0,\"\",(mf3value*'Results-advanced'!T55+'Results-advanced'!U55*mf2value)/100))","v":""}]
[null,{"$f":"  IF(ISERROR(A56),\"\",IF(A56=0,\"\",INDEX('mf1'!$A$5:$E$100,MATCH(A56,'mf1'!$A$5:$A$100,0),5)))","v":""},{"$f":"  IF(ISERROR(A56),\"\",IF(A56=0,\"\",INDEX('mf2'!$A$5:$E$100,MATCH(A56,'mf2'!$A$5:$A$100,0),5)))","v":""},{"$f":" IF(ISERROR(A56),\"\",IF(A56=0,\"\",(mf2value*'Results-advanced'!B56+mf1value*'Results-advanced'!C56)/100))","v":""},null,null,{"$f":"  IF(ISERROR(F56),\"\",IF(F56=0,\"\",INDEX('mf2'!$A$5:$E$100,MATCH(F56,'mf2'!$A$5:$A$100,0),5)))","v":""},{"$f":"  IF(ISERROR(F56),\"\",IF(F56=0,\"\",INDEX('mf3'!$A$5:$E$100,MATCH(F56,'mf3'!$A$5:$A$100,0),5)))","v":""},{"$f":"  IF(ISERROR(F56),\"\",IF(F56=0,\"\",(mf3value*'Results-advanced'!G56+'Results-advanced'!H56*mf2value)/100))","v":""},null,null,null,null,null,null,null,null,null,null,{"$f":"  IF(ISERROR(S56),\"\",IF(S56=0,\"\",INDEX('mf1'!$A$5:$E$100,MATCH(S56,'mf1'!$A$5:$A$100,0),5)))","v":""},{"$f":"  IF(ISERROR(S56),\"\",IF(S56=0,\"\",INDEX('mf3'!$A$5:$E$100,MATCH(S56,'mf3'!$A$5:$A$100,0),5)))","v":""},{"$f":"  IF(ISERROR(S56),\"\",IF(S56=0,\"\",(mf3value*'Results-advanced'!T56+'Results-advanced'!U56*mf2value)/100))","v":""}]
[null,{"$f":"  IF(ISERROR(A57),\"\",IF(A57=0,\"\",INDEX('mf1'!$A$5:$E$100,MATCH(A57,'mf1'!$A$5:$A$100,0),5)))","v":""},{"$f":"  IF(ISERROR(A57),\"\",IF(A57=0,\"\",INDEX('mf2'!$A$5:$E$100,MATCH(A57,'mf2'!$A$5:$A$100,0),5)))","v":""},{"$f":" IF(ISERROR(A57),\"\",IF(A57=0,\"\",(mf2value*'Results-advanced'!B57+mf1value*'Results-advanced'!C57)/100))","v":""},null,null,{"$f":"  IF(ISERROR(F57),\"\",IF(F57=0,\"\",INDEX('mf2'!$A$5:$E$100,MATCH(F57,'mf2'!$A$5:$A$100,0),5)))","v":""},{"$f":"  IF(ISERROR(F57),\"\",IF(F57=0,\"\",INDEX('mf3'!$A$5:$E$100,MATCH(F57,'mf3'!$A$5:$A$100,0),5)))","v":""},{"$f":"  IF(ISERROR(F57),\"\",IF(F57=0,\"\",(mf3value*'Results-advanced'!G57+'Results-advanced'!H57*mf2value)/100))","v":""},null,null,null,null,null,null,null,null,null,null,{"$f":"  IF(ISERROR(S57),\"\",IF(S57=0,\"\",INDEX('mf1'!$A$5:$E$100,MATCH(S57,'mf1'!$A$5:$A$100,0),5)))","v":""},{"$f":"  IF(ISERROR(S57),\"\",IF(S57=0,\"\",INDEX('mf3'!$A$5:$E$100,MATCH(S57,'mf3'!$A$5:$A$100,0),5)))","v":""},{"$f":"  IF(ISERROR(S57),\"\",IF(S57=0,\"\",(mf3value*'Results-advanced'!T57+'Results-advanced'!U57*mf2value)/100))","v":""}]
[null,{"$f":"  IF(ISERROR(A58),\"\",IF(A58=0,\"\",INDEX('mf1'!$A$5:$E$100,MATCH(A58,'mf1'!$A$5:$A$100,0),5)))","v":""},{"$f":"  IF(ISERROR(A58),\"\",IF(A58=0,\"\",INDEX('mf2'!$A$5:$E$100,MATCH(A58,'mf2'!$A$5:$A$100,0),5)))","v":""},{"$f":" IF(ISERROR(A58),\"\",IF(A58=0,\"\",(mf2value*'Results-advanced'!B58+mf1value*'Results-advanced'!C58)/100))","v":""},null,null,{"$f":"  IF(ISERROR(F58),\"\",IF(F58=0,\"\",INDEX('mf2'!$A$5:$E$100,MATCH(F58,'mf2'!$A$5:$A$100,0),5)))","v":""},{"$f":"  IF(ISERROR(F58),\"\",IF(F58=0,\"\",INDEX('mf3'!$A$5:$E$100,MATCH(F58,'mf3'!$A$5:$A$100,0),5)))","v":""},{"$f":"  IF(ISERROR(F58),\"\",IF(F58=0,\"\",(mf3value*'Results-advanced'!G58+'Results-advanced'!H58*mf2value)/100))","v":""},null,null,null,null,null,null,null,null,null,null,{"$f":"  IF(ISERROR(S58),\"\",IF(S58=0,\"\",INDEX('mf1'!$A$5:$E$100,MATCH(S58,'mf1'!$A$5:$A$100,0),5)))","v":""},{"$f":"  IF(ISERROR(S58),\"\",IF(S58=0,\"\",INDEX('mf3'!$A$5:$E$100,MATCH(S58,'mf3'!$A$5:$A$100,0),5)))","v":""},{"$f":"  IF(ISERROR(S58),\"\",IF(S58=0,\"\",(mf3value*'Results-advanced'!T58+'Results-advanced'!U58*mf2value)/100))","v":""}]
[null,{"$f":"  IF(ISERROR(A59),\"\",IF(A59=0,\"\",INDEX('mf1'!$A$5:$E$100,MATCH(A59,'mf1'!$A$5:$A$100,0),5)))","v":""},{"$f":"  IF(ISERROR(A59),\"\",IF(A59=0,\"\",INDEX('mf2'!$A$5:$E$100,MATCH(A59,'mf2'!$A$5:$A$100,0),5)))","v":""},{"$f":" IF(ISERROR(A59),\"\",IF(A59=0,\"\",(mf2value*'Results-advanced'!B59+mf1value*'Results-advanced'!C59)/100))","v":""},null,null,{"$f":"  IF(ISERROR(F59),\"\",IF(F59=0,\"\",INDEX('mf2'!$A$5:$E$100,MATCH(F59,'mf2'!$A$5:$A$100,0),5)))","v":""},{"$f":"  IF(ISERROR(F59),\"\",IF(F59=0,\"\",INDEX('mf3'!$A$5:$E$100,MATCH(F59,'mf3'!$A$5:$A$100,0),5)))","v":""},{"$f":"  IF(ISERROR(F59),\"\",IF(F59=0,\"\",(mf3value*'Results-advanced'!G59+'Results-advanced'!H59*mf2value)/100))","v":""},null,null,null,null,null,null,null,null,null,null,{"$f":"  IF(ISERROR(S59),\"\",IF(S59=0,\"\",INDEX('mf1'!$A$5:$E$100,MATCH(S59,'mf1'!$A$5:$A$100,0),5)))","v":""},{"$f":"  IF(ISERROR(S59),\"\",IF(S59=0,\"\",INDEX('mf3'!$A$5:$E$100,MATCH(S59,'mf3'!$A$5:$A$100,0),5)))","v":""},{"$f":"  IF(ISERROR(S59),\"\",IF(S59=0,\"\",(mf3value*'Results-advanced'!T59+'Results-advanced'!U59*mf2value)/100))","v":""}]
[null,{"$f":"  IF(ISERROR(A60),\"\",IF(A60=0,\"\",INDEX('mf1'!$A$5:$E$100,MATCH(A60,'mf1'!$A$5:$A$100,0),5)))","v":""},{"$f":"  IF(ISERROR(A60),\"\",IF(A60=0,\"\",INDEX('mf2'!$A$5:$E$100,MATCH(A60,'mf2'!$A$5:$A$100,0),5)))","v":""},{"$f":" IF(ISERROR(A60),\"\",IF(A60=0,\"\",(mf2value*'Results-advanced'!B60+mf1value*'Results-advanced'!C60)/100))","v":""},null,null,{"$f":"  IF(ISERROR(F60),\"\",IF(F60=0,\"\",INDEX('mf2'!$A$5:$E$100,MATCH(F60,'mf2'!$A$5:$A$100,0),5)))","v":""},{"$f":"  IF(ISERROR(F60),\"\",IF(F60=0,\"\",INDEX('mf3'!$A$5:$E$100,MATCH(F60,'mf3'!$A$5:$A$100,0),5)))","v":""},{"$f":"  IF(ISERROR(F60),\"\",IF(F60=0,\"\",(mf3value*'Results-advanced'!G60+'Results-advanced'!H60*mf2value)/100))","v":""},null,null,null,null,null,null,null,null,null,null,{"$f":"  IF(ISERROR(S60),\"\",IF(S60=0,\"\",INDEX('mf1'!$A$5:$E$100,MATCH(S60,'mf1'!$A$5:$A$100,0),5)))","v":""},{"$f":"  IF(ISERROR(S60),\"\",IF(S60=0,\"\",INDEX('mf3'!$A$5:$E$100,MATCH(S60,'mf3'!$A$5:$A$100,0),5)))","v":""},{"$f":"  IF(ISERROR(S60),\"\",IF(S60=0,\"\",(mf3value*'Results-advanced'!T60+'Results-advanced'!U60*mf2value)/100))","v":""}]
[null,{"$f":"  IF(ISERROR(A61),\"\",IF(A61=0,\"\",INDEX('mf1'!$A$5:$E$100,MATCH(A61,'mf1'!$A$5:$A$100,0),5)))","v":""},{"$f":"  IF(ISERROR(A61),\"\",IF(A61=0,\"\",INDEX('mf2'!$A$5:$E$100,MATCH(A61,'mf2'!$A$5:$A$100,0),5)))","v":""},{"$f":" IF(ISERROR(A61),\"\",IF(A61=0,\"\",(mf2value*'Results-advanced'!B61+mf1value*'Results-advanced'!C61)/100))","v":""},null,null,{"$f":"  IF(ISERROR(F61),\"\",IF(F61=0,\"\",INDEX('mf2'!$A$5:$E$100,MATCH(F61,'mf2'!$A$5:$A$100,0),5)))","v":""},{"$f":"  IF(ISERROR(F61),\"\",IF(F61=0,\"\",INDEX('mf3'!$A$5:$E$100,MATCH(F61,'mf3'!$A$5:$A$100,0),5)))","v":""},{"$f":"  IF(ISERROR(F61),\"\",IF(F61=0,\"\",(mf3value*'Results-advanced'!G61+'Results-advanced'!H61*mf2value)/100))","v":""},null,null,null,null,null,null,null,null,null,null,{"$f":"  IF(ISERROR(S61),\"\",IF(S61=0,\"\",INDEX('mf1'!$A$5:$E$100,MATCH(S61,'mf1'!$A$5:$A$100,0),5)))","v":""},{"$f":"  IF(ISERROR(S61),\"\",IF(S61=0,\"\",INDEX('mf3'!$A$5:$E$100,MATCH(S61,'mf3'!$A$5:$A$100,0),5)))","v":""},{"$f":"  IF(ISERROR(S61),\"\",IF(S61=0,\"\",(mf3value*'Results-advanced'!T61+'Results-advanced'!U61*mf2value)/100))","v":""}]
[null,{"$f":"  IF(ISERROR(A62),\"\",IF(A62=0,\"\",INDEX('mf1'!$A$5:$E$100,MATCH(A62,'mf1'!$A$5:$A$100,0),5)))","v":""},{"$f":"  IF(ISERROR(A62),\"\",IF(A62=0,\"\",INDEX('mf2'!$A$5:$E$100,MATCH(A62,'mf2'!$A$5:$A$100,0),5)))","v":""},{"$f":" IF(ISERROR(A62),\"\",IF(A62=0,\"\",(mf2value*'Results-advanced'!B62+mf1value*'Results-advanced'!C62)/100))","v":""},null,null,{"$f":"  IF(ISERROR(F62),\"\",IF(F62=0,\"\",INDEX('mf2'!$A$5:$E$100,MATCH(F62,'mf2'!$A$5:$A$100,0),5)))","v":""},{"$f":"  IF(ISERROR(F62),\"\",IF(F62=0,\"\",INDEX('mf3'!$A$5:$E$100,MATCH(F62,'mf3'!$A$5:$A$100,0),5)))","v":""},{"$f":"  IF(ISERROR(F62),\"\",IF(F62=0,\"\",(mf3value*'Results-advanced'!G62+'Results-advanced'!H62*mf2value)/100))","v":""},null,null,null,null,null,null,null,null,null,null,{"$f":"  IF(ISERROR(S62),\"\",IF(S62=0,\"\",INDEX('mf1'!$A$5:$E$100,MATCH(S62,'mf1'!$A$5:$A$100,0),5)))","v":""},{"$f":"  IF(ISERROR(S62),\"\",IF(S62=0,\"\",INDEX('mf3'!$A$5:$E$100,MATCH(S62,'mf3'!$A$5:$A$100,0),5)))","v":""},{"$f":"  IF(ISERROR(S62),\"\",IF(S62=0,\"\",(mf3value*'Results-advanced'!T62+'Results-advanced'!U62*mf2value)/100))","v":""}]
[null,{"$f":"  IF(ISERROR(A63),\"\",IF(A63=0,\"\",INDEX('mf1'!$A$5:$E$100,MATCH(A63,'mf1'!$A$5:$A$100,0),5)))","v":""},{"$f":"  IF(ISERROR(A63),\"\",IF(A63=0,\"\",INDEX('mf2'!$A$5:$E$100,MATCH(A63,'mf2'!$A$5:$A$100,0),5)))","v":""},{"$f":" IF(ISERROR(A63),\"\",IF(A63=0,\"\",(mf2value*'Results-advanced'!B63+mf1value*'Results-advanced'!C63)/100))","v":""},null,null,{"$f":"  IF(ISERROR(F63),\"\",IF(F63=0,\"\",INDEX('mf2'!$A$5:$E$100,MATCH(F63,'mf2'!$A$5:$A$100,0),5)))","v":""},{"$f":"  IF(ISERROR(F63),\"\",IF(F63=0,\"\",INDEX('mf3'!$A$5:$E$100,MATCH(F63,'mf3'!$A$5:$A$100,0),5)))","v":""},{"$f":"  IF(ISERROR(F63),\"\",IF(F63=0,\"\",(mf3value*'Results-advanced'!G63+'Results-advanced'!H63*mf2value)/100))","v":""},null,null,null,null,null,null,null,null,null,null,{"$f":"  IF(ISERROR(S63),\"\",IF(S63=0,\"\",INDEX('mf1'!$A$5:$E$100,MATCH(S63,'mf1'!$A$5:$A$100,0),5)))","v":""},{"$f":"  IF(ISERROR(S63),\"\",IF(S63=0,\"\",INDEX('mf3'!$A$5:$E$100,MATCH(S63,'mf3'!$A$5:$A$100,0),5)))","v":""},{"$f":"  IF(ISERROR(S63),\"\",IF(S63=0,\"\",(mf3value*'Results-advanced'!T63+'Results-advanced'!U63*mf2value)/100))","v":""}]
[null,{"$f":"  IF(ISERROR(A64),\"\",IF(A64=0,\"\",INDEX('mf1'!$A$5:$E$100,MATCH(A64,'mf1'!$A$5:$A$100,0),5)))","v":""},{"$f":"  IF(ISERROR(A64),\"\",IF(A64=0,\"\",INDEX('mf2'!$A$5:$E$100,MATCH(A64,'mf2'!$A$5:$A$100,0),5)))","v":""},{"$f":" IF(ISERROR(A64),\"\",IF(A64=0,\"\",(mf2value*'Results-advanced'!B64+mf1value*'Results-advanced'!C64)/100))","v":""},null,null,{"$f":"  IF(ISERROR(F64),\"\",IF(F64=0,\"\",INDEX('mf2'!$A$5:$E$100,MATCH(F64,'mf2'!$A$5:$A$100,0),5)))","v":""},{"$f":"  IF(ISERROR(F64),\"\",IF(F64=0,\"\",INDEX('mf3'!$A$5:$E$100,MATCH(F64,'mf3'!$A$5:$A$100,0),5)))","v":""},{"$f":"  IF(ISERROR(F64),\"\",IF(F64=0,\"\",(mf3value*'Results-advanced'!G64+'Results-advanced'!H64*mf2value)/100))","v":""},null,null,null,null,null,null,null,null,null,null,{"$f":"  IF(ISERROR(S64),\"\",IF(S64=0,\"\",INDEX('mf1'!$A$5:$E$100,MATCH(S64,'mf1'!$A$5:$A$100,0),5)))","v":""},{"$f":"  IF(ISERROR(S64),\"\",IF(S64=0,\"\",INDEX('mf3'!$A$5:$E$100,MATCH(S64,'mf3'!$A$5:$A$100,0),5)))","v":""},{"$f":"  IF(ISERROR(S64),\"\",IF(S64=0,\"\",(mf3value*'Results-advanced'!T64+'Results-advanced'!U64*mf2value)/100))","v":""}]
[null,{"$f":"  IF(ISERROR(A65),\"\",IF(A65=0,\"\",INDEX('mf1'!$A$5:$E$100,MATCH(A65,'mf1'!$A$5:$A$100,0),5)))","v":""},{"$f":"  IF(ISERROR(A65),\"\",IF(A65=0,\"\",INDEX('mf2'!$A$5:$E$100,MATCH(A65,'mf2'!$A$5:$A$100,0),5)))","v":""},{"$f":" IF(ISERROR(A65),\"\",IF(A65=0,\"\",(mf2value*'Results-advanced'!B65+mf1value*'Results-advanced'!C65)/100))","v":""},null,null,{"$f":"  IF(ISERROR(F65),\"\",IF(F65=0,\"\",INDEX('mf2'!$A$5:$E$100,MATCH(F65,'mf2'!$A$5:$A$100,0),5)))","v":""},{"$f":"  IF(ISERROR(F65),\"\",IF(F65=0,\"\",INDEX('mf3'!$A$5:$E$100,MATCH(F65,'mf3'!$A$5:$A$100,0),5)))","v":""},{"$f":"  IF(ISERROR(F65),\"\",IF(F65=0,\"\",(mf3value*'Results-advanced'!G65+'Results-advanced'!H65*mf2value)/100))","v":""},null,null,null,null,null,null,null,null,null,null,{"$f":"  IF(ISERROR(S65),\"\",IF(S65=0,\"\",INDEX('mf1'!$A$5:$E$100,MATCH(S65,'mf1'!$A$5:$A$100,0),5)))","v":""},{"$f":"  IF(ISERROR(S65),\"\",IF(S65=0,\"\",INDEX('mf3'!$A$5:$E$100,MATCH(S65,'mf3'!$A$5:$A$100,0),5)))","v":""},{"$f":"  IF(ISERROR(S65),\"\",IF(S65=0,\"\",(mf3value*'Results-advanced'!T65+'Results-advanced'!U65*mf2value)/100))","v":""}]
[null,{"$f":"  IF(ISERROR(A66),\"\",IF(A66=0,\"\",INDEX('mf1'!$A$5:$E$100,MATCH(A66,'mf1'!$A$5:$A$100,0),5)))","v":""},{"$f":"  IF(ISERROR(A66),\"\",IF(A66=0,\"\",INDEX('mf2'!$A$5:$E$100,MATCH(A66,'mf2'!$A$5:$A$100,0),5)))","v":""},{"$f":" IF(ISERROR(A66),\"\",IF(A66=0,\"\",(mf2value*'Results-advanced'!B66+mf1value*'Results-advanced'!C66)/100))","v":""},null,null,{"$f":"  IF(ISERROR(F66),\"\",IF(F66=0,\"\",INDEX('mf2'!$A$5:$E$100,MATCH(F66,'mf2'!$A$5:$A$100,0),5)))","v":""},{"$f":"  IF(ISERROR(F66),\"\",IF(F66=0,\"\",INDEX('mf3'!$A$5:$E$100,MATCH(F66,'mf3'!$A$5:$A$100,0),5)))","v":""},{"$f":"  IF(ISERROR(F66),\"\",IF(F66=0,\"\",(mf3value*'Results-advanced'!G66+'Results-advanced'!H66*mf2value)/100))","v":""},null,null,null,null,null,null,null,null,null,null,{"$f":"  IF(ISERROR(S66),\"\",IF(S66=0,\"\",INDEX('mf1'!$A$5:$E$100,MATCH(S66,'mf1'!$A$5:$A$100,0),5)))","v":""},{"$f":"  IF(ISERROR(S66),\"\",IF(S66=0,\"\",INDEX('mf3'!$A$5:$E$100,MATCH(S66,'mf3'!$A$5:$A$100,0),5)))","v":""},{"$f":"  IF(ISERROR(S66),\"\",IF(S66=0,\"\",(mf3value*'Results-advanced'!T66+'Results-advanced'!U66*mf2value)/100))","v":""}]
[null,{"$f":"  IF(ISERROR(A67),\"\",IF(A67=0,\"\",INDEX('mf1'!$A$5:$E$100,MATCH(A67,'mf1'!$A$5:$A$100,0),5)))","v":""},{"$f":"  IF(ISERROR(A67),\"\",IF(A67=0,\"\",INDEX('mf2'!$A$5:$E$100,MATCH(A67,'mf2'!$A$5:$A$100,0),5)))","v":""},{"$f":" IF(ISERROR(A67),\"\",IF(A67=0,\"\",(mf2value*'Results-advanced'!B67+mf1value*'Results-advanced'!C67)/100))","v":""},null,null,{"$f":"  IF(ISERROR(F67),\"\",IF(F67=0,\"\",INDEX('mf2'!$A$5:$E$100,MATCH(F67,'mf2'!$A$5:$A$100,0),5)))","v":""},{"$f":"  IF(ISERROR(F67),\"\",IF(F67=0,\"\",INDEX('mf3'!$A$5:$E$100,MATCH(F67,'mf3'!$A$5:$A$100,0),5)))","v":""},{"$f":"  IF(ISERROR(F67),\"\",IF(F67=0,\"\",(mf3value*'Results-advanced'!G67+'Results-advanced'!H67*mf2value)/100))","v":""},null,null,null,null,null,null,null,null,null,null,{"$f":"  IF(ISERROR(S67),\"\",IF(S67=0,\"\",INDEX('mf1'!$A$5:$E$100,MATCH(S67,'mf1'!$A$5:$A$100,0),5)))","v":""},{"$f":"  IF(ISERROR(S67),\"\",IF(S67=0,\"\",INDEX('mf3'!$A$5:$E$100,MATCH(S67,'mf3'!$A$5:$A$100,0),5)))","v":""},{"$f":"  IF(ISERROR(S67),\"\",IF(S67=0,\"\",(mf3value*'Results-advanced'!T67+'Results-advanced'!U67*mf2value)/100))","v":""}]
[null,{"$f":"  IF(ISERROR(A68),\"\",IF(A68=0,\"\",INDEX('mf1'!$A$5:$E$100,MATCH(A68,'mf1'!$A$5:$A$100,0),5)))","v":""},{"$f":"  IF(ISERROR(A68),\"\",IF(A68=0,\"\",INDEX('mf2'!$A$5:$E$100,MATCH(A68,'mf2'!$A$5:$A$100,0),5)))","v":""},{"$f":" IF(ISERROR(A68),\"\",IF(A68=0,\"\",(mf2value*'Results-advanced'!B68+mf1value*'Results-advanced'!C68)/100))","v":""},null,null,{"$f":"  IF(ISERROR(F68),\"\",IF(F68=0,\"\",INDEX('mf2'!$A$5:$E$100,MATCH(F68,'mf2'!$A$5:$A$100,0),5)))","v":""},{"$f":"  IF(ISERROR(F68),\"\",IF(F68=0,\"\",INDEX('mf3'!$A$5:$E$100,MATCH(F68,'mf3'!$A$5:$A$100,0),5)))","v":""},{"$f":"  IF(ISERROR(F68),\"\",IF(F68=0,\"\",(mf3value*'Results-advanced'!G68+'Results-advanced'!H68*mf2value)/100))","v":""},null,null,null,null,null,null,null,null,null,null,{"$f":"  IF(ISERROR(S68),\"\",IF(S68=0,\"\",INDEX('mf1'!$A$5:$E$100,MATCH(S68,'mf1'!$A$5:$A$100,0),5)))","v":""},{"$f":"  IF(ISERROR(S68),\"\",IF(S68=0,\"\",INDEX('mf3'!$A$5:$E$100,MATCH(S68,'mf3'!$A$5:$A$100,0),5)))","v":""},{"$f":"  IF(ISERROR(S68),\"\",IF(S68=0,\"\",(mf3value*'Results-advanced'!T68+'Results-advanced'!U68*mf2value)/100))","v":""}]
[null,{"$f":"  IF(ISERROR(A69),\"\",IF(A69=0,\"\",INDEX('mf1'!$A$5:$E$100,MATCH(A69,'mf1'!$A$5:$A$100,0),5)))","v":""},{"$f":"  IF(ISERROR(A69),\"\",IF(A69=0,\"\",INDEX('mf2'!$A$5:$E$100,MATCH(A69,'mf2'!$A$5:$A$100,0),5)))","v":""},{"$f":" IF(ISERROR(A69),\"\",IF(A69=0,\"\",(mf2value*'Results-advanced'!B69+mf1value*'Results-advanced'!C69)/100))","v":""},null,null,{"$f":"  IF(ISERROR(F69),\"\",IF(F69=0,\"\",INDEX('mf2'!$A$5:$E$100,MATCH(F69,'mf2'!$A$5:$A$100,0),5)))","v":""},{"$f":"  IF(ISERROR(F69),\"\",IF(F69=0,\"\",INDEX('mf3'!$A$5:$E$100,MATCH(F69,'mf3'!$A$5:$A$100,0),5)))","v":""},{"$f":"  IF(ISERROR(F69),\"\",IF(F69=0,\"\",(mf3value*'Results-advanced'!G69+'Results-advanced'!H69*mf2value)/100))","v":""},null,null,null,null,null,null,null,null,null,null,{"$f":"  IF(ISERROR(S69),\"\",IF(S69=0,\"\",INDEX('mf1'!$A$5:$E$100,MATCH(S69,'mf1'!$A$5:$A$100,0),5)))","v":""},{"$f":"  IF(ISERROR(S69),\"\",IF(S69=0,\"\",INDEX('mf3'!$A$5:$E$100,MATCH(S69,'mf3'!$A$5:$A$100,0),5)))","v":""},{"$f":"  IF(ISERROR(S69),\"\",IF(S69=0,\"\",(mf3value*'Results-advanced'!T69+'Results-advanced'!U69*mf2value)/100))","v":""}]
[null,{"$f":"  IF(ISERROR(A70),\"\",IF(A70=0,\"\",INDEX('mf1'!$A$5:$E$100,MATCH(A70,'mf1'!$A$5:$A$100,0),5)))","v":""},{"$f":"  IF(ISERROR(A70),\"\",IF(A70=0,\"\",INDEX('mf2'!$A$5:$E$100,MATCH(A70,'mf2'!$A$5:$A$100,0),5)))","v":""},{"$f":" IF(ISERROR(A70),\"\",IF(A70=0,\"\",(mf2value*'Results-advanced'!B70+mf1value*'Results-advanced'!C70)/100))","v":""},null,null,{"$f":"  IF(ISERROR(F70),\"\",IF(F70=0,\"\",INDEX('mf2'!$A$5:$E$100,MATCH(F70,'mf2'!$A$5:$A$100,0),5)))","v":""},{"$f":"  IF(ISERROR(F70),\"\",IF(F70=0,\"\",INDEX('mf3'!$A$5:$E$100,MATCH(F70,'mf3'!$A$5:$A$100,0),5)))","v":""},{"$f":"  IF(ISERROR(F70),\"\",IF(F70=0,\"\",(mf3value*'Results-advanced'!G70+'Results-advanced'!H70*mf2value)/100))","v":""},null,null,null,null,null,null,null,null,null,null,{"$f":"  IF(ISERROR(S70),\"\",IF(S70=0,\"\",INDEX('mf1'!$A$5:$E$100,MATCH(S70,'mf1'!$A$5:$A$100,0),5)))","v":""},{"$f":"  IF(ISERROR(S70),\"\",IF(S70=0,\"\",INDEX('mf3'!$A$5:$E$100,MATCH(S70,'mf3'!$A$5:$A$100,0),5)))","v":""},{"$f":"  IF(ISERROR(S70),\"\",IF(S70=0,\"\",(mf3value*'Results-advanced'!T70+'Results-advanced'!U70*mf2value)/100))","v":""}]
[null,{"$f":"  IF(ISERROR(A71),\"\",IF(A71=0,\"\",INDEX('mf1'!$A$5:$E$100,MATCH(A71,'mf1'!$A$5:$A$100,0),5)))","v":""},{"$f":"  IF(ISERROR(A71),\"\",IF(A71=0,\"\",INDEX('mf2'!$A$5:$E$100,MATCH(A71,'mf2'!$A$5:$A$100,0),5)))","v":""},{"$f":" IF(ISERROR(A71),\"\",IF(A71=0,\"\",(mf2value*'Results-advanced'!B71+mf1value*'Results-advanced'!C71)/100))","v":""},null,null,{"$f":"  IF(ISERROR(F71),\"\",IF(F71=0,\"\",INDEX('mf2'!$A$5:$E$100,MATCH(F71,'mf2'!$A$5:$A$100,0),5)))","v":""},{"$f":"  IF(ISERROR(F71),\"\",IF(F71=0,\"\",INDEX('mf3'!$A$5:$E$100,MATCH(F71,'mf3'!$A$5:$A$100,0),5)))","v":""},{"$f":"  IF(ISERROR(F71),\"\",IF(F71=0,\"\",(mf3value*'Results-advanced'!G71+'Results-advanced'!H71*mf2value)/100))","v":""},null,null,null,null,null,null,null,null,null,null,{"$f":"  IF(ISERROR(S71),\"\",IF(S71=0,\"\",INDEX('mf1'!$A$5:$E$100,MATCH(S71,'mf1'!$A$5:$A$100,0),5)))","v":""},{"$f":"  IF(ISERROR(S71),\"\",IF(S71=0,\"\",INDEX('mf3'!$A$5:$E$100,MATCH(S71,'mf3'!$A$5:$A$100,0),5)))","v":""},{"$f":"  IF(ISERROR(S71),\"\",IF(S71=0,\"\",(mf3value*'Results-advanced'!T71+'Results-advanced'!U71*mf2value)/100))","v":""}]
[null,{"$f":"  IF(ISERROR(A72),\"\",IF(A72=0,\"\",INDEX('mf1'!$A$5:$E$100,MATCH(A72,'mf1'!$A$5:$A$100,0),5)))","v":""},{"$f":"  IF(ISERROR(A72),\"\",IF(A72=0,\"\",INDEX('mf2'!$A$5:$E$100,MATCH(A72,'mf2'!$A$5:$A$100,0),5)))","v":""},{"$f":" IF(ISERROR(A72),\"\",IF(A72=0,\"\",(mf2value*'Results-advanced'!B72+mf1value*'Results-advanced'!C72)/100))","v":""},null,null,{"$f":"  IF(ISERROR(F72),\"\",IF(F72=0,\"\",INDEX('mf2'!$A$5:$E$100,MATCH(F72,'mf2'!$A$5:$A$100,0),5)))","v":""},{"$f":"  IF(ISERROR(F72),\"\",IF(F72=0,\"\",INDEX('mf3'!$A$5:$E$100,MATCH(F72,'mf3'!$A$5:$A$100,0),5)))","v":""},{"$f":"  IF(ISERROR(F72),\"\",IF(F72=0,\"\",(mf3value*'Results-advanced'!G72+'Results-advanced'!H72*mf2value)/100))","v":""},null,null,null,null,null,null,null,null,null,null,{"$f":"  IF(ISERROR(S72),\"\",IF(S72=0,\"\",INDEX('mf1'!$A$5:$E$100,MATCH(S72,'mf1'!$A$5:$A$100,0),5)))","v":""},{"$f":"  IF(ISERROR(S72),\"\",IF(S72=0,\"\",INDEX('mf3'!$A$5:$E$100,MATCH(S72,'mf3'!$A$5:$A$100,0),5)))","v":""},{"$f":"  IF(ISERROR(S72),\"\",IF(S72=0,\"\",(mf3value*'Results-advanced'!T72+'Results-advanced'!U72*mf2value)/100))","v":""}]
[null,{"$f":"  IF(ISERROR(A73),\"\",IF(A73=0,\"\",INDEX('mf1'!$A$5:$E$100,MATCH(A73,'mf1'!$A$5:$A$100,0),5)))","v":""},{"$f":"  IF(ISERROR(A73),\"\",IF(A73=0,\"\",INDEX('mf2'!$A$5:$E$100,MATCH(A73,'mf2'!$A$5:$A$100,0),5)))","v":""},{"$f":" IF(ISERROR(A73),\"\",IF(A73=0,\"\",(mf2value*'Results-advanced'!B73+mf1value*'Results-advanced'!C73)/100))","v":""},null,null,{"$f":"  IF(ISERROR(F73),\"\",IF(F73=0,\"\",INDEX('mf2'!$A$5:$E$100,MATCH(F73,'mf2'!$A$5:$A$100,0),5)))","v":""},{"$f":"  IF(ISERROR(F73),\"\",IF(F73=0,\"\",INDEX('mf3'!$A$5:$E$100,MATCH(F73,'mf3'!$A$5:$A$100,0),5)))","v":""},{"$f":"  IF(ISERROR(F73),\"\",IF(F73=0,\"\",(mf3value*'Results-advanced'!G73+'Results-advanced'!H73*mf2value)/100))","v":""},null,null,null,null,null,null,null,null,null,null,{"$f":"  IF(ISERROR(S73),\"\",IF(S73=0,\"\",INDEX('mf1'!$A$5:$E$100,MATCH(S73,'mf1'!$A$5:$A$100,0),5)))","v":""},{"$f":"  IF(ISERROR(S73),\"\",IF(S73=0,\"\",INDEX('mf3'!$A$5:$E$100,MATCH(S73,'mf3'!$A$5:$A$100,0),5)))","v":""},{"$f":"  IF(ISERROR(S73),\"\",IF(S73=0,\"\",(mf3value*'Results-advanced'!T73+'Results-advanced'!U73*mf2value)/100))","v":""}]
[null,{"$f":"  IF(ISERROR(A74),\"\",IF(A74=0,\"\",INDEX('mf1'!$A$5:$E$100,MATCH(A74,'mf1'!$A$5:$A$100,0),5)))","v":""},{"$f":"  IF(ISERROR(A74),\"\",IF(A74=0,\"\",INDEX('mf2'!$A$5:$E$100,MATCH(A74,'mf2'!$A$5:$A$100,0),5)))","v":""},{"$f":" IF(ISERROR(A74),\"\",IF(A74=0,\"\",(mf2value*'Results-advanced'!B74+mf1value*'Results-advanced'!C74)/100))","v":""},null,null,{"$f":"  IF(ISERROR(F74),\"\",IF(F74=0,\"\",INDEX('mf2'!$A$5:$E$100,MATCH(F74,'mf2'!$A$5:$A$100,0),5)))","v":""},{"$f":"  IF(ISERROR(F74),\"\",IF(F74=0,\"\",INDEX('mf3'!$A$5:$E$100,MATCH(F74,'mf3'!$A$5:$A$100,0),5)))","v":""},{"$f":"  IF(ISERROR(F74),\"\",IF(F74=0,\"\",(mf3value*'Results-advanced'!G74+'Results-advanced'!H74*mf2value)/100))","v":""},null,null,null,null,null,null,null,null,null,null,{"$f":"  IF(ISERROR(S74),\"\",IF(S74=0,\"\",INDEX('mf1'!$A$5:$E$100,MATCH(S74,'mf1'!$A$5:$A$100,0),5)))","v":""},{"$f":"  IF(ISERROR(S74),\"\",IF(S74=0,\"\",INDEX('mf3'!$A$5:$E$100,MATCH(S74,'mf3'!$A$5:$A$100,0),5)))","v":""},{"$f":"  IF(ISERROR(S74),\"\",IF(S74=0,\"\",(mf3value*'Results-advanced'!T74+'Results-advanced'!U74*mf2value)/100))","v":""}]
[null,{"$f":"  IF(ISERROR(A75),\"\",IF(A75=0,\"\",INDEX('mf1'!$A$5:$E$100,MATCH(A75,'mf1'!$A$5:$A$100,0),5)))","v":""},{"$f":"  IF(ISERROR(A75),\"\",IF(A75=0,\"\",INDEX('mf2'!$A$5:$E$100,MATCH(A75,'mf2'!$A$5:$A$100,0),5)))","v":""},{"$f":" IF(ISERROR(A75),\"\",IF(A75=0,\"\",(mf2value*'Results-advanced'!B75+mf1value*'Results-advanced'!C75)/100))","v":""},null,null,{"$f":"  IF(ISERROR(F75),\"\",IF(F75=0,\"\",INDEX('mf2'!$A$5:$E$100,MATCH(F75,'mf2'!$A$5:$A$100,0),5)))","v":""},{"$f":"  IF(ISERROR(F75),\"\",IF(F75=0,\"\",INDEX('mf3'!$A$5:$E$100,MATCH(F75,'mf3'!$A$5:$A$100,0),5)))","v":""},{"$f":"  IF(ISERROR(F75),\"\",IF(F75=0,\"\",(mf3value*'Results-advanced'!G75+'Results-advanced'!H75*mf2value)/100))","v":""},null,null,null,null,null,null,null,null,null,null,{"$f":"  IF(ISERROR(S75),\"\",IF(S75=0,\"\",INDEX('mf1'!$A$5:$E$100,MATCH(S75,'mf1'!$A$5:$A$100,0),5)))","v":""},{"$f":"  IF(ISERROR(S75),\"\",IF(S75=0,\"\",INDEX('mf3'!$A$5:$E$100,MATCH(S75,'mf3'!$A$5:$A$100,0),5)))","v":""},{"$f":"  IF(ISERROR(S75),\"\",IF(S75=0,\"\",(mf3value*'Results-advanced'!T75+'Results-advanced'!U75*mf2value)/100))","v":""}]
[null,{"$f":"  IF(ISERROR(A76),\"\",IF(A76=0,\"\",INDEX('mf1'!$A$5:$E$100,MATCH(A76,'mf1'!$A$5:$A$100,0),5)))","v":""},{"$f":"  IF(ISERROR(A76),\"\",IF(A76=0,\"\",INDEX('mf2'!$A$5:$E$100,MATCH(A76,'mf2'!$A$5:$A$100,0),5)))","v":""},{"$f":" IF(ISERROR(A76),\"\",IF(A76=0,\"\",(mf2value*'Results-advanced'!B76+mf1value*'Results-advanced'!C76)/100))","v":""},null,null,{"$f":"  IF(ISERROR(F76),\"\",IF(F76=0,\"\",INDEX('mf2'!$A$5:$E$100,MATCH(F76,'mf2'!$A$5:$A$100,0),5)))","v":""},{"$f":"  IF(ISERROR(F76),\"\",IF(F76=0,\"\",INDEX('mf3'!$A$5:$E$100,MATCH(F76,'mf3'!$A$5:$A$100,0),5)))","v":""},{"$f":"  IF(ISERROR(F76),\"\",IF(F76=0,\"\",(mf3value*'Results-advanced'!G76+'Results-advanced'!H76*mf2value)/100))","v":""},null,null,null,null,null,null,null,null,null,null,{"$f":"  IF(ISERROR(S76),\"\",IF(S76=0,\"\",INDEX('mf1'!$A$5:$E$100,MATCH(S76,'mf1'!$A$5:$A$100,0),5)))","v":""},{"$f":"  IF(ISERROR(S76),\"\",IF(S76=0,\"\",INDEX('mf3'!$A$5:$E$100,MATCH(S76,'mf3'!$A$5:$A$100,0),5)))","v":""},{"$f":"  IF(ISERROR(S76),\"\",IF(S76=0,\"\",(mf3value*'Results-advanced'!T76+'Results-advanced'!U76*mf2value)/100))","v":""}]
[null,{"$f":"  IF(ISERROR(A77),\"\",IF(A77=0,\"\",INDEX('mf1'!$A$5:$E$100,MATCH(A77,'mf1'!$A$5:$A$100,0),5)))","v":""},{"$f":"  IF(ISERROR(A77),\"\",IF(A77=0,\"\",INDEX('mf2'!$A$5:$E$100,MATCH(A77,'mf2'!$A$5:$A$100,0),5)))","v":""},{"$f":" IF(ISERROR(A77),\"\",IF(A77=0,\"\",(mf2value*'Results-advanced'!B77+mf1value*'Results-advanced'!C77)/100))","v":""},null,null,{"$f":"  IF(ISERROR(F77),\"\",IF(F77=0,\"\",INDEX('mf2'!$A$5:$E$100,MATCH(F77,'mf2'!$A$5:$A$100,0),5)))","v":""},{"$f":"  IF(ISERROR(F77),\"\",IF(F77=0,\"\",INDEX('mf3'!$A$5:$E$100,MATCH(F77,'mf3'!$A$5:$A$100,0),5)))","v":""},{"$f":"  IF(ISERROR(F77),\"\",IF(F77=0,\"\",(mf3value*'Results-advanced'!G77+'Results-advanced'!H77*mf2value)/100))","v":""},null,null,null,null,null,null,null,null,null,null,{"$f":"  IF(ISERROR(S77),\"\",IF(S77=0,\"\",INDEX('mf1'!$A$5:$E$100,MATCH(S77,'mf1'!$A$5:$A$100,0),5)))","v":""},{"$f":"  IF(ISERROR(S77),\"\",IF(S77=0,\"\",INDEX('mf3'!$A$5:$E$100,MATCH(S77,'mf3'!$A$5:$A$100,0),5)))","v":""},{"$f":"  IF(ISERROR(S77),\"\",IF(S77=0,\"\",(mf3value*'Results-advanced'!T77+'Results-advanced'!U77*mf2value)/100))","v":""}]
[null,{"$f":"  IF(ISERROR(A78),\"\",IF(A78=0,\"\",INDEX('mf1'!$A$5:$E$100,MATCH(A78,'mf1'!$A$5:$A$100,0),5)))","v":""},{"$f":"  IF(ISERROR(A78),\"\",IF(A78=0,\"\",INDEX('mf2'!$A$5:$E$100,MATCH(A78,'mf2'!$A$5:$A$100,0),5)))","v":""},{"$f":" IF(ISERROR(A78),\"\",IF(A78=0,\"\",(mf2value*'Results-advanced'!B78+mf1value*'Results-advanced'!C78)/100))","v":""},null,null,{"$f":"  IF(ISERROR(F78),\"\",IF(F78=0,\"\",INDEX('mf2'!$A$5:$E$100,MATCH(F78,'mf2'!$A$5:$A$100,0),5)))","v":""},{"$f":"  IF(ISERROR(F78),\"\",IF(F78=0,\"\",INDEX('mf3'!$A$5:$E$100,MATCH(F78,'mf3'!$A$5:$A$100,0),5)))","v":""},{"$f":"  IF(ISERROR(F78),\"\",IF(F78=0,\"\",(mf3value*'Results-advanced'!G78+'Results-advanced'!H78*mf2value)/100))","v":""},null,null,null,null,null,null,null,null,null,null,{"$f":"  IF(ISERROR(S78),\"\",IF(S78=0,\"\",INDEX('mf1'!$A$5:$E$100,MATCH(S78,'mf1'!$A$5:$A$100,0),5)))","v":""},{"$f":"  IF(ISERROR(S78),\"\",IF(S78=0,\"\",INDEX('mf3'!$A$5:$E$100,MATCH(S78,'mf3'!$A$5:$A$100,0),5)))","v":""},{"$f":"  IF(ISERROR(S78),\"\",IF(S78=0,\"\",(mf3value*'Results-advanced'!T78+'Results-advanced'!U78*mf2value)/100))","v":""}]
[null,{"$f":"  IF(ISERROR(A79),\"\",IF(A79=0,\"\",INDEX('mf1'!$A$5:$E$100,MATCH(A79,'mf1'!$A$5:$A$100,0),5)))","v":""},{"$f":"  IF(ISERROR(A79),\"\",IF(A79=0,\"\",INDEX('mf2'!$A$5:$E$100,MATCH(A79,'mf2'!$A$5:$A$100,0),5)))","v":""},{"$f":" IF(ISERROR(A79),\"\",IF(A79=0,\"\",(mf2value*'Results-advanced'!B79+mf1value*'Results-advanced'!C79)/100))","v":""},null,null,{"$f":"  IF(ISERROR(F79),\"\",IF(F79=0,\"\",INDEX('mf2'!$A$5:$E$100,MATCH(F79,'mf2'!$A$5:$A$100,0),5)))","v":""},{"$f":"  IF(ISERROR(F79),\"\",IF(F79=0,\"\",INDEX('mf3'!$A$5:$E$100,MATCH(F79,'mf3'!$A$5:$A$100,0),5)))","v":""},{"$f":"  IF(ISERROR(F79),\"\",IF(F79=0,\"\",(mf3value*'Results-advanced'!G79+'Results-advanced'!H79*mf2value)/100))","v":""},null,null,null,null,null,null,null,null,null,null,{"$f":"  IF(ISERROR(S79),\"\",IF(S79=0,\"\",INDEX('mf1'!$A$5:$E$100,MATCH(S79,'mf1'!$A$5:$A$100,0),5)))","v":""},{"$f":"  IF(ISERROR(S79),\"\",IF(S79=0,\"\",INDEX('mf3'!$A$5:$E$100,MATCH(S79,'mf3'!$A$5:$A$100,0),5)))","v":""},{"$f":"  IF(ISERROR(S79),\"\",IF(S79=0,\"\",(mf3value*'Results-advanced'!T79+'Results-advanced'!U79*mf2value)/100))","v":""}]
[null,{"$f":"  IF(ISERROR(A80),\"\",IF(A80=0,\"\",INDEX('mf1'!$A$5:$E$100,MATCH(A80,'mf1'!$A$5:$A$100,0),5)))","v":""},{"$f":"  IF(ISERROR(A80),\"\",IF(A80=0,\"\",INDEX('mf2'!$A$5:$E$100,MATCH(A80,'mf2'!$A$5:$A$100,0),5)))","v":""},{"$f":" IF(ISERROR(A80),\"\",IF(A80=0,\"\",(mf2value*'Results-advanced'!B80+mf1value*'Results-advanced'!C80)/100))","v":""},null,null,{"$f":"  IF(ISERROR(F80),\"\",IF(F80=0,\"\",INDEX('mf2'!$A$5:$E$100,MATCH(F80,'mf2'!$A$5:$A$100,0),5)))","v":""},{"$f":"  IF(ISERROR(F80),\"\",IF(F80=0,\"\",INDEX('mf3'!$A$5:$E$100,MATCH(F80,'mf3'!$A$5:$A$100,0),5)))","v":""},{"$f":"  IF(ISERROR(F80),\"\",IF(F80=0,\"\",(mf3value*'Results-advanced'!G80+'Results-advanced'!H80*mf2value)/100))","v":""},null,null,null,null,null,null,null,null,null,null,{"$f":"  IF(ISERROR(S80),\"\",IF(S80=0,\"\",INDEX('mf1'!$A$5:$E$100,MATCH(S80,'mf1'!$A$5:$A$100,0),5)))","v":""},{"$f":"  IF(ISERROR(S80),\"\",IF(S80=0,\"\",INDEX('mf3'!$A$5:$E$100,MATCH(S80,'mf3'!$A$5:$A$100,0),5)))","v":""},{"$f":"  IF(ISERROR(S80),\"\",IF(S80=0,\"\",(mf3value*'Results-advanced'!T80+'Results-advanced'!U80*mf2value)/100))","v":""}]
[null,{"$f":"  IF(ISERROR(A81),\"\",IF(A81=0,\"\",INDEX('mf1'!$A$5:$E$100,MATCH(A81,'mf1'!$A$5:$A$100,0),5)))","v":""},{"$f":"  IF(ISERROR(A81),\"\",IF(A81=0,\"\",INDEX('mf2'!$A$5:$E$100,MATCH(A81,'mf2'!$A$5:$A$100,0),5)))","v":""},{"$f":" IF(ISERROR(A81),\"\",IF(A81=0,\"\",(mf2value*'Results-advanced'!B81+mf1value*'Results-advanced'!C81)/100))","v":""},null,null,{"$f":"  IF(ISERROR(F81),\"\",IF(F81=0,\"\",INDEX('mf2'!$A$5:$E$100,MATCH(F81,'mf2'!$A$5:$A$100,0),5)))","v":""},{"$f":"  IF(ISERROR(F81),\"\",IF(F81=0,\"\",INDEX('mf3'!$A$5:$E$100,MATCH(F81,'mf3'!$A$5:$A$100,0),5)))","v":""},{"$f":"  IF(ISERROR(F81),\"\",IF(F81=0,\"\",(mf3value*'Results-advanced'!G81+'Results-advanced'!H81*mf2value)/100))","v":""},null,null,null,null,null,null,null,null,null,null,{"$f":"  IF(ISERROR(S81),\"\",IF(S81=0,\"\",INDEX('mf1'!$A$5:$E$100,MATCH(S81,'mf1'!$A$5:$A$100,0),5)))","v":""},{"$f":"  IF(ISERROR(S81),\"\",IF(S81=0,\"\",INDEX('mf3'!$A$5:$E$100,MATCH(S81,'mf3'!$A$5:$A$100,0),5)))","v":""},{"$f":"  IF(ISERROR(S81),\"\",IF(S81=0,\"\",(mf3value*'Results-advanced'!T81+'Results-advanced'!U81*mf2value)/100))","v":""}]
[null,{"$f":"  IF(ISERROR(A82),\"\",IF(A82=0,\"\",INDEX('mf1'!$A$5:$E$100,MATCH(A82,'mf1'!$A$5:$A$100,0),5)))","v":""},{"$f":"  IF(ISERROR(A82),\"\",IF(A82=0,\"\",INDEX('mf2'!$A$5:$E$100,MATCH(A82,'mf2'!$A$5:$A$100,0),5)))","v":""},{"$f":" IF(ISERROR(A82),\"\",IF(A82=0,\"\",(mf2value*'Results-advanced'!B82+mf1value*'Results-advanced'!C82)/100))","v":""},null,null,{"$f":"  IF(ISERROR(F82),\"\",IF(F82=0,\"\",INDEX('mf2'!$A$5:$E$100,MATCH(F82,'mf2'!$A$5:$A$100,0),5)))","v":""},{"$f":"  IF(ISERROR(F82),\"\",IF(F82=0,\"\",INDEX('mf3'!$A$5:$E$100,MATCH(F82,'mf3'!$A$5:$A$100,0),5)))","v":""},{"$f":"  IF(ISERROR(F82),\"\",IF(F82=0,\"\",(mf3value*'Results-advanced'!G82+'Results-advanced'!H82*mf2value)/100))","v":""},null,null,null,null,null,null,null,null,null,null,{"$f":"  IF(ISERROR(S82),\"\",IF(S82=0,\"\",INDEX('mf1'!$A$5:$E$100,MATCH(S82,'mf1'!$A$5:$A$100,0),5)))","v":""},{"$f":"  IF(ISERROR(S82),\"\",IF(S82=0,\"\",INDEX('mf3'!$A$5:$E$100,MATCH(S82,'mf3'!$A$5:$A$100,0),5)))","v":""},{"$f":"  IF(ISERROR(S82),\"\",IF(S82=0,\"\",(mf3value*'Results-advanced'!T82+'Results-advanced'!U82*mf2value)/100))","v":""}]
[null,{"$f":"  IF(ISERROR(A83),\"\",IF(A83=0,\"\",INDEX('mf1'!$A$5:$E$100,MATCH(A83,'mf1'!$A$5:$A$100,0),5)))","v":""},{"$f":"  IF(ISERROR(A83),\"\",IF(A83=0,\"\",INDEX('mf2'!$A$5:$E$100,MATCH(A83,'mf2'!$A$5:$A$100,0),5)))","v":""},{"$f":" IF(ISERROR(A83),\"\",IF(A83=0,\"\",(mf2value*'Results-advanced'!B83+mf1value*'Results-advanced'!C83)/100))","v":""},null,null,{"$f":"  IF(ISERROR(F83),\"\",IF(F83=0,\"\",INDEX('mf2'!$A$5:$E$100,MATCH(F83,'mf2'!$A$5:$A$100,0),5)))","v":""},{"$f":"  IF(ISERROR(F83),\"\",IF(F83=0,\"\",INDEX('mf3'!$A$5:$E$100,MATCH(F83,'mf3'!$A$5:$A$100,0),5)))","v":""},{"$f":"  IF(ISERROR(F83),\"\",IF(F83=0,\"\",(mf3value*'Results-advanced'!G83+'Results-advanced'!H83*mf2value)/100))","v":""},null,null,null,null,null,null,null,null,null,null,{"$f":"  IF(ISERROR(S83),\"\",IF(S83=0,\"\",INDEX('mf1'!$A$5:$E$100,MATCH(S83,'mf1'!$A$5:$A$100,0),5)))","v":""},{"$f":"  IF(ISERROR(S83),\"\",IF(S83=0,\"\",INDEX('mf3'!$A$5:$E$100,MATCH(S83,'mf3'!$A$5:$A$100,0),5)))","v":""},{"$f":"  IF(ISERROR(S83),\"\",IF(S83=0,\"\",(mf3value*'Results-advanced'!T83+'Results-advanced'!U83*mf2value)/100))","v":""}]
[null,{"$f":"  IF(ISERROR(A84),\"\",IF(A84=0,\"\",INDEX('mf1'!$A$5:$E$100,MATCH(A84,'mf1'!$A$5:$A$100,0),5)))","v":""},{"$f":"  IF(ISERROR(A84),\"\",IF(A84=0,\"\",INDEX('mf2'!$A$5:$E$100,MATCH(A84,'mf2'!$A$5:$A$100,0),5)))","v":""},{"$f":" IF(ISERROR(A84),\"\",IF(A84=0,\"\",(mf2value*'Results-advanced'!B84+mf1value*'Results-advanced'!C84)/100))","v":""},null,null,{"$f":"  IF(ISERROR(F84),\"\",IF(F84=0,\"\",INDEX('mf2'!$A$5:$E$100,MATCH(F84,'mf2'!$A$5:$A$100,0),5)))","v":""},{"$f":"  IF(ISERROR(F84),\"\",IF(F84=0,\"\",INDEX('mf3'!$A$5:$E$100,MATCH(F84,'mf3'!$A$5:$A$100,0),5)))","v":""},{"$f":"  IF(ISERROR(F84),\"\",IF(F84=0,\"\",(mf3value*'Results-advanced'!G84+'Results-advanced'!H84*mf2value)/100))","v":""},null,null,null,null,null,null,null,null,null,null,{"$f":"  IF(ISERROR(S84),\"\",IF(S84=0,\"\",INDEX('mf1'!$A$5:$E$100,MATCH(S84,'mf1'!$A$5:$A$100,0),5)))","v":""},{"$f":"  IF(ISERROR(S84),\"\",IF(S84=0,\"\",INDEX('mf3'!$A$5:$E$100,MATCH(S84,'mf3'!$A$5:$A$100,0),5)))","v":""},{"$f":"  IF(ISERROR(S84),\"\",IF(S84=0,\"\",(mf3value*'Results-advanced'!T84+'Results-advanced'!U84*mf2value)/100))","v":""}]
[null,{"$f":"  IF(ISERROR(A85),\"\",IF(A85=0,\"\",INDEX('mf1'!$A$5:$E$100,MATCH(A85,'mf1'!$A$5:$A$100,0),5)))","v":""},{"$f":"  IF(ISERROR(A85),\"\",IF(A85=0,\"\",INDEX('mf2'!$A$5:$E$100,MATCH(A85,'mf2'!$A$5:$A$100,0),5)))","v":""},{"$f":" IF(ISERROR(A85),\"\",IF(A85=0,\"\",(mf2value*'Results-advanced'!B85+mf1value*'Results-advanced'!C85)/100))","v":""},null,null,{"$f":"  IF(ISERROR(F85),\"\",IF(F85=0,\"\",INDEX('mf2'!$A$5:$E$100,MATCH(F85,'mf2'!$A$5:$A$100,0),5)))","v":""},{"$f":"  IF(ISERROR(F85),\"\",IF(F85=0,\"\",INDEX('mf3'!$A$5:$E$100,MATCH(F85,'mf3'!$A$5:$A$100,0),5)))","v":""},{"$f":"  IF(ISERROR(F85),\"\",IF(F85=0,\"\",(mf3value*'Results-advanced'!G85+'Results-advanced'!H85*mf2value)/100))","v":""},null,null,null,null,null,null,null,null,null,null,{"$f":"  IF(ISERROR(S85),\"\",IF(S85=0,\"\",INDEX('mf1'!$A$5:$E$100,MATCH(S85,'mf1'!$A$5:$A$100,0),5)))","v":""},{"$f":"  IF(ISERROR(S85),\"\",IF(S85=0,\"\",INDEX('mf3'!$A$5:$E$100,MATCH(S85,'mf3'!$A$5:$A$100,0),5)))","v":""},{"$f":"  IF(ISERROR(S85),\"\",IF(S85=0,\"\",(mf3value*'Results-advanced'!T85+'Results-advanced'!U85*mf2value)/100))","v":""}]
[null,{"$f":"  IF(ISERROR(A86),\"\",IF(A86=0,\"\",INDEX('mf1'!$A$5:$E$100,MATCH(A86,'mf1'!$A$5:$A$100,0),5)))","v":""},{"$f":"  IF(ISERROR(A86),\"\",IF(A86=0,\"\",INDEX('mf2'!$A$5:$E$100,MATCH(A86,'mf2'!$A$5:$A$100,0),5)))","v":""},{"$f":" IF(ISERROR(A86),\"\",IF(A86=0,\"\",(mf2value*'Results-advanced'!B86+mf1value*'Results-advanced'!C86)/100))","v":""},null,null,{"$f":"  IF(ISERROR(F86),\"\",IF(F86=0,\"\",INDEX('mf2'!$A$5:$E$100,MATCH(F86,'mf2'!$A$5:$A$100,0),5)))","v":""},{"$f":"  IF(ISERROR(F86),\"\",IF(F86=0,\"\",INDEX('mf3'!$A$5:$E$100,MATCH(F86,'mf3'!$A$5:$A$100,0),5)))","v":""},{"$f":"  IF(ISERROR(F86),\"\",IF(F86=0,\"\",(mf3value*'Results-advanced'!G86+'Results-advanced'!H86*mf2value)/100))","v":""},null,null,null,null,null,null,null,null,null,null,{"$f":"  IF(ISERROR(S86),\"\",IF(S86=0,\"\",INDEX('mf1'!$A$5:$E$100,MATCH(S86,'mf1'!$A$5:$A$100,0),5)))","v":""},{"$f":"  IF(ISERROR(S86),\"\",IF(S86=0,\"\",INDEX('mf3'!$A$5:$E$100,MATCH(S86,'mf3'!$A$5:$A$100,0),5)))","v":""},{"$f":"  IF(ISERROR(S86),\"\",IF(S86=0,\"\",(mf3value*'Results-advanced'!T86+'Results-advanced'!U86*mf2value)/100))","v":""}]
[null,{"$f":"  IF(ISERROR(A87),\"\",IF(A87=0,\"\",INDEX('mf1'!$A$5:$E$100,MATCH(A87,'mf1'!$A$5:$A$100,0),5)))","v":""},{"$f":"  IF(ISERROR(A87),\"\",IF(A87=0,\"\",INDEX('mf2'!$A$5:$E$100,MATCH(A87,'mf2'!$A$5:$A$100,0),5)))","v":""},{"$f":" IF(ISERROR(A87),\"\",IF(A87=0,\"\",(mf2value*'Results-advanced'!B87+mf1value*'Results-advanced'!C87)/100))","v":""},null,null,{"$f":"  IF(ISERROR(F87),\"\",IF(F87=0,\"\",INDEX('mf2'!$A$5:$E$100,MATCH(F87,'mf2'!$A$5:$A$100,0),5)))","v":""},{"$f":"  IF(ISERROR(F87),\"\",IF(F87=0,\"\",INDEX('mf3'!$A$5:$E$100,MATCH(F87,'mf3'!$A$5:$A$100,0),5)))","v":""},{"$f":"  IF(ISERROR(F87),\"\",IF(F87=0,\"\",(mf3value*'Results-advanced'!G87+'Results-advanced'!H87*mf2value)/100))","v":""},null,null,null,null,null,null,null,null,null,null,{"$f":"  IF(ISERROR(S87),\"\",IF(S87=0,\"\",INDEX('mf1'!$A$5:$E$100,MATCH(S87,'mf1'!$A$5:$A$100,0),5)))","v":""},{"$f":"  IF(ISERROR(S87),\"\",IF(S87=0,\"\",INDEX('mf3'!$A$5:$E$100,MATCH(S87,'mf3'!$A$5:$A$100,0),5)))","v":""},{"$f":"  IF(ISERROR(S87),\"\",IF(S87=0,\"\",(mf3value*'Results-advanced'!T87+'Results-advanced'!U87*mf2value)/100))","v":""}]
[null,{"$f":"  IF(ISERROR(A88),\"\",IF(A88=0,\"\",INDEX('mf1'!$A$5:$E$100,MATCH(A88,'mf1'!$A$5:$A$100,0),5)))","v":""},{"$f":"  IF(ISERROR(A88),\"\",IF(A88=0,\"\",INDEX('mf2'!$A$5:$E$100,MATCH(A88,'mf2'!$A$5:$A$100,0),5)))","v":""},{"$f":" IF(ISERROR(A88),\"\",IF(A88=0,\"\",(mf2value*'Results-advanced'!B88+mf1value*'Results-advanced'!C88)/100))","v":""},null,null,{"$f":"  IF(ISERROR(F88),\"\",IF(F88=0,\"\",INDEX('mf2'!$A$5:$E$100,MATCH(F88,'mf2'!$A$5:$A$100,0),5)))","v":""},{"$f":"  IF(ISERROR(F88),\"\",IF(F88=0,\"\",INDEX('mf3'!$A$5:$E$100,MATCH(F88,'mf3'!$A$5:$A$100,0),5)))","v":""},{"$f":"  IF(ISERROR(F88),\"\",IF(F88=0,\"\",(mf3value*'Results-advanced'!G88+'Results-advanced'!H88*mf2value)/100))","v":""},null,null,null,null,null,null,null,null,null,null,{"$f":"  IF(ISERROR(S88),\"\",IF(S88=0,\"\",INDEX('mf1'!$A$5:$E$100,MATCH(S88,'mf1'!$A$5:$A$100,0),5)))","v":""},{"$f":"  IF(ISERROR(S88),\"\",IF(S88=0,\"\",INDEX('mf3'!$A$5:$E$100,MATCH(S88,'mf3'!$A$5:$A$100,0),5)))","v":""},{"$f":"  IF(ISERROR(S88),\"\",IF(S88=0,\"\",(mf3value*'Results-advanced'!T88+'Results-advanced'!U88*mf2value)/100))","v":""}]
[null,{"$f":"  IF(ISERROR(A89),\"\",IF(A89=0,\"\",INDEX('mf1'!$A$5:$E$100,MATCH(A89,'mf1'!$A$5:$A$100,0),5)))","v":""},{"$f":"  IF(ISERROR(A89),\"\",IF(A89=0,\"\",INDEX('mf2'!$A$5:$E$100,MATCH(A89,'mf2'!$A$5:$A$100,0),5)))","v":""},{"$f":" IF(ISERROR(A89),\"\",IF(A89=0,\"\",(mf2value*'Results-advanced'!B89+mf1value*'Results-advanced'!C89)/100))","v":""},null,null,{"$f":"  IF(ISERROR(F89),\"\",IF(F89=0,\"\",INDEX('mf2'!$A$5:$E$100,MATCH(F89,'mf2'!$A$5:$A$100,0),5)))","v":""},{"$f":"  IF(ISERROR(F89),\"\",IF(F89=0,\"\",INDEX('mf3'!$A$5:$E$100,MATCH(F89,'mf3'!$A$5:$A$100,0),5)))","v":""},{"$f":"  IF(ISERROR(F89),\"\",IF(F89=0,\"\",(mf3value*'Results-advanced'!G89+'Results-advanced'!H89*mf2value)/100))","v":""},null,null,null,null,null,null,null,null,null,null,{"$f":"  IF(ISERROR(S89),\"\",IF(S89=0,\"\",INDEX('mf1'!$A$5:$E$100,MATCH(S89,'mf1'!$A$5:$A$100,0),5)))","v":""},{"$f":"  IF(ISERROR(S89),\"\",IF(S89=0,\"\",INDEX('mf3'!$A$5:$E$100,MATCH(S89,'mf3'!$A$5:$A$100,0),5)))","v":""},{"$f":"  IF(ISERROR(S89),\"\",IF(S89=0,\"\",(mf3value*'Results-advanced'!T89+'Results-advanced'!U89*mf2value)/100))","v":""}]
[null,{"$f":"  IF(ISERROR(A90),\"\",IF(A90=0,\"\",INDEX('mf1'!$A$5:$E$100,MATCH(A90,'mf1'!$A$5:$A$100,0),5)))","v":""},{"$f":"  IF(ISERROR(A90),\"\",IF(A90=0,\"\",INDEX('mf2'!$A$5:$E$100,MATCH(A90,'mf2'!$A$5:$A$100,0),5)))","v":""},{"$f":" IF(ISERROR(A90),\"\",IF(A90=0,\"\",(mf2value*'Results-advanced'!B90+mf1value*'Results-advanced'!C90)/100))","v":""},null,null,{"$f":"  IF(ISERROR(F90),\"\",IF(F90=0,\"\",INDEX('mf2'!$A$5:$E$100,MATCH(F90,'mf2'!$A$5:$A$100,0),5)))","v":""},{"$f":"  IF(ISERROR(F90),\"\",IF(F90=0,\"\",INDEX('mf3'!$A$5:$E$100,MATCH(F90,'mf3'!$A$5:$A$100,0),5)))","v":""},{"$f":"  IF(ISERROR(F90),\"\",IF(F90=0,\"\",(mf3value*'Results-advanced'!G90+'Results-advanced'!H90*mf2value)/100))","v":""},null,null,null,null,null,null,null,null,null,null,{"$f":"  IF(ISERROR(S90),\"\",IF(S90=0,\"\",INDEX('mf1'!$A$5:$E$100,MATCH(S90,'mf1'!$A$5:$A$100,0),5)))","v":""},{"$f":"  IF(ISERROR(S90),\"\",IF(S90=0,\"\",INDEX('mf3'!$A$5:$E$100,MATCH(S90,'mf3'!$A$5:$A$100,0),5)))","v":""},{"$f":"  IF(ISERROR(S90),\"\",IF(S90=0,\"\",(mf3value*'Results-advanced'!T90+'Results-advanced'!U90*mf2value)/100))","v":""}]
[null,{"$f":"  IF(ISERROR(A91),\"\",IF(A91=0,\"\",INDEX('mf1'!$A$5:$E$100,MATCH(A91,'mf1'!$A$5:$A$100,0),5)))","v":""},{"$f":"  IF(ISERROR(A91),\"\",IF(A91=0,\"\",INDEX('mf2'!$A$5:$E$100,MATCH(A91,'mf2'!$A$5:$A$100,0),5)))","v":""},{"$f":" IF(ISERROR(A91),\"\",IF(A91=0,\"\",(mf2value*'Results-advanced'!B91+mf1value*'Results-advanced'!C91)/100))","v":""},null,null,{"$f":"  IF(ISERROR(F91),\"\",IF(F91=0,\"\",INDEX('mf2'!$A$5:$E$100,MATCH(F91,'mf2'!$A$5:$A$100,0),5)))","v":""},{"$f":"  IF(ISERROR(F91),\"\",IF(F91=0,\"\",INDEX('mf3'!$A$5:$E$100,MATCH(F91,'mf3'!$A$5:$A$100,0),5)))","v":""},{"$f":"  IF(ISERROR(F91),\"\",IF(F91=0,\"\",(mf3value*'Results-advanced'!G91+'Results-advanced'!H91*mf2value)/100))","v":""},null,null,null,null,null,null,null,null,null,null,{"$f":"  IF(ISERROR(S91),\"\",IF(S91=0,\"\",INDEX('mf1'!$A$5:$E$100,MATCH(S91,'mf1'!$A$5:$A$100,0),5)))","v":""},{"$f":"  IF(ISERROR(S91),\"\",IF(S91=0,\"\",INDEX('mf3'!$A$5:$E$100,MATCH(S91,'mf3'!$A$5:$A$100,0),5)))","v":""},{"$f":"  IF(ISERROR(S91),\"\",IF(S91=0,\"\",(mf3value*'Results-advanced'!T91+'Results-advanced'!U91*mf2value)/100))","v":""}]
[null,{"$f":"  IF(ISERROR(A92),\"\",IF(A92=0,\"\",INDEX('mf1'!$A$5:$E$100,MATCH(A92,'mf1'!$A$5:$A$100,0),5)))","v":""},{"$f":"  IF(ISERROR(A92),\"\",IF(A92=0,\"\",INDEX('mf2'!$A$5:$E$100,MATCH(A92,'mf2'!$A$5:$A$100,0),5)))","v":""},{"$f":" IF(ISERROR(A92),\"\",IF(A92=0,\"\",(mf2value*'Results-advanced'!B92+mf1value*'Results-advanced'!C92)/100))","v":""},null,null,{"$f":"  IF(ISERROR(F92),\"\",IF(F92=0,\"\",INDEX('mf2'!$A$5:$E$100,MATCH(F92,'mf2'!$A$5:$A$100,0),5)))","v":""},{"$f":"  IF(ISERROR(F92),\"\",IF(F92=0,\"\",INDEX('mf3'!$A$5:$E$100,MATCH(F92,'mf3'!$A$5:$A$100,0),5)))","v":""},{"$f":"  IF(ISERROR(F92),\"\",IF(F92=0,\"\",(mf3value*'Results-advanced'!G92+'Results-advanced'!H92*mf2value)/100))","v":""},null,null,null,null,null,null,null,null,null,null,{"$f":"  IF(ISERROR(S92),\"\",IF(S92=0,\"\",INDEX('mf1'!$A$5:$E$100,MATCH(S92,'mf1'!$A$5:$A$100,0),5)))","v":""},{"$f":"  IF(ISERROR(S92),\"\",IF(S92=0,\"\",INDEX('mf3'!$A$5:$E$100,MATCH(S92,'mf3'!$A$5:$A$100,0),5)))","v":""},{"$f":"  IF(ISERROR(S92),\"\",IF(S92=0,\"\",(mf3value*'Results-advanced'!T92+'Results-advanced'!U92*mf2value)/100))","v":""}]
[null,{"$f":"  IF(ISERROR(A93),\"\",IF(A93=0,\"\",INDEX('mf1'!$A$5:$E$100,MATCH(A93,'mf1'!$A$5:$A$100,0),5)))","v":""},{"$f":"  IF(ISERROR(A93),\"\",IF(A93=0,\"\",INDEX('mf2'!$A$5:$E$100,MATCH(A93,'mf2'!$A$5:$A$100,0),5)))","v":""},{"$f":" IF(ISERROR(A93),\"\",IF(A93=0,\"\",(mf2value*'Results-advanced'!B93+mf1value*'Results-advanced'!C93)/100))","v":""},null,null,{"$f":"  IF(ISERROR(F93),\"\",IF(F93=0,\"\",INDEX('mf2'!$A$5:$E$100,MATCH(F93,'mf2'!$A$5:$A$100,0),5)))","v":""},{"$f":"  IF(ISERROR(F93),\"\",IF(F93=0,\"\",INDEX('mf3'!$A$5:$E$100,MATCH(F93,'mf3'!$A$5:$A$100,0),5)))","v":""},{"$f":"  IF(ISERROR(F93),\"\",IF(F93=0,\"\",(mf3value*'Results-advanced'!G93+'Results-advanced'!H93*mf2value)/100))","v":""},null,null,null,null,null,null,null,null,null,null,{"$f":"  IF(ISERROR(S93),\"\",IF(S93=0,\"\",INDEX('mf1'!$A$5:$E$100,MATCH(S93,'mf1'!$A$5:$A$100,0),5)))","v":""},{"$f":"  IF(ISERROR(S93),\"\",IF(S93=0,\"\",INDEX('mf3'!$A$5:$E$100,MATCH(S93,'mf3'!$A$5:$A$100,0),5)))","v":""},{"$f":"  IF(ISERROR(S93),\"\",IF(S93=0,\"\",(mf3value*'Results-advanced'!T93+'Results-advanced'!U93*mf2value)/100))","v":""}]
[null,{"$f":"  IF(ISERROR(A94),\"\",IF(A94=0,\"\",INDEX('mf1'!$A$5:$E$100,MATCH(A94,'mf1'!$A$5:$A$100,0),5)))","v":""},{"$f":"  IF(ISERROR(A94),\"\",IF(A94=0,\"\",INDEX('mf2'!$A$5:$E$100,MATCH(A94,'mf2'!$A$5:$A$100,0),5)))","v":""},{"$f":" IF(ISERROR(A94),\"\",IF(A94=0,\"\",(mf2value*'Results-advanced'!B94+mf1value*'Results-advanced'!C94)/100))","v":""},null,null,{"$f":"  IF(ISERROR(F94),\"\",IF(F94=0,\"\",INDEX('mf2'!$A$5:$E$100,MATCH(F94,'mf2'!$A$5:$A$100,0),5)))","v":""},{"$f":"  IF(ISERROR(F94),\"\",IF(F94=0,\"\",INDEX('mf3'!$A$5:$E$100,MATCH(F94,'mf3'!$A$5:$A$100,0),5)))","v":""},{"$f":"  IF(ISERROR(F94),\"\",IF(F94=0,\"\",(mf3value*'Results-advanced'!G94+'Results-advanced'!H94*mf2value)/100))","v":""},null,null,null,null,null,null,null,null,null,null,{"$f":"  IF(ISERROR(S94),\"\",IF(S94=0,\"\",INDEX('mf1'!$A$5:$E$100,MATCH(S94,'mf1'!$A$5:$A$100,0),5)))","v":""},{"$f":"  IF(ISERROR(S94),\"\",IF(S94=0,\"\",INDEX('mf3'!$A$5:$E$100,MATCH(S94,'mf3'!$A$5:$A$100,0),5)))","v":""},{"$f":"  IF(ISERROR(S94),\"\",IF(S94=0,\"\",(mf3value*'Results-advanced'!T94+'Results-advanced'!U94*mf2value)/100))","v":""}]
[null,{"$f":"  IF(ISERROR(A95),\"\",IF(A95=0,\"\",INDEX('mf1'!$A$5:$E$100,MATCH(A95,'mf1'!$A$5:$A$100,0),5)))","v":""},{"$f":"  IF(ISERROR(A95),\"\",IF(A95=0,\"\",INDEX('mf2'!$A$5:$E$100,MATCH(A95,'mf2'!$A$5:$A$100,0),5)))","v":""},{"$f":" IF(ISERROR(A95),\"\",IF(A95=0,\"\",(mf2value*'Results-advanced'!B95+mf1value*'Results-advanced'!C95)/100))","v":""},null,null,{"$f":"  IF(ISERROR(F95),\"\",IF(F95=0,\"\",INDEX('mf2'!$A$5:$E$100,MATCH(F95,'mf2'!$A$5:$A$100,0),5)))","v":""},{"$f":"  IF(ISERROR(F95),\"\",IF(F95=0,\"\",INDEX('mf3'!$A$5:$E$100,MATCH(F95,'mf3'!$A$5:$A$100,0),5)))","v":""},{"$f":"  IF(ISERROR(F95),\"\",IF(F95=0,\"\",(mf3value*'Results-advanced'!G95+'Results-advanced'!H95*mf2value)/100))","v":""},null,null,null,null,null,null,null,null,null,null,{"$f":"  IF(ISERROR(S95),\"\",IF(S95=0,\"\",INDEX('mf1'!$A$5:$E$100,MATCH(S95,'mf1'!$A$5:$A$100,0),5)))","v":""},{"$f":"  IF(ISERROR(S95),\"\",IF(S95=0,\"\",INDEX('mf3'!$A$5:$E$100,MATCH(S95,'mf3'!$A$5:$A$100,0),5)))","v":""},{"$f":"  IF(ISERROR(S95),\"\",IF(S95=0,\"\",(mf3value*'Results-advanced'!T95+'Results-advanced'!U95*mf2value)/100))","v":""}]
[null,{"$f":"  IF(ISERROR(A96),\"\",IF(A96=0,\"\",INDEX('mf1'!$A$5:$E$100,MATCH(A96,'mf1'!$A$5:$A$100,0),5)))","v":""},{"$f":"  IF(ISERROR(A96),\"\",IF(A96=0,\"\",INDEX('mf2'!$A$5:$E$100,MATCH(A96,'mf2'!$A$5:$A$100,0),5)))","v":""},{"$f":" IF(ISERROR(A96),\"\",IF(A96=0,\"\",(mf2value*'Results-advanced'!B96+mf1value*'Results-advanced'!C96)/100))","v":""},null,null,{"$f":"  IF(ISERROR(F96),\"\",IF(F96=0,\"\",INDEX('mf2'!$A$5:$E$100,MATCH(F96,'mf2'!$A$5:$A$100,0),5)))","v":""},{"$f":"  IF(ISERROR(F96),\"\",IF(F96=0,\"\",INDEX('mf3'!$A$5:$E$100,MATCH(F96,'mf3'!$A$5:$A$100,0),5)))","v":""},{"$f":"  IF(ISERROR(F96),\"\",IF(F96=0,\"\",(mf3value*'Results-advanced'!G96+'Results-advanced'!H96*mf2value)/100))","v":""},null,null,null,null,null,null,null,null,null,null,{"$f":"  IF(ISERROR(S96),\"\",IF(S96=0,\"\",INDEX('mf1'!$A$5:$E$100,MATCH(S96,'mf1'!$A$5:$A$100,0),5)))","v":""},{"$f":"  IF(ISERROR(S96),\"\",IF(S96=0,\"\",INDEX('mf3'!$A$5:$E$100,MATCH(S96,'mf3'!$A$5:$A$100,0),5)))","v":""},{"$f":"  IF(ISERROR(S96),\"\",IF(S96=0,\"\",(mf3value*'Results-advanced'!T96+'Results-advanced'!U96*mf2value)/100))","v":""}]
[null,{"$f":"  IF(ISERROR(A97),\"\",IF(A97=0,\"\",INDEX('mf1'!$A$5:$E$100,MATCH(A97,'mf1'!$A$5:$A$100,0),5)))","v":""},{"$f":"  IF(ISERROR(A97),\"\",IF(A97=0,\"\",INDEX('mf2'!$A$5:$E$100,MATCH(A97,'mf2'!$A$5:$A$100,0),5)))","v":""},{"$f":" IF(ISERROR(A97),\"\",IF(A97=0,\"\",(mf2value*'Results-advanced'!B97+mf1value*'Results-advanced'!C97)/100))","v":""},null,null,{"$f":"  IF(ISERROR(F97),\"\",IF(F97=0,\"\",INDEX('mf2'!$A$5:$E$100,MATCH(F97,'mf2'!$A$5:$A$100,0),5)))","v":""},{"$f":"  IF(ISERROR(F97),\"\",IF(F97=0,\"\",INDEX('mf3'!$A$5:$E$100,MATCH(F97,'mf3'!$A$5:$A$100,0),5)))","v":""},{"$f":"  IF(ISERROR(F97),\"\",IF(F97=0,\"\",(mf3value*'Results-advanced'!G97+'Results-advanced'!H97*mf2value)/100))","v":""},null,null,null,null,null,null,null,null,null,null,{"$f":"  IF(ISERROR(S97),\"\",IF(S97=0,\"\",INDEX('mf1'!$A$5:$E$100,MATCH(S97,'mf1'!$A$5:$A$100,0),5)))","v":""},{"$f":"  IF(ISERROR(S97),\"\",IF(S97=0,\"\",INDEX('mf3'!$A$5:$E$100,MATCH(S97,'mf3'!$A$5:$A$100,0),5)))","v":""},{"$f":"  IF(ISERROR(S97),\"\",IF(S97=0,\"\",(mf3value*'Results-advanced'!T97+'Results-advanced'!U97*mf2value)/100))","v":""}]
[null,{"$f":"  IF(ISERROR(A98),\"\",IF(A98=0,\"\",INDEX('mf1'!$A$5:$E$100,MATCH(A98,'mf1'!$A$5:$A$100,0),5)))","v":""},{"$f":"  IF(ISERROR(A98),\"\",IF(A98=0,\"\",INDEX('mf2'!$A$5:$E$100,MATCH(A98,'mf2'!$A$5:$A$100,0),5)))","v":""},{"$f":" IF(ISERROR(A98),\"\",IF(A98=0,\"\",(mf2value*'Results-advanced'!B98+mf1value*'Results-advanced'!C98)/100))","v":""},null,null,{"$f":"  IF(ISERROR(F98),\"\",IF(F98=0,\"\",INDEX('mf2'!$A$5:$E$100,MATCH(F98,'mf2'!$A$5:$A$100,0),5)))","v":""},{"$f":"  IF(ISERROR(F98),\"\",IF(F98=0,\"\",INDEX('mf3'!$A$5:$E$100,MATCH(F98,'mf3'!$A$5:$A$100,0),5)))","v":""},{"$f":"  IF(ISERROR(F98),\"\",IF(F98=0,\"\",(mf3value*'Results-advanced'!G98+'Results-advanced'!H98*mf2value)/100))","v":""},null,null,null,null,null,null,null,null,null,null,{"$f":"  IF(ISERROR(S98),\"\",IF(S98=0,\"\",INDEX('mf1'!$A$5:$E$100,MATCH(S98,'mf1'!$A$5:$A$100,0),5)))","v":""},{"$f":"  IF(ISERROR(S98),\"\",IF(S98=0,\"\",INDEX('mf3'!$A$5:$E$100,MATCH(S98,'mf3'!$A$5:$A$100,0),5)))","v":""},{"$f":"  IF(ISERROR(S98),\"\",IF(S98=0,\"\",(mf3value*'Results-advanced'!T98+'Results-advanced'!U98*mf2value)/100))","v":""}]
[null,{"$f":"  IF(ISERROR(A99),\"\",IF(A99=0,\"\",INDEX('mf1'!$A$5:$E$100,MATCH(A99,'mf1'!$A$5:$A$100,0),5)))","v":""},{"$f":"  IF(ISERROR(A99),\"\",IF(A99=0,\"\",INDEX('mf2'!$A$5:$E$100,MATCH(A99,'mf2'!$A$5:$A$100,0),5)))","v":""},{"$f":" IF(ISERROR(A99),\"\",IF(A99=0,\"\",(mf2value*'Results-advanced'!B99+mf1value*'Results-advanced'!C99)/100))","v":""},null,null,{"$f":"  IF(ISERROR(F99),\"\",IF(F99=0,\"\",INDEX('mf2'!$A$5:$E$100,MATCH(F99,'mf2'!$A$5:$A$100,0),5)))","v":""},{"$f":"  IF(ISERROR(F99),\"\",IF(F99=0,\"\",INDEX('mf3'!$A$5:$E$100,MATCH(F99,'mf3'!$A$5:$A$100,0),5)))","v":""},{"$f":"  IF(ISERROR(F99),\"\",IF(F99=0,\"\",(mf3value*'Results-advanced'!G99+'Results-advanced'!H99*mf2value)/100))","v":""},null,null,null,null,null,null,null,null,null,null,{"$f":"  IF(ISERROR(S99),\"\",IF(S99=0,\"\",INDEX('mf1'!$A$5:$E$100,MATCH(S99,'mf1'!$A$5:$A$100,0),5)))","v":""},{"$f":"  IF(ISERROR(S99),\"\",IF(S99=0,\"\",INDEX('mf3'!$A$5:$E$100,MATCH(S99,'mf3'!$A$5:$A$100,0),5)))","v":""},{"$f":"  IF(ISERROR(S99),\"\",IF(S99=0,\"\",(mf3value*'Results-advanced'!T99+'Results-advanced'!U99*mf2value)/100))","v":""}]
[null,{"$f":"  IF(ISERROR(A100),\"\",IF(A100=0,\"\",INDEX('mf1'!$A$5:$E$100,MATCH(A100,'mf1'!$A$5:$A$100,0),5)))","v":""},{"$f":"  IF(ISERROR(A100),\"\",IF(A100=0,\"\",INDEX('mf2'!$A$5:$E$100,MATCH(A100,'mf2'!$A$5:$A$100,0),5)))","v":""},{"$f":" IF(ISERROR(A100),\"\",IF(A100=0,\"\",(mf2value*'Results-advanced'!B100+mf1value*'Results-advanced'!C100)/100))","v":""},null,null,{"$f":"  IF(ISERROR(F100),\"\",IF(F100=0,\"\",INDEX('mf2'!$A$5:$E$100,MATCH(F100,'mf2'!$A$5:$A$100,0),5)))","v":""},{"$f":"  IF(ISERROR(F100),\"\",IF(F100=0,\"\",INDEX('mf3'!$A$5:$E$100,MATCH(F100,'mf3'!$A$5:$A$100,0),5)))","v":""},{"$f":"  IF(ISERROR(F100),\"\",IF(F100=0,\"\",(mf3value*'Results-advanced'!G100+'Results-advanced'!H100*mf2value)/100))","v":""},null,null,null,null,null,null,null,null,null,null,{"$f":"  IF(ISERROR(S100),\"\",IF(S100=0,\"\",INDEX('mf1'!$A$5:$E$100,MATCH(S100,'mf1'!$A$5:$A$100,0),5)))","v":""},{"$f":"  IF(ISERROR(S100),\"\",IF(S100=0,\"\",INDEX('mf3'!$A$5:$E$100,MATCH(S100,'mf3'!$A$5:$A$100,0),5)))","v":""},{"$f":"  IF(ISERROR(S100),\"\",IF(S100=0,\"\",(mf3value*'Results-advanced'!T100+'Results-advanced'!U100*mf2value)/100))","v":""}]

{"sheet":"mf1","index":4,"n_rows":80,"n_cols":5,"rows_kept":80,"cut":false,"hidden":false,"merged":[]}
["hdfc top 200 fund"]
[]
["Equity","Sector","Qty","Value","%"]
[null,null,null,"(Rs cr)"]
["SBI","Banking & Financial Services",34826649,915.24,7.33]
["ICICI Bank","Banking & Financial Services",28175210,867.8,6.95]
["Larsen","Engineering & Capital Goods",4433496,790.38,6.33]
["Infosys","Information Technology",7805905,769.15,6.16]
["HDFC Bank","Banking & Financial Services",5439243,580.61,4.6500000000000004]
["Maruti Suzuki","Automotive",1288141,518.17999999999995,4.1500000000000004]
["Reliance","Oil & Gas",4692730,469.48,3.76]
["BPCL","Oil & Gas",5295139,464.49,3.72]
["Axis Bank","Banking & Financial Services",7040505,393.32,3.15]
["Aurobindo Pharm","Pharmaceuticals",2687166,389.57,3.12]
["ITC","Tobacco",12008706,378.33,3.03]
["Tata Motors","Automotive",8533944,370.84,2.97]
["HDFC","Banking & Financial Services",2687086,348.37,2.79]
["Bharti Airtel","Telecommunication",7999070,335.88,2.69]
["Bank of Baroda","Banking & Financial Services",19309573,278.44,2.23]
["Crompton Greave","Engineering & Capital Goods",15151199,245.98,1.97]
["CESC","Utilities",3847094,214.76,1.72]
["Grasim","Conglomerates",547835,188.54,1.51]
["Oracle Fin Serv","Information Technology",409559,154.83000000000001,1.24]
["Tata Motors","Automotive",3390590,147.34,1.18]
["Power Grid Corp","Utilities",10502479,146.09,1.17]
["Siemens","Engineering & Capital Goods",1053929,142.34,1.1399999999999999]
["Tata Steel","Metals & Mining",4548661,138.6,1.1100000000000001]
["ABB","Engineering & Capital Goods",1010041,133.6,1.07]
["TCS","Information Technology",474559,121.12,0.97]
["Wipro","Information Technology",2156961,117.37,0.94]
["REC","Banking & Financial Services",3902672,107.38,0.86]
["Union Bank","Banking & Financial Services",7282605,107.38,0.86]
["Canara Bank","Banking & Financial Services",3728589,103.64,0.83]
["Cipla","Pharmaceuticals",1661326,102.39,0.82]
["Vedanta","Metals & Mining",5600517,97.39,0.78]
["Coal India","Metals & Mining",2313098,97.39,0.78]
["Zee Entertain","Media & Entertainment",2620451,96.14,0.77]
["Oil India","Oil & Gas",2149438,96.14,0.77]
["Yes Bank","Banking & Financial Services",1140502,96.14,0.77]
["PNB","Banking & Financial Services",6819671,94.9,0.76]
["IOC","Oil & Gas",2434922,93.65,0.75]
["Divis Labs","Pharmaceuticals",472562,88.65,0.71]
["UltraTechCement","Cement & Construction",288010,86.16,0.69]
["HCL Tech","Information Technology",867621,79.91,0.64]
["IndusInd Bank","Banking & Financial Services",887735,77.41,0.62]
["Idea Cellular","Telecommunication",4122996,72.42,0.57999999999999996]
["ACC","Cement & Construction",502693,72.42,0.57999999999999996]
["BHEL","Engineering & Capital Goods",2871567,71.17,0.56999999999999995]
["Bank of India","Banking & Financial Services",3936130,67.430000000000007,0.54]
["Bharat Elec","Manufacturing",189437,63.68,0.51]
["L&T Finance","Banking & Financial Services",9284184,61.18,0.49]
["NTPC","Utilities",4258746,58.69,0.47]
["Tech Mahindra","Information Technology",1201106,57.44,0.46]
["IDFC","Banking & Financial Services",3894026,57.44,0.46]
["Shriram Trans","Banking & Financial Services",644869,54.94,0.44]
["Info Edge","Miscellaneous",584256,49.95,0.4]
["HPCL","Oil & Gas",668403,48.7,0.39]
["ONGC","Oil & Gas",1532306,47.45,0.38]
["Oriental Bank","Banking & Financial Services",2830174,47.45,0.38]
["Ambuja Cements","Cement & Construction",2067445,47.45,0.38]
["Power Finance","Banking & Financial Services",1757256,44.95,0.36]
["UPL","Chemicals",769966,41.2,0.33]
["Tata Comm","Telecommunication",901536,39.96,0.32]
["Federal Bank","Banking & Financial Services",5237817,38.71,0.31]
["SAIL","Metals & Mining",5499667,33.71,0.27]
["P and G","Consumer Non-durables",44242,29.97,0.24]
["Dr Reddys Labs","Pharmaceuticals",73851,26.22,0.21]
["Hindalco","Metals & Mining",2229693,24.97,0.2]
["Petronet LNG","Oil & Gas",1335788,24.97,0.2]
["Tata Chemicals","Chemicals",504316,21.23,0.17]
["M&M","Automotive",136441,17.48,0.14000000000000001]
["Indiabulls Real","Retail & Real Estate",1966343,11.24,0.09]
["Jaiprakash Asso","Engineering & Capital Goods",5599229,6.24,0.05]
["Jaiprakash Pow","Utilities",9332048,6.24,0.05]
["Allahabad Bank","Banking & Financial Services",720085,6.24,0.05]
["Zee Entertain","Media & Entertainment",68064,2.5,0.02]
["Money Market","Rating","Value","%"]
["Collateralised Borrowing & Lending Obligation","-",194.79,1.56]
["Cash / Call","Rating","Value","%"]
["Net Current Assets","-",-7.49,-0.06]

{"sheet":"mf2","index":5,"n_rows":64,"n_cols":5,"rows_kept":64,"cut":false,"hidden":false,"merged":[]}
["hdfc equity fund"]
[]
["Equity","Sector","Qty","Value","%"]
[null,null,null,"(Rs cr)"]
["SBI","Banking & Financial Services",50119423,1316.89,8.5299999999999994]
["ICICI Bank","Banking & Financial Services",40901497,1259.77,8.16]
["Larsen","Engineering & Capital Goods",6537987,1165.5899999999999,7.55]
["Infosys","Information Technology",10680641,1051.3499999999999,6.81]
["Maruti Suzuki","Automotive",2068239,832.12,5.39]
["BPCL","Oil & Gas",7654635,673.11,4.3600000000000003]
["Aurobindo Pharm","Pharmaceuticals",4199816,609.80999999999995,3.95]
["Bharti Airtel","Telecommunication",13084248,549.6,3.56]
["Tata Motors","Automotive",11663632,506.38,3.28]
["HDFC Bank","Banking & Financial Services",4484727,478.59,3.1]
["Bank of Baroda","Banking & Financial Services",28809611,415.29,2.69]
["Axis Bank","Banking & Financial Services",6242165,348.91,2.2599999999999998]
["Reliance","Oil & Gas",3056480,305.68,1.98]
["Grasim","Conglomerates",883483,304.13,1.97]
["CESC","Utilities",5166826,288.7,1.87]
["Oracle Fin Serv","Information Technology",755559,285.61,1.85]
["CMC","Information Technology",1440382,284.06,1.84]
["Siemens","Engineering & Capital Goods",2025860,273.26,1.77]
["Balkrishna Ind","Automotive",3550032,253.19,1.64]
["Crompton Greave","Engineering & Capital Goods",15200798,247.01,1.6]
["HDFC","Banking & Financial Services",1905303,247.01,1.6]
["P and G","Consumer Non-durables",356877,243.93,1.58]
["Info Edge","Miscellaneous",2313803,197.61,1.28]
["Tata Steel","Metals & Mining",5930014,180.63,1.17]
["Tata Motors","Automotive",4089383,177.54,1.1499999999999999]
["Oil India","Oil & Gas",3973603,177.54,1.1499999999999999]
["REC","Banking & Financial Services",6340284,174.45,1.1299999999999999]
["ITC","Tobacco",5486564,172.91,1.1200000000000001]
["Wipro","Information Technology",2936865,160.56,1.04]
["PNB","Banking & Financial Services",11567610,160.56,1.04]
["IOC","Oil & Gas",3805499,146.66,0.95]
["Prism Cement","Cement & Construction",11951333,131.22999999999999,0.85]
["Cipla","Pharmaceuticals",2107277,129.68,0.84]
["Praj Industries","Engineering & Capital Goods",13737479,129.68,0.84]
["Canara Bank","Banking & Financial Services",4389514,121.96,0.79]
["Kalpataru Power","Engineering & Capital Goods",4440549,115.79,0.75]
["State B Bikaner","Banking & Financial Services",2102998,112.7,0.73]
["UPL","Chemicals",1988879,106.52,0.69]
["Power Grid Corp","Utilities",6659228,92.63,0.6]
["Ramco System","Information Technology",1169200,92.63,0.6]
["Power Finance","Banking & Financial Services",3558048,91.09,0.59]
["SKF India","Engineering & Capital Goods",490884,69.47,0.45]
["KSK Energy Vent","Utilities",18306296,69.47,0.45]
["Gammon Infra","Cement & Construction",45832483,58.67,0.38]
["Oriental Bank","Banking & Financial Services",3220148,54.03,0.35]
["Hind Constr","Cement & Construction",21744099,54.03,0.35]
["Simplex Infra","Cement & Construction",1317227,49.4,0.32]
["DB Corp","Media & Entertainment",1288635,43.23,0.28000000000000003]
["Savita Oil Tech","Chemicals",714340,38.6,0.25]
["Time Techno","Manufacturing",7180609,37.049999999999997,0.24]
["Lakshmi Machine","Engineering & Capital Goods",83930,30.88,0.2]
["Jaiprakash Pow","Utilities",39171831,26.25,0.17]
["Zee Entertain","Media & Entertainment",83927,3.09,0.02]
["Others / Unlisted","Rating","Value","%"]
["11.6 HYPERCITY RETAIL (I) LTD (Corporate Guarnatee of Shopper Stop) Ltd.","-",106.52,0.69]
["Nirvikara Paper Mills Ltd.","-",3.09,0.02]
["Money Market","Rating","Value","%"]
["Collateralised Borrowing & Lending Obligation","-",81.819999999999993,0.53]
["Cash / Call","Rating","Value","%"]
["Net Current Assets","-",100.35,0.65]

{"sheet":"mf3","index":6,"n_rows":121,"n_cols":5,"rows_kept":121,"cut":false,"hidden":false,"merged":[]}
["hdfc prudence fund"]
[]
["Equity","Sector","Qty","Value","%"]
[null,null,null,"(Rs cr)"]
["ICICI Bank","Banking & Financial Services",14347633,441.91,5.57]
["SBI","Banking & Financial Services",16244836,426.83,5.38]
["Infosys","Information Technology",4239474,417.31,5.26]
["Larsen","Engineering & Capital Goods",2282919,407,5.13]
["Maruti Suzuki","Automotive",601434,241.98,3.05]
["Aurobindo Pharm","Pharmaceuticals",1464347,212.62,2.68]
["Aarti Ind","Chemicals",6086701,207.07,2.61]
["Bharti Airtel","Telecommunication",4702991,197.55,2.4900000000000002]
["Tata Motors","Automotive",3289338,142.81,1.8]
["Bank of Baroda","Banking & Financial Services",9851768,142.01,1.79]
["P and G","Consumer Non-durables",199648,136.46,1.72]
["Crompton Greave","Engineering & Capital Goods",7128124,115.83,1.46]
["BPCL","Oil & Gas",1299201,114.25,1.44]
["KEC Intl","Engineering & Capital Goods",7132101,92.82,1.17]
["Birla Corp","Cement & Construction",2056956,84.89,1.07]
["Oracle Fin Serv","Information Technology",222474,84.1,1.06]
["CMC","Information Technology",414355,81.72,1.03]
["Axis Bank","Banking & Financial Services",1405200,78.540000000000006,0.99]
["Tata Motors","Automotive",1699491,73.78,0.93]
["Sanghvi Movers","Engineering & Capital Goods",2251389,72.989999999999995,0.92]
["Corporation Bk","Banking & Financial Services",13940756,70.61,0.89]
["Sharda Crop","Chemicals",2094392,69.819999999999993,0.88]
["MPS","Miscellaneous",777905,66.64,0.84]
["Wipro","Information Technology",1160958,63.47,0.8]
["Reliance","Oil & Gas",634633,63.47,0.8]
["Bajaj Electric","Consumer Durables",2296253,62.68,0.79]
["Siemens","Engineering & Capital Goods",458782,61.88,0.78]
["Sundram","Manufacturing",4088725,61.88,0.78]
["Union Bank","Banking & Financial Services",4137453,61.09,0.77]
["Apar Ind","Miscellaneous",1600640,60.3,0.76]
["REC","Banking & Financial Services",2191391,60.3,0.76]
["Simplex Infra","Cement & Construction",1565375,58.71,0.74]
["Tamil Newsprint","Manufacturing",3757400,58.71,0.74]
["Grasim","Conglomerates",168241,57.92,0.73]
["Dynamatic Tech","Engineering & Capital Goods",173450,50.78,0.64]
["Canara Bank","Banking & Financial Services",1827449,50.78,0.64]
["Tata Steel","Metals & Mining",1562777,47.6,0.6]
["Info Edge","Miscellaneous",548081,46.81,0.59]
["Balkrishna Ind","Automotive",656321,46.81,0.59]
["Time Techno","Manufacturing",9071479,46.81,0.59]
["VRL Logistics","Services",1528202,46.81,0.59]
["Oil India","Oil & Gas",941106,42.05,0.53]
["Texmaco Rail","Engineering & Capital Goods",3312344,41.26,0.52]
["Astra Microwave","Telecommunication",3809348,41.26,0.52]
["APL Apollo","Metals & Mining",1064646,40.46,0.51]
["Ramco System","Information Technology",500707,39.67,0.5]
["TD Power System","Engineering & Capital Goods",1261156,38.880000000000003,0.49]
["State B Bikaner","Banking & Financial Services",710613,38.08,0.48]
["CESC","Utilities",653155,36.49,0.46]
["PNB","Banking & Financial Services",2629324,36.49,0.46]
["Titagarh Wagons","Engineering & Capital Goods",3366049,34.11,0.43]
["Chennai Petro","Oil & Gas",1815812,30.94,0.39]
["Centum Electron","Manufacturing",434327,30.94,0.39]
["Zee Media","Media & Entertainment",17945274,30.15,0.38]
["Hind Constr","Cement & Construction",11812753,29.35,0.37]
["Prism Cement","Cement & Construction",2528957,27.77,0.35]
["Oriental Bank","Banking & Financial Services",1654824,27.77,0.35]
["MEP Infra","Engineering & Capital Goods",4264041,26.18,0.33]
["HBL Power","Engineering & Capital Goods",5367408,25.39,0.32]
["Savita Oil Tech","Chemicals",455200,24.59,0.31]
["KSK Energy Vent","Utilities",6271700,23.8,0.3]
["State Bk Travan","Banking & Financial Services",528473,22.21,0.28000000000000003]
["HSIL","Cement & Construction",589108,20.63,0.26]
["Hindustan Media","Media & Entertainment",986967,20.63,0.26]
["Metalyst Forgin","Manufacturing",1456306,18.25,0.23]
["Suven Life Sci","Pharmaceuticals",713523,16.66,0.21]
["Jaiprakash Pow","Utilities",24866821,16.66,0.21]
["Sarla Performan","Manufacturing",369009,15.87,0.2]
["Atul","Chemicals",132759,15.87,0.2]
["Techno Electric","Engineering & Capital Goods",330605,15.87,0.2]
["Sadbhav Engg","Engineering & Capital Goods",491504,14.28,0.18]
["IOC","Oil & Gas",349956,13.49,0.17]
["Lakshmi Machine","Engineering & Capital Goods",36662,13.49,0.17]
["Cipla","Pharmaceuticals",193379,11.9,0.15]
["Transport Corp","Services",454560,11.11,0.14000000000000001]
["Allahabad Bank","Banking & Financial Services",1097457,9.52,0.12]
["Ipca Labs","Pharmaceuticals",122977,8.73,0.11]
["Jyoti Structure","Engineering & Capital Goods",3584012,8.73,0.11]
["Kirloskar Pneum","Engineering & Capital Goods",140282,7.14,0.09]
["ITD Cementation","Cement & Construction",60613,3.97,0.05]
["Ballarpur Ind","Manufacturing",3123504,3.97,0.05]
["Everest Ind","Cement & Construction",122453,3.97,0.05]
["Ramcoind","Cement & Construction",479088,3.97,0.05]
["Navin Fluorine","Chemicals",40769,3.97,0.05]
["Shemaroo Ent","Media & Entertainment",96400,2.38,0.03]
["Others / Unlisted","Rating","Value","%"]
["Nirvikara Paper Mills Ltd.","-",0.79,0.01]
["Debt","Rating","Value","%"]
["Government Securities",null,1471.7,18.55]
["8.3 8.3 GOI 2042","Sovereign",344.32,4.34]
["8.97 8.97 GOI 2030","Sovereign",185.65,2.34]
["8.32 8.32 GOI 2032","Sovereign",180.89,2.2799999999999998]
["9.23 9.23 GOI 2043","Sovereign",142.01,1.79]
["8.3 8.3 GOI 2040","Sovereign",105.52,1.33]
["8.33 8.33 GOI 2036","Sovereign",95.2,1.2]
["8.17 8.17 GOI 2044","Sovereign",89.65,1.1299999999999999]
["8.2 8.2 GOI 2025","Sovereign",84.89,1.07]
["9.15 9.15 GOI 2024","Sovereign",80.13,1.01]
["8.33 8.33 GOI 2026","Sovereign",61.88,0.78]
["8.28 8.28 GOI 2027","Sovereign",57.12,0.72]
["8.83 8.83 GOI 2041","Sovereign",25.39,0.32]
["7.94 7.94 GOI 2021","Sovereign",19.04,0.24]
["Non-Convertible debentures / Bonds",null,343.53,4.33]
["10.75 IDBI Bank Ltd.","CRISIL - AA-",166.61,2.1]
["11 Bank of India","BRICKWORKS - AAA",74.58,0.94]
["11.4 Tata Power Co. Ltd.","CRISIL - AA-",49.98,0.63]
["10.4 Punjab National Bank","CRISIL - AAA",19.04,0.24]
["10.25 State Bank of Indore",null,14.28,0.18]
["9.78 State Bank of Bikaner and Jaipur","CRISIL - AAA",9.52,0.12]
["10 ICICI Bank Ltd.","CRISIL - AAA",7.14,0.09]
["11 Power Finance Corporation Ltd.","CRISIL - AAA",2.38,0.03]
["Zero Coupon Bonds / Deep Discount Bonds",null,57.12,0.72]
["Andhra Pradesh Expressway Ltd.","ICRA - AAA(SO)",57.12,0.72]
["Money Market","Rating","Value","%"]
["Collateralised Borrowing & Lending Obligation","-",96.79,1.22]
["Cash / Call","Rating","Value","%"]
["Net Current Assets","-",28.56,0.36]

{"sheet":"temp","index":7,"n_rows":430,"n_cols":5,"rows_kept":430,"cut":false,"hidden":false,"merged":[]}
["Hindi"]
["|"]
["App "]
["|"]
["Premium "]
["|"]
["Specials "]
["Real-time Stock quotes, portfolio, LIVE TV and more."]
["iPad "]
["iPhone"]
["BlackBerry"]
["Android"]
["Android Tab"]
["Nokia"]
["Windows"]
["Game changers"]
["Power your trade"]
["gamechangers"]
["Game changers"]
["Transformingindia","Digitizing India"]
["Gujarati"]
["NAVs"]
["Quotes"]
["NAVs"]
["Commodities"]
["Futures"]
["News"]
["Messages"]
["Notices"]
["Videos"]
["All"]
["Sign in"]
["|"]
["Register"]
["|"]
["Feedback"]
["|"]
["Sign out"]
["|"]
["Feedback"]
["Profile "]
["Portfolio"]
["Watchlist"]
["Messages"]
["Alerts"]
["Keep me signed in"]
["Forgot password?"]
["connect with"]
["Don’t have an account?"]
["Create One"]
["New to Moneycontrol - Sign up now"]
["Its easy and FREE!"]
["Username"]
["Username should be atleast 4 characters"]
["Password"]
["Password should be 6-10 characters"]
["Confirm Password"]
["Email"]
["OR connect with"]
["News"]
["Markets"]
["Mutual Funds"]
["Commodities"]
["Property"]
["Personal Finance"]
["Portfolio"]
["Messages"]
["Live TV"]
["TV18"]
["Home"]
["Learn"]
["Evaluate"]
["Buy"]
["Track"]
["Tools"]
["Interact"]
["ETFs"]
["Investment Watch "]
["PowerYourTrade"]
["Apps"]
["Financial Freedom"]
["Radar Help"]
["A Quick View"]
["Stocks in news"]
["Stocks you last visited"]
["Watchlist"]
["Portfolio"]
["Customize Stack 1 Customize Stack 2 Customize Stack 3 Customize Stack 4"]
["Customize"]
["Customize Stacks"]
["Customize Ticker"]
["Detach"]
["Quick View"]
["Customize Stacks Customize Ticker Detach Help Feedback"]
["Stocks in News"]
["Stocks Last Visited"]
["Watchlist"]
["Portfolio"]
["SENSEX NIFTY "]
[]
["You are here : Moneycontrol > Mutual Funds > Balanced > HDFC Mutual Fund > HDFC Prudence Fund (G) "]
[]
["HDFC Prudence Fund (G)"]
[]
["PLAN: Regular OPTIONS: Growth"]
["More Plan & Options"]
["Direct"]
["HDFC Prudence Fund - Direct (D)"]
["HDFC Prudence Fund - Direct (G)"]
["Regular"]
["HDFC Prudence Fund (D)"]
["380.291 0.65 (0.17%)"]
["NAV as on 13 Aug, 2015"]
["CRISIL MF RANK"]
["Riskometer"]
["MODERATELY HIGH "]
["MODERATELY HIGH"]
["Principal at moderately high risk."]
["Set SMS Alert"]
["Download"]
["Buy"]
["FUND FAMILY : HDFC Mutual Fund FUND CLASS : Balanced"]
["Add to watchlist"]
["OR"]
["Add to Portfolio"]
["Optional"]
["Optional"]
["Optional"]
["Optional"]
["Add SIP"]
["Add to Watchist"]
["close[x]"]
["Have you invested in these stocks? You can track them better in your Portfolio"]
["Edit Watchlist"]
[]
["Login to moneycontrol.com"]
["x"]
["Existing Members, Login"]
["Keep me signed in"]
["Forgot Password?"]
["New to Moneycontrol - Sign up now"]
["Its easy and FREE!"]
["Username"]
["Username should be atleast 4 characters"]
["Password"]
["Password should be 6 to 10 characters"]
["Confirm Password"]
["Email"]
["OR connect with"]
["SNAPSHOT"]
["SNAPSHOT"]
["Performance"]
["Returns Calculator"]
["SIP Calculator"]
["Historic Graph"]
["Investment Info"]
["Overview"]
["Scheme Assets"]
["Dividend History"]
["Peers"]
["Competition"]
["NAV Details"]
["Performance Returns"]
["Performance Ranks"]
["Portfolio"]
["Overview"]
["Holdings"]
["Sector Allocation"]
["Asset Breakup"]
["News and Videos"]
["News Videos"]
[]
["Portfolio Holdings (Jun 30, 2015)"]
[]
["Equity","Sector","Qty","Value","%"]
[null,null,null,"(Rs cr)"]
["ICICI Bank","Banking & Financial Services",14347633,441.91,5.57]
["SBI","Banking & Financial Services",16244836,426.83,5.38]
["Infosys","Information Technology",4239474,417.31,5.26]
["Larsen","Engineering & Capital Goods",2282919,407,5.13]
["Maruti Suzuki","Automotive",601434,241.98,3.05]
["Aurobindo Pharm","Pharmaceuticals",1464347,212.62,2.68]
["Aarti Ind","Chemicals",6086701,207.07,2.61]
["Bharti Airtel","Telecommunication",4702991,197.55,2.4900000000000002]
["Tata Motors","Automotive",3289338,142.81,1.8]
["Bank of Baroda","Banking & Financial Services",9851768,142.01,1.79]
["P and G","Consumer Non-durables",199648,136.46,1.72]
["Crompton Greave","Engineering & Capital Goods",7128124,115.83,1.46]
["BPCL","Oil & Gas",1299201,114.25,1.44]
["KEC Intl","Engineering & Capital Goods",7132101,92.82,1.17]
["Birla Corp","Cement & Construction",2056956,84.89,1.07]
["Oracle Fin Serv","Information Technology",222474,84.1,1.06]
["CMC","Information Technology",414355,81.72,1.03]
["Axis Bank","Banking & Financial Services",1405200,78.540000000000006,0.99]
["Tata Motors","Automotive",1699491,73.78,0.93]
["Sanghvi Movers","Engineering & Capital Goods",2251389,72.989999999999995,0.92]
["Corporation Bk","Banking & Financial Services",13940756,70.61,0.89]
["Sharda Crop","Chemicals",2094392,69.819999999999993,0.88]
["MPS","Miscellaneous",777905,66.64,0.84]
["Wipro","Information Technology",1160958,63.47,0.8]
["Reliance","Oil & Gas",634633,63.47,0.8]
["Bajaj Electric","Consumer Durables",2296253,62.68,0.79]
["Siemens","Engineering & Capital Goods",458782,61.88,0.78]
["Sundram","Manufacturing",4088725,61.88,0.78]
["Union Bank","Banking & Financial Services",4137453,61.09,0.77]
["Apar Ind","Miscellaneous",1600640,60.3,0.76]
["REC","Banking & Financial Services",2191391,60.3,0.76]
["Simplex Infra","Cement & Construction",1565375,58.71,0.74]
["Tamil Newsprint","Manufacturing",3757400,58.71,0.74]
["Grasim","Conglomerates",168241,57.92,0.73]
["Dynamatic Tech","Engineering & Capital Goods",173450,50.78,0.64]
["Canara Bank","Banking & Financial Services",1827449,50.78,0.64]
["Tata Steel","Metals & Mining",1562777,47.6,0.6]
["Info Edge","Miscellaneous",548081,46.81,0.59]
["Balkrishna Ind","Automotive",656321,46.81,0.59]
["Time Techno","Manufacturing",9071479,46.81,0.59]
["VRL Logistics","Services",1528202,46.81,0.59]
["Oil India","Oil & Gas",941106,42.05,0.53]
["Texmaco Rail","Engineering & Capital Goods",3312344,41.26,0.52]
["Astra Microwave","Telecommunication",3809348,41.26,0.52]
["APL Apollo","Metals & Mining",1064646,40.46,0.51]
["Ramco System","Information Technology",500707,39.67,0.5]
["TD Power System","Engineering & Capital Goods",1261156,38.880000000000003,0.49]
["State B Bikaner","Banking & Financial Services",710613,38.08,0.48]
["CESC","Utilities",653155,36.49,0.46]
["PNB","Banking & Financial Services",2629324,36.49,0.46]
["Titagarh Wagons","Engineering & Capital Goods",3366049,34.11,0.43]
["Chennai Petro","Oil & Gas",1815812,30.94,0.39]
["Centum Electron","Manufacturing",434327,30.94,0.39]
["Zee Media","Media & Entertainment",17945274,30.15,0.38]
["Hind Constr","Cement & Construction",11812753,29.35,0.37]
["Prism Cement","Cement & Construction",2528957,27.77,0.35]
["Oriental Bank","Banking & Financial Services",1654824,27.77,0.35]
["MEP Infra","Engineering & Capital Goods",4264041,26.18,0.33]
["HBL Power","Engineering & Capital Goods",5367408,25.39,0.32]
["Savita Oil Tech","Chemicals",455200,24.59,0.31]
["KSK Energy Vent","Utilities",6271700,23.8,0.3]
["State Bk Travan","Banking & Financial Services",528473,22.21,0.28000000000000003]
["HSIL","Cement & Construction",589108,20.63,0.26]
["Hindustan Media","Media & Entertainment",986967,20.63,0.26]
["Metalyst Forgin","Manufacturing",1456306,18.25,0.23]
["Suven Life Sci","Pharmaceuticals",713523,16.66,0.21]
["Jaiprakash Pow","Utilities",24866821,16.66,0.21]
["Sarla Performan","Manufacturing",369009,15.87,0.2]
["Atul","Chemicals",132759,15.87,0.2]
["Techno Electric","Engineering & Capital Goods",330605,15.87,0.2]
["Sadbhav Engg","Engineering & Capital Goods",491504,14.28,0.18]
["IOC","Oil & Gas",349956,13.49,0.17]
["Lakshmi Machine","Engineering & Capital Goods",36662,13.49,0.17]
["Cipla","Pharmaceuticals",193379,11.9,0.15]
["Transport Corp","Services",454560,11.11,0.14000000000000001]
["Allahabad Bank","Banking & Financial Services",1097457,9.52,0.12]
["Ipca Labs","Pharmaceuticals",122977,8.73,0.11]
["Jyoti Structure","Engineering & Capital Goods",3584012,8.73,0.11]
["Kirloskar Pneum","Engineering & Capital Goods",140282,7.14,0.09]
["ITD Cementation","Cement & Construction",60613,3.97,0.05]
["Ballarpur Ind","Manufacturing",3123504,3.97,0.05]
["Everest Ind","Cement & Construction",122453,3.97,0.05]
["Ramcoind","Cement & Construction",479088,3.97,0.05]
["Navin Fluorine","Chemicals",40769,3.97,0.05]
["Shemaroo Ent","Media & Entertainment",96400,2.38,0.03]
["Others / Unlisted","Rating","Value","%"]
["Nirvikara Paper Mills Ltd.","-",0.79,0.01]
["Debt","Rating","Value","%"]
["Government Securities",null,1471.7,18.55]
["8.3 8.3 GOI 2042","Sovereign",344.32,4.34]
["8.97 8.97 GOI 2030","Sovereign",185.65,2.34]
["8.32 8.32 GOI 2032","Sovereign",180.89,2.2799999999999998]
["9.23 9.23 GOI 2043","Sovereign",142.01,1.79]
["8.3 8.3 GOI 2040","Sovereign",105.52,1.33]
["8.33 8.33 GOI 2036","Sovereign",95.2,1.2]
["8.17 8.17 GOI 2044","Sovereign",89.65,1.1299999999999999]
["8.2 8.2 GOI 2025","Sovereign",84.89,1.07]
["9.15 9.15 GOI 2024","Sovereign",80.13,1.01]
["8.33 8.33 GOI 2026","Sovereign",61.88,0.78]
["8.28 8.28 GOI 2027","Sovereign",57.12,0.72]
["8.83 8.83 GOI 2041","Sovereign",25.39,0.32]
["7.94 7.94 GOI 2021","Sovereign",19.04,0.24]
["Non-Convertible debentures / Bonds",null,343.53,4.33]
["10.75 IDBI Bank Ltd.","CRISIL - AA-",166.61,2.1]
["11 Bank of India","BRICKWORKS - AAA",74.58,0.94]
["11.4 Tata Power Co. Ltd.","CRISIL - AA-",49.98,0.63]
["10.4 Punjab National Bank","CRISIL - AAA",19.04,0.24]
["10.25 State Bank of Indore",null,14.28,0.18]
["9.78 State Bank of Bikaner and Jaipur","CRISIL - AAA",9.52,0.12]
["10 ICICI Bank Ltd.","CRISIL - AAA",7.14,0.09]
["11 Power Finance Corporation Ltd.","CRISIL - AAA",2.38,0.03]
["Zero Coupon Bonds / Deep Discount Bonds",null,57.12,0.72]
["Andhra Pradesh Expressway Ltd.","ICRA - AAA(SO)",57.12,0.72]
["Money Market","Rating","Value","%"]
["Collateralised Borrowing & Lending Obligation","-",96.79,1.22]
["Cash / Call","Rating","Value","%"]
["Net Current Assets","-",28.56,0.36]
[]
["Related Searches"]
["HDFC Prudence Fund (G) Growth , HDFC Prudence Fund (G) Performance, HDFC Prudence Fund (G) NAV, HDFC Prudence Fund (G) Returns, HDFC Prudence Fund (G) Dividend History, Portfolio Of HDFC Prudence Fund (G) More »"]
["Quick Links"]
["Performance"]
["Scheme Returns"]
["Historic NAV Chart"]
["Returns Calculator"]
["SIP Calculator"]
["Investment Info"]
["Scheme Details"]
["Scheme Assets"]
["Dividend History"]
["News & Videos"]
["Peers"]
["Peer Comparison"]
["NAV Details"]
["Performance Returns"]
["Performance Ranks"]
["Portfolio"]
["Top Holdings"]
["Sector Allocation"]
["Asset Breakup"]
["Tools"]
["Top Performing Funds"]
["Find your Fund"]
["SIP Planner"]
["Sectors attracting Fund Managers"]
["What MFs are buying/selling?"]
["Compare funds"]
["Follow moneycontrol"]
["Facebook Twitter Google Plus RSS Wap SMS SMS Alert iPad iPhone Blackberry OVI Android Window Windows 8"]
["Explore Moneycontrol"]
["STOCKS"]
["A"]
["B"]
["C"]
["D"]
["E"]
["F"]
["G"]
["H"]
["I"]
["J"]
["K"]
["L"]
["M"]
["N"]
["O"]
["P"]
["Q"]
["R"]
["S"]
["T"]
["U"]
["V"]
["W"]
["X"]
["Y"]
["Z"]
["Others"]
["MUTUAL FUNDS"]
["A"]
["B"]
["C"]
["D"]
["E"]
["F"]
["G"]
["H"]
["I"]
["J"]
["K"]
["L"]
["M"]
["N"]
["O"]
["P"]
["Q"]
["R"]
["S"]
["T"]
["U"]
["V"]
["W"]
["X"]
["Y"]
["Z"]
["Live Sensex"]
["Public Sector Banks"]
["Market Statistics"]
["Plan Insurance"]
["Global Market"]
["Business News"]
["Mutual Fund"]
["Best Portfolio Manager"]
["Bse Sensex"]
["Nse Nifty"]
["Commodities Price"]
["Silver Price/Rate in India"]
["Gold Price/Rate in India"]
["Crude Oil"]
["USD to INR"]
["Bank Fixed Deposits"]
["Company Fixed Deposits"]
["Small Savings Schemes"]
["Bonds"]
["Budget: 2011, 2012, 2013, 2014 | Budget 2015"]
["RBI Credit Policy"]
["News Archive"]
["Financial Glossary"]
["Message Board"]
["Moneybhai"]
["Think India"]
["History India"]
["Latest News"]
["IBNLive News"]
["News in Hindi"]
["Cricket News"]
["Paper Peek Exam Special"]
["CBSE Sample Papers"]
["India News"]
["Restaurants in Bangalore"]
["Online Shopping in India"]
["Cairn India"]
["Euro"]
["Infosys"]
["Inflation"]
["Silver"]
["Glenmark Pharmaceuticals"]
["Snapdeal"]
["Starbucks"]
["Narendra Modi"]
["Crore"]
["Rss Feeds"]
["Site Map  |  About Us  |  Contact Us  |  Feedback  |  Advertise  |  Bookmark  |  Disclaimer  |  Privacy Statement  |  Terms of Use  |  Careers"]
["Copyright © e-Eighteen.com Ltd. All rights reserved. Reproduction of news articles, photos, videos or any other content in whole or in part in any form or medium without express written permission of moneycontrol.com is prohibited."]

{"sheet":"temp2","index":8,"n_rows":430,"n_cols":5,"rows_kept":430,"cut":false,"hidden":false,"merged":[]}
["Hindi"]
["|"]
["App "]
["|"]
["Premium "]
["|"]
["Specials "]
["Real-time Stock quotes, portfolio, LIVE TV and more."]
["iPad "]
["iPhone"]
["BlackBerry"]
["Android"]
["Android Tab"]
["Nokia"]
["Windows"]
["Game changers"]
["Power your trade"]
["gamechangers"]
["Game changers"]
["Transformingindia","Digitizing India"]
["Gujarati"]
["NAVs"]
["Quotes"]
["NAVs"]
["Commodities"]
["Futures"]
["News"]
["Messages"]
["Notices"]
["Videos"]
["All"]
["Sign in"]
["|"]
["Register"]
["|"]
["Feedback"]
["|"]
["Sign out"]
["|"]
["Feedback"]
["Profile "]
["Portfolio"]
["Watchlist"]
["Messages"]
["Alerts"]
["Keep me signed in"]
["Forgot password?"]
["connect with"]
["Don’t have an account?"]
["Create One"]
["New to Moneycontrol - Sign up now"]
["Its easy and FREE!"]
["Username"]
["Username should be atleast 4 characters"]
["Password"]
["Password should be 6-10 characters"]
["Confirm Password"]
["Email"]
["OR connect with"]
["News"]
["Markets"]
["Mutual Funds"]
["Commodities"]
["Property"]
["Personal Finance"]
["Portfolio"]
["Messages"]
["Live TV"]
["TV18"]
["Home"]
["Learn"]
["Evaluate"]
["Buy"]
["Track"]
["Tools"]
["Interact"]
["ETFs"]
["Investment Watch "]
["PowerYourTrade"]
["Apps"]
["Financial Freedom"]
["Radar Help"]
["A Quick View"]
["Stocks in news"]
["Stocks you last visited"]
["Watchlist"]
["Portfolio"]
["Customize Stack 1 Customize Stack 2 Customize Stack 3 Customize Stack 4"]
["Customize"]
["Customize Stacks"]
["Customize Ticker"]
["Detach"]
["Quick View"]
["Customize Stacks Customize Ticker Detach Help Feedback"]
["Stocks in News"]
["Stocks Last Visited"]
["Watchlist"]
["Portfolio"]
["SENSEX NIFTY "]
[]
["You are here : Moneycontrol > Mutual Funds > Balanced > HDFC Mutual Fund > HDFC Prudence Fund (G) "]
[]
["HDFC Prudence Fund (G)"]
[]
["PLAN: Regular OPTIONS: Growth"]
["More Plan & Options"]
["Direct"]
["HDFC Prudence Fund - Direct (D)"]
["HDFC Prudence Fund - Direct (G)"]
["Regular"]
["HDFC Prudence Fund (D)"]
["380.291 0.65 (0.17%)"]
["NAV as on 13 Aug, 2015"]
["CRISIL MF RANK"]
["Riskometer"]
["MODERATELY HIGH "]
["MODERATELY HIGH"]
["Principal at moderately high risk."]
["Set SMS Alert"]
["Download"]
["Buy"]
["FUND FAMILY : HDFC Mutual Fund FUND CLASS : Balanced"]
["Add to watchlist"]
["OR"]
["Add to Portfolio"]
["Optional"]
["Optional"]
["Optional"]
["Optional"]
["Add SIP"]
["Add to Watchist"]
["close[x]"]
["Have you invested in these stocks? You can track them better in your Portfolio"]
["Edit Watchlist"]
[]
["Login to moneycontrol.com"]
["x"]
["Existing Members, Login"]
["Keep me signed in"]
["Forgot Password?"]
["New to Moneycontrol - Sign up now"]
["Its easy and FREE!"]
["Username"]
["Username should be atleast 4 characters"]
["Password"]
["Password should be 6 to 10 characters"]
["Confirm Password"]
["Email"]
["OR connect with"]
["SNAPSHOT"]
["SNAPSHOT"]
["Performance"]
["Returns Calculator"]
["SIP Calculator"]
["Historic Graph"]
["Investment Info"]
["Overview"]
["Scheme Assets"]
["Dividend History"]
["Peers"]
["Competition"]
["NAV Details"]
["Performance Returns"]
["Performance Ranks"]
["Portfolio"]
["Overview"]
["Holdings"]
["Sector Allocation"]
["Asset Breakup"]
["News and Videos"]
["News Videos"]
[]
["Portfolio Holdings (Jun 30, 2015)"]
[]
["Equity","Sector","Qty","Value","%"]
[null,null,null,"(Rs cr)"]
["ICICI Bank","Banking & Financial Services",14347633,441.91,5.57]
["SBI","Banking & Financial Services",16244836,426.83,5.38]
["Infosys","Information Technology",4239474,417.31,5.26]
["Larsen","Engineering & Capital Goods",2282919,407,5.13]
["Maruti Suzuki","Automotive",601434,241.98,3.05]
["Aurobindo Pharm","Pharmaceuticals",1464347,212.62,2.68]
["Aarti Ind","Chemicals",6086701,207.07,2.61]
["Bharti Airtel","Telecommunication",4702991,197.55,2.4900000000000002]
["Tata Motors","Automotive",3289338,142.81,1.8]
["Bank of Baroda","Banking & Financial Services",9851768,142.01,1.79]
["P and G","Consumer Non-durables",199648,136.46,1.72]
["Crompton Greave","Engineering & Capital Goods",7128124,115.83,1.46]
["BPCL","Oil & Gas",1299201,114.25,1.44]
["KEC Intl","Engineering & Capital Goods",7132101,92.82,1.17]
["Birla Corp","Cement & Construction",2056956,84.89,1.07]
["Oracle Fin Serv","Information Technology",222474,84.1,1.06]
["CMC","Information Technology",414355,81.72,1.03]
["Axis Bank","Banking & Financial Services",1405200,78.540000000000006,0.99]
["Tata Motors","Automotive",1699491,73.78,0.93]
["Sanghvi Movers","Engineering & Capital Goods",2251389,72.989999999999995,0.92]
["Corporation Bk","Banking & Financial Services",13940756,70.61,0.89]
["Sharda Crop","Chemicals",2094392,69.819999999999993,0.88]
["MPS","Miscellaneous",777905,66.64,0.84]
["Wipro","Information Technology",1160958,63.47,0.8]
["Reliance","Oil & Gas",634633,63.47,0.8]
["Bajaj Electric","Consumer Durables",2296253,62.68,0.79]
["Siemens","Engineering & Capital Goods",458782,61.88,0.78]
["Sundram","Manufacturing",4088725,61.88,0.78]
["Union Bank","Banking & Financial Services",4137453,61.09,0.77]
["Apar Ind","Miscellaneous",1600640,60.3,0.76]
["REC","Banking & Financial Services",2191391,60.3,0.76]
["Simplex Infra","Cement & Construction",1565375,58.71,0.74]
["Tamil Newsprint","Manufacturing",3757400,58.71,0.74]
["Grasim","Conglomerates",168241,57.92,0.73]
["Dynamatic Tech","Engineering & Capital Goods",173450,50.78,0.64]
["Canara Bank","Banking & Financial Services",1827449,50.78,0.64]
["Tata Steel","Metals & Mining",1562777,47.6,0.6]
["Info Edge","Miscellaneous",548081,46.81,0.59]
["Balkrishna Ind","Automotive",656321,46.81,0.59]
["Time Techno","Manufacturing",9071479,46.81,0.59]
["VRL Logistics","Services",1528202,46.81,0.59]
["Oil India","Oil & Gas",941106,42.05,0.53]
["Texmaco Rail","Engineering & Capital Goods",3312344,41.26,0.52]
["Astra Microwave","Telecommunication",3809348,41.26,0.52]
["APL Apollo","Metals & Mining",1064646,40.46,0.51]
["Ramco System","Information Technology",500707,39.67,0.5]
["TD Power System","Engineering & Capital Goods",1261156,38.880000000000003,0.49]
["State B Bikaner","Banking & Financial Services",710613,38.08,0.48]
["CESC","Utilities",653155,36.49,0.46]
["PNB","Banking & Financial Services",2629324,36.49,0.46]
["Titagarh Wagons","Engineering & Capital Goods",3366049,34.11,0.43]
["Chennai Petro","Oil & Gas",1815812,30.94,0.39]
["Centum Electron","Manufacturing",434327,30.94,0.39]
["Zee Media","Media & Entertainment",17945274,30.15,0.38]
["Hind Constr","Cement & Construction",11812753,29.35,0.37]
["Prism Cement","Cement & Construction",2528957,27.77,0.35]
["Oriental Bank","Banking & Financial Services",1654824,27.77,0.35]
["MEP Infra","Engineering & Capital Goods",4264041,26.18,0.33]
["HBL Power","Engineering & Capital Goods",5367408,25.39,0.32]
["Savita Oil Tech","Chemicals",455200,24.59,0.31]
["KSK Energy Vent","Utilities",6271700,23.8,0.3]
["State Bk Travan","Banking & Financial Services",528473,22.21,0.28000000000000003]
["HSIL","Cement & Construction",589108,20.63,0.26]
["Hindustan Media","Media & Entertainment",986967,20.63,0.26]
["Metalyst Forgin","Manufacturing",1456306,18.25,0.23]
["Suven Life Sci","Pharmaceuticals",713523,16.66,0.21]
["Jaiprakash Pow","Utilities",24866821,16.66,0.21]
["Sarla Performan","Manufacturing",369009,15.87,0.2]
["Atul","Chemicals",132759,15.87,0.2]
["Techno Electric","Engineering & Capital Goods",330605,15.87,0.2]
["Sadbhav Engg","Engineering & Capital Goods",491504,14.28,0.18]
["IOC","Oil & Gas",349956,13.49,0.17]
["Lakshmi Machine","Engineering & Capital Goods",36662,13.49,0.17]
["Cipla","Pharmaceuticals",193379,11.9,0.15]
["Transport Corp","Services",454560,11.11,0.14000000000000001]
["Allahabad Bank","Banking & Financial Services",1097457,9.52,0.12]
["Ipca Labs","Pharmaceuticals",122977,8.73,0.11]
["Jyoti Structure","Engineering & Capital Goods",3584012,8.73,0.11]
["Kirloskar Pneum","Engineering & Capital Goods",140282,7.14,0.09]
["ITD Cementation","Cement & Construction",60613,3.97,0.05]
["Ballarpur Ind","Manufacturing",3123504,3.97,0.05]
["Everest Ind","Cement & Construction",122453,3.97,0.05]
["Ramcoind","Cement & Construction",479088,3.97,0.05]
["Navin Fluorine","Chemicals",40769,3.97,0.05]
["Shemaroo Ent","Media & Entertainment",96400,2.38,0.03]
["Others / Unlisted","Rating","Value","%"]
["Nirvikara Paper Mills Ltd.","-",0.79,0.01]
["Debt","Rating","Value","%"]
["Government Securities",null,1471.7,18.55]
["8.3 8.3 GOI 2042","Sovereign",344.32,4.34]
["8.97 8.97 GOI 2030","Sovereign",185.65,2.34]
["8.32 8.32 GOI 2032","Sovereign",180.89,2.2799999999999998]
["9.23 9.23 GOI 2043","Sovereign",142.01,1.79]
["8.3 8.3 GOI 2040","Sovereign",105.52,1.33]
["8.33 8.33 GOI 2036","Sovereign",95.2,1.2]
["8.17 8.17 GOI 2044","Sovereign",89.65,1.1299999999999999]
["8.2 8.2 GOI 2025","Sovereign",84.89,1.07]
["9.15 9.15 GOI 2024","Sovereign",80.13,1.01]
["8.33 8.33 GOI 2026","Sovereign",61.88,0.78]
["8.28 8.28 GOI 2027","Sovereign",57.12,0.72]
["8.83 8.83 GOI 2041","Sovereign",25.39,0.32]
["7.94 7.94 GOI 2021","Sovereign",19.04,0.24]
["Non-Convertible debentures / Bonds",null,343.53,4.33]
["10.75 IDBI Bank Ltd.","CRISIL - AA-",166.61,2.1]
["11 Bank of India","BRICKWORKS - AAA",74.58,0.94]
["11.4 Tata Power Co. Ltd.","CRISIL - AA-",49.98,0.63]
["10.4 Punjab National Bank","CRISIL - AAA",19.04,0.24]
["10.25 State Bank of Indore",null,14.28,0.18]
["9.78 State Bank of Bikaner and Jaipur","CRISIL - AAA",9.52,0.12]
["10 ICICI Bank Ltd.","CRISIL - AAA",7.14,0.09]
["11 Power Finance Corporation Ltd.","CRISIL - AAA",2.38,0.03]
["Zero Coupon Bonds / Deep Discount Bonds",null,57.12,0.72]
["Andhra Pradesh Expressway Ltd.","ICRA - AAA(SO)",57.12,0.72]
["Money Market","Rating","Value","%"]
["Collateralised Borrowing & Lending Obligation","-",96.79,1.22]
["Cash / Call","Rating","Value","%"]
["Net Current Assets","-",28.56,0.36]
[]
["Related Searches"]
["HDFC Prudence Fund (G) Growth , HDFC Prudence Fund (G) Performance, HDFC Prudence Fund (G) NAV, HDFC Prudence Fund (G) Returns, HDFC Prudence Fund (G) Dividend History, Portfolio Of HDFC Prudence Fund (G) More »"]
["Quick Links"]
["Performance"]
["Scheme Returns"]
["Historic NAV Chart"]
["Returns Calculator"]
["SIP Calculator"]
["Investment Info"]
["Scheme Details"]
["Scheme Assets"]
["Dividend History"]
["News & Videos"]
["Peers"]
["Peer Comparison"]
["NAV Details"]
["Performance Returns"]
["Performance Ranks"]
["Portfolio"]
["Top Holdings"]
["Sector Allocation"]
["Asset Breakup"]
["Tools"]
["Top Performing Funds"]
["Find your Fund"]
["SIP Planner"]
["Sectors attracting Fund Managers"]
["What MFs are buying/selling?"]
["Compare funds"]
["Follow moneycontrol"]
["Facebook Twitter Google Plus RSS Wap SMS SMS Alert iPad iPhone Blackberry OVI Android Window Windows 8"]
["Explore Moneycontrol"]
["STOCKS"]
["A"]
["B"]
["C"]
["D"]
["E"]
["F"]
["G"]
["H"]
["I"]
["J"]
["K"]
["L"]
["M"]
["N"]
["O"]
["P"]
["Q"]
["R"]
["S"]
["T"]
["U"]
["V"]
["W"]
["X"]
["Y"]
["Z"]
["Others"]
["MUTUAL FUNDS"]
["A"]
["B"]
["C"]
["D"]
["E"]
["F"]
["G"]
["H"]
["I"]
["J"]
["K"]
["L"]
["M"]
["N"]
["O"]
["P"]
["Q"]
["R"]
["S"]
["T"]
["U"]
["V"]
["W"]
["X"]
["Y"]
["Z"]
["Live Sensex"]
["Public Sector Banks"]
["Market Statistics"]
["Plan Insurance"]
["Global Market"]
["Business News"]
["Mutual Fund"]
["Best Portfolio Manager"]
["Bse Sensex"]
["Nse Nifty"]
["Commodities Price"]
["Silver Price/Rate in India"]
["Gold Price/Rate in India"]
["Crude Oil"]
["USD to INR"]
["Bank Fixed Deposits"]
["Company Fixed Deposits"]
["Small Savings Schemes"]
["Bonds"]
["Budget: 2011, 2012, 2013, 2014 | Budget 2015"]
["RBI Credit Policy"]
["News Archive"]
["Financial Glossary"]
["Message Board"]
["Moneybhai"]
["Think India"]
["History India"]
["Latest News"]
["IBNLive News"]
["News in Hindi"]
["Cricket News"]
["Paper Peek Exam Special"]
["CBSE Sample Papers"]
["India News"]
["Restaurants in Bangalore"]
["Online Shopping in India"]
["Cairn India"]
["Euro"]
["Infosys"]
["Inflation"]
["Silver"]
["Glenmark Pharmaceuticals"]
["Snapdeal"]
["Starbucks"]
["Narendra Modi"]
["Crore"]
["Rss Feeds"]
["Site Map  |  About Us  |  Contact Us  |  Feedback  |  Advertise  |  Bookmark  |  Disclaimer  |  Privacy Statement  |  Terms of Use  |  Careers"]
["Copyright © e-Eighteen.com Ltd. All rights reserved. Reproduction of news articles, photos, videos or any other content in whole or in part in any form or medium without express written permission of moneycontrol.com is prohibited."]

{"sheet":"common","index":9,"n_rows":100,"n_cols":5,"rows_kept":100,"cut":false,"hidden":false,"merged":[]}
["SBI",null,null,null,"Allahabad Bank"]
["ICICI Bank",null,null,null,"Aurobindo Pharm"]
["Larsen",null,null,null,"Axis Bank"]
["Infosys",null,null,null,"Bank of Baroda"]
["ZZtock",null,null,null,"Bharti Airtel"]
["Maruti Suzuki",null,null,null,"BPCL"]
["Reliance",null,null,null,"Canara Bank"]
["BPCL",null,null,null,"CESC"]
["Axis Bank",null,null,null,"Cipla"]
["Aurobindo Pharm",null,null,null,"Crompton Greave"]
["ZZtock",null,null,null,"Grasim"]
["Tata Motors",null,null,null,"ICICI Bank"]
["ZZtock",null,null,null,"Info Edge"]
["Bharti Airtel",null,null,null,"Infosys"]
["Bank of Baroda",null,null,null,"IOC"]
["Crompton Greave",null,null,null,"Jaiprakash Pow"]
["CESC",null,null,null,"Larsen"]
["Grasim",null,null,null,"Maruti Suzuki"]
["Oracle Fin Serv",null,null,null,"Oil India"]
["Tata Motors",null,null,null,"Oracle Fin Serv"]
["ZZtock",null,null,null,"Oriental Bank"]
["Siemens",null,null,null,"P and G"]
["Tata Steel",null,null,null,"PNB"]
["ZZtock",null,null,null,"REC"]
["ZZtock",null,null,null,"Reliance"]
["Wipro",null,null,null,"SBI"]
["REC",null,null,null,"Siemens"]
["Union Bank",null,null,null,"Tata Motors"]
["Canara Bank",null,null,null,"Tata Steel"]
["Cipla",null,null,null,"Union Bank"]
["ZZtock",null,null,null,"Wipro"]
["ZZtock",null,null,null,"ZZtock"]
["ZZtock"]
["Oil India"]
["ZZtock"]
["PNB"]
["IOC"]
["ZZtock"]
["ZZtock"]
["ZZtock"]
["ZZtock"]
["ZZtock"]
["ZZtock"]
["ZZtock"]
["ZZtock"]
["ZZtock"]
["ZZtock"]
["ZZtock"]
["ZZtock"]
["ZZtock"]
["ZZtock"]
["Info Edge"]
["ZZtock"]
["ZZtock"]
["Oriental Bank"]
["ZZtock"]
["ZZtock"]
["ZZtock"]
["ZZtock"]
["ZZtock"]
["ZZtock"]
["P and G"]
["ZZtock"]
["ZZtock"]
["ZZtock"]
["ZZtock"]
["ZZtock"]
["ZZtock"]
["ZZtock"]
["Jaiprakash Pow"]
["Allahabad Bank"]
["ZZtock"]
["ZZtock"]
["ZZtock"]
["ZZtock"]
["ZZtock"]
["ZZtock"]
["ZZtock"]
["ZZtock"]
["ZZtock"]
["ZZtock"]
["ZZtock"]
["ZZtock"]
["ZZtock"]
["ZZtock"]
["ZZtock"]
["ZZtock"]
["ZZtock"]
["ZZtock"]
["ZZtock"]
["ZZtock"]
["ZZtock"]
["ZZtock"]
["ZZtock"]
["ZZtock"]
["ZZtock"]
["ZZtock"]
["ZZtock"]
["ZZtock"]
["ZZtock"]